{"text_format":"1","workbook":"xlsx","n_sheets":125,"sheets":["INSTRUCTIONS","Entry Information","_SUMMARY DATA","NOVICE RESULTS (2)","LIMITED RESULTS (2)","INTERMEDIATE RESULTS (2)","ADVANCED RESULTS (2)","OPEN RESULTS (2)","YOUTH RESULTS (2)","AWARDS (2)","Novice 1","Novice 2","Novice 3","Novice 4","Novice 5","Novice 6","Novice 7","Novice 8","Novice 9","Novice 10","Novice 11","Novice 12","Novice 13","Novice 14","Novice 15","Novice 16","Novice 17","Novice 18","Novice 19","Novice 20","Novice 21","Novice 22","Novice 23","Novice 24","Novice 25","Novice 26","Novice 27","Novice 28","Novice 29","Novice 30","Limited 1","Limited 2","Limited 3","Limited 4","Limited 5","Limited 6","Limited 7","Limited 8","Limited 9","Limited 10","Limited 11","Limited 12","Limited 13","Limited 14","Limited 15","Intermediate 1","Intermediate 2","Intermediate 3","Intermediate 4","Intermediate 5","Intermediate 6","Intermediate 7","Intermediate 8","Intermediate 9","Intermediate 10","Intermediate 11","Intermediate 12","Intermediate 13","Intermediate 14","Intermediate 15","Advanced 1","Advanced 2","Advanced 3","Advanced 4","Advanced 5","Advanced 6","Advanced 7","Advanced 8","Advanced 9","Advanced 10","Advanced 11","Advanced 12","Advanced 13","Advanced 14","Advanced 15","Open 1","Open 2","Open 3","Open 4","Open 5","Open 6","Open 7","Open 8","Open 9","Open 10","Open 11","Open 12","Open 13","Open 14","Open 15","Open 16","Open 17","Open 18","Open 19","Open 20","Open 21","Open 22","Open 23","Open 24","Youth 1","Youth 2","Youth 3","Youth 4","Youth 5","Youth 6","Youth 7","Youth 8","Youth 9","Youth 10","Youth 11","Youth 12","Youth 13","Youth 14","Youth 15","Worksheet"],"not_rendered":{"charts":0,"images":0,"macros":1,"external_links":0,"defined_names":48,"comments":0,"pivot_tables":0},"unopened":[],"bounds":{"document_bytes":16777216,"sheet_cells":100000,"rows_first":2000,"rows_last":500,"rows_between":2000,"halvings":0,"cell_chars":16384,"cell_head_chars":4096},"cells_cut":0,"cells_raw":0,"read":"whole","date_system":"1900"}

{"sheet":"INSTRUCTIONS","index":0,"n_rows":24,"n_cols":2,"rows_kept":24,"cut":false,"hidden":false,"merged":[[0,0,0,1]]}
["EVENT POINT ENTRY STEPS FOR NVRHA"]
[null,"PROCESS:"]
["NOTE:","It is Best to staff your office with at least two score tabulators and one runner to bring information from the arena floor."]
["NOTE:","Steps 1 through 5 can be accomplished as you receive information prior to the show.  You then will need to add 'drive in' registrations the day of the show.  This can be a big time saver during the morning of the show."]
["Step 1","Select \"Save as\" and save document with new name; event name/location and year- ie Spring Works 2012.  This will preserve your Template and create a new document for your current show."]
["Step 2","Populate Entry Information with the Event Name, Date, Judge Information."]
["Step 3","Populate the \"Back Number\" column, \"Contestants Name (Last & First)\" column and \"Horses Name\" column on the Entry Information page being sure to put in the correct Division."]
["Step 4","Populate the remaining fields (ie. Address & Contact Info, Member, Clinic, Competition, Stalls, etc.)"]
["Step 5","SAVE AND SAVE OFTEN"]
["NOTE:","To aid in score sheet entry, blank lines on the Entry Information page can be hidden. To hide rows -  First Unprotect the page using the password \"NVRHA' then, Highlight blank rows on the Entry Information page, and either right click and select HIDE or select FORMAT, then ROW, then HIDE.  Once all empty lines are hidden PROTECT the page using the passowrd \"NVRHA\""]
["NOTE:","YOU ARE NOW READY TO START ENTERING THE JUDGES SCORE SHEETS:      I like to sort the Judges score sheets by \"Division\" and then by Back Number as they come in.  This does a couple of things for me.  1.) I have a neat pile for each division. 2.) All of my contestants sheets are together. (I usually paper clip the contestants sheets together.)"]
["Step 6","Go to Entry Information page, click the \"Back Number\" corresponding with the score sheet in hand.  You will be taken to that entrants score sheet page, CHECK TO BE SURE YOU ARE ON THE CORRECT PAGE."]
["Step 7","Check the red box with an \"X\" for the class you are scoring to activate the score sheet.  This will allow the scoresheet to total the score and carry it to the proper results page."]
["Step 8","Enter \"Judges Score\" and Penalty Points in the correct class area (ie - Ranch Riding).  Some penalties will have to be listed in the approximate space as not all score sheets/entry areas match exactly.  Score sheet will do all further calculations and will automatically propagate the \"Results\" pages.  Check the final score on computer entry page against the score shet to be sure they match, if not check both the paper score sheet for calculation errors and the computer for entry errors."]
["Step 9","Be sure to \"SAVE\" upon completion of entering every score sheet.  "]
["Step 10","Click on \"BACK NUMBER\" at top or the \"Return to Entry Page\" under each score sheet to return to Entry Information page."]
["NOTE:","REPEAT STEPS 6 - 9 FOR EACH ENTRANT AT THE EVENT"]
["Step 11","When all scores for a class are in,  review Results page for each division (ie. Novice, Limited, etc).  The spreadsheet is formatted to automatically rank the class and assign placement points.  NOTE:  Tied scores will provide a like \"Ranking\" and be highlighted in RED. Review score sheets to break ties, place a \"1\" next to the entrant that wins a tie (for multiple ties place a 2 or 3 with the winner getting the highest value), computer will automatically adjust placement points."]
["Step 12","Print \"AWARDS\" page for the presentor to use at the awards ceremony."]
["Step 13","Review Spread Sheet for completeness.  Make certain that all class information has been entered or can be accounted for. (a rider may have scratched a class)"]
["Step 14","Review and Record \"OVERALL\" placing for Show Management.  They usually want to know the \"Overall\" and \"Reserve Overall\" for each division.  Work with Show Management and know what awards are being given and how they want to break down the criteria.  There may be special awards such as a saddle that will require you to look at the scores of all divisions."]
["Step 15","SAVE AND SAVE OFTEN"]
["Step 16","Provide a copy of your results to Show Management and/or send a copy to the NVRHA office. "]
["Step 17","CONGRATULATIONS!!  A cold adult beverage may now be in order!"]

{"sheet":"Entry Information","index":1,"n_rows":126,"n_cols":19,"rows_kept":126,"cut":false,"hidden":false,"merged":[[3,14,3,15],[4,14,4,15],[1,0,1,8],[3,0,3,1],[4,0,4,1],[3,7,3,8],[4,7,4,8],[3,10,3,12],[4,10,4,12]]}
[]
["Entrant / Show Information"]
[]
["Event Name:",null,null,null,null,null,null,"The Horse First Farm, Brooklyn, WI",null,"Judge Name:","Dave Currin",null,null,"Classes Judged:","CN, RR, RT"]
["Event Date:",null,null,null,null,null,null,"June 28-29,2014",null,"Judge Name:","Jeff Barnes",null,null,"Classes Judged:","WR, RC"]
[]
[null,null,null,null,null,null,"Ranch Riding Pattern:  ","1"]
[null,null,null,null,null,null,"Working Ranch Pattern:  ","1"]
[]
["Entry","Back No.","RR","WRH","CT","RT","CN","Last Name","First Name","Registered Horse Name","NVRHA Horse ID #","NVRHA Member #","Division","Address","City","State","Zip","Phone #","Email Address"]
[1,83,{"$f":"B11","v":83},{"$f":"B11","v":83},{"$f":"B11","v":83},{"$f":"B11","v":83},{"$f":"B11","v":83},"Christianson","Codi","Miss Makin Shine",null,null,"NOVICE"]
[2,82,{"$f":"B12","v":82},{"$f":"B12","v":82},{"$f":"B12","v":82},{"$f":"B12","v":82},{"$f":"B12","v":82},"Grove","Dale","Woody B Stylin",null,null,"NOVICE"]
[3,75,{"$f":"B13","v":75},{"$f":"B13","v":75},{"$f":"B13","v":75},{"$f":"B13","v":75},{"$f":"B13","v":75},"Burton","Roxanne","Miss Smart Gun RG",null,null,"NOVICE"]
[4,87,87,87,87,87,87,"Messera","Kelly","Magic Dance Man",null,null,"NOVICE"]
[5,72,72,72,72,72,72,"Eisenman","Sue","DLB Smart Blue Bars",null,null,"NOVICE"]
[6,0,{"$f":"B16","v":0},{"$f":"B16","v":0},{"$f":"B16","v":0},{"$f":"B16","v":0},{"$f":"B16","v":0},null,null,null,null,null,"NOVICE"]
[7,44,44,44,44,44,{"$f":"B17","v":44},"Knapp","Roger","Easy Rocket Doc",null,null,"NOVICE"]
[8,47,47,47,47,47,47,"Heinz","Matthew","Sun Dee Fox",null,null,"NOVICE"]
[9,49,49,49,49,49,49,"Hoppe","Sandra","B Cruzin Along",null,null,"NOVICE"]
[10,51,51,51,51,51,51,"Gilbert","Tracy","Bud's Diablo Star",null,null,"NOVICE"]
[11,0,0,0,{"$f":"B21","v":0},0,0,null,null,null,null,null,"NOVICE"]
[12,0,0,0,0,0,0,null,null,null,null,null,"NOVICE"]
[13,0,0,0,0,0,0,null,null,null,null,null,"NOVICE"]
[14,0,0,0,0,0,0,null,null,null,null,null,"NOVICE"]
[15,0,0,0,0,0,0,null,null,null,null,null,"NOVICE"]
[16,0,0,0,0,0,0,null,null,null,null,null,"NOVICE"]
[17,0,0,0,0,0,0,null,null,null,null,null,"NOVICE"]
[18,0,0,0,0,0,0,null,null,null,null,null,"NOVICE"]
[19,0,0,0,0,0,0,null,null,null,null,null,"NOVICE"]
[20,0,0,0,0,0,0,null,null,null,null,null,"NOVICE"]
[21,0,0,0,0,0,0,null,null,null,null,null,"NOVICE"]
[22,0,0,0,0,0,0,null,null,null,null,null,"NOVICE"]
[23,0,0,0,0,0,0,null,null,null,null,null,"NOVICE"]
[24,0,0,0,0,0,0,null,null,null,null,null,"NOVICE"]
[25,0,0,{"$f":"B35","v":0},{"$f":"B35","v":0},{"$f":"B35","v":0},{"$f":"B35","v":0},null,null,null,null,null,"NOVICE"]
[26,0,0,0,0,0,0,null,null,null,null,null,"NOVICE"]
[27,0,0,0,0,0,0,null,null,null,null,null,"NOVICE"]
[28,0,0,0,0,0,0,null,null,null,null,null,"NOVICE"]
[29,0,0,0,0,0,0,null,null,null,null,null,"NOVICE"]
[30,0,0,0,0,0,0,null,null,null,null,null,"NOVICE"]
[1,22,{"$f":"B41","v":22},{"$f":"B41","v":22},{"$f":"B41","v":22},{"$f":"B41","v":22},{"$f":"B41","v":22},"Janetka","Gena","Froghorn Leghorn",null,null,"LIMITED"]
[2,40,{"$f":"B42","v":40},{"$f":"B42","v":40},{"$f":"B42","v":40},{"$f":"B42","v":40},{"$f":"B42","v":40},"Siitari","Steph","SLJ Ruby Slippers",null,null,"LIMITED"]
[3,0,0,0,0,0,0,null,null,null,null,null,"LIMITED"]
[4,0,0,0,0,0,0,null,null,null,null,null,"LIMITED"]
[5,0,0,0,0,0,0,null,null,null,null,null,"LIMITED"]
[6,0,0,0,0,0,0,null,null,null,null,null,"LIMITED"]
[7,0,0,0,0,0,0,null,null,null,null,null,"LIMITED"]
[8,0,0,0,0,0,0,null,null,null,null,null,"LIMITED"]
[9,0,0,0,0,0,0,null,null,null,null,null,"LIMITED"]
[10,0,0,0,0,0,0,null,null,null,null,null,"LIMITED"]
[11,0,0,0,0,0,0,null,null,null,null,null,"LIMITED"]
[12,0,0,0,0,0,0,null,null,null,null,null,"LIMITED"]
[13,0,0,0,0,0,0,null,null,null,null,null,"LIMITED"]
[14,0,0,0,0,0,0,null,null,null,null,null,"LIMITED"]
[15,0,0,0,0,0,0,null,null,null,null,null,"LIMITED"]
[1,11,{"$f":"B56","v":11},{"$f":"B56","v":11},{"$f":"B56","v":11},{"$f":"B56","v":11},{"$f":"B56","v":11},"Osorio","Carlos","AR Especial",null,null,"INTERMEDIATE"]
[2,0,{"$f":"B57","v":0},{"$f":"B57","v":0},{"$f":"B57","v":0},{"$f":"B57","v":0},{"$f":"B57","v":0},null,null,null,null,null,"INTERMEDIATE"]
[3,0,0,0,0,0,0,null,null,null,null,null,"INTERMEDIATE"]
[4,0,0,0,0,0,0,null,null,null,null,null,"INTERMEDIATE"]
[5,0,0,0,0,0,0,null,null,null,null,null,"INTERMEDIATE"]
[6,0,0,0,0,0,0,null,null,null,null,null,"INTERMEDIATE"]
[7,0,0,0,0,0,0,null,null,null,null,null,"INTERMEDIATE"]
[8,0,0,0,0,0,0,null,null,null,null,null,"INTERMEDIATE"]
[9,0,0,0,0,0,0,null,null,null,null,null,"INTERMEDIATE"]
[10,0,0,0,0,0,0,null,null,null,null,null,"INTERMEDIATE"]
[11,0,0,0,0,0,0,null,null,null,null,null,"INTERMEDIATE"]
[12,0,0,0,0,0,0,null,null,null,null,null,"INTERMEDIATE"]
[13,0,0,0,0,0,0,null,null,null,null,null,"INTERMEDIATE"]
[14,0,0,0,0,0,0,null,null,null,null,null,"INTERMEDIATE"]
[15,0,0,0,0,0,0,null,null,null,null,null,"INTERMEDIATE"]
[1,5,{"$f":"B71","v":5},{"$f":"B71","v":5},{"$f":"B71","v":5},{"$f":"B71","v":5},{"$f":"B71","v":5},"Henderson","Vicky","Tatanka",null,null,"ADVANCED"]
[2,3,{"$f":"B72","v":3},{"$f":"B72","v":3},{"$f":"B72","v":3},{"$f":"B72","v":3},{"$f":"B72","v":3},"Johnsen","Shelley","Unbranded",null,null,"ADVANCED"]
[3,0,0,0,0,0,0,null,null,null,null,null,"ADVANCED"]
[4,0,0,0,0,0,0,null,null,null,null,null,"ADVANCED"]
[5,0,0,0,0,0,0,null,null,null,null,null,"ADVANCED"]
[6,0,0,0,0,0,0,null,null,null,null,null,"ADVANCED"]
[7,0,0,0,0,0,0,null,null,null,null,null,"ADVANCED"]
[8,0,0,0,0,0,0,null,null,null,null,null,"ADVANCED"]
[9,0,0,0,0,0,0,null,null,null,null,null,"ADVANCED"]
[10,0,0,0,0,0,0,null,null,null,null,null,"ADVANCED"]
[11,0,0,0,0,0,0,null,null,null,null,null,"ADVANCED"]
[12,0,0,0,0,0,0,null,null,null,null,null,"ADVANCED"]
[13,0,0,0,0,0,0,null,null,null,null,null,"ADVANCED"]
[14,0,0,0,0,0,0,null,null,null,null,null,"ADVANCED"]
[15,0,0,0,0,0,0,null,null,null,null,null,"ADVANCED"]
[1,45,{"$f":"B86","v":45},{"$f":"B86","v":45},{"$f":"B86","v":45},{"$f":"B86","v":45},{"$f":"B86","v":45},"Dunn","Maureen","AR Sannabella Check",null,null,"OPEN"]
[2,50,{"$f":"B87","v":50},{"$f":"B87","v":50},{"$f":"B87","v":50},{"$f":"B87","v":50},{"$f":"B87","v":50},"Goodland","Rob","Royale Smooth Sailin",null,null,"OPEN"]
[3,43,0,0,0,0,0,"Sween","Carolyn","AR Powderfully",null,null,"OPEN"]
[4,null,0,0,0,0,0,null,null,null,null,null,"OPEN"]
[5,0,0,0,0,0,0,null,null,null,null,null,"OPEN"]
[6,0,0,0,0,0,0,null,null,null,null,null,"OPEN"]
[7,0,0,0,0,0,0,null,null,null,null,null,"OPEN"]
[8,0,0,0,0,0,0,null,null,null,null,null,"OPEN"]
[9,0,0,0,0,0,0,null,null,null,null,null,"OPEN"]
[10,0,0,0,0,0,0,null,null,null,null,null,"OPEN"]
[11,0,0,0,0,0,0,null,null,null,null,null,"OPEN"]
[12,0,0,0,0,0,0,null,null,null,null,null,"OPEN"]
[13,0,0,0,0,0,0,null,null,null,null,null,"OPEN"]
[14,0,0,0,0,0,0,null,null,null,null,null,"OPEN"]
[15,0,0,0,0,0,0,null,null,null,null,null,"OPEN"]
[16,0,0,0,0,0,0,null,null,null,null,null,"OPEN"]
[17,0,0,0,0,0,0,null,null,null,null,null,"OPEN"]
[18,0,0,0,0,0,0,null,null,null,null,null,"OPEN"]
[19,0,0,0,0,0,0,null,null,null,null,null,"OPEN"]
[20,0,0,0,0,0,0,null,null,null,null,null,"OPEN"]
[21,0,0,0,0,0,0,null,null,null,null,null,"OPEN"]
[22,0,0,0,0,0,0,null,null,null,null,null,"OPEN"]
[23,0,0,0,0,0,0,null,null,null,null,null,"OPEN"]
[24,0,0,0,0,0,0,null,null,null,null,null,"OPEN"]
[1,0,{"$f":"B110","v":0},{"$f":"B110","v":0},{"$f":"B110","v":0},{"$f":"B110","v":0},{"$f":"B110","v":0},null,null,null,null,null,"YOUTH"]
[2,0,{"$f":"B111","v":0},{"$f":"B111","v":0},{"$f":"B111","v":0},{"$f":"B111","v":0},{"$f":"B111","v":0},null,null,null,null,null,"YOUTH"]
[3,0,0,0,0,0,0,null,null,null,null,null,"YOUTH"]
[4,0,0,0,0,0,0,null,null,null,null,null,"YOUTH"]
[5,0,0,0,0,0,0,null,null,null,null,null,"YOUTH"]
[6,0,0,0,0,0,0,null,null,null,null,null,"YOUTH"]
[7,0,0,0,0,0,0,null,null,null,null,null,"YOUTH"]
[8,0,0,0,0,0,0,null,null,null,null,null,"YOUTH"]
[9,0,0,0,0,0,0,null,null,null,null,null,"YOUTH"]
[10,0,0,0,0,0,0,null,null,null,null,null,"YOUTH"]
[11,0,0,0,0,0,0,null,null,null,null,null,"YOUTH"]
[12,0,0,0,0,0,0,null,null,null,null,null,"YOUTH"]
[13,0,0,0,0,0,0,null,null,null,null,null,"YOUTH"]
[14,0,0,0,0,0,0,null,null,null,null,null,"YOUTH"]
[15,0,0,0,0,0,0,null,null,null,null,null,"YOUTH"]
[null,0]
[null,0]

{"sheet":"_SUMMARY DATA","index":2,"n_rows":118,"n_cols":23,"rows_kept":118,"cut":false,"hidden":true,"merged":[[116,20,116,22],[117,20,117,22],[1,4,1,22],[116,14,116,16],[117,14,117,16],[112,17,112,19],[113,17,113,19],[114,17,114,19],[115,17,115,19],[116,17,116,19],[117,17,117,19],[116,8,116,10],[117,8,117,10],[112,11,112,13],[113,11,113,13],[114,11,114,13],[115,11,115,13],[116,11,116,13],[117,11,117,13],[0,4,0,22],[112,8,112,10],[113,8,113,10],[114,8,114,10],[115,8,115,10],[112,14,112,16],[113,14,113,16],[114,14,114,16],[115,14,115,16],[112,20,112,22],[113,20,113,22],[114,20,114,22],[115,20,115,22]]}
[" horses_____ Max of______  CH Points",null,null,null,{"$f":"'Entry Information'!H4","v":"The Horse First Farm, Brooklyn, WI"}]
[null,null,null,null,{"$f":"'Entry Information'!H5","v":"June 28-29,2014"}]
[null,null,{"$f":"'Entry Information'!G7","v":"Ranch Riding Pattern:  "},{"$f":"'Entry Information'!H7","v":"1"}]
[null,null,{"$f":"'Entry Information'!G8","v":"Working Ranch Pattern:  "},{"$f":"'Entry Information'!H8","v":"1"}]
[]
["Count","Div","Last Name","First Name","Horses Name","Total plc pts","Total Score","Assign Score","RR Score","RR Tie break","RR CH_PTS","WR Score","WR Tie break","WR CH_PTS"," CT Score","CT Tie break","CT CH_PTS","RT Score","RT Tie break","RT CH_PTS","CN Score","CN Tie break","CN CH_PTS"]
[1,{"$f":"'NOVICE RESULTS (2)'!E11","v":"NOV"},{"$f":"'NOVICE RESULTS (2)'!B11","v":"Christianson"},{"$f":"'NOVICE RESULTS (2)'!C11","v":"Codi"},{"$f":"'NOVICE RESULTS (2)'!D11","v":"Miss Makin Shine"},{"$f":"'NOVICE RESULTS (2)'!AG11","v":2},{"$f":"SUM(I7,L7,O7,R7,U7)","v":264.52999999999997},{"$f":"SUM(I7,L7,O7,R7)","v":205.89999999999998},{"$f":"'NOVICE RESULTS (2)'!F11","v":61.399999999999991},null,null,{"$f":"'NOVICE RESULTS (2)'!K11","v":22.5},null,null,{"$f":"'NOVICE RESULTS (2)'!P11","v":53},null,null,{"$f":"'NOVICE RESULTS (2)'!U11","v":69},null,null,{"$f":"'NOVICE RESULTS (2)'!AB11","v":58.629999999999995}]
[2,{"$f":"'NOVICE RESULTS (2)'!E12","v":"NOV"},{"$f":"'NOVICE RESULTS (2)'!B12","v":"Grove"},{"$f":"'NOVICE RESULTS (2)'!C12","v":"Dale"},{"$f":"'NOVICE RESULTS (2)'!D12","v":"Woody B Stylin"},{"$f":"'NOVICE RESULTS (2)'!AG12","v":14},315.35000000000002,247.6,{"$f":"'NOVICE RESULTS (2)'!F12","v":62.599999999999994},null,null,{"$f":"'NOVICE RESULTS (2)'!K12","v":26.5},null,null,{"$f":"'NOVICE RESULTS (2)'!P12","v":83},null,null,{"$f":"'NOVICE RESULTS (2)'!U12","v":75.5},null,null,{"$f":"'NOVICE RESULTS (2)'!AB12","v":67.75}]
[3,{"$f":"'NOVICE RESULTS (2)'!E13","v":"NOV"},{"$f":"'NOVICE RESULTS (2)'!B13","v":"Burton"},{"$f":"'NOVICE RESULTS (2)'!C13","v":"Roxanne"},{"$f":"'NOVICE RESULTS (2)'!D13","v":"Miss Smart Gun RG"},{"$f":"'NOVICE RESULTS (2)'!AG13","v":17},307.54000000000002,239,{"$f":"'NOVICE RESULTS (2)'!F13","v":76},null,null,{"$f":"'NOVICE RESULTS (2)'!K13","v":28},null,null,{"$f":"'NOVICE RESULTS (2)'!P13","v":55},null,null,{"$f":"'NOVICE RESULTS (2)'!U13","v":80},null,null,{"$f":"'NOVICE RESULTS (2)'!AB13","v":68.540000000000006}]
[4,{"$f":"'NOVICE RESULTS (2)'!E14","v":"NOV"},{"$f":"'NOVICE RESULTS (2)'!B14","v":"Messera"},{"$f":"'NOVICE RESULTS (2)'!C14","v":"Kelly"},{"$f":"'NOVICE RESULTS (2)'!D14","v":"Magic Dance Man"},{"$f":"'NOVICE RESULTS (2)'!AG14","v":22},334.04999999999995,262.2,{"$f":"'NOVICE RESULTS (2)'!F14","v":77.699999999999989},null,null,{"$f":"'NOVICE RESULTS (2)'!K14","v":29.5},null,null,{"$f":"'NOVICE RESULTS (2)'!P14","v":70},null,null,{"$f":"'NOVICE RESULTS (2)'!U14","v":85},null,null,{"$f":"'NOVICE RESULTS (2)'!AB14","v":71.849999999999994}]
[5,{"$f":"'NOVICE RESULTS (2)'!E15","v":"NOV"},{"$f":"'NOVICE RESULTS (2)'!B15","v":"Eisenman"},{"$f":"'NOVICE RESULTS (2)'!C15","v":"Sue"},{"$f":"'NOVICE RESULTS (2)'!D15","v":"DLB Smart Blue Bars"},{"$f":"'NOVICE RESULTS (2)'!AG15","v":8},257.27,193.89999999999998,{"$f":"'NOVICE RESULTS (2)'!F15","v":78.399999999999991},null,null,{"$f":"'NOVICE RESULTS (2)'!K15","v":25.5},null,null,{"$f":"'NOVICE RESULTS (2)'!P15","v":18},null,null,{"$f":"'NOVICE RESULTS (2)'!U15","v":72},null,null,{"$f":"'NOVICE RESULTS (2)'!AB15","v":63.37}]
[6,{"$f":"'NOVICE RESULTS (2)'!E16","v":"NOV"},{"$f":"'NOVICE RESULTS (2)'!B16","v":0},{"$f":"'NOVICE RESULTS (2)'!C16","v":0},{"$f":"'NOVICE RESULTS (2)'!D16","v":0},{"$f":"'NOVICE RESULTS (2)'!AG16","v":""},0,0,{"$f":"'NOVICE RESULTS (2)'!F16","v":""},null,null,{"$f":"'NOVICE RESULTS (2)'!K16","v":""},null,null,{"$f":"'NOVICE RESULTS (2)'!P16","v":""},null,null,{"$f":"'NOVICE RESULTS (2)'!U16","v":""},null,null,{"$f":"'NOVICE RESULTS (2)'!AB16","v":""}]
[7,{"$f":"'NOVICE RESULTS (2)'!E17","v":"NOV"},{"$f":"'NOVICE RESULTS (2)'!B17","v":"Knapp"},{"$f":"'NOVICE RESULTS (2)'!C17","v":"Roger"},{"$f":"'NOVICE RESULTS (2)'!D17","v":"Easy Rocket Doc"},{"$f":"'NOVICE RESULTS (2)'!AG17","v":9},268.82000000000005,203.8,{"$f":"'NOVICE RESULTS (2)'!F17","v":56.3},null,null,{"$f":"'NOVICE RESULTS (2)'!K17","v":37},null,null,{"$f":"'NOVICE RESULTS (2)'!P17","v":36},null,null,{"$f":"'NOVICE RESULTS (2)'!U17","v":74.5},null,null,{"$f":"'NOVICE RESULTS (2)'!AB17","v":65.02000000000001}]
[8,{"$f":"'NOVICE RESULTS (2)'!E18","v":"NOV"},{"$f":"'NOVICE RESULTS (2)'!B18","v":"Heinz"},{"$f":"'NOVICE RESULTS (2)'!C18","v":"Matthew"},{"$f":"'NOVICE RESULTS (2)'!D18","v":"Sun Dee Fox"},{"$f":"'NOVICE RESULTS (2)'!AG18","v":2},267.05999999999995,207.89999999999998,{"$f":"'NOVICE RESULTS (2)'!F18","v":68.399999999999991},null,null,{"$f":"'NOVICE RESULTS (2)'!K18","v":22},null,null,{"$f":"'NOVICE RESULTS (2)'!P18","v":48},null,null,{"$f":"'NOVICE RESULTS (2)'!U18","v":69.5},null,null,{"$f":"'NOVICE RESULTS (2)'!AB18","v":59.16}]
[9,{"$f":"'NOVICE RESULTS (2)'!E19","v":"NOV"},{"$f":"'NOVICE RESULTS (2)'!B19","v":"Hoppe"},{"$f":"'NOVICE RESULTS (2)'!C19","v":"Sandra"},{"$f":"'NOVICE RESULTS (2)'!D19","v":"B Cruzin Along"},{"$f":"'NOVICE RESULTS (2)'!AG19","v":1},246.59999999999997,191.7,{"$f":"'NOVICE RESULTS (2)'!F19","v":58.699999999999989},null,null,{"$f":"'NOVICE RESULTS (2)'!K19","v":23},null,null,{"$f":"'NOVICE RESULTS (2)'!P19","v":52},null,null,{"$f":"'NOVICE RESULTS (2)'!U19","v":58},null,null,{"$f":"'NOVICE RESULTS (2)'!AB19","v":54.899999999999991}]
[10,{"$f":"'NOVICE RESULTS (2)'!E20","v":"NOV"},{"$f":"'NOVICE RESULTS (2)'!B20","v":"Gilbert"},{"$f":"'NOVICE RESULTS (2)'!C20","v":"Tracy"},{"$f":"'NOVICE RESULTS (2)'!D20","v":"Bud's Diablo Star"},{"$f":"'NOVICE RESULTS (2)'!AG20","v":0},243.85,181.1,{"$f":"'NOVICE RESULTS (2)'!F20","v":59.099999999999994},null,null,{"$f":"'NOVICE RESULTS (2)'!K20","v":21},null,null,{"$f":"'NOVICE RESULTS (2)'!P20","v":46},null,null,{"$f":"'NOVICE RESULTS (2)'!U20","v":55},null,null,{"$f":"'NOVICE RESULTS (2)'!AB20","v":62.75}]
[11,{"$f":"'NOVICE RESULTS (2)'!E21","v":"NOV"},{"$f":"'NOVICE RESULTS (2)'!B21","v":0},{"$f":"'NOVICE RESULTS (2)'!C21","v":0},{"$f":"'NOVICE RESULTS (2)'!D21","v":0},{"$f":"'NOVICE RESULTS (2)'!AG21","v":""},0,0,{"$f":"'NOVICE RESULTS (2)'!F21","v":""},null,null,{"$f":"'NOVICE RESULTS (2)'!K21","v":""},null,null,{"$f":"'NOVICE RESULTS (2)'!P21","v":""},null,null,{"$f":"'NOVICE RESULTS (2)'!U21","v":""},null,null,{"$f":"'NOVICE RESULTS (2)'!AB21","v":""}]
[12,{"$f":"'NOVICE RESULTS (2)'!E22","v":"NOV"},{"$f":"'NOVICE RESULTS (2)'!B22","v":0},{"$f":"'NOVICE RESULTS (2)'!C22","v":0},{"$f":"'NOVICE RESULTS (2)'!D22","v":0},{"$f":"'NOVICE RESULTS (2)'!AG22","v":""},0,0,{"$f":"'NOVICE RESULTS (2)'!F22","v":""},null,null,{"$f":"'NOVICE RESULTS (2)'!K22","v":""},null,null,{"$f":"'NOVICE RESULTS (2)'!P22","v":""},null,null,{"$f":"'NOVICE RESULTS (2)'!U22","v":""},null,null,{"$f":"'NOVICE RESULTS (2)'!AB22","v":""}]
[13,{"$f":"'NOVICE RESULTS (2)'!E23","v":"NOV"},{"$f":"'NOVICE RESULTS (2)'!B23","v":0},{"$f":"'NOVICE RESULTS (2)'!C23","v":0},{"$f":"'NOVICE RESULTS (2)'!D23","v":0},{"$f":"'NOVICE RESULTS (2)'!AG23","v":""},0,0,{"$f":"'NOVICE RESULTS (2)'!F23","v":""},null,null,{"$f":"'NOVICE RESULTS (2)'!K23","v":""},null,null,{"$f":"'NOVICE RESULTS (2)'!P23","v":""},null,null,{"$f":"'NOVICE RESULTS (2)'!U23","v":""},null,null,{"$f":"'NOVICE RESULTS (2)'!AB23","v":""}]
[14,{"$f":"'NOVICE RESULTS (2)'!E24","v":"NOV"},{"$f":"'NOVICE RESULTS (2)'!B24","v":0},{"$f":"'NOVICE RESULTS (2)'!C24","v":0},{"$f":"'NOVICE RESULTS (2)'!D24","v":0},{"$f":"'NOVICE RESULTS (2)'!AG24","v":""},0,0,{"$f":"'NOVICE RESULTS (2)'!F24","v":""},null,null,{"$f":"'NOVICE RESULTS (2)'!K24","v":""},null,null,{"$f":"'NOVICE RESULTS (2)'!P24","v":""},null,null,{"$f":"'NOVICE RESULTS (2)'!U24","v":""},null,null,{"$f":"'NOVICE RESULTS (2)'!AB24","v":""}]
[15,{"$f":"'NOVICE RESULTS (2)'!E25","v":"NOV"},{"$f":"'NOVICE RESULTS (2)'!B25","v":0},{"$f":"'NOVICE RESULTS (2)'!C25","v":0},{"$f":"'NOVICE RESULTS (2)'!D25","v":0},{"$f":"'NOVICE RESULTS (2)'!AG25","v":""},0,0,{"$f":"'NOVICE RESULTS (2)'!F25","v":""},null,null,{"$f":"'NOVICE RESULTS (2)'!K25","v":""},null,null,{"$f":"'NOVICE RESULTS (2)'!P25","v":""},null,null,{"$f":"'NOVICE RESULTS (2)'!U25","v":""},null,null,{"$f":"'NOVICE RESULTS (2)'!AB25","v":""}]
[16,{"$f":"'NOVICE RESULTS (2)'!E26","v":"NOV"},{"$f":"'NOVICE RESULTS (2)'!B26","v":0},{"$f":"'NOVICE RESULTS (2)'!C26","v":0},{"$f":"'NOVICE RESULTS (2)'!D26","v":0},{"$f":"'NOVICE RESULTS (2)'!AG26","v":""},0,0,{"$f":"'NOVICE RESULTS (2)'!F26","v":""},null,null,{"$f":"'NOVICE RESULTS (2)'!K26","v":""},null,null,{"$f":"'NOVICE RESULTS (2)'!P26","v":""},null,null,{"$f":"'NOVICE RESULTS (2)'!U26","v":""},null,null,{"$f":"'NOVICE RESULTS (2)'!AB26","v":""}]
[17,{"$f":"'NOVICE RESULTS (2)'!E27","v":"NOV"},{"$f":"'NOVICE RESULTS (2)'!B27","v":0},{"$f":"'NOVICE RESULTS (2)'!C27","v":0},{"$f":"'NOVICE RESULTS (2)'!D27","v":0},{"$f":"'NOVICE RESULTS (2)'!AG27","v":""},0,0,{"$f":"'NOVICE RESULTS (2)'!F27","v":""},null,null,{"$f":"'NOVICE RESULTS (2)'!K27","v":""},null,null,{"$f":"'NOVICE RESULTS (2)'!P27","v":""},null,null,{"$f":"'NOVICE RESULTS (2)'!U27","v":""},null,null,{"$f":"'NOVICE RESULTS (2)'!AB27","v":""}]
[18,{"$f":"'NOVICE RESULTS (2)'!E28","v":"NOV"},{"$f":"'NOVICE RESULTS (2)'!B28","v":0},{"$f":"'NOVICE RESULTS (2)'!C28","v":0},{"$f":"'NOVICE RESULTS (2)'!D28","v":0},{"$f":"'NOVICE RESULTS (2)'!AG28","v":""},0,0,{"$f":"'NOVICE RESULTS (2)'!F28","v":""},null,null,{"$f":"'NOVICE RESULTS (2)'!K28","v":""},null,null,{"$f":"'NOVICE RESULTS (2)'!P28","v":""},null,null,{"$f":"'NOVICE RESULTS (2)'!U28","v":""},null,null,{"$f":"'NOVICE RESULTS (2)'!AB28","v":""}]
[19,{"$f":"'NOVICE RESULTS (2)'!E29","v":"NOV"},{"$f":"'NOVICE RESULTS (2)'!B29","v":0},{"$f":"'NOVICE RESULTS (2)'!C29","v":0},{"$f":"'NOVICE RESULTS (2)'!D29","v":0},{"$f":"'NOVICE RESULTS (2)'!AG29","v":""},0,0,{"$f":"'NOVICE RESULTS (2)'!F29","v":""},null,null,{"$f":"'NOVICE RESULTS (2)'!K29","v":""},null,null,{"$f":"'NOVICE RESULTS (2)'!P29","v":""},null,null,{"$f":"'NOVICE RESULTS (2)'!U29","v":""},null,null,{"$f":"'NOVICE RESULTS (2)'!AB29","v":""}]
[20,{"$f":"'NOVICE RESULTS (2)'!E30","v":"NOV"},{"$f":"'NOVICE RESULTS (2)'!B30","v":0},{"$f":"'NOVICE RESULTS (2)'!C30","v":0},{"$f":"'NOVICE RESULTS (2)'!D30","v":0},{"$f":"'NOVICE RESULTS (2)'!AG30","v":""},0,0,{"$f":"'NOVICE RESULTS (2)'!F30","v":""},null,null,{"$f":"'NOVICE RESULTS (2)'!K30","v":""},null,null,{"$f":"'NOVICE RESULTS (2)'!P30","v":""},null,null,{"$f":"'NOVICE RESULTS (2)'!U30","v":""},null,null,{"$f":"'NOVICE RESULTS (2)'!AB30","v":""}]
[21,{"$f":"'NOVICE RESULTS (2)'!E31","v":"NOV"},{"$f":"'NOVICE RESULTS (2)'!B31","v":0},{"$f":"'NOVICE RESULTS (2)'!C31","v":0},{"$f":"'NOVICE RESULTS (2)'!D31","v":0},{"$f":"'NOVICE RESULTS (2)'!AG31","v":""},0,0,{"$f":"'NOVICE RESULTS (2)'!F31","v":""},null,null,{"$f":"'NOVICE RESULTS (2)'!K31","v":""},null,null,{"$f":"'NOVICE RESULTS (2)'!P31","v":""},null,null,{"$f":"'NOVICE RESULTS (2)'!U31","v":""},null,null,{"$f":"'NOVICE RESULTS (2)'!AB31","v":""}]
[22,{"$f":"'NOVICE RESULTS (2)'!E32","v":"NOV"},{"$f":"'NOVICE RESULTS (2)'!B32","v":0},{"$f":"'NOVICE RESULTS (2)'!C32","v":0},{"$f":"'NOVICE RESULTS (2)'!D32","v":0},{"$f":"'NOVICE RESULTS (2)'!AG32","v":""},0,0,{"$f":"'NOVICE RESULTS (2)'!F32","v":""},null,null,{"$f":"'NOVICE RESULTS (2)'!K32","v":""},null,null,{"$f":"'NOVICE RESULTS (2)'!P32","v":""},null,null,{"$f":"'NOVICE RESULTS (2)'!U32","v":""},null,null,{"$f":"'NOVICE RESULTS (2)'!AB32","v":""}]
[23,{"$f":"'NOVICE RESULTS (2)'!E33","v":"NOV"},{"$f":"'NOVICE RESULTS (2)'!B33","v":0},{"$f":"'NOVICE RESULTS (2)'!C33","v":0},{"$f":"'NOVICE RESULTS (2)'!D33","v":0},{"$f":"'NOVICE RESULTS (2)'!AG33","v":""},0,0,{"$f":"'NOVICE RESULTS (2)'!F33","v":""},null,null,{"$f":"'NOVICE RESULTS (2)'!K33","v":""},null,null,{"$f":"'NOVICE RESULTS (2)'!P33","v":""},null,null,{"$f":"'NOVICE RESULTS (2)'!U33","v":""},null,null,{"$f":"'NOVICE RESULTS (2)'!AB33","v":""}]
[24,{"$f":"'NOVICE RESULTS (2)'!E34","v":"NOV"},{"$f":"'NOVICE RESULTS (2)'!B34","v":0},{"$f":"'NOVICE RESULTS (2)'!C34","v":0},{"$f":"'NOVICE RESULTS (2)'!D34","v":0},{"$f":"'NOVICE RESULTS (2)'!AG34","v":""},0,0,{"$f":"'NOVICE RESULTS (2)'!F34","v":""},null,null,{"$f":"'NOVICE RESULTS (2)'!K34","v":""},null,null,{"$f":"'NOVICE RESULTS (2)'!P34","v":""},null,null,{"$f":"'NOVICE RESULTS (2)'!U34","v":""},null,null,{"$f":"'NOVICE RESULTS (2)'!AB34","v":""}]
[25,{"$f":"'NOVICE RESULTS (2)'!E35","v":"NOV"},{"$f":"'NOVICE RESULTS (2)'!B35","v":0},{"$f":"'NOVICE RESULTS (2)'!C35","v":0},{"$f":"'NOVICE RESULTS (2)'!D35","v":0},{"$f":"'NOVICE RESULTS (2)'!AG35","v":""},0,0,{"$f":"'NOVICE RESULTS (2)'!F35","v":""},null,null,{"$f":"'NOVICE RESULTS (2)'!K35","v":""},null,null,{"$f":"'NOVICE RESULTS (2)'!P35","v":""},null,null,{"$f":"'NOVICE RESULTS (2)'!U35","v":""},null,null,{"$f":"'NOVICE RESULTS (2)'!AB35","v":""}]
[26,{"$f":"'NOVICE RESULTS (2)'!E36","v":"NOV"},{"$f":"'NOVICE RESULTS (2)'!B36","v":0},{"$f":"'NOVICE RESULTS (2)'!C36","v":0},{"$f":"'NOVICE RESULTS (2)'!D36","v":0},{"$f":"'NOVICE RESULTS (2)'!AG36","v":""},0,0,{"$f":"'NOVICE RESULTS (2)'!F36","v":""},null,null,{"$f":"'NOVICE RESULTS (2)'!K36","v":""},null,null,{"$f":"'NOVICE RESULTS (2)'!P36","v":""},null,null,{"$f":"'NOVICE RESULTS (2)'!U36","v":""},null,null,{"$f":"'NOVICE RESULTS (2)'!AB36","v":""}]
[27,{"$f":"'NOVICE RESULTS (2)'!E37","v":"NOV"},{"$f":"'NOVICE RESULTS (2)'!B37","v":0},{"$f":"'NOVICE RESULTS (2)'!C37","v":0},{"$f":"'NOVICE RESULTS (2)'!D37","v":0},{"$f":"'NOVICE RESULTS (2)'!AG37","v":""},0,0,{"$f":"'NOVICE RESULTS (2)'!F37","v":""},null,null,{"$f":"'NOVICE RESULTS (2)'!K37","v":""},null,null,{"$f":"'NOVICE RESULTS (2)'!P37","v":""},null,null,{"$f":"'NOVICE RESULTS (2)'!U37","v":""},null,null,{"$f":"'NOVICE RESULTS (2)'!AB37","v":""}]
[28,{"$f":"'NOVICE RESULTS (2)'!E38","v":"NOV"},{"$f":"'NOVICE RESULTS (2)'!B38","v":0},{"$f":"'NOVICE RESULTS (2)'!C38","v":0},{"$f":"'NOVICE RESULTS (2)'!D38","v":0},{"$f":"'NOVICE RESULTS (2)'!AG38","v":""},0,0,{"$f":"'NOVICE RESULTS (2)'!F38","v":""},null,null,{"$f":"'NOVICE RESULTS (2)'!K38","v":""},null,null,{"$f":"'NOVICE RESULTS (2)'!P38","v":""},null,null,{"$f":"'NOVICE RESULTS (2)'!U38","v":""},null,null,{"$f":"'NOVICE RESULTS (2)'!AB38","v":""}]
[29,{"$f":"'NOVICE RESULTS (2)'!E39","v":"NOV"},{"$f":"'NOVICE RESULTS (2)'!B39","v":0},{"$f":"'NOVICE RESULTS (2)'!C39","v":0},{"$f":"'NOVICE RESULTS (2)'!D39","v":0},{"$f":"'NOVICE RESULTS (2)'!AG39","v":""},0,0,{"$f":"'NOVICE RESULTS (2)'!F39","v":""},null,null,{"$f":"'NOVICE RESULTS (2)'!K39","v":""},null,null,{"$f":"'NOVICE RESULTS (2)'!P39","v":""},null,null,{"$f":"'NOVICE RESULTS (2)'!U39","v":""},null,null,{"$f":"'NOVICE RESULTS (2)'!AB39","v":""}]
[30,{"$f":"'NOVICE RESULTS (2)'!E40","v":"NOV"},{"$f":"'NOVICE RESULTS (2)'!B40","v":0},{"$f":"'NOVICE RESULTS (2)'!C40","v":0},{"$f":"'NOVICE RESULTS (2)'!D40","v":0},{"$f":"'NOVICE RESULTS (2)'!AG40","v":""},0,0,{"$f":"'NOVICE RESULTS (2)'!F40","v":""},null,null,{"$f":"'NOVICE RESULTS (2)'!K40","v":""},null,null,{"$f":"'NOVICE RESULTS (2)'!P40","v":""},null,null,{"$f":"'NOVICE RESULTS (2)'!U40","v":""},null,null,{"$f":"'NOVICE RESULTS (2)'!AB40","v":""}]
[31,{"$f":"'YOUTH RESULTS (2)'!E11","v":"YOUTH"},{"$f":"'YOUTH RESULTS (2)'!B11","v":0},{"$f":"'YOUTH RESULTS (2)'!C11","v":0},{"$f":"'YOUTH RESULTS (2)'!D11","v":0},{"$f":"'YOUTH RESULTS (2)'!AG11","v":""},{"$f":"SUM(I37,L37,O37,R37,U37)","v":0},{"$f":"SUM(I37,L37,O37,R37)","v":0},{"$f":"'YOUTH RESULTS (2)'!F11","v":""},null,null,{"$f":"'YOUTH RESULTS (2)'!K11","v":""},null,null,{"$f":"'YOUTH RESULTS (2)'!P11","v":""},null,null,{"$f":"'YOUTH RESULTS (2)'!U11","v":""},null,null,{"$f":"'YOUTH RESULTS (2)'!AB11","v":""}]
[32,{"$f":"'YOUTH RESULTS (2)'!E12","v":"YOUTH"},{"$f":"'YOUTH RESULTS (2)'!B12","v":0},{"$f":"'YOUTH RESULTS (2)'!C12","v":0},{"$f":"'YOUTH RESULTS (2)'!D12","v":0},{"$f":"'YOUTH RESULTS (2)'!AG12","v":""},0,0,{"$f":"'YOUTH RESULTS (2)'!F12","v":""},null,null,{"$f":"'YOUTH RESULTS (2)'!K12","v":""},null,null,{"$f":"'YOUTH RESULTS (2)'!P12","v":""},null,null,{"$f":"'YOUTH RESULTS (2)'!U12","v":""},null,null,{"$f":"'YOUTH RESULTS (2)'!AB12","v":""}]
[33,{"$f":"'YOUTH RESULTS (2)'!E13","v":"YOUTH"},{"$f":"'YOUTH RESULTS (2)'!B13","v":0},{"$f":"'YOUTH RESULTS (2)'!C13","v":0},{"$f":"'YOUTH RESULTS (2)'!D13","v":0},{"$f":"'YOUTH RESULTS (2)'!AG13","v":""},0,0,{"$f":"'YOUTH RESULTS (2)'!F13","v":""},null,null,{"$f":"'YOUTH RESULTS (2)'!K13","v":""},null,null,{"$f":"'YOUTH RESULTS (2)'!P13","v":""},null,null,{"$f":"'YOUTH RESULTS (2)'!U13","v":""},null,null,{"$f":"'YOUTH RESULTS (2)'!AB13","v":""}]
[34,{"$f":"'YOUTH RESULTS (2)'!E14","v":"YOUTH"},{"$f":"'YOUTH RESULTS (2)'!B14","v":0},{"$f":"'YOUTH RESULTS (2)'!C14","v":0},{"$f":"'YOUTH RESULTS (2)'!D14","v":0},{"$f":"'YOUTH RESULTS (2)'!AG14","v":""},0,0,{"$f":"'YOUTH RESULTS (2)'!F14","v":""},null,null,{"$f":"'YOUTH RESULTS (2)'!K14","v":""},null,null,{"$f":"'YOUTH RESULTS (2)'!P14","v":""},null,null,{"$f":"'YOUTH RESULTS (2)'!U14","v":""},null,null,{"$f":"'YOUTH RESULTS (2)'!AB14","v":""}]
[35,{"$f":"'YOUTH RESULTS (2)'!E15","v":"YOUTH"},{"$f":"'YOUTH RESULTS (2)'!B15","v":0},{"$f":"'YOUTH RESULTS (2)'!C15","v":0},{"$f":"'YOUTH RESULTS (2)'!D15","v":0},{"$f":"'YOUTH RESULTS (2)'!AG15","v":""},0,0,{"$f":"'YOUTH RESULTS (2)'!F15","v":""},null,null,{"$f":"'YOUTH RESULTS (2)'!K15","v":""},null,null,{"$f":"'YOUTH RESULTS (2)'!P15","v":""},null,null,{"$f":"'YOUTH RESULTS (2)'!U15","v":""},null,null,{"$f":"'YOUTH RESULTS (2)'!AB15","v":""}]
[36,{"$f":"'YOUTH RESULTS (2)'!E16","v":"YOUTH"},{"$f":"'YOUTH RESULTS (2)'!B16","v":0},{"$f":"'YOUTH RESULTS (2)'!C16","v":0},{"$f":"'YOUTH RESULTS (2)'!D16","v":0},{"$f":"'YOUTH RESULTS (2)'!AG16","v":""},0,0,{"$f":"'YOUTH RESULTS (2)'!F16","v":""},null,null,{"$f":"'YOUTH RESULTS (2)'!K16","v":""},null,null,{"$f":"'YOUTH RESULTS (2)'!P16","v":""},null,null,{"$f":"'YOUTH RESULTS (2)'!U16","v":""},null,null,{"$f":"'YOUTH RESULTS (2)'!AB16","v":""}]
[37,{"$f":"'YOUTH RESULTS (2)'!E17","v":"YOUTH"},{"$f":"'YOUTH RESULTS (2)'!B17","v":0},{"$f":"'YOUTH RESULTS (2)'!C17","v":0},{"$f":"'YOUTH RESULTS (2)'!D17","v":0},{"$f":"'YOUTH RESULTS (2)'!AG17","v":""},0,0,{"$f":"'YOUTH RESULTS (2)'!F17","v":""},null,null,{"$f":"'YOUTH RESULTS (2)'!K17","v":""},null,null,{"$f":"'YOUTH RESULTS (2)'!P17","v":""},null,null,{"$f":"'YOUTH RESULTS (2)'!U17","v":""},null,null,{"$f":"'YOUTH RESULTS (2)'!AB17","v":""}]
[38,{"$f":"'YOUTH RESULTS (2)'!E18","v":"YOUTH"},{"$f":"'YOUTH RESULTS (2)'!B18","v":0},{"$f":"'YOUTH RESULTS (2)'!C18","v":0},{"$f":"'YOUTH RESULTS (2)'!D18","v":0},{"$f":"'YOUTH RESULTS (2)'!AG18","v":""},0,0,{"$f":"'YOUTH RESULTS (2)'!F18","v":""},null,null,{"$f":"'YOUTH RESULTS (2)'!K18","v":""},null,null,{"$f":"'YOUTH RESULTS (2)'!P18","v":""},null,null,{"$f":"'YOUTH RESULTS (2)'!U18","v":""},null,null,{"$f":"'YOUTH RESULTS (2)'!AB18","v":""}]
[39,{"$f":"'YOUTH RESULTS (2)'!E19","v":"YOUTH"},{"$f":"'YOUTH RESULTS (2)'!B19","v":0},{"$f":"'YOUTH RESULTS (2)'!C19","v":0},{"$f":"'YOUTH RESULTS (2)'!D19","v":0},{"$f":"'YOUTH RESULTS (2)'!AG19","v":""},0,0,{"$f":"'YOUTH RESULTS (2)'!F19","v":""},null,null,{"$f":"'YOUTH RESULTS (2)'!K19","v":""},null,null,{"$f":"'YOUTH RESULTS (2)'!P19","v":""},null,null,{"$f":"'YOUTH RESULTS (2)'!U19","v":""},null,null,{"$f":"'YOUTH RESULTS (2)'!AB19","v":""}]
[40,{"$f":"'YOUTH RESULTS (2)'!E20","v":"YOUTH"},{"$f":"'YOUTH RESULTS (2)'!B20","v":0},{"$f":"'YOUTH RESULTS (2)'!C20","v":0},{"$f":"'YOUTH RESULTS (2)'!D20","v":0},{"$f":"'YOUTH RESULTS (2)'!AG20","v":""},0,0,{"$f":"'YOUTH RESULTS (2)'!F20","v":""},null,null,{"$f":"'YOUTH RESULTS (2)'!K20","v":""},null,null,{"$f":"'YOUTH RESULTS (2)'!P20","v":""},null,null,{"$f":"'YOUTH RESULTS (2)'!U20","v":""},null,null,{"$f":"'YOUTH RESULTS (2)'!AB20","v":""}]
[41,{"$f":"'YOUTH RESULTS (2)'!E21","v":"YOUTH"},{"$f":"'YOUTH RESULTS (2)'!B21","v":0},{"$f":"'YOUTH RESULTS (2)'!C21","v":0},{"$f":"'YOUTH RESULTS (2)'!D21","v":0},{"$f":"'YOUTH RESULTS (2)'!AG21","v":""},0,0,{"$f":"'YOUTH RESULTS (2)'!F21","v":""},null,null,{"$f":"'YOUTH RESULTS (2)'!K21","v":""},null,null,{"$f":"'YOUTH RESULTS (2)'!P21","v":""},null,null,{"$f":"'YOUTH RESULTS (2)'!U21","v":""},null,null,{"$f":"'YOUTH RESULTS (2)'!AB21","v":""}]
[42,{"$f":"'YOUTH RESULTS (2)'!E22","v":"YOUTH"},{"$f":"'YOUTH RESULTS (2)'!B22","v":0},{"$f":"'YOUTH RESULTS (2)'!C22","v":0},{"$f":"'YOUTH RESULTS (2)'!D22","v":0},{"$f":"'YOUTH RESULTS (2)'!AG22","v":""},0,0,{"$f":"'YOUTH RESULTS (2)'!F22","v":""},null,null,{"$f":"'YOUTH RESULTS (2)'!K22","v":""},null,null,{"$f":"'YOUTH RESULTS (2)'!P22","v":""},null,null,{"$f":"'YOUTH RESULTS (2)'!U22","v":""},null,null,{"$f":"'YOUTH RESULTS (2)'!AB22","v":""}]
[43,{"$f":"'YOUTH RESULTS (2)'!E23","v":"YOUTH"},{"$f":"'YOUTH RESULTS (2)'!B23","v":0},{"$f":"'YOUTH RESULTS (2)'!C23","v":0},{"$f":"'YOUTH RESULTS (2)'!D23","v":0},{"$f":"'YOUTH RESULTS (2)'!AG23","v":""},0,0,{"$f":"'YOUTH RESULTS (2)'!F23","v":""},null,null,{"$f":"'YOUTH RESULTS (2)'!K23","v":""},null,null,{"$f":"'YOUTH RESULTS (2)'!P23","v":""},null,null,{"$f":"'YOUTH RESULTS (2)'!U23","v":""},null,null,{"$f":"'YOUTH RESULTS (2)'!AB23","v":""}]
[44,{"$f":"'YOUTH RESULTS (2)'!E24","v":"YOUTH"},{"$f":"'YOUTH RESULTS (2)'!B24","v":0},{"$f":"'YOUTH RESULTS (2)'!C24","v":0},{"$f":"'YOUTH RESULTS (2)'!D24","v":0},{"$f":"'YOUTH RESULTS (2)'!AG24","v":""},0,0,{"$f":"'YOUTH RESULTS (2)'!F24","v":""},null,null,{"$f":"'YOUTH RESULTS (2)'!K24","v":""},null,null,{"$f":"'YOUTH RESULTS (2)'!P24","v":""},null,null,{"$f":"'YOUTH RESULTS (2)'!U24","v":""},null,null,{"$f":"'YOUTH RESULTS (2)'!AB24","v":""}]
[45,{"$f":"'YOUTH RESULTS (2)'!E25","v":"YOUTH"},{"$f":"'YOUTH RESULTS (2)'!B25","v":0},{"$f":"'YOUTH RESULTS (2)'!C25","v":0},{"$f":"'YOUTH RESULTS (2)'!D25","v":0},{"$f":"'YOUTH RESULTS (2)'!AG25","v":""},0,0,{"$f":"'YOUTH RESULTS (2)'!F25","v":""},null,null,{"$f":"'YOUTH RESULTS (2)'!K25","v":""},null,null,{"$f":"'YOUTH RESULTS (2)'!P25","v":""},null,null,{"$f":"'YOUTH RESULTS (2)'!U25","v":""},null,null,{"$f":"'YOUTH RESULTS (2)'!AB25","v":""}]
[46,{"$f":"'LIMITED RESULTS (2)'!E11","v":"LTD"},{"$f":"'LIMITED RESULTS (2)'!B11","v":"Janetka"},{"$f":"'LIMITED RESULTS (2)'!C11","v":"Gena"},{"$f":"'LIMITED RESULTS (2)'!D11","v":"Froghorn Leghorn"},{"$f":"'LIMITED RESULTS (2)'!AG11","v":2},318.76,249.8,{"$f":"'LIMITED RESULTS (2)'!F11","v":75.3},null,null,{"$f":"'LIMITED RESULTS (2)'!K11","v":44.5},null,null,{"$f":"'LIMITED RESULTS (2)'!P11","v":68},null,null,{"$f":"'LIMITED RESULTS (2)'!U11","v":62},null,null,{"$f":"'LIMITED RESULTS (2)'!AB11","v":68.960000000000008}]
[47,{"$f":"'LIMITED RESULTS (2)'!E12","v":"LTD"},{"$f":"'LIMITED RESULTS (2)'!B12","v":"Siitari"},{"$f":"'LIMITED RESULTS (2)'!C12","v":"Steph"},{"$f":"'LIMITED RESULTS (2)'!D12","v":"SLJ Ruby Slippers"},{"$f":"'LIMITED RESULTS (2)'!AG12","v":3},352.64,286.3,{"$f":"'LIMITED RESULTS (2)'!F12","v":82.3},null,null,{"$f":"'LIMITED RESULTS (2)'!K12","v":38.5},null,null,{"$f":"'LIMITED RESULTS (2)'!P12","v":74},null,null,{"$f":"'LIMITED RESULTS (2)'!U12","v":91.5},null,null,{"$f":"'LIMITED RESULTS (2)'!AB12","v":66.34}]
[48,{"$f":"'LIMITED RESULTS (2)'!E13","v":"LTD"},{"$f":"'LIMITED RESULTS (2)'!B13","v":0},{"$f":"'LIMITED RESULTS (2)'!C13","v":0},{"$f":"'LIMITED RESULTS (2)'!D13","v":0},{"$f":"'LIMITED RESULTS (2)'!AG13","v":""},0,0,{"$f":"'LIMITED RESULTS (2)'!F13","v":""},null,null,{"$f":"'LIMITED RESULTS (2)'!K13","v":""},null,null,{"$f":"'LIMITED RESULTS (2)'!P13","v":""},null,null,{"$f":"'LIMITED RESULTS (2)'!U13","v":""},null,null,{"$f":"'LIMITED RESULTS (2)'!AB13","v":""}]
[49,{"$f":"'LIMITED RESULTS (2)'!E14","v":"LTD"},{"$f":"'LIMITED RESULTS (2)'!B14","v":0},{"$f":"'LIMITED RESULTS (2)'!C14","v":0},{"$f":"'LIMITED RESULTS (2)'!D14","v":0},{"$f":"'LIMITED RESULTS (2)'!AG14","v":""},0,0,{"$f":"'LIMITED RESULTS (2)'!F14","v":""},null,null,{"$f":"'LIMITED RESULTS (2)'!K14","v":""},null,null,{"$f":"'LIMITED RESULTS (2)'!P14","v":""},null,null,{"$f":"'LIMITED RESULTS (2)'!U14","v":""},null,null,{"$f":"'LIMITED RESULTS (2)'!AB14","v":""}]
[50,{"$f":"'LIMITED RESULTS (2)'!E15","v":"LTD"},{"$f":"'LIMITED RESULTS (2)'!B15","v":0},{"$f":"'LIMITED RESULTS (2)'!C15","v":0},{"$f":"'LIMITED RESULTS (2)'!D15","v":0},{"$f":"'LIMITED RESULTS (2)'!AG15","v":""},0,0,{"$f":"'LIMITED RESULTS (2)'!F15","v":""},null,null,{"$f":"'LIMITED RESULTS (2)'!K15","v":""},null,null,{"$f":"'LIMITED RESULTS (2)'!P15","v":""},null,null,{"$f":"'LIMITED RESULTS (2)'!U15","v":""},null,null,{"$f":"'LIMITED RESULTS (2)'!AB15","v":""}]
[51,{"$f":"'LIMITED RESULTS (2)'!E16","v":"LTD"},{"$f":"'LIMITED RESULTS (2)'!B16","v":0},{"$f":"'LIMITED RESULTS (2)'!C16","v":0},{"$f":"'LIMITED RESULTS (2)'!D16","v":0},{"$f":"'LIMITED RESULTS (2)'!AG16","v":""},0,0,{"$f":"'LIMITED RESULTS (2)'!F16","v":""},null,null,{"$f":"'LIMITED RESULTS (2)'!K16","v":""},null,null,{"$f":"'LIMITED RESULTS (2)'!P16","v":""},null,null,{"$f":"'LIMITED RESULTS (2)'!U16","v":""},null,null,{"$f":"'LIMITED RESULTS (2)'!AB16","v":""}]
[52,{"$f":"'LIMITED RESULTS (2)'!E17","v":"LTD"},{"$f":"'LIMITED RESULTS (2)'!B17","v":0},{"$f":"'LIMITED RESULTS (2)'!C17","v":0},{"$f":"'LIMITED RESULTS (2)'!D17","v":0},{"$f":"'LIMITED RESULTS (2)'!AG17","v":""},0,0,{"$f":"'LIMITED RESULTS (2)'!F17","v":""},null,null,{"$f":"'LIMITED RESULTS (2)'!K17","v":""},null,null,{"$f":"'LIMITED RESULTS (2)'!P17","v":""},null,null,{"$f":"'LIMITED RESULTS (2)'!U17","v":""},null,null,{"$f":"'LIMITED RESULTS (2)'!AB17","v":""}]
[53,{"$f":"'LIMITED RESULTS (2)'!E18","v":"LTD"},{"$f":"'LIMITED RESULTS (2)'!B18","v":0},{"$f":"'LIMITED RESULTS (2)'!C18","v":0},{"$f":"'LIMITED RESULTS (2)'!D18","v":0},{"$f":"'LIMITED RESULTS (2)'!AG18","v":""},0,0,{"$f":"'LIMITED RESULTS (2)'!F18","v":""},null,null,{"$f":"'LIMITED RESULTS (2)'!K18","v":""},null,null,{"$f":"'LIMITED RESULTS (2)'!P18","v":""},null,null,{"$f":"'LIMITED RESULTS (2)'!U18","v":""},null,null,{"$f":"'LIMITED RESULTS (2)'!AB18","v":""}]
[54,{"$f":"'LIMITED RESULTS (2)'!E19","v":"LTD"},{"$f":"'LIMITED RESULTS (2)'!B19","v":0},{"$f":"'LIMITED RESULTS (2)'!C19","v":0},{"$f":"'LIMITED RESULTS (2)'!D19","v":0},{"$f":"'LIMITED RESULTS (2)'!AG19","v":""},0,0,{"$f":"'LIMITED RESULTS (2)'!F19","v":""},null,null,{"$f":"'LIMITED RESULTS (2)'!K19","v":""},null,null,{"$f":"'LIMITED RESULTS (2)'!P19","v":""},null,null,{"$f":"'LIMITED RESULTS (2)'!U19","v":""},null,null,{"$f":"'LIMITED RESULTS (2)'!AB19","v":""}]
[55,{"$f":"'LIMITED RESULTS (2)'!E20","v":"LTD"},{"$f":"'LIMITED RESULTS (2)'!B20","v":0},{"$f":"'LIMITED RESULTS (2)'!C20","v":0},{"$f":"'LIMITED RESULTS (2)'!D20","v":0},{"$f":"'LIMITED RESULTS (2)'!AG20","v":""},0,0,{"$f":"'LIMITED RESULTS (2)'!F20","v":""},null,null,{"$f":"'LIMITED RESULTS (2)'!K20","v":""},null,null,{"$f":"'LIMITED RESULTS (2)'!P20","v":""},null,null,{"$f":"'LIMITED RESULTS (2)'!U20","v":""},null,null,{"$f":"'LIMITED RESULTS (2)'!AB20","v":""}]
[56,{"$f":"'LIMITED RESULTS (2)'!E21","v":"LTD"},{"$f":"'LIMITED RESULTS (2)'!B21","v":0},{"$f":"'LIMITED RESULTS (2)'!C21","v":0},{"$f":"'LIMITED RESULTS (2)'!D21","v":0},{"$f":"'LIMITED RESULTS (2)'!AG21","v":""},0,0,{"$f":"'LIMITED RESULTS (2)'!F21","v":""},null,null,{"$f":"'LIMITED RESULTS (2)'!K21","v":""},null,null,{"$f":"'LIMITED RESULTS (2)'!P21","v":""},null,null,{"$f":"'LIMITED RESULTS (2)'!U21","v":""},null,null,{"$f":"'LIMITED RESULTS (2)'!AB21","v":""}]
[57,{"$f":"'LIMITED RESULTS (2)'!E22","v":"LTD"},{"$f":"'LIMITED RESULTS (2)'!B22","v":0},{"$f":"'LIMITED RESULTS (2)'!C22","v":0},{"$f":"'LIMITED RESULTS (2)'!D22","v":0},{"$f":"'LIMITED RESULTS (2)'!AG22","v":""},0,0,{"$f":"'LIMITED RESULTS (2)'!F22","v":""},null,null,{"$f":"'LIMITED RESULTS (2)'!K22","v":""},null,null,{"$f":"'LIMITED RESULTS (2)'!P22","v":""},null,null,{"$f":"'LIMITED RESULTS (2)'!U22","v":""},null,null,{"$f":"'LIMITED RESULTS (2)'!AB22","v":""}]
[58,{"$f":"'LIMITED RESULTS (2)'!E23","v":"LTD"},{"$f":"'LIMITED RESULTS (2)'!B23","v":0},{"$f":"'LIMITED RESULTS (2)'!C23","v":0},{"$f":"'LIMITED RESULTS (2)'!D23","v":0},{"$f":"'LIMITED RESULTS (2)'!AG23","v":""},0,0,{"$f":"'LIMITED RESULTS (2)'!F23","v":""},null,null,{"$f":"'LIMITED RESULTS (2)'!K23","v":""},null,null,{"$f":"'LIMITED RESULTS (2)'!P23","v":""},null,null,{"$f":"'LIMITED RESULTS (2)'!U23","v":""},null,null,{"$f":"'LIMITED RESULTS (2)'!AB23","v":""}]
[59,{"$f":"'LIMITED RESULTS (2)'!E24","v":"LTD"},{"$f":"'LIMITED RESULTS (2)'!B24","v":0},{"$f":"'LIMITED RESULTS (2)'!C24","v":0},{"$f":"'LIMITED RESULTS (2)'!D24","v":0},{"$f":"'LIMITED RESULTS (2)'!AG24","v":""},0,0,{"$f":"'LIMITED RESULTS (2)'!F24","v":""},null,null,{"$f":"'LIMITED RESULTS (2)'!K24","v":""},null,null,{"$f":"'LIMITED RESULTS (2)'!P24","v":""},null,null,{"$f":"'LIMITED RESULTS (2)'!U24","v":""},null,null,{"$f":"'LIMITED RESULTS (2)'!AB24","v":""}]
[60,{"$f":"'LIMITED RESULTS (2)'!E25","v":"LTD"},{"$f":"'LIMITED RESULTS (2)'!B25","v":0},{"$f":"'LIMITED RESULTS (2)'!C25","v":0},{"$f":"'LIMITED RESULTS (2)'!D25","v":0},{"$f":"'LIMITED RESULTS (2)'!AG25","v":""},0,0,{"$f":"'LIMITED RESULTS (2)'!F25","v":""},null,null,{"$f":"'LIMITED RESULTS (2)'!K25","v":""},null,null,{"$f":"'LIMITED RESULTS (2)'!P25","v":""},null,null,{"$f":"'LIMITED RESULTS (2)'!U25","v":""},null,null,{"$f":"'LIMITED RESULTS (2)'!AB25","v":""}]
[61,{"$f":"'INTERMEDIATE RESULTS (2)'!E11","v":"INT"},{"$f":"'INTERMEDIATE RESULTS (2)'!B11","v":"Osorio"},{"$f":"'INTERMEDIATE RESULTS (2)'!C11","v":"Carlos"},{"$f":"'INTERMEDIATE RESULTS (2)'!D11","v":"AR Especial"},{"$f":"'INTERMEDIATE RESULTS (2)'!AG11","v":5},344.94000000000005,275.10000000000002,{"$f":"'INTERMEDIATE RESULTS (2)'!F11","v":70.8},null,null,{"$f":"'INTERMEDIATE RESULTS (2)'!K11","v":49.8},null,null,{"$f":"'INTERMEDIATE RESULTS (2)'!P11","v":78},null,null,{"$f":"'INTERMEDIATE RESULTS (2)'!U11","v":76.5},null,null,{"$f":"'INTERMEDIATE RESULTS (2)'!AB11","v":69.84}]
[62,{"$f":"'INTERMEDIATE RESULTS (2)'!E12","v":"INT"},{"$f":"'INTERMEDIATE RESULTS (2)'!B12","v":0},{"$f":"'INTERMEDIATE RESULTS (2)'!C12","v":0},{"$f":"'INTERMEDIATE RESULTS (2)'!D12","v":0},{"$f":"'INTERMEDIATE RESULTS (2)'!AG12","v":""},0,0,{"$f":"'INTERMEDIATE RESULTS (2)'!F12","v":""},null,null,{"$f":"'INTERMEDIATE RESULTS (2)'!K12","v":""},null,null,{"$f":"'INTERMEDIATE RESULTS (2)'!P12","v":""},null,null,{"$f":"'INTERMEDIATE RESULTS (2)'!U12","v":""},null,null,{"$f":"'INTERMEDIATE RESULTS (2)'!AB12","v":""}]
[63,{"$f":"'INTERMEDIATE RESULTS (2)'!E13","v":"INT"},{"$f":"'INTERMEDIATE RESULTS (2)'!B13","v":0},{"$f":"'INTERMEDIATE RESULTS (2)'!C13","v":0},{"$f":"'INTERMEDIATE RESULTS (2)'!D13","v":0},{"$f":"'INTERMEDIATE RESULTS (2)'!AG13","v":""},{"$f":"SUM(I69,L69,O69,R69,U69)","v":0},{"$f":"SUM(I69,L69,O69,R69)","v":0},{"$f":"'INTERMEDIATE RESULTS (2)'!F13","v":""},null,null,{"$f":"'INTERMEDIATE RESULTS (2)'!K13","v":""},null,null,{"$f":"'INTERMEDIATE RESULTS (2)'!P13","v":""},null,null,{"$f":"'INTERMEDIATE RESULTS (2)'!U13","v":""},null,null,{"$f":"'INTERMEDIATE RESULTS (2)'!AB13","v":""}]
[64,{"$f":"'INTERMEDIATE RESULTS (2)'!E14","v":"INT"},{"$f":"'INTERMEDIATE RESULTS (2)'!B14","v":0},{"$f":"'INTERMEDIATE RESULTS (2)'!C14","v":0},{"$f":"'INTERMEDIATE RESULTS (2)'!D14","v":0},{"$f":"'INTERMEDIATE RESULTS (2)'!AG14","v":""},0,0,{"$f":"'INTERMEDIATE RESULTS (2)'!F14","v":""},null,null,{"$f":"'INTERMEDIATE RESULTS (2)'!K14","v":""},null,null,{"$f":"'INTERMEDIATE RESULTS (2)'!P14","v":""},null,null,{"$f":"'INTERMEDIATE RESULTS (2)'!U14","v":""},null,null,{"$f":"'INTERMEDIATE RESULTS (2)'!AB14","v":""}]
[65,{"$f":"'INTERMEDIATE RESULTS (2)'!E15","v":"INT"},{"$f":"'INTERMEDIATE RESULTS (2)'!B15","v":0},{"$f":"'INTERMEDIATE RESULTS (2)'!C15","v":0},{"$f":"'INTERMEDIATE RESULTS (2)'!D15","v":0},{"$f":"'INTERMEDIATE RESULTS (2)'!AG15","v":""},0,0,{"$f":"'INTERMEDIATE RESULTS (2)'!F15","v":""},null,null,{"$f":"'INTERMEDIATE RESULTS (2)'!K15","v":""},null,null,{"$f":"'INTERMEDIATE RESULTS (2)'!P15","v":""},null,null,{"$f":"'INTERMEDIATE RESULTS (2)'!U15","v":""},null,null,{"$f":"'INTERMEDIATE RESULTS (2)'!AB15","v":""}]
[66,{"$f":"'INTERMEDIATE RESULTS (2)'!E16","v":"INT"},{"$f":"'INTERMEDIATE RESULTS (2)'!B16","v":0},{"$f":"'INTERMEDIATE RESULTS (2)'!C16","v":0},{"$f":"'INTERMEDIATE RESULTS (2)'!D16","v":0},{"$f":"'INTERMEDIATE RESULTS (2)'!AG16","v":""},0,0,{"$f":"'INTERMEDIATE RESULTS (2)'!F16","v":""},null,null,{"$f":"'INTERMEDIATE RESULTS (2)'!K16","v":""},null,null,{"$f":"'INTERMEDIATE RESULTS (2)'!P16","v":""},null,null,{"$f":"'INTERMEDIATE RESULTS (2)'!U16","v":""},null,null,{"$f":"'INTERMEDIATE RESULTS (2)'!AB16","v":""}]
[67,{"$f":"'INTERMEDIATE RESULTS (2)'!E17","v":"INT"},{"$f":"'INTERMEDIATE RESULTS (2)'!B17","v":0},{"$f":"'INTERMEDIATE RESULTS (2)'!C17","v":0},{"$f":"'INTERMEDIATE RESULTS (2)'!D17","v":0},{"$f":"'INTERMEDIATE RESULTS (2)'!AG17","v":""},0,0,{"$f":"'INTERMEDIATE RESULTS (2)'!F17","v":""},null,null,{"$f":"'INTERMEDIATE RESULTS (2)'!K17","v":""},null,null,{"$f":"'INTERMEDIATE RESULTS (2)'!P17","v":""},null,null,{"$f":"'INTERMEDIATE RESULTS (2)'!U17","v":""},null,null,{"$f":"'INTERMEDIATE RESULTS (2)'!AB17","v":""}]
[68,{"$f":"'INTERMEDIATE RESULTS (2)'!E18","v":"INT"},{"$f":"'INTERMEDIATE RESULTS (2)'!B18","v":0},{"$f":"'INTERMEDIATE RESULTS (2)'!C18","v":0},{"$f":"'INTERMEDIATE RESULTS (2)'!D18","v":0},{"$f":"'INTERMEDIATE RESULTS (2)'!AG18","v":""},0,0,{"$f":"'INTERMEDIATE RESULTS (2)'!F18","v":""},null,null,{"$f":"'INTERMEDIATE RESULTS (2)'!K18","v":""},null,null,{"$f":"'INTERMEDIATE RESULTS (2)'!P18","v":""},null,null,{"$f":"'INTERMEDIATE RESULTS (2)'!U18","v":""},null,null,{"$f":"'INTERMEDIATE RESULTS (2)'!AB18","v":""}]
[69,{"$f":"'INTERMEDIATE RESULTS (2)'!E19","v":"INT"},{"$f":"'INTERMEDIATE RESULTS (2)'!B19","v":0},{"$f":"'INTERMEDIATE RESULTS (2)'!C19","v":0},{"$f":"'INTERMEDIATE RESULTS (2)'!D19","v":0},{"$f":"'INTERMEDIATE RESULTS (2)'!AG19","v":""},0,0,{"$f":"'INTERMEDIATE RESULTS (2)'!F19","v":""},null,null,{"$f":"'INTERMEDIATE RESULTS (2)'!K19","v":""},null,null,{"$f":"'INTERMEDIATE RESULTS (2)'!P19","v":""},null,null,{"$f":"'INTERMEDIATE RESULTS (2)'!U19","v":""},null,null,{"$f":"'INTERMEDIATE RESULTS (2)'!AB19","v":""}]
[70,{"$f":"'INTERMEDIATE RESULTS (2)'!E20","v":"INT"},{"$f":"'INTERMEDIATE RESULTS (2)'!B20","v":0},{"$f":"'INTERMEDIATE RESULTS (2)'!C20","v":0},{"$f":"'INTERMEDIATE RESULTS (2)'!D20","v":0},{"$f":"'INTERMEDIATE RESULTS (2)'!AG20","v":""},0,0,{"$f":"'INTERMEDIATE RESULTS (2)'!F20","v":""},null,null,{"$f":"'INTERMEDIATE RESULTS (2)'!K20","v":""},null,null,{"$f":"'INTERMEDIATE RESULTS (2)'!P20","v":""},null,null,{"$f":"'INTERMEDIATE RESULTS (2)'!U20","v":""},null,null,{"$f":"'INTERMEDIATE RESULTS (2)'!AB20","v":""}]
[71,{"$f":"'INTERMEDIATE RESULTS (2)'!E21","v":"INT"},{"$f":"'INTERMEDIATE RESULTS (2)'!B21","v":0},{"$f":"'INTERMEDIATE RESULTS (2)'!C21","v":0},{"$f":"'INTERMEDIATE RESULTS (2)'!D21","v":0},{"$f":"'INTERMEDIATE RESULTS (2)'!AG21","v":""},0,0,{"$f":"'INTERMEDIATE RESULTS (2)'!F21","v":""},null,null,{"$f":"'INTERMEDIATE RESULTS (2)'!K21","v":""},null,null,{"$f":"'INTERMEDIATE RESULTS (2)'!P21","v":""},null,null,{"$f":"'INTERMEDIATE RESULTS (2)'!U21","v":""},null,null,{"$f":"'INTERMEDIATE RESULTS (2)'!AB21","v":""}]
[72,{"$f":"'INTERMEDIATE RESULTS (2)'!E22","v":"INT"},{"$f":"'INTERMEDIATE RESULTS (2)'!B22","v":0},{"$f":"'INTERMEDIATE RESULTS (2)'!C22","v":0},{"$f":"'INTERMEDIATE RESULTS (2)'!D22","v":0},{"$f":"'INTERMEDIATE RESULTS (2)'!AG22","v":""},0,0,{"$f":"'INTERMEDIATE RESULTS (2)'!F22","v":""},null,null,{"$f":"'INTERMEDIATE RESULTS (2)'!K22","v":""},null,null,{"$f":"'INTERMEDIATE RESULTS (2)'!P22","v":""},null,null,{"$f":"'INTERMEDIATE RESULTS (2)'!U22","v":""},null,null,{"$f":"'INTERMEDIATE RESULTS (2)'!AB22","v":""}]
[73,{"$f":"'INTERMEDIATE RESULTS (2)'!E23","v":"INT"},{"$f":"'INTERMEDIATE RESULTS (2)'!B23","v":0},{"$f":"'INTERMEDIATE RESULTS (2)'!C23","v":0},{"$f":"'INTERMEDIATE RESULTS (2)'!D23","v":0},{"$f":"'INTERMEDIATE RESULTS (2)'!AG23","v":""},0,0,{"$f":"'INTERMEDIATE RESULTS (2)'!F23","v":""},null,null,{"$f":"'INTERMEDIATE RESULTS (2)'!K23","v":""},null,null,{"$f":"'INTERMEDIATE RESULTS (2)'!P23","v":""},null,null,{"$f":"'INTERMEDIATE RESULTS (2)'!U23","v":""},null,null,{"$f":"'INTERMEDIATE RESULTS (2)'!AB23","v":""}]
[74,{"$f":"'INTERMEDIATE RESULTS (2)'!E24","v":"INT"},{"$f":"'INTERMEDIATE RESULTS (2)'!B24","v":0},{"$f":"'INTERMEDIATE RESULTS (2)'!C24","v":0},{"$f":"'INTERMEDIATE RESULTS (2)'!D24","v":0},{"$f":"'INTERMEDIATE RESULTS (2)'!AG24","v":""},0,0,{"$f":"'INTERMEDIATE RESULTS (2)'!F24","v":""},null,null,{"$f":"'INTERMEDIATE RESULTS (2)'!K24","v":""},null,null,{"$f":"'INTERMEDIATE RESULTS (2)'!P24","v":""},null,null,{"$f":"'INTERMEDIATE RESULTS (2)'!U24","v":""},null,null,{"$f":"'INTERMEDIATE RESULTS (2)'!AB24","v":""}]
[75,{"$f":"'INTERMEDIATE RESULTS (2)'!E25","v":"INT"},{"$f":"'INTERMEDIATE RESULTS (2)'!B25","v":0},{"$f":"'INTERMEDIATE RESULTS (2)'!C25","v":0},{"$f":"'INTERMEDIATE RESULTS (2)'!D25","v":0},{"$f":"'INTERMEDIATE RESULTS (2)'!AG25","v":""},0,0,{"$f":"'INTERMEDIATE RESULTS (2)'!F25","v":""},null,null,{"$f":"'INTERMEDIATE RESULTS (2)'!K25","v":""},null,null,{"$f":"'INTERMEDIATE RESULTS (2)'!P25","v":""},null,null,{"$f":"'INTERMEDIATE RESULTS (2)'!U25","v":""},null,null,{"$f":"'INTERMEDIATE RESULTS (2)'!AB25","v":""}]
[76,{"$f":"'ADVANCED RESULTS (2)'!E11","v":"ADV"},{"$f":"'ADVANCED RESULTS (2)'!B11","v":"Henderson"},{"$f":"'ADVANCED RESULTS (2)'!C11","v":"Vicky"},{"$f":"'ADVANCED RESULTS (2)'!D11","v":"Tatanka"},{"$f":"'ADVANCED RESULTS (2)'!AG11","v":1},361.65999999999997,293,{"$f":"'ADVANCED RESULTS (2)'!F11","v":80.199999999999989},null,null,{"$f":"'ADVANCED RESULTS (2)'!K11","v":60.8},null,null,{"$f":"'ADVANCED RESULTS (2)'!P11","v":63},null,null,{"$f":"'ADVANCED RESULTS (2)'!U11","v":89},null,null,{"$f":"'ADVANCED RESULTS (2)'!AB11","v":68.66}]
[77,{"$f":"'ADVANCED RESULTS (2)'!E12","v":"ADV"},{"$f":"'ADVANCED RESULTS (2)'!B12","v":"Johnsen"},{"$f":"'ADVANCED RESULTS (2)'!C12","v":"Shelley"},{"$f":"'ADVANCED RESULTS (2)'!D12","v":"Unbranded"},{"$f":"'ADVANCED RESULTS (2)'!AG12","v":4},376.62,294.89999999999998,{"$f":"'ADVANCED RESULTS (2)'!F12","v":80.5},null,null,{"$f":"'ADVANCED RESULTS (2)'!K12","v":48.900000000000006},null,null,{"$f":"'ADVANCED RESULTS (2)'!P12","v":75},null,null,{"$f":"'ADVANCED RESULTS (2)'!U12","v":90.5},null,null,{"$f":"'ADVANCED RESULTS (2)'!AB12","v":81.72}]
[78,{"$f":"'ADVANCED RESULTS (2)'!E13","v":"ADV"},{"$f":"'ADVANCED RESULTS (2)'!B13","v":0},{"$f":"'ADVANCED RESULTS (2)'!C13","v":0},{"$f":"'ADVANCED RESULTS (2)'!D13","v":0},{"$f":"'ADVANCED RESULTS (2)'!AG13","v":""},0,0,{"$f":"'ADVANCED RESULTS (2)'!F13","v":""},null,null,{"$f":"'ADVANCED RESULTS (2)'!K13","v":""},null,null,{"$f":"'ADVANCED RESULTS (2)'!P13","v":""},null,null,{"$f":"'ADVANCED RESULTS (2)'!U13","v":""},null,null,{"$f":"'ADVANCED RESULTS (2)'!AB13","v":""}]
[79,{"$f":"'ADVANCED RESULTS (2)'!E14","v":"ADV"},{"$f":"'ADVANCED RESULTS (2)'!B14","v":0},{"$f":"'ADVANCED RESULTS (2)'!C14","v":0},{"$f":"'ADVANCED RESULTS (2)'!D14","v":0},{"$f":"'ADVANCED RESULTS (2)'!AG14","v":""},0,0,{"$f":"'ADVANCED RESULTS (2)'!F14","v":""},null,null,{"$f":"'ADVANCED RESULTS (2)'!K14","v":""},null,null,{"$f":"'ADVANCED RESULTS (2)'!P14","v":""},null,null,{"$f":"'ADVANCED RESULTS (2)'!U14","v":""},null,null,{"$f":"'ADVANCED RESULTS (2)'!AB14","v":""}]
[80,{"$f":"'ADVANCED RESULTS (2)'!E15","v":"ADV"},{"$f":"'ADVANCED RESULTS (2)'!B15","v":0},{"$f":"'ADVANCED RESULTS (2)'!C15","v":0},{"$f":"'ADVANCED RESULTS (2)'!D15","v":0},{"$f":"'ADVANCED RESULTS (2)'!AG15","v":""},0,0,{"$f":"'ADVANCED RESULTS (2)'!F15","v":""},null,null,{"$f":"'ADVANCED RESULTS (2)'!K15","v":""},null,null,{"$f":"'ADVANCED RESULTS (2)'!P15","v":""},null,null,{"$f":"'ADVANCED RESULTS (2)'!U15","v":""},null,null,{"$f":"'ADVANCED RESULTS (2)'!AB15","v":""}]
[81,{"$f":"'ADVANCED RESULTS (2)'!E16","v":"ADV"},{"$f":"'ADVANCED RESULTS (2)'!B16","v":0},{"$f":"'ADVANCED RESULTS (2)'!C16","v":0},{"$f":"'ADVANCED RESULTS (2)'!D16","v":0},{"$f":"'ADVANCED RESULTS (2)'!AG16","v":""},0,0,{"$f":"'ADVANCED RESULTS (2)'!F16","v":""},null,null,{"$f":"'ADVANCED RESULTS (2)'!K16","v":""},null,null,{"$f":"'ADVANCED RESULTS (2)'!P16","v":""},null,null,{"$f":"'ADVANCED RESULTS (2)'!U16","v":""},null,null,{"$f":"'ADVANCED RESULTS (2)'!AB16","v":""}]
[82,{"$f":"'ADVANCED RESULTS (2)'!E17","v":"ADV"},{"$f":"'ADVANCED RESULTS (2)'!B17","v":0},{"$f":"'ADVANCED RESULTS (2)'!C17","v":0},{"$f":"'ADVANCED RESULTS (2)'!D17","v":0},{"$f":"'ADVANCED RESULTS (2)'!AG17","v":""},0,0,{"$f":"'ADVANCED RESULTS (2)'!F17","v":""},null,null,{"$f":"'ADVANCED RESULTS (2)'!K17","v":""},null,null,{"$f":"'ADVANCED RESULTS (2)'!P17","v":""},null,null,{"$f":"'ADVANCED RESULTS (2)'!U17","v":""},null,null,{"$f":"'ADVANCED RESULTS (2)'!AB17","v":""}]
[83,{"$f":"'ADVANCED RESULTS (2)'!E18","v":"ADV"},{"$f":"'ADVANCED RESULTS (2)'!B18","v":0},{"$f":"'ADVANCED RESULTS (2)'!C18","v":0},{"$f":"'ADVANCED RESULTS (2)'!D18","v":0},{"$f":"'ADVANCED RESULTS (2)'!AG18","v":""},0,0,{"$f":"'ADVANCED RESULTS (2)'!F18","v":""},null,null,{"$f":"'ADVANCED RESULTS (2)'!K18","v":""},null,null,{"$f":"'ADVANCED RESULTS (2)'!P18","v":""},null,null,{"$f":"'ADVANCED RESULTS (2)'!U18","v":""},null,null,{"$f":"'ADVANCED RESULTS (2)'!AB18","v":""}]
[84,{"$f":"'ADVANCED RESULTS (2)'!E19","v":"ADV"},{"$f":"'ADVANCED RESULTS (2)'!B19","v":0},{"$f":"'ADVANCED RESULTS (2)'!C19","v":0},{"$f":"'ADVANCED RESULTS (2)'!D19","v":0},{"$f":"'ADVANCED RESULTS (2)'!AG19","v":""},0,0,{"$f":"'ADVANCED RESULTS (2)'!F19","v":""},null,null,{"$f":"'ADVANCED RESULTS (2)'!K19","v":""},null,null,{"$f":"'ADVANCED RESULTS (2)'!P19","v":""},null,null,{"$f":"'ADVANCED RESULTS (2)'!U19","v":""},null,null,{"$f":"'ADVANCED RESULTS (2)'!AB19","v":""}]
[85,{"$f":"'ADVANCED RESULTS (2)'!E20","v":"ADV"},{"$f":"'ADVANCED RESULTS (2)'!B20","v":0},{"$f":"'ADVANCED RESULTS (2)'!C20","v":0},{"$f":"'ADVANCED RESULTS (2)'!D20","v":0},{"$f":"'ADVANCED RESULTS (2)'!AG20","v":""},0,0,{"$f":"'ADVANCED RESULTS (2)'!F20","v":""},null,null,{"$f":"'ADVANCED RESULTS (2)'!K20","v":""},null,null,{"$f":"'ADVANCED RESULTS (2)'!P20","v":""},null,null,{"$f":"'ADVANCED RESULTS (2)'!U20","v":""},null,null,{"$f":"'ADVANCED RESULTS (2)'!AB20","v":""}]
[86,{"$f":"'ADVANCED RESULTS (2)'!E21","v":"ADV"},{"$f":"'ADVANCED RESULTS (2)'!B21","v":0},{"$f":"'ADVANCED RESULTS (2)'!C21","v":0},{"$f":"'ADVANCED RESULTS (2)'!D21","v":0},{"$f":"'ADVANCED RESULTS (2)'!AG21","v":""},0,0,{"$f":"'ADVANCED RESULTS (2)'!F21","v":""},null,null,{"$f":"'ADVANCED RESULTS (2)'!K21","v":""},null,null,{"$f":"'ADVANCED RESULTS (2)'!P21","v":""},null,null,{"$f":"'ADVANCED RESULTS (2)'!U21","v":""},null,null,{"$f":"'ADVANCED RESULTS (2)'!AB21","v":""}]
[87,{"$f":"'ADVANCED RESULTS (2)'!E22","v":"ADV"},{"$f":"'ADVANCED RESULTS (2)'!B22","v":0},{"$f":"'ADVANCED RESULTS (2)'!C22","v":0},{"$f":"'ADVANCED RESULTS (2)'!D22","v":0},{"$f":"'ADVANCED RESULTS (2)'!AG22","v":""},0,0,{"$f":"'ADVANCED RESULTS (2)'!F22","v":""},null,null,{"$f":"'ADVANCED RESULTS (2)'!K22","v":""},null,null,{"$f":"'ADVANCED RESULTS (2)'!P22","v":""},null,null,{"$f":"'ADVANCED RESULTS (2)'!U22","v":""},null,null,{"$f":"'ADVANCED RESULTS (2)'!AB22","v":""}]
[88,{"$f":"'ADVANCED RESULTS (2)'!E23","v":"ADV"},{"$f":"'ADVANCED RESULTS (2)'!B23","v":0},{"$f":"'ADVANCED RESULTS (2)'!C23","v":0},{"$f":"'ADVANCED RESULTS (2)'!D23","v":0},{"$f":"'ADVANCED RESULTS (2)'!AG23","v":""},0,0,{"$f":"'ADVANCED RESULTS (2)'!F23","v":""},null,null,{"$f":"'ADVANCED RESULTS (2)'!K23","v":""},null,null,{"$f":"'ADVANCED RESULTS (2)'!P23","v":""},null,null,{"$f":"'ADVANCED RESULTS (2)'!U23","v":""},null,null,{"$f":"'ADVANCED RESULTS (2)'!AB23","v":""}]
[89,{"$f":"'ADVANCED RESULTS (2)'!E24","v":"ADV"},{"$f":"'ADVANCED RESULTS (2)'!B24","v":0},{"$f":"'ADVANCED RESULTS (2)'!C24","v":0},{"$f":"'ADVANCED RESULTS (2)'!D24","v":0},{"$f":"'ADVANCED RESULTS (2)'!AG24","v":""},0,0,{"$f":"'ADVANCED RESULTS (2)'!F24","v":""},null,null,{"$f":"'ADVANCED RESULTS (2)'!K24","v":""},null,null,{"$f":"'ADVANCED RESULTS (2)'!P24","v":""},null,null,{"$f":"'ADVANCED RESULTS (2)'!U24","v":""},null,null,{"$f":"'ADVANCED RESULTS (2)'!AB24","v":""}]
[90,{"$f":"'ADVANCED RESULTS (2)'!E25","v":"ADV"},{"$f":"'ADVANCED RESULTS (2)'!B25","v":0},{"$f":"'ADVANCED RESULTS (2)'!C25","v":0},{"$f":"'ADVANCED RESULTS (2)'!D25","v":0},{"$f":"'ADVANCED RESULTS (2)'!AG25","v":""},0,0,{"$f":"'ADVANCED RESULTS (2)'!F25","v":""},null,null,{"$f":"'ADVANCED RESULTS (2)'!K25","v":""},null,null,{"$f":"'ADVANCED RESULTS (2)'!P25","v":""},null,null,{"$f":"'ADVANCED RESULTS (2)'!U25","v":""},null,null,{"$f":"'ADVANCED RESULTS (2)'!AB25","v":""}]
[null,{"$f":"'OPEN RESULTS (2)'!E11","v":"OPEN"},{"$f":"'OPEN RESULTS (2)'!B11","v":"Dunn"},{"$f":"'OPEN RESULTS (2)'!C11","v":"Maureen"},{"$f":"'OPEN RESULTS (2)'!D11","v":"AR Sannabella Check"},{"$f":"'OPEN RESULTS (2)'!AG11","v":3},{"$f":"'OPEN RESULTS (2)'!AK11","v":205.79}]
[null,{"$f":"'OPEN RESULTS (2)'!E12","v":"OPEN"},{"$f":"'OPEN RESULTS (2)'!B12","v":"Goodland"},{"$f":"'OPEN RESULTS (2)'!C12","v":"Rob"},{"$f":"'OPEN RESULTS (2)'!D12","v":"Royale Smooth Sailin"},{"$f":"'OPEN RESULTS (2)'!AG12","v":5},{"$f":"'OPEN RESULTS (2)'!AK12","v":233.62}]
[null,{"$f":"'OPEN RESULTS (2)'!E13","v":"OPEN"},{"$f":"'OPEN RESULTS (2)'!B13","v":"Sween"},{"$f":"'OPEN RESULTS (2)'!C13","v":"Carolyn"},{"$f":"'OPEN RESULTS (2)'!D13","v":"AR Powderfully"},{"$f":"'OPEN RESULTS (2)'!AG13","v":7},{"$f":"'OPEN RESULTS (2)'!AK13","v":271.67999999999995}]
[null,{"$f":"'OPEN RESULTS (2)'!E14","v":"OPEN"},{"$f":"'OPEN RESULTS (2)'!B14","v":0},{"$f":"'OPEN RESULTS (2)'!C14","v":0},{"$f":"'OPEN RESULTS (2)'!D14","v":0},{"$f":"'OPEN RESULTS (2)'!AG14","v":""},{"$f":"'OPEN RESULTS (2)'!AK14","v":""}]
[null,{"$f":"'OPEN RESULTS (2)'!E15","v":"OPEN"},{"$f":"'OPEN RESULTS (2)'!B15","v":0},{"$f":"'OPEN RESULTS (2)'!C15","v":0},{"$f":"'OPEN RESULTS (2)'!D15","v":0},{"$f":"'OPEN RESULTS (2)'!AG15","v":""},{"$f":"'OPEN RESULTS (2)'!AK15","v":""}]
[null,{"$f":"'OPEN RESULTS (2)'!E16","v":"OPEN"},{"$f":"'OPEN RESULTS (2)'!B16","v":0},{"$f":"'OPEN RESULTS (2)'!C16","v":0},{"$f":"'OPEN RESULTS (2)'!D16","v":0},{"$f":"'OPEN RESULTS (2)'!AG16","v":""},{"$f":"'OPEN RESULTS (2)'!AK16","v":""}]
[null,{"$f":"'OPEN RESULTS (2)'!E17","v":"OPEN"},{"$f":"'OPEN RESULTS (2)'!B17","v":0},{"$f":"'OPEN RESULTS (2)'!C17","v":0},{"$f":"'OPEN RESULTS (2)'!D17","v":0},{"$f":"'OPEN RESULTS (2)'!AG17","v":""},{"$f":"'OPEN RESULTS (2)'!AK17","v":""}]
[null,{"$f":"'OPEN RESULTS (2)'!E18","v":"OPEN"},{"$f":"'OPEN RESULTS (2)'!B18","v":0},{"$f":"'OPEN RESULTS (2)'!C18","v":0},{"$f":"'OPEN RESULTS (2)'!D18","v":0},{"$f":"'OPEN RESULTS (2)'!AG18","v":""},{"$f":"'OPEN RESULTS (2)'!AK18","v":""}]
[null,{"$f":"'OPEN RESULTS (2)'!E19","v":"OPEN"},{"$f":"'OPEN RESULTS (2)'!B19","v":0},{"$f":"'OPEN RESULTS (2)'!C19","v":0},{"$f":"'OPEN RESULTS (2)'!D19","v":0},{"$f":"'OPEN RESULTS (2)'!AG19","v":""},{"$f":"'OPEN RESULTS (2)'!AK19","v":""}]
[null,{"$f":"'OPEN RESULTS (2)'!E20","v":"OPEN"},{"$f":"'OPEN RESULTS (2)'!B20","v":0},{"$f":"'OPEN RESULTS (2)'!C20","v":0},{"$f":"'OPEN RESULTS (2)'!D20","v":0},{"$f":"'OPEN RESULTS (2)'!AG20","v":""},{"$f":"'OPEN RESULTS (2)'!AK20","v":""}]
[null,{"$f":"'OPEN RESULTS (2)'!E21","v":"OPEN"},{"$f":"'OPEN RESULTS (2)'!B21","v":0},{"$f":"'OPEN RESULTS (2)'!C21","v":0},{"$f":"'OPEN RESULTS (2)'!D21","v":0},{"$f":"'OPEN RESULTS (2)'!AG21","v":""},{"$f":"'OPEN RESULTS (2)'!AK21","v":""}]
[null,{"$f":"'OPEN RESULTS (2)'!E22","v":"OPEN"},{"$f":"'OPEN RESULTS (2)'!B22","v":0},{"$f":"'OPEN RESULTS (2)'!C22","v":0},{"$f":"'OPEN RESULTS (2)'!D22","v":0},{"$f":"'OPEN RESULTS (2)'!AG22","v":""},{"$f":"'OPEN RESULTS (2)'!AK22","v":""}]
[null,{"$f":"'OPEN RESULTS (2)'!E23","v":"OPEN"},{"$f":"'OPEN RESULTS (2)'!B23","v":0},{"$f":"'OPEN RESULTS (2)'!C23","v":0},{"$f":"'OPEN RESULTS (2)'!D23","v":0},{"$f":"'OPEN RESULTS (2)'!AG23","v":""},{"$f":"'OPEN RESULTS (2)'!AK23","v":""}]
[null,{"$f":"'OPEN RESULTS (2)'!E24","v":"OPEN"},{"$f":"'OPEN RESULTS (2)'!B24","v":0},{"$f":"'OPEN RESULTS (2)'!C24","v":0},{"$f":"'OPEN RESULTS (2)'!D24","v":0},{"$f":"'OPEN RESULTS (2)'!AG24","v":""},{"$f":"'OPEN RESULTS (2)'!AK24","v":""}]
[null,{"$f":"'OPEN RESULTS (2)'!E25","v":"OPEN"},{"$f":"'OPEN RESULTS (2)'!B25","v":0},{"$f":"'OPEN RESULTS (2)'!C25","v":0},{"$f":"'OPEN RESULTS (2)'!D25","v":0},{"$f":"'OPEN RESULTS (2)'!AG25","v":""},{"$f":"'OPEN RESULTS (2)'!AK25","v":""}]
[]
[null,null,null,null,null,null,null,null,"1 - Extended Trot",null,null,"1 - Stop Cow",null,null,"1 - Penning",null,null,"1 - Drag log",null,null,"1 - Working Ranch Score"]
[null,null,null,null,null,null,null,null,"2 - Transition down lope/walk/stop",null,null,"2 - Box Cow",null,null,"2 - Driving to Pen between marker & fence",null,null,"2- Dismount, drop bridle, ground tie, pick up all 4 feet, remount",null,null,"2 - Ranch Riding Score"]
[null,null,null,null,null,null,null,null,"3 - Transition to lope/lope",null,null,"3 - Stop Back or Stop Rollback",null,null,"3 - Set up for cutting",null,null,"3 - Open, walk through, close gate",null,null,"3 - Cutting Score"]
[null,null,null,null,null,null,null,null,"4 - Lope Departure and Lope",null,null,"4 - First Lead Change or First Lope Circle and Lead Change",null,null,"4 - Courage & Cow Sense",null,null,"4 - Lope",null,null,"4 - Overall Balance Score"]
[null,null,null,null,null,null,null,null,"5 - Trot Reverse",null,null,"5 - First Turn",null,null,"5 - Eye Appeal",null,null,"5 - Trot",null,null,"5 - Ranch Trail Score"]
[null,null,null,null,null,null,null,null,"6 - Stop and Back",null,null,"6 - Rope Handling",null,null,"6 - Working center of arena",null,null,"6 - Walk",null,null,"6 - Fitness & Condition"]

{"sheet":"NOVICE RESULTS (2)","index":3,"n_rows":45,"n_cols":37,"rows_kept":45,"cut":false,"hidden":false,"merged":[[42,25,42,29],[44,25,44,27],[1,31,1,36],[2,1,2,2],[2,4,2,5],[2,8,2,10],[2,18,2,19],[2,20,2,26],[2,27,2,30],[2,31,2,36],[1,0,1,2],[1,4,1,5],[1,8,1,14],[1,18,1,19],[1,20,1,26],[1,27,1,30],[5,5,5,9],[5,10,5,14],[5,15,5,19],[5,20,5,24],[5,26,5,31],[6,5,6,9],[6,10,6,14],[6,15,6,19],[6,20,6,24],[6,26,6,31]]}
[]
[null,null,null,null,"Event Name:",null,null,null,{"$f":"'Entry Information'!H4","v":"The Horse First Farm, Brooklyn, WI"},null,null,null,null,null,null,null,null,null,"Judges Name:",null,{"$f":"'Entry Information'!K4","v":"Dave Currin"},null,null,null,null,null,null,"Classes Judged?",null,null,null,{"$f":"'Entry Information'!O4","v":"CN, RR, RT"}]
["Division:","NOVICE",null,null,"Event Date:",null,null,null,{"$f":"'Entry Information'!H5","v":"June 28-29,2014"},null,null,null,null,null,null,null,null,null,"Judges Name:",null,{"$f":"'Entry Information'!K5","v":"Jeff Barnes"},null,null,null,null,null,null,"Classes Judged?",null,null,null,{"$f":"'Entry Information'!O5","v":"WR, RC"}]
[]
[1,2,3,4,5,6,null,null,7,8,9,10,null,11,12,13,14,null,15,16,17,18,null,19,20,21,22,23,24,null,25,26,27,28,null,29,30]
[null,null,null,null,null,"Ranch",null,null,null,null,"Working",null,null,null,null,"Ranch",null,null,null,null,"Ranch ",null,null,null,null,null,"Ranch",null,null,null,null,null,"Total",null,"Adjusted ","Event ","Event"]
[null,null,null,null,null,"Riding",null,null,null,null,"Ranch",null,null,null,null,"Cutting",null,null,null,null,"Trail",null,null,null,null,null,"Conformation",null,null,null,null,null,"Placement","Tie ","Placement","All","Total"]
[null,null,null,null,null,"Score","Tie ","Adjusted","Place","Place-","Score","Tie ","Adjusted","Place","Place-","Score","Tie ","Adjusted","Place","Place-","Score","Tie ","Adjusted","Place","Place-","Judges","Function ","TOTAL","Tie ","Adjusted","Place","Place-","Points","Breaker","Points","Around","Score"]
[null,null,null,null,null,null,"Breaker","Score",null,"ment",null,"Breaker","Score",null,"ment",null,"Breaker","Score",null,"ment",null,"Breaker","Score",null,"ment","Score","Score","SCORE","Breaker","Score",null,"ment"]
["Back No.","Last Name","First Name","Registered Horse Name","Division",null,null,null,null,"Points",null,null,null,null,"Points",null,null,null,null,"Points",null,null,null,null,"Points",null,null,null,null,null,null,"Points"]
[{"$f":"'Entry Information'!B11","v":83},{"$f":"'Entry Information'!H11","v":"Christianson"},{"$f":"'Entry Information'!I11","v":"Codi"},{"$f":"'Entry Information'!J11","v":"Miss Makin Shine"},"NOV",{"$f":"('Novice 1'!$D$31)","v":61.399999999999991},null,{"$f":"IF(G11=\"\",F11,(F11+(G11*0.001)))","v":61.399999999999991},{"$f":"IF(H11=\"\",\"\",(RANK(H11,$H$11:$H$40,0)))","v":6},{"$f":"IF($F11=\"\",\"\",(VLOOKUP($I$42,Worksheet!$A$11:$AE$41,I11+1,FALSE)))","v":0},{"$f":"('Novice 1'!$J$31)","v":22.5},null,{"$f":"IF(L11=\"\",K11,(K11+(L11*0.001)))","v":22.5},{"$f":"IF(M11=\"\",\"\",(RANK(M11,$M$11:$M$40,0)))","v":7},{"$f":"IF($K11=\"\",\"\",(VLOOKUP($N$42,Worksheet!$A$11:$AE$41,N11+1,FALSE)))","v":0},{"$f":"('Novice 1'!$P$31)","v":53},null,{"$f":"IF(Q11=\"\",P11,(P11+(Q11*0.001)))","v":53},{"$f":"IF(R11=\"\",\"\",(RANK(R11,$R$11:$R$40,0)))","v":4},{"$f":"IF($P11=\"\",\"\",(VLOOKUP($S$42,Worksheet!$A$11:$AE$41,S11+1,FALSE)))","v":2},{"$f":"IF(A11=0,\"\",'Novice 1'!$V$31)","v":69},null,{"$f":"IF(V11=\"\",U11,(U11+(V11*0.001)))","v":69},{"$f":"IF(W11=\"\",\"\",(RANK(W11,$W$11:$W$40,0)))","v":7},{"$f":"IF($U11=\"\",\"\",(VLOOKUP($X$42,Worksheet!$A$11:$AE$41,X11+1,FALSE)))","v":0},{"$f":"IF(A11=0,\"\",'Novice 1'!$AB$28)","v":38.04},{"$f":"IF(A11=0,\"\",'Novice 1'!$AB$31)","v":20.59},{"$f":"IF(A11=0,\"\",'Novice 1'!$AB$32)","v":58.629999999999995},null,{"$f":"IF(AC11=\"\",AB11,(AB11+(AC11*0.001)))","v":58.629999999999995},{"$f":"IF(AD11=\"\",\"\",(RANK(AD11,$AD$11:$AD$40,0)))","v":8},{"$f":"IF($AB11=\"\",\"\",(VLOOKUP($AE$42,Worksheet!$A$11:$AE$41,AE11+1,FALSE)))","v":0},{"$f":"IF(A11=0,\"\",(SUM($J11,$O11,$T11,$Y11,$AF11)))","v":2},null,{"$f":"IF(AH11=\"\",AG11,(AG11+(AH11*0.001)))","v":2},{"$f":"IF(AI11=\"\",\"\",(RANK(AI11,$AI$11:$AI$40,0)))","v":6},{"$f":"IF(A11=0,\"\",(SUM(F11,K11,P11,U11,AB11)))","v":264.52999999999997}]
[{"$f":"'Entry Information'!B12","v":82},{"$f":"'Entry Information'!H12","v":"Grove"},{"$f":"'Entry Information'!I12","v":"Dale"},{"$f":"'Entry Information'!J12","v":"Woody B Stylin"},"NOV",{"$f":"('Novice 2'!$D$31)","v":62.599999999999994},null,{"$f":"IF(G12=\"\",F12,(F12+(G12*0.001)))","v":62.599999999999994},{"$f":"IF(H12=\"\",\"\",(RANK(H12,$H$11:$H$40,0)))","v":5},{"$f":"IF($F12=\"\",\"\",(VLOOKUP($I$42,Worksheet!$A$11:$AE$41,I12+1,FALSE)))","v":1},{"$f":"('Novice 2'!$J$31)","v":26.5},null,{"$f":"IF(L12=\"\",K12,(K12+(L12*0.001)))","v":26.5},{"$f":"IF(M12=\"\",\"\",(RANK(M12,$M$11:$M$40,0)))","v":4},{"$f":"IF($K12=\"\",\"\",(VLOOKUP($N$42,Worksheet!$A$11:$AE$41,N12+1,FALSE)))","v":2},{"$f":"'Novice 2'!$P$31","v":83},null,{"$f":"IF(Q12=\"\",P12,(P12+(Q12*0.001)))","v":83},{"$f":"IF(R12=\"\",\"\",(RANK(R12,$R$11:$R$40,0)))","v":1},{"$f":"IF($P12=\"\",\"\",(VLOOKUP($S$42,Worksheet!$A$11:$AE$41,S12+1,FALSE)))","v":5},{"$f":"IF(A12=0,\"\",'Novice 2'!$V$31)","v":75.5},null,{"$f":"IF(V12=\"\",U12,(U12+(V12*0.001)))","v":75.5},{"$f":"IF(W12=\"\",\"\",(RANK(W12,$W$11:$W$40,0)))","v":3},{"$f":"IF($U12=\"\",\"\",(VLOOKUP($X$42,Worksheet!$A$11:$AE$41,X12+1,FALSE)))","v":3},{"$f":"IF(A12=0,\"\",'Novice 2'!$AB$28)","v":42.99},{"$f":"IF(A12=0,\"\",'Novice 2'!$AB$31)","v":24.76},{"$f":"IF(A12=0,\"\",'Novice 2'!$AB$32)","v":67.75},null,67.75,{"$f":"IF(AD12=\"\",\"\",(RANK(AD12,$AD$11:$AD$40,0)))","v":3},{"$f":"IF($AB12=\"\",\"\",(VLOOKUP($AE$42,Worksheet!$A$11:$AE$41,AE12+1,FALSE)))","v":3},14,null,{"$f":"IF(AH12=\"\",AG12,(AG12+(AH12*0.001)))","v":14},{"$f":"IF(AI12=\"\",\"\",(RANK(AI12,$AI$11:$AI$40,0)))","v":3},315.35000000000002]
[{"$f":"'Entry Information'!B13","v":75},{"$f":"'Entry Information'!H13","v":"Burton"},{"$f":"'Entry Information'!I13","v":"Roxanne"},{"$f":"'Entry Information'!J13","v":"Miss Smart Gun RG"},"NOV",{"$f":"('Novice 3'!$D$31)","v":76},null,76,3,{"$f":"IF($F13=\"\",\"\",(VLOOKUP($I$42,Worksheet!$A$11:$AE$41,I13+1,FALSE)))","v":3},{"$f":"('Novice 3'!$J$31)","v":28},null,28,3,{"$f":"IF($K13=\"\",\"\",(VLOOKUP($N$42,Worksheet!$A$11:$AE$41,N13+1,FALSE)))","v":3},{"$f":"'Novice 3'!$P$31","v":55},null,55,3,{"$f":"IF($P13=\"\",\"\",(VLOOKUP($S$42,Worksheet!$A$11:$AE$41,S13+1,FALSE)))","v":3},{"$f":"IF(A13=0,\"\",'Novice 3'!$V$31)","v":80},null,80,2,{"$f":"IF($U13=\"\",\"\",(VLOOKUP($X$42,Worksheet!$A$11:$AE$41,X13+1,FALSE)))","v":4},{"$f":"IF(A13=0,\"\",'Novice 3'!$AB$28)","v":44.64},{"$f":"IF(A13=0,\"\",'Novice 3'!$AB$31)","v":23.900000000000002},{"$f":"IF(A13=0,\"\",'Novice 3'!$AB$32)","v":68.540000000000006},null,68.540000000000006,2,{"$f":"IF($AB13=\"\",\"\",(VLOOKUP($AE$42,Worksheet!$A$11:$AE$41,AE13+1,FALSE)))","v":4},17,null,17,2,307.54000000000002]
[{"$f":"'Entry Information'!B14","v":87},{"$f":"'Entry Information'!H14","v":"Messera"},{"$f":"'Entry Information'!I14","v":"Kelly"},{"$f":"'Entry Information'!J14","v":"Magic Dance Man"},"NOV",{"$f":"('Novice 4'!$D$31)","v":77.699999999999989},null,77.699999999999989,2,{"$f":"IF($F14=\"\",\"\",(VLOOKUP($I$42,Worksheet!$A$11:$AE$41,I14+1,FALSE)))","v":4},{"$f":"('Novice 4'!$J$31)","v":29.5},null,29.5,2,{"$f":"IF($K14=\"\",\"\",(VLOOKUP($N$42,Worksheet!$A$11:$AE$41,N14+1,FALSE)))","v":4},{"$f":"'Novice 4'!$P$31","v":70},null,70,2,{"$f":"IF($P14=\"\",\"\",(VLOOKUP($S$42,Worksheet!$A$11:$AE$41,S14+1,FALSE)))","v":4},{"$f":"IF(A14=0,\"\",'Novice 4'!$V$31)","v":85},null,85,1,{"$f":"IF($U14=\"\",\"\",(VLOOKUP($X$42,Worksheet!$A$11:$AE$41,X14+1,FALSE)))","v":5},{"$f":"IF(A14=0,\"\",'Novice 4'!$AB$28)","v":45.63},{"$f":"IF(A14=0,\"\",'Novice 4'!$AB$31)","v":26.22},{"$f":"IF(A14=0,\"\",'Novice 4'!$AB$32)","v":71.849999999999994},null,71.849999999999994,1,{"$f":"IF($AB14=\"\",\"\",(VLOOKUP($AE$42,Worksheet!$A$11:$AE$41,AE14+1,FALSE)))","v":5},22,null,22,1,334.04999999999995]
[{"$f":"'Entry Information'!B15","v":72},{"$f":"'Entry Information'!H15","v":"Eisenman"},{"$f":"'Entry Information'!I15","v":"Sue"},{"$f":"'Entry Information'!J15","v":"DLB Smart Blue Bars"},"NOV",{"$f":"('Novice 5'!$D$31)","v":78.399999999999991},null,78.399999999999991,1,{"$f":"IF($F15=\"\",\"\",(VLOOKUP($I$42,Worksheet!$A$11:$AE$41,I15+1,FALSE)))","v":5},{"$f":"('Novice 5'!$J$31)","v":25.5},null,25.5,5,{"$f":"IF($K15=\"\",\"\",(VLOOKUP($N$42,Worksheet!$A$11:$AE$41,N15+1,FALSE)))","v":1},{"$f":"'Novice 5'!$P$31","v":18},null,18,9,{"$f":"IF($P15=\"\",\"\",(VLOOKUP($S$42,Worksheet!$A$11:$AE$41,S15+1,FALSE)))","v":0},{"$f":"IF(A15=0,\"\",'Novice 5'!$V$31)","v":72},null,72,5,{"$f":"IF($U15=\"\",\"\",(VLOOKUP($X$42,Worksheet!$A$11:$AE$41,X15+1,FALSE)))","v":1},{"$f":"IF(A15=0,\"\",'Novice 5'!$AB$28)","v":43.98},{"$f":"IF(A15=0,\"\",'Novice 5'!$AB$31)","v":19.39},{"$f":"IF(A15=0,\"\",'Novice 5'!$AB$32)","v":63.37},null,63.37,5,{"$f":"IF($AB15=\"\",\"\",(VLOOKUP($AE$42,Worksheet!$A$11:$AE$41,AE15+1,FALSE)))","v":1},8,null,8,5,257.27]
[{"$f":"'Entry Information'!B16","v":0},{"$f":"'Entry Information'!H16","v":0},{"$f":"'Entry Information'!I16","v":0},{"$f":"'Entry Information'!J16","v":0},"NOV",{"$f":"('Novice 6'!$D$31)","v":""},null,"","",{"$f":"IF($F16=\"\",\"\",(VLOOKUP($I$42,Worksheet!$A$11:$AE$41,I16+1,FALSE)))","v":""},{"$f":"('Novice 6'!$J$31)","v":""},null,"","",{"$f":"IF($K16=\"\",\"\",(VLOOKUP($N$42,Worksheet!$A$11:$AE$41,N16+1,FALSE)))","v":""},{"$f":"'Novice 6'!$P$31","v":""},null,"","",{"$f":"IF($P16=\"\",\"\",(VLOOKUP($S$42,Worksheet!$A$11:$AE$41,S16+1,FALSE)))","v":""},{"$f":"IF(A16=0,\"\",'Novice 6'!$V$31)","v":""},null,"","",{"$f":"IF($U16=\"\",\"\",(VLOOKUP($X$42,Worksheet!$A$11:$AE$41,X16+1,FALSE)))","v":""},{"$f":"IF(A16=0,\"\",'Novice 6'!$AB$28)","v":""},{"$f":"IF(A16=0,\"\",'Novice 6'!$AB$31)","v":""},{"$f":"IF(A16=0,\"\",'Novice 6'!$AB$32)","v":""},null,"","",{"$f":"IF($AB16=\"\",\"\",(VLOOKUP($AE$42,Worksheet!$A$11:$AE$41,AE16+1,FALSE)))","v":""},"",null,"","",""]
[{"$f":"'Entry Information'!B17","v":44},{"$f":"'Entry Information'!H17","v":"Knapp"},{"$f":"'Entry Information'!I17","v":"Roger"},{"$f":"'Entry Information'!J17","v":"Easy Rocket Doc"},"NOV",{"$f":"('Novice 7'!$D$31)","v":56.3},null,56.3,9,{"$f":"IF($F17=\"\",\"\",(VLOOKUP($I$42,Worksheet!$A$11:$AE$41,I17+1,FALSE)))","v":0},{"$f":"('Novice 7'!$J$31)","v":37},null,37,1,{"$f":"IF($K17=\"\",\"\",(VLOOKUP($N$42,Worksheet!$A$11:$AE$41,N17+1,FALSE)))","v":5},{"$f":"'Novice 7'!$P$31","v":36},null,36,8,{"$f":"IF($P17=\"\",\"\",(VLOOKUP($S$42,Worksheet!$A$11:$AE$41,S17+1,FALSE)))","v":0},{"$f":"IF(A17=0,\"\",'Novice 7'!$V$31)","v":74.5},null,74.5,4,{"$f":"IF($U17=\"\",\"\",(VLOOKUP($X$42,Worksheet!$A$11:$AE$41,X17+1,FALSE)))","v":2},{"$f":"IF(A17=0,\"\",'Novice 7'!$AB$28)","v":44.64},{"$f":"IF(A17=0,\"\",'Novice 7'!$AB$31)","v":20.380000000000003},{"$f":"IF(A17=0,\"\",'Novice 7'!$AB$32)","v":65.02000000000001},null,65.02000000000001,4,{"$f":"IF($AB17=\"\",\"\",(VLOOKUP($AE$42,Worksheet!$A$11:$AE$41,AE17+1,FALSE)))","v":2},9,null,9,4,268.82000000000005]
[{"$f":"'Entry Information'!B18","v":47},{"$f":"'Entry Information'!H18","v":"Heinz"},{"$f":"'Entry Information'!I18","v":"Matthew"},{"$f":"'Entry Information'!J18","v":"Sun Dee Fox"},"NOV",{"$f":"('Novice 8'!$D$31)","v":68.399999999999991},null,68.399999999999991,4,{"$f":"IF($F18=\"\",\"\",(VLOOKUP($I$42,Worksheet!$A$11:$AE$41,I18+1,FALSE)))","v":2},{"$f":"('Novice 8'!$J$31)","v":22},null,22,8,{"$f":"IF($K18=\"\",\"\",(VLOOKUP($N$42,Worksheet!$A$11:$AE$41,N18+1,FALSE)))","v":0},{"$f":"'Novice 8'!$P$31","v":48},null,48,6,{"$f":"IF($P18=\"\",\"\",(VLOOKUP($S$42,Worksheet!$A$11:$AE$41,S18+1,FALSE)))","v":0},{"$f":"IF(A18=0,\"\",'Novice 8'!$V$31)","v":69.5},null,69.5,6,{"$f":"IF($U18=\"\",\"\",(VLOOKUP($X$42,Worksheet!$A$11:$AE$41,X18+1,FALSE)))","v":0},{"$f":"IF(A18=0,\"\",'Novice 8'!$AB$28)","v":38.369999999999997},{"$f":"IF(A18=0,\"\",'Novice 8'!$AB$31)","v":20.79},{"$f":"IF(A18=0,\"\",'Novice 8'!$AB$32)","v":59.16},null,59.16,7,{"$f":"IF($AB18=\"\",\"\",(VLOOKUP($AE$42,Worksheet!$A$11:$AE$41,AE18+1,FALSE)))","v":0},2,null,2,6,267.05999999999995]
[{"$f":"'Entry Information'!B19","v":49},{"$f":"'Entry Information'!H19","v":"Hoppe"},{"$f":"'Entry Information'!I19","v":"Sandra"},{"$f":"'Entry Information'!J19","v":"B Cruzin Along"},"NOV",{"$f":"('Novice 9'!$D$31)","v":58.699999999999989},null,58.699999999999989,8,{"$f":"IF($F19=\"\",\"\",(VLOOKUP($I$42,Worksheet!$A$11:$AE$41,I19+1,FALSE)))","v":0},{"$f":"('Novice 9'!$J$31)","v":23},null,23,6,{"$f":"IF($K19=\"\",\"\",(VLOOKUP($N$42,Worksheet!$A$11:$AE$41,N19+1,FALSE)))","v":0},{"$f":"'Novice 9'!$P$31","v":52},null,52,5,{"$f":"IF($P19=\"\",\"\",(VLOOKUP($S$42,Worksheet!$A$11:$AE$41,S19+1,FALSE)))","v":1},{"$f":"IF(A19=0,\"\",'Novice 9'!$V$31)","v":58},null,58,8,{"$f":"IF($U19=\"\",\"\",(VLOOKUP($X$42,Worksheet!$A$11:$AE$41,X19+1,FALSE)))","v":0},{"$f":"IF(A19=0,\"\",'Novice 9'!$AB$28)","v":35.729999999999997},{"$f":"IF(A19=0,\"\",'Novice 9'!$AB$31)","v":19.169999999999998},{"$f":"IF(A19=0,\"\",'Novice 9'!$AB$32)","v":54.899999999999991},null,54.899999999999991,9,{"$f":"IF($AB19=\"\",\"\",(VLOOKUP($AE$42,Worksheet!$A$11:$AE$41,AE19+1,FALSE)))","v":0},1,null,1,8,246.59999999999997]
[{"$f":"'Entry Information'!B20","v":51},{"$f":"'Entry Information'!H20","v":"Gilbert"},{"$f":"'Entry Information'!I20","v":"Tracy"},{"$f":"'Entry Information'!J20","v":"Bud's Diablo Star"},"NOV",{"$f":"('Novice 10'!$D$31)","v":59.099999999999994},null,59.099999999999994,7,{"$f":"IF($F20=\"\",\"\",(VLOOKUP($I$42,Worksheet!$A$11:$AE$41,I20+1,FALSE)))","v":0},{"$f":"('Novice 10'!$J$31)","v":21},null,21,9,{"$f":"IF($K20=\"\",\"\",(VLOOKUP($N$42,Worksheet!$A$11:$AE$41,N20+1,FALSE)))","v":0},{"$f":"'Novice 10'!$P$31","v":46},null,46,7,{"$f":"IF($P20=\"\",\"\",(VLOOKUP($S$42,Worksheet!$A$11:$AE$41,S20+1,FALSE)))","v":0},{"$f":"IF(A20=0,\"\",'Novice 10'!$V$31)","v":55},null,55,9,{"$f":"IF($U20=\"\",\"\",(VLOOKUP($X$42,Worksheet!$A$11:$AE$41,X20+1,FALSE)))","v":0},{"$f":"IF(A20=0,\"\",'Novice 10'!$AB$28)","v":44.64},{"$f":"IF(A20=0,\"\",'Novice 10'!$AB$31)","v":18.11},{"$f":"IF(A20=0,\"\",'Novice 10'!$AB$32)","v":62.75},null,62.75,6,{"$f":"IF($AB20=\"\",\"\",(VLOOKUP($AE$42,Worksheet!$A$11:$AE$41,AE20+1,FALSE)))","v":0},0,null,0,9,243.85]
[{"$f":"'Entry Information'!B21","v":0},{"$f":"'Entry Information'!H21","v":0},{"$f":"'Entry Information'!I21","v":0},{"$f":"'Entry Information'!J21","v":0},"NOV",{"$f":"('Novice 11'!$D$31)","v":""},null,"","",{"$f":"IF($F21=\"\",\"\",(VLOOKUP($I$42,Worksheet!$A$11:$AE$41,I21+1,FALSE)))","v":""},{"$f":"('Novice 11'!$J$31)","v":""},null,"","",{"$f":"IF($K21=\"\",\"\",(VLOOKUP($N$42,Worksheet!$A$11:$AE$41,N21+1,FALSE)))","v":""},{"$f":"'Novice 11'!$P$31","v":""},null,"","",{"$f":"IF($P21=\"\",\"\",(VLOOKUP($S$42,Worksheet!$A$11:$AE$41,S21+1,FALSE)))","v":""},{"$f":"IF(A21=0,\"\",'Novice 11'!$V$31)","v":""},null,"","",{"$f":"IF($U21=\"\",\"\",(VLOOKUP($X$42,Worksheet!$A$11:$AE$41,X21+1,FALSE)))","v":""},{"$f":"IF(A21=0,\"\",'Novice 11'!$AB$28)","v":""},{"$f":"IF(A21=0,\"\",'Novice 11'!$AB$31)","v":""},{"$f":"IF(A21=0,\"\",'Novice 11'!$AB$32)","v":""},null,"","",{"$f":"IF($AB21=\"\",\"\",(VLOOKUP($AE$42,Worksheet!$A$11:$AE$41,AE21+1,FALSE)))","v":""},"",null,"","",""]
[{"$f":"'Entry Information'!B22","v":0},{"$f":"'Entry Information'!H22","v":0},{"$f":"'Entry Information'!I22","v":0},{"$f":"'Entry Information'!J22","v":0},"NOV",{"$f":"('Novice 12'!$D$31)","v":""},null,"","",{"$f":"IF($F22=\"\",\"\",(VLOOKUP($I$42,Worksheet!$A$11:$AE$41,I22+1,FALSE)))","v":""},{"$f":"('Novice 12'!$J$31)","v":""},null,"","",{"$f":"IF($K22=\"\",\"\",(VLOOKUP($N$42,Worksheet!$A$11:$AE$41,N22+1,FALSE)))","v":""},{"$f":"'Novice 12'!$P$31","v":""},null,"","",{"$f":"IF($P22=\"\",\"\",(VLOOKUP($S$42,Worksheet!$A$11:$AE$41,S22+1,FALSE)))","v":""},{"$f":"IF($A22=0,\"\",'Novice 12'!$V$31)","v":""},null,"","",{"$f":"IF($U22=\"\",\"\",(VLOOKUP($X$42,Worksheet!$A$11:$AE$41,X22+1,FALSE)))","v":""},{"$f":"IF(A22=0,\"\",'Novice 12'!$AB$28)","v":""},{"$f":"IF(A22=0,\"\",'Novice 12'!$AB$31)","v":""},{"$f":"IF(A22=0,\"\",'Novice 12'!$AB$32)","v":""},null,"","",{"$f":"IF($AB22=\"\",\"\",(VLOOKUP($AE$42,Worksheet!$A$11:$AE$41,AE22+1,FALSE)))","v":""},"",null,"","",""]
[{"$f":"'Entry Information'!B23","v":0},{"$f":"'Entry Information'!H23","v":0},{"$f":"'Entry Information'!I23","v":0},{"$f":"'Entry Information'!J23","v":0},"NOV",{"$f":"('Novice 13'!$D$31)","v":""},null,"","",{"$f":"IF($F23=\"\",\"\",(VLOOKUP($I$42,Worksheet!$A$11:$AE$41,I23+1,FALSE)))","v":""},{"$f":"('Novice 13'!$J$31)","v":""},null,"","",{"$f":"IF($K23=\"\",\"\",(VLOOKUP($N$42,Worksheet!$A$11:$AE$41,N23+1,FALSE)))","v":""},{"$f":"'Novice 13'!$P$31","v":""},null,"","",{"$f":"IF($P23=\"\",\"\",(VLOOKUP($S$42,Worksheet!$A$11:$AE$41,S23+1,FALSE)))","v":""},{"$f":"IF(A23=0,\"\",'Novice 13'!$V$31)","v":""},null,"","",{"$f":"IF($U23=\"\",\"\",(VLOOKUP($X$42,Worksheet!$A$11:$AE$41,X23+1,FALSE)))","v":""},{"$f":"IF(A23=0,\"\",'Novice 13'!$AB$28)","v":""},{"$f":"IF(A23=0,\"\",'Novice 13'!$AB$31)","v":""},{"$f":"IF(A23=0,\"\",'Novice 13'!$AB$32)","v":""},null,"","",{"$f":"IF($AB23=\"\",\"\",(VLOOKUP($AE$42,Worksheet!$A$11:$AE$41,AE23+1,FALSE)))","v":""},"",null,"","",""]
[{"$f":"'Entry Information'!B24","v":0},{"$f":"'Entry Information'!H24","v":0},{"$f":"'Entry Information'!I24","v":0},{"$f":"'Entry Information'!J24","v":0},"NOV",{"$f":"('Novice 14'!$D$31)","v":""},null,"","",{"$f":"IF($F24=\"\",\"\",(VLOOKUP($I$42,Worksheet!$A$11:$AE$41,I24+1,FALSE)))","v":""},{"$f":"('Novice 14'!$J$31)","v":""},null,"","",{"$f":"IF($K24=\"\",\"\",(VLOOKUP($N$42,Worksheet!$A$11:$AE$41,N24+1,FALSE)))","v":""},{"$f":"'Novice 14'!$P$31","v":""},null,"","",{"$f":"IF($P24=\"\",\"\",(VLOOKUP($S$42,Worksheet!$A$11:$AE$41,S24+1,FALSE)))","v":""},{"$f":"IF(A24=0,\"\",'Novice 14'!$V$31)","v":""},null,"","",{"$f":"IF($U24=\"\",\"\",(VLOOKUP($X$42,Worksheet!$A$11:$AE$41,X24+1,FALSE)))","v":""},{"$f":"IF(A24=0,\"\",'Novice 14'!$AB$28)","v":""},{"$f":"IF(A24=0,\"\",'Novice 14'!$AB$31)","v":""},{"$f":"IF(A24=0,\"\",'Novice 14'!$AB$32)","v":""},null,"","",{"$f":"IF($AB24=\"\",\"\",(VLOOKUP($AE$42,Worksheet!$A$11:$AE$41,AE24+1,FALSE)))","v":""},"",null,"","",""]
[{"$f":"'Entry Information'!B25","v":0},{"$f":"'Entry Information'!H25","v":0},{"$f":"'Entry Information'!I25","v":0},{"$f":"'Entry Information'!J25","v":0},"NOV",{"$f":"('Novice 15'!$D$31)","v":""},null,"","",{"$f":"IF($F25=\"\",\"\",(VLOOKUP($I$42,Worksheet!$A$11:$AE$41,I25+1,FALSE)))","v":""},{"$f":"('Novice 15'!$J$31)","v":""},null,"","",{"$f":"IF($K25=\"\",\"\",(VLOOKUP($N$42,Worksheet!$A$11:$AE$41,N25+1,FALSE)))","v":""},{"$f":"'Novice 15'!$P$31","v":""},null,"","",{"$f":"IF($P25=\"\",\"\",(VLOOKUP($S$42,Worksheet!$A$11:$AE$41,S25+1,FALSE)))","v":""},{"$f":"IF(A25=0,\"\",'Novice 15'!$V$31)","v":""},null,"","",{"$f":"IF($U25=\"\",\"\",(VLOOKUP($X$42,Worksheet!$A$11:$AE$41,X25+1,FALSE)))","v":""},{"$f":"IF(A25=0,\"\",'Novice 15'!$AB$28)","v":""},{"$f":"IF(A25=0,\"\",'Novice 15'!$AB$31)","v":""},{"$f":"IF(A25=0,\"\",'Novice 15'!$AB$32)","v":""},null,"","",{"$f":"IF($AB25=\"\",\"\",(VLOOKUP($AE$42,Worksheet!$A$11:$AE$41,AE25+1,FALSE)))","v":""},"",null,"","",""]
[{"$f":"'Entry Information'!B26","v":0},{"$f":"'Entry Information'!H26","v":0},{"$f":"'Entry Information'!I26","v":0},{"$f":"'Entry Information'!J26","v":0},"NOV",{"$f":"('Novice 16'!$D$31)","v":""},null,"","",{"$f":"IF($F26=\"\",\"\",(VLOOKUP($I$42,Worksheet!$A$11:$AE$41,I26+1,FALSE)))","v":""},{"$f":"('Novice 16'!$J$31)","v":""},null,"","",{"$f":"IF($K26=\"\",\"\",(VLOOKUP($N$42,Worksheet!$A$11:$AE$41,N26+1,FALSE)))","v":""},{"$f":"'Novice 16'!$P$31","v":""},null,"","",{"$f":"IF($P26=\"\",\"\",(VLOOKUP($S$42,Worksheet!$A$11:$AE$41,S26+1,FALSE)))","v":""},{"$f":"IF(A26=0,\"\",'Novice 16'!$V$31)","v":""},null,"","",{"$f":"IF($U26=\"\",\"\",(VLOOKUP($X$42,Worksheet!$A$11:$AE$41,X26+1,FALSE)))","v":""},{"$f":"IF(A26=0,\"\",'Novice 16'!$AB$28)","v":""},{"$f":"IF(A26=0,\"\",'Novice 16'!$AB$31)","v":""},{"$f":"IF(A26=0,\"\",'Novice 16'!$AB$32)","v":""},null,"","",{"$f":"IF($AB26=\"\",\"\",(VLOOKUP($AE$42,Worksheet!$A$11:$AE$41,AE26+1,FALSE)))","v":""},"",null,"","",""]
[{"$f":"'Entry Information'!B27","v":0},{"$f":"'Entry Information'!H27","v":0},{"$f":"'Entry Information'!I27","v":0},{"$f":"'Entry Information'!J27","v":0},"NOV",{"$f":"('Novice 17'!$D$31)","v":""},null,"","",{"$f":"IF($F27=\"\",\"\",(VLOOKUP($I$42,Worksheet!$A$11:$AE$41,I27+1,FALSE)))","v":""},{"$f":"('Novice 17'!$J$31)","v":""},null,"","",{"$f":"IF($K27=\"\",\"\",(VLOOKUP($N$42,Worksheet!$A$11:$AE$41,N27+1,FALSE)))","v":""},{"$f":"'Novice 17'!$P$31","v":""},null,"","",{"$f":"IF($P27=\"\",\"\",(VLOOKUP($S$42,Worksheet!$A$11:$AE$41,S27+1,FALSE)))","v":""},{"$f":"IF(A27=0,\"\",'Novice 17'!$V$31)","v":""},null,"","",{"$f":"IF($U27=\"\",\"\",(VLOOKUP($X$42,Worksheet!$A$11:$AE$41,X27+1,FALSE)))","v":""},{"$f":"IF(A27=0,\"\",'Novice 17'!$AB$28)","v":""},{"$f":"IF(A27=0,\"\",'Novice 17'!$AB$31)","v":""},{"$f":"IF(A27=0,\"\",'Novice 17'!$AB$32)","v":""},null,"","",{"$f":"IF($AB27=\"\",\"\",(VLOOKUP($AE$42,Worksheet!$A$11:$AE$41,AE27+1,FALSE)))","v":""},"",null,"","",""]
[{"$f":"'Entry Information'!B28","v":0},{"$f":"'Entry Information'!H28","v":0},{"$f":"'Entry Information'!I28","v":0},{"$f":"'Entry Information'!J28","v":0},"NOV",{"$f":"('Novice 18'!$D$31)","v":""},null,"","",{"$f":"IF($F28=\"\",\"\",(VLOOKUP($I$42,Worksheet!$A$11:$AE$41,I28+1,FALSE)))","v":""},{"$f":"('Novice 18'!$J$31)","v":""},null,"","",{"$f":"IF($K28=\"\",\"\",(VLOOKUP($N$42,Worksheet!$A$11:$AE$41,N28+1,FALSE)))","v":""},{"$f":"'Novice 18'!$P$31","v":""},null,"","",{"$f":"IF($P28=\"\",\"\",(VLOOKUP($S$42,Worksheet!$A$11:$AE$41,S28+1,FALSE)))","v":""},{"$f":"IF(A28=0,\"\",'Novice 18'!$V$31)","v":""},null,"","",{"$f":"IF($U28=\"\",\"\",(VLOOKUP($X$42,Worksheet!$A$11:$AE$41,X28+1,FALSE)))","v":""},{"$f":"IF(A28=0,\"\",'Novice 18'!$AB$28)","v":""},{"$f":"IF(A28=0,\"\",'Novice 18'!$AB$31)","v":""},{"$f":"IF(A28=0,\"\",'Novice 18'!$AB$32)","v":""},null,"","",{"$f":"IF($AB28=\"\",\"\",(VLOOKUP($AE$42,Worksheet!$A$11:$AE$41,AE28+1,FALSE)))","v":""},"",null,"","",""]
[{"$f":"'Entry Information'!B29","v":0},{"$f":"'Entry Information'!H29","v":0},{"$f":"'Entry Information'!I29","v":0},{"$f":"'Entry Information'!J29","v":0},"NOV",{"$f":"('Novice 19'!$D$31)","v":""},null,"","",{"$f":"IF($F29=\"\",\"\",(VLOOKUP($I$42,Worksheet!$A$11:$AE$41,I29+1,FALSE)))","v":""},{"$f":"('Novice 19'!$J$31)","v":""},null,"","",{"$f":"IF($K29=\"\",\"\",(VLOOKUP($N$42,Worksheet!$A$11:$AE$41,N29+1,FALSE)))","v":""},{"$f":"'Novice 19'!$P$31","v":""},null,"","",{"$f":"IF($P29=\"\",\"\",(VLOOKUP($S$42,Worksheet!$A$11:$AE$41,S29+1,FALSE)))","v":""},{"$f":"IF(A29=0,\"\",'Novice 19'!$V$31)","v":""},null,"","",{"$f":"IF($U29=\"\",\"\",(VLOOKUP($X$42,Worksheet!$A$11:$AE$41,X29+1,FALSE)))","v":""},{"$f":"IF(A29=0,\"\",'Novice 19'!$AB$28)","v":""},{"$f":"IF(A29=0,\"\",'Novice 19'!$AB$31)","v":""},{"$f":"IF(A29=0,\"\",'Novice 19'!$AB$32)","v":""},null,{"$f":"IF(AC29=\"\",AB29,(AB29+(AC29*0.001)))","v":""},"",{"$f":"IF($AB29=\"\",\"\",(VLOOKUP($AE$42,Worksheet!$A$11:$AE$41,AE29+1,FALSE)))","v":""},"",null,"","",""]
[{"$f":"'Entry Information'!B30","v":0},{"$f":"'Entry Information'!H30","v":0},{"$f":"'Entry Information'!I30","v":0},{"$f":"'Entry Information'!J30","v":0},"NOV",{"$f":"('Novice 20'!$D$31)","v":""},null,"","",{"$f":"IF($F30=\"\",\"\",(VLOOKUP($I$42,Worksheet!$A$11:$AE$41,I30+1,FALSE)))","v":""},{"$f":"('Novice 20'!$J31)","v":""},null,"","",{"$f":"IF($K30=\"\",\"\",(VLOOKUP($N$42,Worksheet!$A$11:$AE$41,N30+1,FALSE)))","v":""},{"$f":"'Novice 20'!$P$31","v":""},null,"","",{"$f":"IF($P30=\"\",\"\",(VLOOKUP($S$42,Worksheet!$A$11:$AE$41,S30+1,FALSE)))","v":""},{"$f":"IF(A30=0,\"\",'Novice 20'!$V$31)","v":""},null,"","",{"$f":"IF($U30=\"\",\"\",(VLOOKUP($X$42,Worksheet!$A$11:$AE$41,X30+1,FALSE)))","v":""},{"$f":"IF(A30=0,\"\",'Novice 20'!$AB$28)","v":""},{"$f":"IF(A30=0,\"\",'Novice 20'!$AB$31)","v":""},{"$f":"IF(A30=0,\"\",'Novice 20'!$AB$32)","v":""},null,"","",{"$f":"IF($AB30=\"\",\"\",(VLOOKUP($AE$42,Worksheet!$A$11:$AE$41,AE30+1,FALSE)))","v":""},"",null,"","",""]
[{"$f":"'Entry Information'!B31","v":0},{"$f":"'Entry Information'!H31","v":0},{"$f":"'Entry Information'!I31","v":0},{"$f":"'Entry Information'!J31","v":0},"NOV",{"$f":"('Novice 21'!$D$31)","v":""},null,"","",{"$f":"IF($F31=\"\",\"\",(VLOOKUP($I$42,Worksheet!$A$11:$AE$41,I31+1,FALSE)))","v":""},{"$f":"('Novice 21'!$J$31)","v":""},null,"","",{"$f":"IF($K31=\"\",\"\",(VLOOKUP($N$42,Worksheet!$A$11:$AE$41,N31+1,FALSE)))","v":""},{"$f":"'Novice 21'!$P$31","v":""},null,"","",{"$f":"IF($P31=\"\",\"\",(VLOOKUP($S$42,Worksheet!$A$11:$AE$41,S31+1,FALSE)))","v":""},{"$f":"IF(A31=0,\"\",'Novice 21'!$V$31)","v":""},null,"","",{"$f":"IF($U31=\"\",\"\",(VLOOKUP($X$42,Worksheet!$A$11:$AE$41,X31+1,FALSE)))","v":""},{"$f":"IF(A31=0,\"\",'Novice 21'!$AB$28)","v":""},{"$f":"IF(A31=0,\"\",'Novice 21'!$AB$31)","v":""},{"$f":"IF(A31=0,\"\",'Novice 21'!$AB$32)","v":""},null,"","",{"$f":"IF($AB31=\"\",\"\",(VLOOKUP($AE$42,Worksheet!$A$11:$AE$41,AE31+1,FALSE)))","v":""},"",null,"","",""]
[{"$f":"'Entry Information'!B32","v":0},{"$f":"'Entry Information'!H32","v":0},{"$f":"'Entry Information'!I32","v":0},{"$f":"'Entry Information'!J32","v":0},"NOV",{"$f":"('Novice 22'!$D$31)","v":""},null,"","",{"$f":"IF($F32=\"\",\"\",(VLOOKUP($I$42,Worksheet!$A$11:$AE$41,I32+1,FALSE)))","v":""},{"$f":"('Novice 22'!$J$31)","v":""},null,"","",{"$f":"IF($K32=\"\",\"\",(VLOOKUP($N$42,Worksheet!$A$11:$AE$41,N32+1,FALSE)))","v":""},{"$f":"'Novice 22'!$P$31","v":""},null,"","",{"$f":"IF($P32=\"\",\"\",(VLOOKUP($S$42,Worksheet!$A$11:$AE$41,S32+1,FALSE)))","v":""},{"$f":"IF(A32=0,\"\",'Novice 22'!$V$31)","v":""},null,"","",{"$f":"IF($U32=\"\",\"\",(VLOOKUP($X$42,Worksheet!$A$11:$AE$41,X32+1,FALSE)))","v":""},{"$f":"IF(A32=0,\"\",'Novice 22'!$AB$28)","v":""},{"$f":"IF(A32=0,\"\",'Novice 22'!$AB$31)","v":""},{"$f":"IF(A32=0,\"\",'Novice 22'!$AB$32)","v":""},null,"","",{"$f":"IF($AB32=\"\",\"\",(VLOOKUP($AE$42,Worksheet!$A$11:$AE$41,AE32+1,FALSE)))","v":""},"",null,"","",""]
[{"$f":"'Entry Information'!B33","v":0},{"$f":"'Entry Information'!H33","v":0},{"$f":"'Entry Information'!I33","v":0},{"$f":"'Entry Information'!J33","v":0},"NOV",{"$f":"('Novice 23'!$D$31)","v":""},null,"","",{"$f":"IF($F33=\"\",\"\",(VLOOKUP($I$42,Worksheet!$A$11:$AE$41,I33+1,FALSE)))","v":""},{"$f":"('Novice 23'!$J$31)","v":""},null,"","",{"$f":"IF($K33=\"\",\"\",(VLOOKUP($N$42,Worksheet!$A$11:$AE$41,N33+1,FALSE)))","v":""},{"$f":"'Novice 23'!$P$31","v":""},null,"","",{"$f":"IF($P33=\"\",\"\",(VLOOKUP($S$42,Worksheet!$A$11:$AE$41,S33+1,FALSE)))","v":""},{"$f":"IF(A33=0,\"\",'Novice 23'!$V$31)","v":""},null,"","",{"$f":"IF($U33=\"\",\"\",(VLOOKUP($X$42,Worksheet!$A$11:$AE$41,X33+1,FALSE)))","v":""},{"$f":"IF(A33=0,\"\",'Novice 23'!$AB$28)","v":""},{"$f":"IF(A33=0,\"\",'Novice 23'!$AB$31)","v":""},{"$f":"IF(A33=0,\"\",'Novice 23'!$AB$32)","v":""},null,"","",{"$f":"IF($AB33=\"\",\"\",(VLOOKUP($AE$42,Worksheet!$A$11:$AE$41,AE33+1,FALSE)))","v":""},"",null,"","",""]
[{"$f":"'Entry Information'!B34","v":0},{"$f":"'Entry Information'!H34","v":0},{"$f":"'Entry Information'!I34","v":0},{"$f":"'Entry Information'!J34","v":0},"NOV",{"$f":"('Novice 24'!$D$31)","v":""},null,"","",{"$f":"IF($F34=\"\",\"\",(VLOOKUP($I$42,Worksheet!$A$11:$AE$41,I34+1,FALSE)))","v":""},{"$f":"('Novice 24'!$J$31)","v":""},null,"","",{"$f":"IF($K34=\"\",\"\",(VLOOKUP($N$42,Worksheet!$A$11:$AE$41,N34+1,FALSE)))","v":""},{"$f":"'Novice 24'!$P$31","v":""},null,"","",{"$f":"IF($P34=\"\",\"\",(VLOOKUP($S$42,Worksheet!$A$11:$AE$41,S34+1,FALSE)))","v":""},{"$f":"IF(A34=0,\"\",'Novice 24'!$V$31)","v":""},null,"","",{"$f":"IF($U34=\"\",\"\",(VLOOKUP($X$42,Worksheet!$A$11:$AE$41,X34+1,FALSE)))","v":""},{"$f":"IF(A34=0,\"\",'Novice 24'!$AB$28)","v":""},{"$f":"IF(A34=0,\"\",'Novice 24'!$AB$31)","v":""},{"$f":"IF(A34=0,\"\",'Novice 24'!$AB$32)","v":""},null,"","",{"$f":"IF($AB34=\"\",\"\",(VLOOKUP($AE$42,Worksheet!$A$11:$AE$41,AE34+1,FALSE)))","v":""},"",null,"","",""]
[{"$f":"'Entry Information'!B35","v":0},{"$f":"'Entry Information'!H35","v":0},{"$f":"'Entry Information'!I35","v":0},{"$f":"'Entry Information'!J35","v":0},"NOV",{"$f":"('Novice 25'!$D$31)","v":""},null,"","",{"$f":"IF($F35=\"\",\"\",(VLOOKUP($I$42,Worksheet!$A$11:$AE$41,I35+1,FALSE)))","v":""},{"$f":"('Novice 25'!$J$31)","v":""},null,"","",{"$f":"IF($K35=\"\",\"\",(VLOOKUP($N$42,Worksheet!$A$11:$AE$41,N35+1,FALSE)))","v":""},{"$f":"'Novice 25'!$P$31","v":""},null,"","",{"$f":"IF($P35=\"\",\"\",(VLOOKUP($S$42,Worksheet!$A$11:$AE$41,S35+1,FALSE)))","v":""},{"$f":"IF(A35=0,\"\",'Novice 25'!$V$31)","v":""},null,"","",{"$f":"IF($U35=\"\",\"\",(VLOOKUP($X$42,Worksheet!$A$11:$AE$41,X35+1,FALSE)))","v":""},{"$f":"IF(A35=0,\"\",'Novice 25'!$AB$28)","v":""},{"$f":"IF(A35=0,\"\",'Novice 25'!$AB$31)","v":""},{"$f":"IF(A35=0,\"\",'Novice 25'!$AB$32)","v":""},null,"","",{"$f":"IF($AB35=\"\",\"\",(VLOOKUP($AE$42,Worksheet!$A$11:$AE$41,AE35+1,FALSE)))","v":""},"",null,"","",""]
[{"$f":"'Entry Information'!B36","v":0},{"$f":"'Entry Information'!H36","v":0},{"$f":"'Entry Information'!I36","v":0},{"$f":"'Entry Information'!J36","v":0},"NOV",{"$f":"('Novice 26'!$D$31)","v":""},null,"","",{"$f":"IF($F36=\"\",\"\",(VLOOKUP($I$42,Worksheet!$A$11:$AE$41,I36+1,FALSE)))","v":""},{"$f":"('Novice 26'!$J$31)","v":""},null,"","",{"$f":"IF($K36=\"\",\"\",(VLOOKUP($N$42,Worksheet!$A$11:$AE$41,N36+1,FALSE)))","v":""},{"$f":"'Novice 26'!$P$31","v":""},null,"","",{"$f":"IF($P36=\"\",\"\",(VLOOKUP($S$42,Worksheet!$A$11:$AE$41,S36+1,FALSE)))","v":""},{"$f":"IF(A36=0,\"\",'Novice 26'!$V$31)","v":""},null,"","",{"$f":"IF($U36=\"\",\"\",(VLOOKUP($X$42,Worksheet!$A$11:$AE$41,X36+1,FALSE)))","v":""},{"$f":"IF(A36=0,\"\",'Novice 26'!$AB$28)","v":""},{"$f":"IF(A36=0,\"\",'Novice 26'!$AB$31)","v":""},{"$f":"IF(A36=0,\"\",'Novice 26'!$AB$32)","v":""},null,"","",{"$f":"IF($AB36=\"\",\"\",(VLOOKUP($AE$42,Worksheet!$A$11:$AE$41,AE36+1,FALSE)))","v":""},"",null,"","",""]
[{"$f":"'Entry Information'!B37","v":0},{"$f":"'Entry Information'!H37","v":0},{"$f":"'Entry Information'!I37","v":0},{"$f":"'Entry Information'!J37","v":0},"NOV",{"$f":"('Novice 27'!$D$31)","v":""},null,"","",{"$f":"IF($F37=\"\",\"\",(VLOOKUP($I$42,Worksheet!$A$11:$AE$41,I37+1,FALSE)))","v":""},{"$f":"('Novice 27'!$J$31)","v":""},null,"","",{"$f":"IF($K37=\"\",\"\",(VLOOKUP($N$42,Worksheet!$A$11:$AE$41,N37+1,FALSE)))","v":""},{"$f":"'Novice 27'!$P$31","v":""},null,"","",{"$f":"IF($P37=\"\",\"\",(VLOOKUP($S$42,Worksheet!$A$11:$AE$41,S37+1,FALSE)))","v":""},{"$f":"IF(A37=0,\"\",'Novice 27'!$V$31)","v":""},null,"","",{"$f":"IF($U37=\"\",\"\",(VLOOKUP($X$42,Worksheet!$A$11:$AE$41,X37+1,FALSE)))","v":""},{"$f":"IF(A37=0,\"\",'Novice 27'!$AB$28)","v":""},{"$f":"IF(A37=0,\"\",'Novice 27'!$AB$31)","v":""},{"$f":"IF(A37=0,\"\",'Novice 27'!$AB$32)","v":""},null,"","",{"$f":"IF($AB37=\"\",\"\",(VLOOKUP($AE$42,Worksheet!$A$11:$AE$41,AE37+1,FALSE)))","v":""},"",null,"","",""]
[{"$f":"'Entry Information'!B38","v":0},{"$f":"'Entry Information'!H38","v":0},{"$f":"'Entry Information'!I38","v":0},{"$f":"'Entry Information'!J38","v":0},"NOV",{"$f":"('Novice 28'!$D$31)","v":""},null,"","",{"$f":"IF($F38=\"\",\"\",(VLOOKUP($I$42,Worksheet!$A$11:$AE$41,I38+1,FALSE)))","v":""},{"$f":"('Novice 28'!$J$31)","v":""},null,"","",{"$f":"IF($K38=\"\",\"\",(VLOOKUP($N$42,Worksheet!$A$11:$AE$41,N38+1,FALSE)))","v":""},{"$f":"'Novice 28'!$P$31","v":""},null,"","",{"$f":"IF($P38=\"\",\"\",(VLOOKUP($S$42,Worksheet!$A$11:$AE$41,S38+1,FALSE)))","v":""},{"$f":"IF(A38=0,\"\",'Novice 28'!$V$31)","v":""},null,"","",{"$f":"IF($U38=\"\",\"\",(VLOOKUP($X$42,Worksheet!$A$11:$AE$41,X38+1,FALSE)))","v":""},{"$f":"IF(A38=0,\"\",'Novice 28'!$AB$28)","v":""},{"$f":"IF(A38=0,\"\",'Novice 28'!$AB$31)","v":""},{"$f":"IF(A38=0,\"\",'Novice 28'!$AB$32)","v":""},null,"","",{"$f":"IF($AB38=\"\",\"\",(VLOOKUP($AE$42,Worksheet!$A$11:$AE$41,AE38+1,FALSE)))","v":""},"",null,"","",""]
[{"$f":"'Entry Information'!B39","v":0},{"$f":"'Entry Information'!H39","v":0},{"$f":"'Entry Information'!I39","v":0},{"$f":"'Entry Information'!J39","v":0},"NOV",{"$f":"('Novice 29'!$D$31)","v":""},null,"","",{"$f":"IF($F39=\"\",\"\",(VLOOKUP($I$42,Worksheet!$A$11:$AE$41,I39+1,FALSE)))","v":""},{"$f":"('Novice 29'!$J$31)","v":""},null,"","",{"$f":"IF($K39=\"\",\"\",(VLOOKUP($N$42,Worksheet!$A$11:$AE$41,N39+1,FALSE)))","v":""},{"$f":"'Novice 29'!$P$31","v":""},null,"","",{"$f":"IF($P39=\"\",\"\",(VLOOKUP($S$42,Worksheet!$A$11:$AE$41,S39+1,FALSE)))","v":""},{"$f":"IF(A39=0,\"\",'Novice 29'!$V$31)","v":""},null,"","",{"$f":"IF($U39=\"\",\"\",(VLOOKUP($X$42,Worksheet!$A$11:$AE$41,X39+1,FALSE)))","v":""},{"$f":"IF(A39=0,\"\",'Novice 29'!$AB$28)","v":""},{"$f":"IF(A39=0,\"\",'Novice 29'!$AB$31)","v":""},{"$f":"IF(A39=0,\"\",'Novice 29'!$AB$32)","v":""},null,"","",{"$f":"IF($AB39=\"\",\"\",(VLOOKUP($AE$42,Worksheet!$A$11:$AE$41,AE39+1,FALSE)))","v":""},"",null,"","",""]
[{"$f":"'Entry Information'!B40","v":0},{"$f":"'Entry Information'!H40","v":0},{"$f":"'Entry Information'!I40","v":0},{"$f":"'Entry Information'!J40","v":0},"NOV",{"$f":"('Novice 30'!$D$31)","v":""},null,"","",{"$f":"IF($F40=\"\",\"\",(VLOOKUP($I$42,Worksheet!$A$11:$AE$41,I40+1,FALSE)))","v":""},{"$f":"('Novice 30'!$J$31)","v":""},null,"","",{"$f":"IF($K40=\"\",\"\",(VLOOKUP($N$42,Worksheet!$A$11:$AE$41,N40+1,FALSE)))","v":""},{"$f":"'Novice 30'!$P$31","v":""},null,"","",{"$f":"IF($P40=\"\",\"\",(VLOOKUP($S$42,Worksheet!$A$11:$AE$41,S40+1,FALSE)))","v":""},{"$f":"IF(A40=0,\"\",'Novice 30'!$V$31)","v":""},null,"","",{"$f":"IF($U40=\"\",\"\",(VLOOKUP($X$42,Worksheet!$A$11:$AE$41,X40+1,FALSE)))","v":""},{"$f":"IF(A40=0,\"\",'Novice 30'!$AB$28)","v":""},{"$f":"IF(A40=0,\"\",'Novice 30'!$AB$31)","v":""},{"$f":"IF(A40=0,\"\",'Novice 30'!$AB$32)","v":""},null,{"$f":"IF(AC40=\"\",AB40,(AB40+(AC40*0.001)))","v":""},"",{"$f":"IF($AB40=\"\",\"\",(VLOOKUP($AE$42,Worksheet!$A$11:$AE$41,AE40+1,FALSE)))","v":""},"",null,"","",""]
[]
[null,null,null,null,null,null,null,null,{"$f":"COUNTIF(I11:I40,\">=0\")","v":9},null,null,null,null,{"$f":"COUNTIF(N11:N40,\">=0\")","v":9},null,null,null,null,{"$f":"COUNTIF(S11:S40,\">=0\")","v":9},null,null,null,null,{"$f":"COUNTIF(X11:X40,\">=0\")","v":9},null,null,null,null,null,null,{"$f":"COUNTIF(AE11:AE40,\">=0\")","v":9}]
[null,null,null,"Tie  Breakers = ",null,"1 - Extended Trot",null,null,null,null,"1 - Box Cow",null,null,null,null,"1 - Penning",null,null,null,null,"1 - Drag log",null,null,null,null,"1- Structural Correctness",null,null,null,null,null,null,"Working Ranch Score "]
[null,null,null,null,null,"2 - Transition down lope/walk/stop",null,null,null,null,"2 -First Lead Change",null,null,null,null,"2 - Working Center of arena",null,null,null,null,"2 - Ground tie/bridle/pick-up legs",null,null,null,null,"2 - Balance",null,null,null,null,null,null,"and then use WR Tie-Breakers"]
[null,null,null,null,null,"3 - Transition to lope/lope",null,null,null,null,"3 -Spin",null,null,null,null,"3 -Cut from Herd",null,null,null,null,"3 - Gate",null,null,null,null,"3 - Ranch Cutting"]

{"sheet":"LIMITED RESULTS (2)","index":4,"n_rows":30,"n_cols":37,"rows_kept":30,"cut":false,"hidden":false,"merged":[[29,25,29,27],[1,31,1,36],[2,1,2,2],[2,4,2,5],[2,8,2,10],[2,18,2,19],[2,20,2,26],[2,27,2,30],[2,31,2,36],[1,0,1,2],[1,4,1,5],[1,8,1,14],[1,18,1,19],[1,20,1,26],[1,27,1,30],[6,5,6,9],[6,10,6,14],[6,15,6,19],[6,20,6,24],[6,26,6,31],[5,5,5,9],[5,10,5,14],[5,15,5,19],[5,20,5,24],[5,26,5,31]]}
[]
[null,null,null,null,"Event Name:",null,null,null,{"$f":"'Entry Information'!H4","v":"The Horse First Farm, Brooklyn, WI"},null,null,null,null,null,null,null,null,null,"Judges Name:",null,{"$f":"'Entry Information'!K4","v":"Dave Currin"},null,null,null,null,null,null,"Classes Judged?",null,null,null,{"$f":"'Entry Information'!O4","v":"CN, RR, RT"}]
["Division:","LIMITED",null,null,"Event Date:",null,null,null,{"$f":"'Entry Information'!H5","v":"June 28-29,2014"},null,null,null,null,null,null,null,null,null,"Judges Name:",null,{"$f":"'Entry Information'!K5","v":"Jeff Barnes"},null,null,null,null,null,null,"Classes Judged?",null,null,null,{"$f":"'Entry Information'!O5","v":"WR, RC"}]
[]
[1,2,3,4,5,6,7,null,8,9,10,11,null,12,13,14,15,null,16,17,18,19,null,20,21,22,23,24,25,null,26,27,28,29,null,30,31]
[null,null,null,null,null,"Ranch",null,null,null,null,"Working",null,null,null,null,"Ranch",null,null,null,null,"Ranch ",null,null,null,null,null,"Ranch",null,null,null,null,null,"Total",null,"Adjusted ","Event ","Event"]
[null,null,null,null,null,"Riding",null,null,null,null,"Ranch",null,null,null,null,"Cutting",null,null,null,null,"Trail",null,null,null,null,null,"Conformation",null,null,null,null,null,"Placement","Tie ","Placement","All","Total"]
[null,null,null,null,null,"Score","Tie ","Adjusted","Place","Place-","Score","Tie ","Adjusted","Place","Place-","Score","Tie ","Adjusted","Place","Place-","Score","Tie ","Adjusted","Place","Place-","Judges","Function ","TOTAL","Tie ","Adjusted","Place","Place-","Points","Breaker","Points","Around","Score"]
[null,null,null,null,null,null,"Breaker","Score",null,"ment",null,"Breaker","Score",null,"ment",null,"Breaker","Score",null,"ment",null,"Breaker","Score",null,"ment","Score","Score","SCORE","Breaker","Score",null,"ment"]
["Back No.","Last Name","First Name","Registered Horse Name","Division",null,null,null,null,"Points",null,null,null,null,"Points",null,null,null,null,"Points",null,null,null,null,"Points",null,null,null,null,null,null,"Points"]
[{"$f":"'Entry Information'!B41","v":22},{"$f":"'Entry Information'!H41","v":"Janetka"},{"$f":"'Entry Information'!I41","v":"Gena"},{"$f":"'Entry Information'!J41","v":"Froghorn Leghorn"},"LTD",{"$f":"('Limited 1'!$D$31)","v":75.3},null,{"$f":"IF(G11=\"\",F11,(F11+(G11*0.001)))","v":75.3},{"$f":"IF(H11=\"\",\"\",(RANK(H11,$H$11:$H$25,0)))","v":2},{"$f":"IF($F11=\"\",\"\",(VLOOKUP($I$27,Worksheet!$A$11:$AE$41,I11+1,FALSE)))","v":0},{"$f":"('Limited 1'!$J$31)","v":44.5},null,{"$f":"IF(L11=\"\",K11,(K11+(L11*0.001)))","v":44.5},{"$f":"IF(M11=\"\",\"\",(RANK(M11,$M$11:$M$25,0)))","v":1},{"$f":"IF($K11=\"\",\"\",(VLOOKUP($N$27,Worksheet!$A$11:$AE$41,N11+1,FALSE)))","v":1},{"$f":"('Limited 1'!$P$31)","v":68},null,{"$f":"IF(Q11=\"\",P11,(P11+(Q11*0.001)))","v":68},{"$f":"IF(R11=\"\",\"\",(RANK(R11,$R$11:$R$25,0)))","v":2},{"$f":"IF($P11=\"\",\"\",(VLOOKUP($S$27,Worksheet!$A$11:$AE$41,S11+1,FALSE)))","v":0},{"$f":"IF(A11=0,\"\",'Limited 1'!$V$31)","v":62},null,{"$f":"IF(V11=\"\",U11,(U11+(V11*0.001)))","v":62},{"$f":"IF(W11=\"\",\"\",(RANK(W11,$W$11:$W$25,0)))","v":2},{"$f":"IF($U11=\"\",\"\",(VLOOKUP($X$27,Worksheet!$A$11:$AE$41,X11+1,FALSE)))","v":0},{"$f":"IF(AB11=\"\",\"\",'Limited 1'!$AB$28)","v":43.98},{"$f":"IF(AB11=\"\",\"\",'Limited 1'!$AB$31)","v":24.980000000000004},{"$f":"IF(A11=0,\"\",'Limited 1'!$AB$32)","v":68.960000000000008},null,{"$f":"IF(AC11=\"\",AB11,(AB11+(AC11*0.001)))","v":68.960000000000008},{"$f":"IF(AD11=\"\",\"\",(RANK(AD11,$AD$11:$AD$25,0)))","v":1},{"$f":"IF($AB11=\"\",\"\",(VLOOKUP($AE$27,Worksheet!$A$11:$AE$41,AE11+1,FALSE)))","v":1},{"$f":"IF(A11=0,\"\",(SUM($J11,$O11,$T11,$Y11,$AF11)))","v":2},null,{"$f":"IF(AH11=\"\",AG11,(AG11+(AH11*0.001)))","v":2},{"$f":"IF(AI11=\"\",\"\",(RANK(AI11,$AI$11:$AI$25,0)))","v":2},{"$f":"IF(A11=0,\"\",(SUM(F11,K11,P11,U11,AB11)))","v":318.76}]
[{"$f":"'Entry Information'!B42","v":40},{"$f":"'Entry Information'!H42","v":"Siitari"},{"$f":"'Entry Information'!I42","v":"Steph"},{"$f":"'Entry Information'!J42","v":"SLJ Ruby Slippers"},"LTD",{"$f":"('Limited 2'!$D$31)","v":82.3},null,{"$f":"IF(G12=\"\",F12,(F12+(G12*0.001)))","v":82.3},1,{"$f":"IF($F12=\"\",\"\",(VLOOKUP($I$27,Worksheet!$A$11:$AE$41,I12+1,FALSE)))","v":1},{"$f":"('Limited 2'!$J$31)","v":38.5},null,{"$f":"IF(L12=\"\",K12,(K12+(L12*0.001)))","v":38.5},2,{"$f":"IF($K12=\"\",\"\",(VLOOKUP($N$27,Worksheet!$A$11:$AE$41,N12+1,FALSE)))","v":0},{"$f":"'Limited 2'!$P$31","v":74},null,{"$f":"IF(Q12=\"\",P12,(P12+(Q12*0.001)))","v":74},1,{"$f":"IF($P12=\"\",\"\",(VLOOKUP($S$27,Worksheet!$A$11:$AE$41,S12+1,FALSE)))","v":1},{"$f":"IF(A12=0,\"\",'Limited 2'!$V$31)","v":91.5},null,{"$f":"IF(V12=\"\",U12,(U12+(V12*0.001)))","v":91.5},1,{"$f":"IF($U12=\"\",\"\",(VLOOKUP($X$27,Worksheet!$A$11:$AE$41,X12+1,FALSE)))","v":1},{"$f":"IF(AB12=\"\",\"\",'Limited 2'!$AB$28)","v":37.71},{"$f":"IF(AB12=\"\",\"\",'Limited 2'!$AB$31)","v":28.630000000000003},{"$f":"IF(A12=0,\"\",'Limited 2'!$AB$32)","v":66.34},null,66.34,2,{"$f":"IF($AB12=\"\",\"\",(VLOOKUP($AE$27,Worksheet!$A$11:$AE$41,AE12+1,FALSE)))","v":0},3,null,{"$f":"IF(AH12=\"\",AG12,(AG12+(AH12*0.001)))","v":3},1,352.64]
[{"$f":"'Entry Information'!B43","v":0},{"$f":"'Entry Information'!H43","v":0},{"$f":"'Entry Information'!I43","v":0},{"$f":"'Entry Information'!J43","v":0},"LTD",{"$f":"('Limited 3'!$D$31)","v":""},null,"","",{"$f":"IF($F13=\"\",\"\",(VLOOKUP($I$27,Worksheet!$A$11:$AE$41,I13+1,FALSE)))","v":""},{"$f":"('Limited 3'!$J$31)","v":""},null,"","",{"$f":"IF($K13=\"\",\"\",(VLOOKUP($N$27,Worksheet!$A$11:$AE$41,N13+1,FALSE)))","v":""},{"$f":"'Limited 3'!$P$31","v":""},null,"","",{"$f":"IF($P13=\"\",\"\",(VLOOKUP($S$27,Worksheet!$A$11:$AE$41,S13+1,FALSE)))","v":""},{"$f":"IF(A13=0,\"\",'Limited 3'!$V$31)","v":""},null,"","",{"$f":"IF($U13=\"\",\"\",(VLOOKUP($X$27,Worksheet!$A$11:$AE$41,X13+1,FALSE)))","v":""},{"$f":"IF(AB13=\"\",\"\",'Limited 3'!$AB$28)","v":""},{"$f":"IF(AB13=\"\",\"\",'Limited 3'!$AB$31)","v":""},{"$f":"IF(A13=0,\"\",'Limited 3'!$AB$32)","v":""},null,"","",{"$f":"IF($AB13=\"\",\"\",(VLOOKUP($AE$27,Worksheet!$A$11:$AE$41,AE13+1,FALSE)))","v":""},"",null,"","",""]
[{"$f":"'Entry Information'!B44","v":0},{"$f":"'Entry Information'!H44","v":0},{"$f":"'Entry Information'!I44","v":0},{"$f":"'Entry Information'!J44","v":0},"LTD",{"$f":"('Limited 4'!$D$31)","v":""},null,"","",{"$f":"IF($F14=\"\",\"\",(VLOOKUP($I$27,Worksheet!$A$11:$AE$41,I14+1,FALSE)))","v":""},{"$f":"('Limited 4'!$J$31)","v":""},null,"","",{"$f":"IF($K14=\"\",\"\",(VLOOKUP($N$27,Worksheet!$A$11:$AE$41,N14+1,FALSE)))","v":""},{"$f":"'Limited 4'!$P$31","v":""},null,"","",{"$f":"IF($P14=\"\",\"\",(VLOOKUP($S$27,Worksheet!$A$11:$AE$41,S14+1,FALSE)))","v":""},{"$f":"IF(A14=0,\"\",'Limited 4'!$V$31)","v":""},null,"","",{"$f":"IF($U14=\"\",\"\",(VLOOKUP($X$27,Worksheet!$A$11:$AE$41,X14+1,FALSE)))","v":""},{"$f":"IF(AB14=\"\",\"\",'Limited 4'!$AB$28)","v":""},{"$f":"IF(AB14=\"\",\"\",'Limited 4'!$AB$31)","v":""},{"$f":"IF(A14=0,\"\",'Limited 4'!$AB$32)","v":""},null,"","",{"$f":"IF($AB14=\"\",\"\",(VLOOKUP($AE$27,Worksheet!$A$11:$AE$41,AE14+1,FALSE)))","v":""},"",null,"","",""]
[{"$f":"'Entry Information'!B45","v":0},{"$f":"'Entry Information'!H45","v":0},{"$f":"'Entry Information'!I45","v":0},{"$f":"'Entry Information'!J45","v":0},"LTD",{"$f":"('Limited 5'!$D$31)","v":""},null,"","",{"$f":"IF($F15=\"\",\"\",(VLOOKUP($I$27,Worksheet!$A$11:$AE$41,I15+1,FALSE)))","v":""},{"$f":"('Limited 5'!$J$31)","v":""},null,"","",{"$f":"IF($K15=\"\",\"\",(VLOOKUP($N$27,Worksheet!$A$11:$AE$41,N15+1,FALSE)))","v":""},{"$f":"'Limited 5'!$P$31","v":""},null,"","",{"$f":"IF($P15=\"\",\"\",(VLOOKUP($S$27,Worksheet!$A$11:$AE$41,S15+1,FALSE)))","v":""},{"$f":"IF(A15=0,\"\",'Limited 5'!$V$31)","v":""},null,"","",{"$f":"IF($U15=\"\",\"\",(VLOOKUP($X$27,Worksheet!$A$11:$AE$41,X15+1,FALSE)))","v":""},{"$f":"IF(AB15=\"\",\"\",'Limited 5'!$AB$28)","v":""},{"$f":"IF(AB15=\"\",\"\",'Limited 5'!$AB$31)","v":""},{"$f":"IF(A15=0,\"\",'Limited 5'!$AB$32)","v":""},null,"","",{"$f":"IF($AB15=\"\",\"\",(VLOOKUP($AE$27,Worksheet!$A$11:$AE$41,AE15+1,FALSE)))","v":""},"",null,"","",""]
[{"$f":"'Entry Information'!B46","v":0},{"$f":"'Entry Information'!H46","v":0},{"$f":"'Entry Information'!I46","v":0},{"$f":"'Entry Information'!J46","v":0},"LTD",{"$f":"('Limited 6'!$D$31)","v":""},null,"","",{"$f":"IF($F16=\"\",\"\",(VLOOKUP($I$27,Worksheet!$A$11:$AE$41,I16+1,FALSE)))","v":""},{"$f":"('Limited 6'!$J$31)","v":""},null,"","",{"$f":"IF($K16=\"\",\"\",(VLOOKUP($N$27,Worksheet!$A$11:$AE$41,N16+1,FALSE)))","v":""},{"$f":"'Limited 6'!$P$31","v":""},null,"","",{"$f":"IF($P16=\"\",\"\",(VLOOKUP($S$27,Worksheet!$A$11:$AE$41,S16+1,FALSE)))","v":""},{"$f":"IF(A16=0,\"\",'Limited 6'!$V$31)","v":""},null,"","",{"$f":"IF($U16=\"\",\"\",(VLOOKUP($X$27,Worksheet!$A$11:$AE$41,X16+1,FALSE)))","v":""},{"$f":"IF(AB16=\"\",\"\",'Limited 6'!$AB$28)","v":""},{"$f":"IF(AB16=\"\",\"\",'Limited 6'!$AB$31)","v":""},{"$f":"IF(A16=0,\"\",'Limited 6'!$AB$32)","v":""},null,"","",{"$f":"IF($AB16=\"\",\"\",(VLOOKUP($AE$27,Worksheet!$A$11:$AE$41,AE16+1,FALSE)))","v":""},"",null,"","",""]
[{"$f":"'Entry Information'!B47","v":0},{"$f":"'Entry Information'!H47","v":0},{"$f":"'Entry Information'!I47","v":0},{"$f":"'Entry Information'!J47","v":0},"LTD",{"$f":"('Limited 7'!$D$31)","v":""},null,"","",{"$f":"IF($F17=\"\",\"\",(VLOOKUP($I$27,Worksheet!$A$11:$AE$41,I17+1,FALSE)))","v":""},{"$f":"('Limited 7'!$J$31)","v":""},null,"","",{"$f":"IF($K17=\"\",\"\",(VLOOKUP($N$27,Worksheet!$A$11:$AE$41,N17+1,FALSE)))","v":""},{"$f":"'Limited 7'!$P$31","v":""},null,"","",{"$f":"IF($P17=\"\",\"\",(VLOOKUP($S$27,Worksheet!$A$11:$AE$41,S17+1,FALSE)))","v":""},{"$f":"IF(A17=0,\"\",'Limited 7'!$V$31)","v":""},null,"","",{"$f":"IF($U17=\"\",\"\",(VLOOKUP($X$27,Worksheet!$A$11:$AE$41,X17+1,FALSE)))","v":""},{"$f":"IF(AB17=\"\",\"\",'Limited 7'!$AB$28)","v":""},{"$f":"IF(AB17=\"\",\"\",'Limited 7'!$AB$31)","v":""},{"$f":"IF(A17=0,\"\",'Limited 7'!$AB$32)","v":""},null,"","",{"$f":"IF($AB17=\"\",\"\",(VLOOKUP($AE$27,Worksheet!$A$11:$AE$41,AE17+1,FALSE)))","v":""},"",null,"","",""]
[{"$f":"'Entry Information'!B48","v":0},{"$f":"'Entry Information'!H48","v":0},{"$f":"'Entry Information'!I48","v":0},{"$f":"'Entry Information'!J48","v":0},"LTD",{"$f":"('Limited 8'!$D$31)","v":""},null,"","",{"$f":"IF($F18=\"\",\"\",(VLOOKUP($I$27,Worksheet!$A$11:$AE$41,I18+1,FALSE)))","v":""},{"$f":"('Limited 8'!$J$31)","v":""},null,"","",{"$f":"IF($K18=\"\",\"\",(VLOOKUP($N$27,Worksheet!$A$11:$AE$41,N18+1,FALSE)))","v":""},{"$f":"'Limited 8'!$P$31","v":""},null,"","",{"$f":"IF($P18=\"\",\"\",(VLOOKUP($S$27,Worksheet!$A$11:$AE$41,S18+1,FALSE)))","v":""},{"$f":"IF(A18=0,\"\",'Limited 8'!$V$31)","v":""},null,"","",{"$f":"IF($U18=\"\",\"\",(VLOOKUP($X$27,Worksheet!$A$11:$AE$41,X18+1,FALSE)))","v":""},{"$f":"IF(AB18=\"\",\"\",'Limited 8'!$AB$28)","v":""},{"$f":"IF(AB18=\"\",\"\",'Limited 8'!$AB$31)","v":""},{"$f":"IF(A18=0,\"\",'Limited 8'!$AB$32)","v":""},null,"","",{"$f":"IF($AB18=\"\",\"\",(VLOOKUP($AE$27,Worksheet!$A$11:$AE$41,AE18+1,FALSE)))","v":""},"",null,"","",""]
[{"$f":"'Entry Information'!B49","v":0},{"$f":"'Entry Information'!H49","v":0},{"$f":"'Entry Information'!I49","v":0},{"$f":"'Entry Information'!J49","v":0},"LTD",{"$f":"('Limited 9'!$D$31)","v":""},null,"","",{"$f":"IF($F19=\"\",\"\",(VLOOKUP($I$27,Worksheet!$A$11:$AE$41,I19+1,FALSE)))","v":""},{"$f":"('Limited 9'!$J$31)","v":""},null,"","",{"$f":"IF($K19=\"\",\"\",(VLOOKUP($N$27,Worksheet!$A$11:$AE$41,N19+1,FALSE)))","v":""},{"$f":"'Limited 9'!$P$31","v":""},null,"","",{"$f":"IF($P19=\"\",\"\",(VLOOKUP($S$27,Worksheet!$A$11:$AE$41,S19+1,FALSE)))","v":""},{"$f":"IF(A19=0,\"\",'Limited 9'!$V$31)","v":""},null,"","",{"$f":"IF($U19=\"\",\"\",(VLOOKUP($X$27,Worksheet!$A$11:$AE$41,X19+1,FALSE)))","v":""},{"$f":"IF(AB19=\"\",\"\",'Limited 9'!$AB$28)","v":""},{"$f":"IF(AB19=\"\",\"\",'Limited 9'!$AB$31)","v":""},{"$f":"IF(A19=0,\"\",'Limited 9'!$AB$32)","v":""},null,"","",{"$f":"IF($AB19=\"\",\"\",(VLOOKUP($AE$27,Worksheet!$A$11:$AE$41,AE19+1,FALSE)))","v":""},"",null,"","",""]
[{"$f":"'Entry Information'!B50","v":0},{"$f":"'Entry Information'!H50","v":0},{"$f":"'Entry Information'!I50","v":0},{"$f":"'Entry Information'!J50","v":0},"LTD",{"$f":"('Limited 10'!$D$31)","v":""},null,"","",{"$f":"IF($F20=\"\",\"\",(VLOOKUP($I$27,Worksheet!$A$11:$AE$41,I20+1,FALSE)))","v":""},{"$f":"('Limited 10'!$J$31)","v":""},null,"","",{"$f":"IF($K20=\"\",\"\",(VLOOKUP($N$27,Worksheet!$A$11:$AE$41,N20+1,FALSE)))","v":""},{"$f":"'Limited 10'!$P$31","v":""},null,"","",{"$f":"IF($P20=\"\",\"\",(VLOOKUP($S$27,Worksheet!$A$11:$AE$41,S20+1,FALSE)))","v":""},{"$f":"IF(A20=0,\"\",'Limited 10'!$V$31)","v":""},null,"","",{"$f":"IF($U20=\"\",\"\",(VLOOKUP($X$27,Worksheet!$A$11:$AE$41,X20+1,FALSE)))","v":""},{"$f":"IF(AB20=\"\",\"\",'Limited 10'!$AB$28)","v":""},{"$f":"IF(AB20=\"\",\"\",'Limited 10'!$AB$31)","v":""},{"$f":"IF(A20=0,\"\",'Limited 10'!$AB$32)","v":""},null,"","",{"$f":"IF($AB20=\"\",\"\",(VLOOKUP($AE$27,Worksheet!$A$11:$AE$41,AE20+1,FALSE)))","v":""},"",null,"","",""]
[{"$f":"'Entry Information'!B51","v":0},{"$f":"'Entry Information'!H51","v":0},{"$f":"'Entry Information'!I51","v":0},{"$f":"'Entry Information'!J51","v":0},"LTD",{"$f":"('Limited 11'!$D$31)","v":""},null,"","",{"$f":"IF($F21=\"\",\"\",(VLOOKUP($I$27,Worksheet!$A$11:$AE$41,I21+1,FALSE)))","v":""},{"$f":"('Limited 11'!$J$31)","v":""},null,"","",{"$f":"IF($K21=\"\",\"\",(VLOOKUP($N$27,Worksheet!$A$11:$AE$41,N21+1,FALSE)))","v":""},{"$f":"'Limited 11'!$P$31","v":""},null,"","",{"$f":"IF($P21=\"\",\"\",(VLOOKUP($S$27,Worksheet!$A$11:$AE$41,S21+1,FALSE)))","v":""},{"$f":"IF(A21=0,\"\",'Limited 11'!$V$31)","v":""},null,"","",{"$f":"IF($U21=\"\",\"\",(VLOOKUP($X$27,Worksheet!$A$11:$AE$41,X21+1,FALSE)))","v":""},{"$f":"IF(AB21=\"\",\"\",'Limited 11'!$AB$28)","v":""},{"$f":"IF(AB21=\"\",\"\",'Limited 11'!$AB$31)","v":""},{"$f":"IF(A21=0,\"\",'Limited 11'!$AB$32)","v":""},null,"","",{"$f":"IF($AB21=\"\",\"\",(VLOOKUP($AE$27,Worksheet!$A$11:$AE$41,AE21+1,FALSE)))","v":""},"",null,"","",""]
[{"$f":"'Entry Information'!B52","v":0},{"$f":"'Entry Information'!H52","v":0},{"$f":"'Entry Information'!I52","v":0},{"$f":"'Entry Information'!J52","v":0},"LTD",{"$f":"('Limited 12'!$D$31)","v":""},null,"","",{"$f":"IF($F22=\"\",\"\",(VLOOKUP($I$27,Worksheet!$A$11:$AE$41,I22+1,FALSE)))","v":""},{"$f":"('Limited 12'!$J$31)","v":""},null,"","",{"$f":"IF($K22=\"\",\"\",(VLOOKUP($N$27,Worksheet!$A$11:$AE$41,N22+1,FALSE)))","v":""},{"$f":"'Limited 12'!$P$31","v":""},null,"","",{"$f":"IF($P22=\"\",\"\",(VLOOKUP($S$27,Worksheet!$A$11:$AE$41,S22+1,FALSE)))","v":""},{"$f":"IF($A22=0,\"\",'Limited 12'!$V$31)","v":""},null,"","",{"$f":"IF($U22=\"\",\"\",(VLOOKUP($X$27,Worksheet!$A$11:$AE$41,X22+1,FALSE)))","v":""},{"$f":"IF(AB22=\"\",\"\",'Limited 12'!$AB$28)","v":""},{"$f":"IF(AB22=\"\",\"\",'Limited 12'!$AB$31)","v":""},{"$f":"IF(A22=0,\"\",'Limited 12'!$AB$32)","v":""},null,"","",{"$f":"IF($AB22=\"\",\"\",(VLOOKUP($AE$27,Worksheet!$A$11:$AE$41,AE22+1,FALSE)))","v":""},"",null,"","",""]
[{"$f":"'Entry Information'!B53","v":0},{"$f":"'Entry Information'!H53","v":0},{"$f":"'Entry Information'!I53","v":0},{"$f":"'Entry Information'!J53","v":0},"LTD",{"$f":"('Limited 13'!$D$31)","v":""},null,"","",{"$f":"IF($F23=\"\",\"\",(VLOOKUP($I$27,Worksheet!$A$11:$AE$41,I23+1,FALSE)))","v":""},{"$f":"('Limited 13'!$J$31)","v":""},null,"","",{"$f":"IF($K23=\"\",\"\",(VLOOKUP($N$27,Worksheet!$A$11:$AE$41,N23+1,FALSE)))","v":""},{"$f":"'Limited 13'!$P$31","v":""},null,"","",{"$f":"IF($P23=\"\",\"\",(VLOOKUP($S$27,Worksheet!$A$11:$AE$41,S23+1,FALSE)))","v":""},{"$f":"IF(A23=0,\"\",'Limited 13'!$V$31)","v":""},null,"","",{"$f":"IF($U23=\"\",\"\",(VLOOKUP($X$27,Worksheet!$A$11:$AE$41,X23+1,FALSE)))","v":""},{"$f":"IF(AB23=\"\",\"\",'Limited 13'!$AB$28)","v":""},{"$f":"IF(AB23=\"\",\"\",'Limited 13'!$AB$31)","v":""},{"$f":"IF(A23=0,\"\",'Limited 13'!$AB$32)","v":""},null,"","",{"$f":"IF($AB23=\"\",\"\",(VLOOKUP($AE$27,Worksheet!$A$11:$AE$41,AE23+1,FALSE)))","v":""},"",null,"","",""]
[{"$f":"'Entry Information'!B54","v":0},{"$f":"'Entry Information'!H54","v":0},{"$f":"'Entry Information'!I54","v":0},{"$f":"'Entry Information'!J54","v":0},"LTD",{"$f":"('Limited 14'!$D$31)","v":""},null,"","",{"$f":"IF($F24=\"\",\"\",(VLOOKUP($I$27,Worksheet!$A$11:$AE$41,I24+1,FALSE)))","v":""},{"$f":"('Limited 14'!$J$31)","v":""},null,"","",{"$f":"IF($K24=\"\",\"\",(VLOOKUP($N$27,Worksheet!$A$11:$AE$41,N24+1,FALSE)))","v":""},{"$f":"'Limited 14'!$P$31","v":""},null,"","",{"$f":"IF($P24=\"\",\"\",(VLOOKUP($S$27,Worksheet!$A$11:$AE$41,S24+1,FALSE)))","v":""},{"$f":"IF(A24=0,\"\",'Limited 14'!$V$31)","v":""},null,"","",{"$f":"IF($U24=\"\",\"\",(VLOOKUP($X$27,Worksheet!$A$11:$AE$41,X24+1,FALSE)))","v":""},{"$f":"IF(AB24=\"\",\"\",'Limited 14'!$AB$28)","v":""},{"$f":"IF(AB24=\"\",\"\",'Limited 14'!$AB$31)","v":""},{"$f":"IF(A24=0,\"\",'Limited 14'!$AB$32)","v":""},null,"","",{"$f":"IF($AB24=\"\",\"\",(VLOOKUP($AE$27,Worksheet!$A$11:$AE$41,AE24+1,FALSE)))","v":""},"",null,"","",""]
[{"$f":"'Entry Information'!B55","v":0},{"$f":"'Entry Information'!H55","v":0},{"$f":"'Entry Information'!I55","v":0},{"$f":"'Entry Information'!J55","v":0},"LTD",{"$f":"('Limited 15'!$D$31)","v":""},null,"","",{"$f":"IF($F25=\"\",\"\",(VLOOKUP($I$27,Worksheet!$A$11:$AE$41,I25+1,FALSE)))","v":""},{"$f":"('Limited 15'!$J$31)","v":""},null,"","",{"$f":"IF($K25=\"\",\"\",(VLOOKUP($N$27,Worksheet!$A$11:$AE$41,N25+1,FALSE)))","v":""},{"$f":"'Limited 15'!$P$31","v":""},null,"","",{"$f":"IF($P25=\"\",\"\",(VLOOKUP($S$27,Worksheet!$A$11:$AE$41,S25+1,FALSE)))","v":""},{"$f":"IF(A25=0,\"\",'Limited 15'!$V$31)","v":""},null,"","",{"$f":"IF($U25=\"\",\"\",(VLOOKUP($X$27,Worksheet!$A$11:$AE$41,X25+1,FALSE)))","v":""},{"$f":"IF(AB25=\"\",\"\",'Limited 15'!$AB$28)","v":""},{"$f":"IF(AB25=\"\",\"\",'Limited 15'!$AB$31)","v":""},{"$f":"IF(A25=0,\"\",'Limited 15'!$AB$32)","v":""},null,"","",{"$f":"IF($AB25=\"\",\"\",(VLOOKUP($AE$27,Worksheet!$A$11:$AE$41,AE25+1,FALSE)))","v":""},"",null,"","",""]
[]
[null,null,null,null,null,null,null,null,{"$f":"COUNTIF(I11:I25,\">=0\")","v":2},null,null,null,null,{"$f":"COUNTIF(N11:N25,\">=0\")","v":2},null,null,null,null,{"$f":"COUNTIF(S11:S25,\">=0\")","v":2},null,null,null,null,{"$f":"COUNTIF(X11:X25,\">=0\")","v":2},null,null,null,null,null,{"$f":"IF(AC27=\"\",AB27,(AB27+(AC27*0.001)))","v":0},{"$f":"COUNTIF(AE11:AE25,\">=0\")","v":2}]
[null,null,null,"Tie  Breakers = ",null,"1 - Extended Trot",null,{"$f":"IF(G28=\"\",F28,(F28+(G28*0.001)))","v":"1 - Extended Trot"},null,null,"1 - Box Cow & Drive Opp. End",null,null,null,null,"1 - Penning",null,null,null,null,"1 - Drag log",null,null,null,null,"1- Structural Correctness",null,null,null,null,null,null,"Working Ranch Score "]
[null,null,null,null,null,"2 - Transition down lope/walk/stop",null,"2 - Transition down lope/walk/stop",null,null,"2 - First Lead Change",null,null,null,null,"2 - Working Center of arena",null,null,null,null,"2 - Ground tie/bridle/pick-up legs",null,null,null,null,"2 - Balance",null,null,null,null,null,null,"and then use WR Tie-Breakers"]
[null,null,null,null,null,"3 - Transition to lope/lope",null,"3 - Transition to lope/lope",null,null,"3 - Spin",null,null,null,null,"3 -Cut from Herd",null,null,null,null,"3 - Gate",null,null,null,null,"3 - Ranch Cutting"]

{"sheet":"INTERMEDIATE RESULTS (2)","index":5,"n_rows":31,"n_cols":37,"rows_kept":31,"cut":false,"hidden":false,"merged":[[29,25,29,27],[1,31,1,36],[2,1,2,2],[2,4,2,5],[2,8,2,10],[2,18,2,19],[2,20,2,26],[2,27,2,30],[2,31,2,36],[1,0,1,2],[1,4,1,5],[1,8,1,14],[1,18,1,19],[1,20,1,26],[1,27,1,30],[6,5,6,9],[6,10,6,14],[6,15,6,19],[6,20,6,24],[6,26,6,31],[5,5,5,9],[5,10,5,14],[5,15,5,19],[5,20,5,24],[5,26,5,31]]}
[]
[null,null,null,null,"Event Name:",null,null,null,{"$f":"'Entry Information'!H4","v":"The Horse First Farm, Brooklyn, WI"},null,null,null,null,null,null,null,null,null,"Judges Name:",null,{"$f":"'Entry Information'!K4","v":"Dave Currin"},null,null,null,null,null,null,"Classes Judged?",null,null,null,{"$f":"'Entry Information'!O4","v":"CN, RR, RT"}]
["Division:","INTERMEDIATE",null,null,"Event Date:",null,null,null,{"$f":"'Entry Information'!H5","v":"June 28-29,2014"},null,null,null,null,null,null,null,null,null,"Judges Name:",null,{"$f":"'Entry Information'!K5","v":"Jeff Barnes"},null,null,null,null,null,null,"Classes Judged?",null,null,null,{"$f":"'Entry Information'!O5","v":"WR, RC"}]
[]
[1,2,3,4,5,6,7,null,8,9,10,11,null,12,13,14,15,null,16,17,18,19,null,20,21,22,23,24,25,null,26,27,28,29,null,30,31]
[null,null,null,null,null,"Ranch",null,null,null,null,"Working",null,null,null,null,"Ranch",null,null,null,null,"Ranch ",null,null,null,null,null,"Ranch",null,null,null,null,null,"Total",null,"Adjusted ","Event ","Event"]
[null,null,null,null,null,"Riding",null,null,null,null,"Ranch",null,null,null,null,"Cutting",null,null,null,null,"Trail",null,null,null,null,null,"Conformation",null,null,null,null,null,"Placement","Tie ","Placement","All","Total"]
[null,null,null,null,null,"Score","Tie ","Adjusted","Place","Place-","Score","Tie ","Adjusted","Place","Place-","Score","Tie ","Adjusted","Place","Place-","Score","Tie ","Adjusted","Place","Place-","Judges","Function ","TOTAL","Tie ","Adjusted","Place","Place-","Points","Breaker","Points","Around","Score"]
[null,null,null,null,null,null,"Breaker","Score",null,"ment",null,"Breaker","Score",null,"ment",null,"Breaker","Score",null,"ment",null,"Breaker","Score",null,"ment","Score","Score","SCORE","Breaker","Score",null,"ment"]
["Back No.","Last Name","First Name","Registered Horse Name","Division",null,null,null,null,"Points",null,null,null,null,"Points",null,null,null,null,"Points",null,null,null,null,"Points",null,null,null,null,null,null,"Points"]
[{"$f":"'Entry Information'!B56","v":11},{"$f":"'Entry Information'!H56","v":"Osorio"},{"$f":"'Entry Information'!I56","v":"Carlos"},{"$f":"'Entry Information'!J56","v":"AR Especial"},"INT",{"$f":"IF($A11=0,\"\",'Intermediate 1'!$D$31)","v":70.8},null,{"$f":"IF(G11=\"\",F11,(F11+(G11*0.001)))","v":70.8},{"$f":"IF(H11=\"\",\"\",(RANK(H11,$H$11:$H$25,0)))","v":1},{"$f":"IF($F11=\"\",\"\",(VLOOKUP($I$27,Worksheet!$A$11:$AE$41,I11+1,FALSE)))","v":1},{"$f":"IF(C11=0,\"\",'Intermediate 1'!$J$36)","v":49.8},null,{"$f":"IF(L11=\"\",K11,(K11+(L11*0.001)))","v":49.8},{"$f":"IF(M11=\"\",\"\",(RANK(M11,$M$11:$M$25,0)))","v":1},{"$f":"IF($K11=\"\",\"\",(VLOOKUP($N$27,Worksheet!$A$11:$AE$41,N11+1,FALSE)))","v":1},{"$f":"IF(E11=0,\"\",'Intermediate 1'!$P$31)","v":78},null,{"$f":"IF(Q11=\"\",P11,(P11+(Q11*0.001)))","v":78},{"$f":"IF(R11=\"\",\"\",(RANK(R11,$R$11:$R$25,0)))","v":1},{"$f":"IF($P11=\"\",\"\",(VLOOKUP($S$27,Worksheet!$A$11:$AE$41,S11+1,FALSE)))","v":1},{"$f":"IF(A11=0,\"\",'Intermediate 1'!$V$31)","v":76.5},null,{"$f":"IF(V11=\"\",U11,(U11+(V11*0.001)))","v":76.5},{"$f":"IF(W11=\"\",\"\",(RANK(W11,$W$11:$W$25,0)))","v":1},{"$f":"IF($U11=\"\",\"\",(VLOOKUP($X$27,Worksheet!$A$11:$AE$41,X11+1,FALSE)))","v":1},{"$f":"IF(AB11=\"\",\"\",'Intermediate 1'!$AB$28)","v":42.33},{"$f":"IF(AB11=\"\",\"\",'Intermediate 1'!$AB$31)","v":27.510000000000005},{"$f":"IF(A11=0,\"\",'Intermediate 1'!$AB$32)","v":69.84},null,{"$f":"IF(AC11=\"\",AB11,(AB11+(AC11*0.001)))","v":69.84},{"$f":"IF(AD11=\"\",\"\",(RANK(AD11,$AD$11:$AD$25,0)))","v":1},{"$f":"IF($AB11=\"\",\"\",(VLOOKUP($AE$27,Worksheet!$A$11:$AE$41,AE11+1,FALSE)))","v":1},{"$f":"IF(A11=0,\"\",(SUM($J11,$O11,$T11,$Y11,$AF11)))","v":5},null,{"$f":"IF(AH11=\"\",AG11,(AG11+(AH11*0.001)))","v":5},{"$f":"IF(AI11=\"\",\"\",(RANK(AI11,$AI$11:$AI$25,0)))","v":1},{"$f":"IF(A11=0,\"\",(SUM(F11,K11,P11,U11,AB11)))","v":344.94000000000005}]
[{"$f":"'Entry Information'!B57","v":0},{"$f":"'Entry Information'!H57","v":0},{"$f":"'Entry Information'!I57","v":0},{"$f":"'Entry Information'!J57","v":0},"INT",{"$f":"IF($A12=0,\"\",'Intermediate 2'!$D$31)","v":""},null,{"$f":"IF(G12=\"\",F12,(F12+(G12*0.001)))","v":""},"",{"$f":"IF($F12=\"\",\"\",(VLOOKUP($I$27,Worksheet!$A$11:$AE$41,I12+1,FALSE)))","v":""},{"$f":"IF(C12=0,\"\",'Intermediate 2'!$J$36)","v":""},null,{"$f":"IF(L12=\"\",K12,(K12+(L12*0.001)))","v":""},"",{"$f":"IF($K12=\"\",\"\",(VLOOKUP($N$27,Worksheet!$A$11:$AE$41,N12+1,FALSE)))","v":""},{"$f":"IF(E12=0,\"\",'Intermediate 2'!$P$31)","v":""},null,{"$f":"IF(Q12=\"\",P12,(P12+(Q12*0.001)))","v":""},"",{"$f":"IF($P12=\"\",\"\",(VLOOKUP($S$27,Worksheet!$A$11:$AE$41,S12+1,FALSE)))","v":""},{"$f":"IF(A12=0,\"\",'Intermediate 2'!$V$31)","v":""},null,{"$f":"IF(V12=\"\",U12,(U12+(V12*0.001)))","v":""},"",{"$f":"IF($U12=\"\",\"\",(VLOOKUP($X$27,Worksheet!$A$11:$AE$41,X12+1,FALSE)))","v":""},{"$f":"IF(AB12=\"\",\"\",'Intermediate 2'!$AB$28)","v":""},{"$f":"IF(AB12=\"\",\"\",'Intermediate 2'!$AB$31)","v":""},{"$f":"IF(A12=0,\"\",'Intermediate 2'!$AB$32)","v":""},null,"","",{"$f":"IF($AB12=\"\",\"\",(VLOOKUP($AE$27,Worksheet!$A$11:$AE$41,AE12+1,FALSE)))","v":""},"",null,{"$f":"IF(AH12=\"\",AG12,(AG12+(AH12*0.001)))","v":""},"",""]
[{"$f":"'Entry Information'!B58","v":0},{"$f":"'Entry Information'!H58","v":0},{"$f":"'Entry Information'!I58","v":0},{"$f":"'Entry Information'!J58","v":0},"INT",{"$f":"IF($A13=0,\"\",'Intermediate 3'!$D$31)","v":""},null,"","",{"$f":"IF($F13=\"\",\"\",(VLOOKUP($I$27,Worksheet!$A$11:$AE$41,I13+1,FALSE)))","v":""},{"$f":"IF(C13=0,\"\",'Intermediate 3'!$J$36)","v":""},null,"","",{"$f":"IF($K13=\"\",\"\",(VLOOKUP($N$27,Worksheet!$A$11:$AE$41,N13+1,FALSE)))","v":""},{"$f":"IF(E13=0,\"\",'Intermediate 3'!$P$31)","v":""},null,"","",{"$f":"IF($P13=\"\",\"\",(VLOOKUP($S$27,Worksheet!$A$11:$AE$41,S13+1,FALSE)))","v":""},{"$f":"IF(A13=0,\"\",'Intermediate 3'!$V$31)","v":""},null,"","",{"$f":"IF($U13=\"\",\"\",(VLOOKUP($X$27,Worksheet!$A$11:$AE$41,X13+1,FALSE)))","v":""},{"$f":"IF(AB13=\"\",\"\",'Intermediate 3'!$AB$28)","v":""},{"$f":"IF(AB13=\"\",\"\",'Intermediate 3'!$AB$31)","v":""},{"$f":"IF(A13=0,\"\",'Intermediate 3'!$AB$32)","v":""},null,"","",{"$f":"IF($AB13=\"\",\"\",(VLOOKUP($AE$27,Worksheet!$A$11:$AE$41,AE13+1,FALSE)))","v":""},"",null,"","",""]
[{"$f":"'Entry Information'!B59","v":0},{"$f":"'Entry Information'!H59","v":0},{"$f":"'Entry Information'!I59","v":0},{"$f":"'Entry Information'!J59","v":0},"INT",{"$f":"IF($A14=0,\"\",'Intermediate 4'!$D$31)","v":""},null,"","",{"$f":"IF($F14=\"\",\"\",(VLOOKUP($I$27,Worksheet!$A$11:$AE$41,I14+1,FALSE)))","v":""},{"$f":"IF(C14=0,\"\",'Intermediate 4'!$J$36)","v":""},null,"","",{"$f":"IF($K14=\"\",\"\",(VLOOKUP($N$27,Worksheet!$A$11:$AE$41,N14+1,FALSE)))","v":""},{"$f":"IF(E14=0,\"\",'Intermediate 4'!$P$31)","v":""},null,"","",{"$f":"IF($P14=\"\",\"\",(VLOOKUP($S$27,Worksheet!$A$11:$AE$41,S14+1,FALSE)))","v":""},{"$f":"IF(A14=0,\"\",'Intermediate 4'!$V$31)","v":""},null,"","",{"$f":"IF($U14=\"\",\"\",(VLOOKUP($X$27,Worksheet!$A$11:$AE$41,X14+1,FALSE)))","v":""},{"$f":"IF(AB14=\"\",\"\",'Intermediate 4'!$AB$28)","v":""},{"$f":"IF(AB14=\"\",\"\",'Intermediate 4'!$AB$31)","v":""},{"$f":"IF(A14=0,\"\",'Intermediate 4'!$AB$32)","v":""},null,"","",{"$f":"IF($AB14=\"\",\"\",(VLOOKUP($AE$27,Worksheet!$A$11:$AE$41,AE14+1,FALSE)))","v":""},"",null,"","",""]
[{"$f":"'Entry Information'!B60","v":0},{"$f":"'Entry Information'!H60","v":0},{"$f":"'Entry Information'!I60","v":0},{"$f":"'Entry Information'!J60","v":0},"INT",{"$f":"IF($A15=0,\"\",'Intermediate 5'!$D$31)","v":""},null,"","",{"$f":"IF($F15=\"\",\"\",(VLOOKUP($I$27,Worksheet!$A$11:$AE$41,I15+1,FALSE)))","v":""},{"$f":"IF(C15=0,\"\",'Intermediate 5'!$J$36)","v":""},null,"","",{"$f":"IF($K15=\"\",\"\",(VLOOKUP($N$27,Worksheet!$A$11:$AE$41,N15+1,FALSE)))","v":""},{"$f":"IF(E15=0,\"\",'Intermediate 5'!$P$31)","v":""},null,"","",{"$f":"IF($P15=\"\",\"\",(VLOOKUP($S$27,Worksheet!$A$11:$AE$41,S15+1,FALSE)))","v":""},{"$f":"IF(A15=0,\"\",'Intermediate 5'!$V$31)","v":""},null,"","",{"$f":"IF($U15=\"\",\"\",(VLOOKUP($X$27,Worksheet!$A$11:$AE$41,X15+1,FALSE)))","v":""},{"$f":"IF(AB15=\"\",\"\",'Intermediate 5'!$AB$28)","v":""},{"$f":"IF(AB15=\"\",\"\",'Intermediate 5'!$AB$31)","v":""},{"$f":"IF(A15=0,\"\",'Intermediate 5'!$AB$32)","v":""},null,"","",{"$f":"IF($AB15=\"\",\"\",(VLOOKUP($AE$27,Worksheet!$A$11:$AE$41,AE15+1,FALSE)))","v":""},"",null,"","",""]
[{"$f":"'Entry Information'!B61","v":0},{"$f":"'Entry Information'!H61","v":0},{"$f":"'Entry Information'!I61","v":0},{"$f":"'Entry Information'!J61","v":0},"INT",{"$f":"IF($A16=0,\"\",'Intermediate 6'!$D$31)","v":""},null,"","",{"$f":"IF($F16=\"\",\"\",(VLOOKUP($I$27,Worksheet!$A$11:$AE$41,I16+1,FALSE)))","v":""},{"$f":"IF(C16=0,\"\",'Intermediate 6'!$J$36)","v":""},null,"","",{"$f":"IF($K16=\"\",\"\",(VLOOKUP($N$27,Worksheet!$A$11:$AE$41,N16+1,FALSE)))","v":""},{"$f":"IF(E16=0,\"\",'Intermediate 6'!$P$31)","v":""},null,"","",{"$f":"IF($P16=\"\",\"\",(VLOOKUP($S$27,Worksheet!$A$11:$AE$41,S16+1,FALSE)))","v":""},{"$f":"IF(A16=0,\"\",'Intermediate 6'!$V$31)","v":""},null,"","",{"$f":"IF($U16=\"\",\"\",(VLOOKUP($X$27,Worksheet!$A$11:$AE$41,X16+1,FALSE)))","v":""},{"$f":"IF(AB16=\"\",\"\",'Intermediate 6'!$AB$28)","v":""},{"$f":"IF(AB16=\"\",\"\",'Intermediate 6'!$AB$31)","v":""},{"$f":"IF(A16=0,\"\",'Intermediate 6'!$AB$32)","v":""},null,"","",{"$f":"IF($AB16=\"\",\"\",(VLOOKUP($AE$27,Worksheet!$A$11:$AE$41,AE16+1,FALSE)))","v":""},"",null,"","",""]
[{"$f":"'Entry Information'!B62","v":0},{"$f":"'Entry Information'!H62","v":0},{"$f":"'Entry Information'!I62","v":0},{"$f":"'Entry Information'!J62","v":0},"INT",{"$f":"IF($A17=0,\"\",'Intermediate 7'!$D$31)","v":""},null,"","",{"$f":"IF($F17=\"\",\"\",(VLOOKUP($I$27,Worksheet!$A$11:$AE$41,I17+1,FALSE)))","v":""},{"$f":"IF(C17=0,\"\",'Intermediate 7'!$J$36)","v":""},null,"","",{"$f":"IF($K17=\"\",\"\",(VLOOKUP($N$27,Worksheet!$A$11:$AE$41,N17+1,FALSE)))","v":""},{"$f":"IF(E17=0,\"\",'Intermediate 7'!$P$31)","v":""},null,"","",{"$f":"IF($P17=\"\",\"\",(VLOOKUP($S$27,Worksheet!$A$11:$AE$41,S17+1,FALSE)))","v":""},{"$f":"IF(A17=0,\"\",'Intermediate 7'!$V$31)","v":""},null,"","",{"$f":"IF($U17=\"\",\"\",(VLOOKUP($X$27,Worksheet!$A$11:$AE$41,X17+1,FALSE)))","v":""},{"$f":"IF(AB17=\"\",\"\",'Intermediate 7'!$AB$28)","v":""},{"$f":"IF(AB17=\"\",\"\",'Intermediate 7'!$AB$31)","v":""},{"$f":"IF(A17=0,\"\",'Intermediate 7'!$AB$32)","v":""},null,"","",{"$f":"IF($AB17=\"\",\"\",(VLOOKUP($AE$27,Worksheet!$A$11:$AE$41,AE17+1,FALSE)))","v":""},"",null,"","",""]
[{"$f":"'Entry Information'!B63","v":0},{"$f":"'Entry Information'!H63","v":0},{"$f":"'Entry Information'!I63","v":0},{"$f":"'Entry Information'!J63","v":0},"INT",{"$f":"IF($A18=0,\"\",'Intermediate 8'!$D$31)","v":""},null,"","",{"$f":"IF($F18=\"\",\"\",(VLOOKUP($I$27,Worksheet!$A$11:$AE$41,I18+1,FALSE)))","v":""},{"$f":"IF(C18=0,\"\",'Intermediate 8'!$J$36)","v":""},null,"","",{"$f":"IF($K18=\"\",\"\",(VLOOKUP($N$27,Worksheet!$A$11:$AE$41,N18+1,FALSE)))","v":""},{"$f":"IF(E18=0,\"\",'Intermediate 8'!$P$31)","v":""},null,"","",{"$f":"IF($P18=\"\",\"\",(VLOOKUP($S$27,Worksheet!$A$11:$AE$41,S18+1,FALSE)))","v":""},{"$f":"IF(A18=0,\"\",'Intermediate 8'!$V$31)","v":""},null,"","",{"$f":"IF($U18=\"\",\"\",(VLOOKUP($X$27,Worksheet!$A$11:$AE$41,X18+1,FALSE)))","v":""},{"$f":"IF(AB18=\"\",\"\",'Intermediate 8'!$AB$28)","v":""},{"$f":"IF(AB18=\"\",\"\",'Intermediate 8'!$AB$31)","v":""},{"$f":"IF(A18=0,\"\",'Intermediate 8'!$AB$32)","v":""},null,"","",{"$f":"IF($AB18=\"\",\"\",(VLOOKUP($AE$27,Worksheet!$A$11:$AE$41,AE18+1,FALSE)))","v":""},"",null,"","",""]
[{"$f":"'Entry Information'!B64","v":0},{"$f":"'Entry Information'!H64","v":0},{"$f":"'Entry Information'!I64","v":0},{"$f":"'Entry Information'!J64","v":0},"INT",{"$f":"IF($A19=0,\"\",'Intermediate 9'!$D$31)","v":""},null,"","",{"$f":"IF($F19=\"\",\"\",(VLOOKUP($I$27,Worksheet!$A$11:$AE$41,I19+1,FALSE)))","v":""},{"$f":"IF(C19=0,\"\",'Intermediate 9'!$J$36)","v":""},null,"","",{"$f":"IF($K19=\"\",\"\",(VLOOKUP($N$27,Worksheet!$A$11:$AE$41,N19+1,FALSE)))","v":""},{"$f":"IF(E19=0,\"\",'Intermediate 9'!$P$31)","v":""},null,"","",{"$f":"IF($P19=\"\",\"\",(VLOOKUP($S$27,Worksheet!$A$11:$AE$41,S19+1,FALSE)))","v":""},{"$f":"IF(A19=0,\"\",'Intermediate 9'!$V$31)","v":""},null,"","",{"$f":"IF($U19=\"\",\"\",(VLOOKUP($X$27,Worksheet!$A$11:$AE$41,X19+1,FALSE)))","v":""},{"$f":"IF(AB19=\"\",\"\",'Intermediate 9'!$AB$28)","v":""},{"$f":"IF(AB19=\"\",\"\",'Intermediate 9'!$AB$31)","v":""},{"$f":"IF(A19=0,\"\",'Intermediate 9'!$AB$32)","v":""},null,"","",{"$f":"IF($AB19=\"\",\"\",(VLOOKUP($AE$27,Worksheet!$A$11:$AE$41,AE19+1,FALSE)))","v":""},"",null,"","",""]
[{"$f":"'Entry Information'!B65","v":0},{"$f":"'Entry Information'!H65","v":0},{"$f":"'Entry Information'!I65","v":0},{"$f":"'Entry Information'!J65","v":0},"INT",{"$f":"IF($A20=0,\"\",'Intermediate 10'!$D$31)","v":""},null,"","",{"$f":"IF($F20=\"\",\"\",(VLOOKUP($I$27,Worksheet!$A$11:$AE$41,I20+1,FALSE)))","v":""},{"$f":"IF(C20=0,\"\",'Intermediate 10'!$J36)","v":""},null,"","",{"$f":"IF($K20=\"\",\"\",(VLOOKUP($N$27,Worksheet!$A$11:$AE$41,N20+1,FALSE)))","v":""},{"$f":"IF(E20=0,\"\",'Intermediate 10'!$P$31)","v":""},null,"","",{"$f":"IF($P20=\"\",\"\",(VLOOKUP($S$27,Worksheet!$A$11:$AE$41,S20+1,FALSE)))","v":""},{"$f":"IF(A20=0,\"\",'Intermediate 10'!$V$31)","v":""},null,"","",{"$f":"IF($U20=\"\",\"\",(VLOOKUP($X$27,Worksheet!$A$11:$AE$41,X20+1,FALSE)))","v":""},{"$f":"IF(AB20=\"\",\"\",'Intermediate 10'!$AB$28)","v":""},{"$f":"IF(AB20=\"\",\"\",'Intermediate 10'!$AB$31)","v":""},{"$f":"IF(A20=0,\"\",'Intermediate 10'!$AB$32)","v":""},null,"","",{"$f":"IF($AB20=\"\",\"\",(VLOOKUP($AE$27,Worksheet!$A$11:$AE$41,AE20+1,FALSE)))","v":""},"",null,"","",""]
[{"$f":"'Entry Information'!B66","v":0},{"$f":"'Entry Information'!H66","v":0},{"$f":"'Entry Information'!I66","v":0},{"$f":"'Entry Information'!J66","v":0},"INT",{"$f":"IF($A21=0,\"\",'Intermediate 11'!$D$31)","v":""},null,"","",{"$f":"IF($F21=\"\",\"\",(VLOOKUP($I$27,Worksheet!$A$11:$AE$41,I21+1,FALSE)))","v":""},{"$f":"IF(C21=0,\"\",'Intermediate 11'!$J$36)","v":""},null,"","",{"$f":"IF($K21=\"\",\"\",(VLOOKUP($N$27,Worksheet!$A$11:$AE$41,N21+1,FALSE)))","v":""},{"$f":"IF(E21=0,\"\",'Intermediate 11'!$P$31)","v":""},null,"","",{"$f":"IF($P21=\"\",\"\",(VLOOKUP($S$27,Worksheet!$A$11:$AE$41,S21+1,FALSE)))","v":""},{"$f":"IF(A21=0,\"\",'Intermediate 11'!$V$31)","v":""},null,"","",{"$f":"IF($U21=\"\",\"\",(VLOOKUP($X$27,Worksheet!$A$11:$AE$41,X21+1,FALSE)))","v":""},{"$f":"IF(AB21=\"\",\"\",'Intermediate 11'!$AB$28)","v":""},{"$f":"IF(AB21=\"\",\"\",'Intermediate 11'!$AB$31)","v":""},{"$f":"IF(A21=0,\"\",'Intermediate 11'!$AB$32)","v":""},null,"","",{"$f":"IF($AB21=\"\",\"\",(VLOOKUP($AE$27,Worksheet!$A$11:$AE$41,AE21+1,FALSE)))","v":""},"",null,"","",""]
[{"$f":"'Entry Information'!B67","v":0},{"$f":"'Entry Information'!H67","v":0},{"$f":"'Entry Information'!I67","v":0},{"$f":"'Entry Information'!J67","v":0},"INT",{"$f":"IF($A22=0,\"\",'Intermediate 12'!$D$31)","v":""},null,"","",{"$f":"IF($F22=\"\",\"\",(VLOOKUP($I$27,Worksheet!$A$11:$AE$41,I22+1,FALSE)))","v":""},{"$f":"IF(C22=0,\"\",'Intermediate 12'!$J$36)","v":""},null,"","",{"$f":"IF($K22=\"\",\"\",(VLOOKUP($N$27,Worksheet!$A$11:$AE$41,N22+1,FALSE)))","v":""},{"$f":"IF(E22=0,\"\",'Intermediate 12'!$P$31)","v":""},null,"","",{"$f":"IF($P22=\"\",\"\",(VLOOKUP($S$27,Worksheet!$A$11:$AE$41,S22+1,FALSE)))","v":""},{"$f":"IF($A22=0,\"\",'Intermediate 12'!$V$31)","v":""},null,"","",{"$f":"IF($U22=\"\",\"\",(VLOOKUP($X$27,Worksheet!$A$11:$AE$41,X22+1,FALSE)))","v":""},{"$f":"IF(AB22=\"\",\"\",'Intermediate 12'!$AB$28)","v":""},{"$f":"IF(AB22=\"\",\"\",'Intermediate 12'!$AB$31)","v":""},{"$f":"IF(A22=0,\"\",'Intermediate 12'!$AB$32)","v":""},null,"","",{"$f":"IF($AB22=\"\",\"\",(VLOOKUP($AE$27,Worksheet!$A$11:$AE$41,AE22+1,FALSE)))","v":""},"",null,"","",""]
[{"$f":"'Entry Information'!B68","v":0},{"$f":"'Entry Information'!H68","v":0},{"$f":"'Entry Information'!I68","v":0},{"$f":"'Entry Information'!J68","v":0},"INT",{"$f":"IF($A23=0,\"\",'Intermediate 13'!$D$31)","v":""},null,"","",{"$f":"IF($F23=\"\",\"\",(VLOOKUP($I$27,Worksheet!$A$11:$AE$41,I23+1,FALSE)))","v":""},{"$f":"IF(C23=0,\"\",'Intermediate 13'!$J$36)","v":""},null,"","",{"$f":"IF($K23=\"\",\"\",(VLOOKUP($N$27,Worksheet!$A$11:$AE$41,N23+1,FALSE)))","v":""},{"$f":"IF(E23=0,\"\",'Intermediate 13'!$P$31)","v":""},null,"","",{"$f":"IF($P23=\"\",\"\",(VLOOKUP($S$27,Worksheet!$A$11:$AE$41,S23+1,FALSE)))","v":""},{"$f":"IF(A23=0,\"\",'Intermediate 13'!$V$31)","v":""},null,"","",{"$f":"IF($U23=\"\",\"\",(VLOOKUP($X$27,Worksheet!$A$11:$AE$41,X23+1,FALSE)))","v":""},{"$f":"IF(AB23=\"\",\"\",'Intermediate 13'!$AB$28)","v":""},{"$f":"IF(AB23=\"\",\"\",'Intermediate 13'!$AB$31)","v":""},{"$f":"IF(A23=0,\"\",'Intermediate 13'!$AB$32)","v":""},null,"","",{"$f":"IF($AB23=\"\",\"\",(VLOOKUP($AE$27,Worksheet!$A$11:$AE$41,AE23+1,FALSE)))","v":""},"",null,"","",""]
[{"$f":"'Entry Information'!B69","v":0},{"$f":"'Entry Information'!H69","v":0},{"$f":"'Entry Information'!I69","v":0},{"$f":"'Entry Information'!J69","v":0},"INT",{"$f":"IF($A24=0,\"\",'Intermediate 14'!$D$31)","v":""},null,"","",{"$f":"IF($F24=\"\",\"\",(VLOOKUP($I$27,Worksheet!$A$11:$AE$41,I24+1,FALSE)))","v":""},{"$f":"IF(C24=0,\"\",'Intermediate 14'!$J$36)","v":""},null,"","",{"$f":"IF($K24=\"\",\"\",(VLOOKUP($N$27,Worksheet!$A$11:$AE$41,N24+1,FALSE)))","v":""},{"$f":"IF(E24=0,\"\",'Intermediate 14'!$P$31)","v":""},null,"","",{"$f":"IF($P24=\"\",\"\",(VLOOKUP($S$27,Worksheet!$A$11:$AE$41,S24+1,FALSE)))","v":""},{"$f":"IF(A24=0,\"\",'Intermediate 14'!$V$31)","v":""},null,"","",{"$f":"IF($U24=\"\",\"\",(VLOOKUP($X$27,Worksheet!$A$11:$AE$41,X24+1,FALSE)))","v":""},{"$f":"IF(AB24=\"\",\"\",'Intermediate 14'!$AB$28)","v":""},{"$f":"IF(AB24=\"\",\"\",'Intermediate 14'!$AB$31)","v":""},{"$f":"IF(A24=0,\"\",'Intermediate 14'!$AB$32)","v":""},null,"","",{"$f":"IF($AB24=\"\",\"\",(VLOOKUP($AE$27,Worksheet!$A$11:$AE$41,AE24+1,FALSE)))","v":""},"",null,"","",""]
[{"$f":"'Entry Information'!B70","v":0},{"$f":"'Entry Information'!H70","v":0},{"$f":"'Entry Information'!I70","v":0},{"$f":"'Entry Information'!J70","v":0},"INT",{"$f":"IF($A25=0,\"\",'Intermediate 15'!$D$31)","v":""},null,"","",{"$f":"IF($F25=\"\",\"\",(VLOOKUP($I$27,Worksheet!$A$11:$AE$41,I25+1,FALSE)))","v":""},{"$f":"IF(C25=0,\"\",'Intermediate 15'!$J$36)","v":""},null,"","",{"$f":"IF($K25=\"\",\"\",(VLOOKUP($N$27,Worksheet!$A$11:$AE$41,N25+1,FALSE)))","v":""},{"$f":"IF(E25=0,\"\",'Intermediate 15'!$P$31)","v":""},null,"","",{"$f":"IF($P25=\"\",\"\",(VLOOKUP($S$27,Worksheet!$A$11:$AE$41,S25+1,FALSE)))","v":""},{"$f":"IF(A25=0,\"\",'Intermediate 15'!$V$31)","v":""},null,"","",{"$f":"IF($U25=\"\",\"\",(VLOOKUP($X$27,Worksheet!$A$11:$AE$41,X25+1,FALSE)))","v":""},{"$f":"IF(AB25=\"\",\"\",'Intermediate 15'!$AB$28)","v":""},{"$f":"IF(AB25=\"\",\"\",'Intermediate 15'!$AB$31)","v":""},{"$f":"IF(A25=0,\"\",'Intermediate 15'!$AB$32)","v":""},null,"","",{"$f":"IF($AB25=\"\",\"\",(VLOOKUP($AE$27,Worksheet!$A$11:$AE$41,AE25+1,FALSE)))","v":""},"",null,"","",""]
[]
[null,null,null,null,null,null,null,null,{"$f":"COUNTIF(I11:I25,\">=0\")","v":1},null,null,null,null,{"$f":"COUNTIF(N11:N25,\">=0\")","v":1},null,null,null,null,{"$f":"COUNTIF(S11:S25,\">=0\")","v":1},null,null,null,null,{"$f":"COUNTIF(X11:X25,\">=0\")","v":1},null,null,null,null,null,{"$f":"IF(AC27=\"\",AB27,(AB27+(AC27*0.001)))","v":0},{"$f":"COUNTIF(AE11:AE25,\">=0\")","v":1}]
[null,null,null,"Tie  Breakers = ",null,"1 - Extended Trot",null,null,null,null,"1 - Roping Cow",null,null,null,null,"1 - Penning",null,null,null,null,"1 - Drag log",null,null,null,null,"1- Structural Correctness",null,null,null,null,null,null,"Working Ranch Score "]
[null,null,null,null,null,"2 - Transition down lope/walk/stop",null,null,null,null,"2 - Box Cow",null,null,null,null,"2 - Working Center of arena",null,null,null,null,"2 - Ground tie/bridle/pick-up legs",null,null,null,null,"2 - Balance",null,null,null,null,null,null,"and then use WR Tie-Breakers"]
[null,null,null,null,null,"3 - Transition to lope/lope",null,null,null,null,"3 - First Lead Change",null,null,null,null,"3 -Cut from Herd",null,null,null,null,"3 - Gate",null,null,null,null,"3 - Ranch Cutting"]
[null,null,null,null,null,null,null,null,null,null,"4 - Spin"]

{"sheet":"ADVANCED RESULTS (2)","index":6,"n_rows":31,"n_cols":37,"rows_kept":31,"cut":false,"hidden":false,"merged":[[29,25,29,27],[1,31,1,36],[2,1,2,2],[2,4,2,5],[2,8,2,10],[2,18,2,19],[2,20,2,26],[2,27,2,30],[2,31,2,36],[1,0,1,2],[1,4,1,5],[1,8,1,14],[1,18,1,19],[1,20,1,26],[1,27,1,30],[6,5,6,9],[6,10,6,14],[6,15,6,19],[6,20,6,24],[6,26,6,31],[5,5,5,9],[5,10,5,14],[5,15,5,19],[5,20,5,24],[5,26,5,31]]}
[]
[null,null,null,null,"Event Name:",null,null,null,{"$f":"'Entry Information'!H4","v":"The Horse First Farm, Brooklyn, WI"},null,null,null,null,null,null,null,null,null,"Judges Name:",null,{"$f":"'Entry Information'!K4","v":"Dave Currin"},null,null,null,null,null,null,"Classes Judged?",null,null,null,{"$f":"'Entry Information'!O4","v":"CN, RR, RT"}]
["Division:","ADVANCED",null,null,"Event Date:",null,null,null,{"$f":"'Entry Information'!H5","v":"June 28-29,2014"},null,null,null,null,null,null,null,null,null,"Judges Name:",null,{"$f":"'Entry Information'!K5","v":"Jeff Barnes"},null,null,null,null,null,null,"Classes Judged?",null,null,null,{"$f":"'Entry Information'!O5","v":"WR, RC"}]
[]
[1,2,3,4,5,6,null,null,7,8,9,null,null,10,11,12,null,null,13,14,15,null,null,16,17,null,19,20,null,null,21,22,23,null,null,24,25]
[null,null,null,null,null,"Ranch",null,null,null,null,"Working",null,null,null,null,"Ranch",null,null,null,null,"Ranch ",null,null,null,null,null,"Ranch",null,null,null,null,null,"Total",null,"Adjusted ","Event ","Event"]
[null,null,null,null,null,"Riding",null,null,null,null,"Ranch",null,null,null,null,"Cutting",null,null,null,null,"Trail",null,null,null,null,null,"Conformation",null,null,null,null,null,"Placement","Tie ","Placement","All","Total"]
[null,null,null,null,null,"Score","Tie ","Adjusted","Place","Place-","Score","Tie ","Adjusted","Place","Place-","Score","Tie ","Adjusted","Place","Place-","Score","Tie ","Adjusted","Place","Place-","Judges","Function ","TOTAL","Tie ","Adjusted","Place","Place-","Points","Breaker","Points","Around","Score"]
[null,null,null,null,null,null,"Breaker","Score",null,"ment",null,"Breaker","Score",null,"ment",null,"Breaker","Score",null,"ment",null,"Breaker","Score",null,"ment","Score","Score","SCORE","Breaker","Score",null,"ment"]
["Back No.","Last Name","First Name","Registered Horse Name","Division",null,null,null,null,"Points",null,null,null,null,"Points",null,null,null,null,"Points",null,null,null,null,"Points",null,null,null,null,null,null,"Points"]
[{"$f":"'Entry Information'!B71","v":5},{"$f":"'Entry Information'!H71","v":"Henderson"},{"$f":"'Entry Information'!I71","v":"Vicky"},{"$f":"'Entry Information'!J71","v":"Tatanka"},"ADV",{"$f":"IF($A11=0,\"\",'Advanced 1'!$D$31)","v":80.199999999999989},null,{"$f":"IF(G11=\"\",F11,(F11+(G11*0.001)))","v":80.199999999999989},{"$f":"IF(H11=\"\",\"\",(RANK(H11,$H$11:$H$25,0)))","v":2},{"$f":"IF($F11=\"\",\"\",(VLOOKUP($I$27,Worksheet!$A$11:$AE$41,I11+1,FALSE)))","v":0},{"$f":"IF(C11=0,\"\",'Advanced 1'!$J$36)","v":60.8},null,{"$f":"IF(L11=\"\",K11,(K11+(L11*0.001)))","v":60.8},{"$f":"IF(M11=\"\",\"\",(RANK(M11,$M$11:$M$25,0)))","v":1},{"$f":"IF($K11=\"\",\"\",(VLOOKUP($N$27,Worksheet!$A$11:$AE$41,N11+1,FALSE)))","v":1},{"$f":"IF(A11=0,\"\",'Advanced 1'!$P$31)","v":63},null,{"$f":"IF(Q11=\"\",P11,(P11+(Q11*0.001)))","v":63},{"$f":"IF(R11=\"\",\"\",(RANK(R11,$R$11:$R$25,0)))","v":2},{"$f":"IF($P11=\"\",\"\",(VLOOKUP($S$27,Worksheet!$A$11:$AE$41,S11+1,FALSE)))","v":0},{"$f":"IF(A11=0,\"\",'Advanced 1'!$V$31)","v":89},null,{"$f":"IF(V11=\"\",U11,(U11+(V11*0.001)))","v":89},{"$f":"IF(W11=\"\",\"\",(RANK(W11,$W$11:$W$25,0)))","v":2},{"$f":"IF($U11=\"\",\"\",(VLOOKUP($X$27,Worksheet!$A$11:$AE$41,X11+1,FALSE)))","v":0},{"$f":"IF(AB11=\"\",\"\",'Advanced 1'!$AB$28)","v":39.36},{"$f":"IF(AB11=\"\",\"\",'Advanced 1'!$AB$31)","v":29.3},{"$f":"IF(A11=0,\"\",'Advanced 1'!$AB$32)","v":68.66},null,{"$f":"IF(AC11=\"\",AB11,(AB11+(AC11*0.001)))","v":68.66},{"$f":"IF(AD11=\"\",\"\",(RANK(AD11,$AD$11:$AD$25,0)))","v":2},{"$f":"IF($AB11=\"\",\"\",(VLOOKUP($AE$27,Worksheet!$A$11:$AE$41,AE11+1,FALSE)))","v":0},{"$f":"IF(A11=0,\"\",(SUM($J11,$O11,$T11,$Y11,$AF11)))","v":1},null,{"$f":"IF(AH11=\"\",AG11,(AG11+(AH11*0.001)))","v":1},{"$f":"IF(AI11=\"\",\"\",(RANK(AI11,$AI$11:$AI$25,0)))","v":2},{"$f":"IF(A11=0,\"\",(SUM(F11,K11,P11,U11,AB11)))","v":361.65999999999997}]
[{"$f":"'Entry Information'!B72","v":3},{"$f":"'Entry Information'!H72","v":"Johnsen"},{"$f":"'Entry Information'!I72","v":"Shelley"},{"$f":"'Entry Information'!J72","v":"Unbranded"},"ADV",{"$f":"IF($A12=0,\"\",'Advanced 2'!$D$31)","v":80.5},null,{"$f":"IF(G12=\"\",F12,(F12+(G12*0.001)))","v":80.5},1,{"$f":"IF($F12=\"\",\"\",(VLOOKUP($I$27,Worksheet!$A$11:$AE$41,I12+1,FALSE)))","v":1},{"$f":"IF(C12=0,\"\",'Advanced 2'!$J$36)","v":48.900000000000006},null,{"$f":"IF(L12=\"\",K12,(K12+(L12*0.001)))","v":48.900000000000006},2,{"$f":"IF($K12=\"\",\"\",(VLOOKUP($N$27,Worksheet!$A$11:$AE$41,N12+1,FALSE)))","v":0},{"$f":"IF(A12=0,\"\",'Advanced 2'!$P$31)","v":75},null,{"$f":"IF(Q12=\"\",P12,(P12+(Q12*0.001)))","v":75},1,{"$f":"IF($P12=\"\",\"\",(VLOOKUP($S$27,Worksheet!$A$11:$AE$41,S12+1,FALSE)))","v":1},{"$f":"IF(A12=0,\"\",'Advanced 2'!$V$31)","v":90.5},null,{"$f":"IF(V12=\"\",U12,(U12+(V12*0.001)))","v":90.5},1,{"$f":"IF($U12=\"\",\"\",(VLOOKUP($X$27,Worksheet!$A$11:$AE$41,X12+1,FALSE)))","v":1},{"$f":"IF(AB12=\"\",\"\",'Advanced 2'!$AB$28)","v":52.230000000000004},{"$f":"IF(AB12=\"\",\"\",'Advanced 2'!$AB$31)","v":29.49},{"$f":"IF(A12=0,\"\",'Advanced 2'!$AB$32)","v":81.72},null,81.72,1,{"$f":"IF($AB12=\"\",\"\",(VLOOKUP($AE$27,Worksheet!$A$11:$AE$41,AE12+1,FALSE)))","v":1},4,null,{"$f":"IF(AH12=\"\",AG12,(AG12+(AH12*0.001)))","v":4},1,376.62]
[{"$f":"'Entry Information'!B73","v":0},{"$f":"'Entry Information'!H73","v":0},{"$f":"'Entry Information'!I73","v":0},{"$f":"'Entry Information'!J73","v":0},"ADV",{"$f":"IF($A13=0,\"\",'Advanced 3'!$D$31)","v":""},null,"","",{"$f":"IF($F13=\"\",\"\",(VLOOKUP($I$27,Worksheet!$A$11:$AE$41,I13+1,FALSE)))","v":""},{"$f":"IF(C13=0,\"\",'Advanced 3'!$J$36)","v":""},null,"","",{"$f":"IF($K13=\"\",\"\",(VLOOKUP($N$27,Worksheet!$A$11:$AE$41,N13+1,FALSE)))","v":""},{"$f":"IF(A13=0,\"\",'Advanced 3'!$P$31)","v":""},null,"","",{"$f":"IF($P13=\"\",\"\",(VLOOKUP($S$27,Worksheet!$A$11:$AE$41,S13+1,FALSE)))","v":""},{"$f":"IF(A13=0,\"\",'Advanced 3'!$V$31)","v":""},null,"","",{"$f":"IF($U13=\"\",\"\",(VLOOKUP($X$27,Worksheet!$A$11:$AE$41,X13+1,FALSE)))","v":""},{"$f":"IF(AB13=\"\",\"\",'Advanced 3'!$AB$28)","v":""},{"$f":"IF(AB13=\"\",\"\",'Advanced 3'!$AB$31)","v":""},{"$f":"IF(A13=0,\"\",'Advanced 3'!$AB$32)","v":""},null,"","",{"$f":"IF($AB13=\"\",\"\",(VLOOKUP($AE$27,Worksheet!$A$11:$AE$41,AE13+1,FALSE)))","v":""},"",null,"","",""]
[{"$f":"'Entry Information'!B74","v":0},{"$f":"'Entry Information'!H74","v":0},{"$f":"'Entry Information'!I74","v":0},{"$f":"'Entry Information'!J74","v":0},"ADV",{"$f":"IF($A14=0,\"\",'Advanced 4'!$D$31)","v":""},null,"","",{"$f":"IF($F14=\"\",\"\",(VLOOKUP($I$27,Worksheet!$A$11:$AE$41,I14+1,FALSE)))","v":""},{"$f":"IF(C14=0,\"\",'Advanced 4'!$J$36)","v":""},null,"","",{"$f":"IF($K14=\"\",\"\",(VLOOKUP($N$27,Worksheet!$A$11:$AE$41,N14+1,FALSE)))","v":""},{"$f":"IF(A14=0,\"\",'Advanced 4'!$P$31)","v":""},null,"","",{"$f":"IF($P14=\"\",\"\",(VLOOKUP($S$27,Worksheet!$A$11:$AE$41,S14+1,FALSE)))","v":""},{"$f":"IF(A14=0,\"\",'Advanced 4'!$V$31)","v":""},null,"","",{"$f":"IF($U14=\"\",\"\",(VLOOKUP($X$27,Worksheet!$A$11:$AE$41,X14+1,FALSE)))","v":""},{"$f":"IF(AB14=\"\",\"\",'Advanced 4'!$AB$28)","v":""},{"$f":"IF(AB14=\"\",\"\",'Advanced 4'!$AB$31)","v":""},{"$f":"IF(A14=0,\"\",'Advanced 4'!$AB$32)","v":""},null,"","",{"$f":"IF($AB14=\"\",\"\",(VLOOKUP($AE$27,Worksheet!$A$11:$AE$41,AE14+1,FALSE)))","v":""},"",null,"","",""]
[{"$f":"'Entry Information'!B75","v":0},{"$f":"'Entry Information'!H75","v":0},{"$f":"'Entry Information'!I75","v":0},{"$f":"'Entry Information'!J75","v":0},"ADV",{"$f":"IF($A15=0,\"\",'Advanced 5'!$D$31)","v":""},null,"","",{"$f":"IF($F15=\"\",\"\",(VLOOKUP($I$27,Worksheet!$A$11:$AE$41,I15+1,FALSE)))","v":""},{"$f":"IF(C15=0,\"\",'Advanced 5'!$J$36)","v":""},null,"","",{"$f":"IF($K15=\"\",\"\",(VLOOKUP($N$27,Worksheet!$A$11:$AE$41,N15+1,FALSE)))","v":""},{"$f":"IF(A15=0,\"\",'Advanced 5'!$P$31)","v":""},null,"","",{"$f":"IF($P15=\"\",\"\",(VLOOKUP($S$27,Worksheet!$A$11:$AE$41,S15+1,FALSE)))","v":""},{"$f":"IF(A15=0,\"\",'Advanced 5'!$V$31)","v":""},null,"","",{"$f":"IF($U15=\"\",\"\",(VLOOKUP($X$27,Worksheet!$A$11:$AE$41,X15+1,FALSE)))","v":""},{"$f":"IF(AB15=\"\",\"\",'Advanced 5'!$AB$28)","v":""},{"$f":"IF(AB15=\"\",\"\",'Advanced 5'!$AB$31)","v":""},{"$f":"IF(A15=0,\"\",'Advanced 5'!$AB$32)","v":""},null,"","",{"$f":"IF($AB15=\"\",\"\",(VLOOKUP($AE$27,Worksheet!$A$11:$AE$41,AE15+1,FALSE)))","v":""},"",null,"","",""]
[{"$f":"'Entry Information'!B76","v":0},{"$f":"'Entry Information'!H76","v":0},{"$f":"'Entry Information'!I76","v":0},{"$f":"'Entry Information'!J76","v":0},"ADV",{"$f":"IF($A16=0,\"\",'Advanced 6'!$D$31)","v":""},null,"","",{"$f":"IF($F16=\"\",\"\",(VLOOKUP($I$27,Worksheet!$A$11:$AE$41,I16+1,FALSE)))","v":""},{"$f":"IF(C16=0,\"\",'Advanced 6'!$J$36)","v":""},null,"","",{"$f":"IF($K16=\"\",\"\",(VLOOKUP($N$27,Worksheet!$A$11:$AE$41,N16+1,FALSE)))","v":""},{"$f":"IF(A16=0,\"\",'Advanced 6'!$P$31)","v":""},null,"","",{"$f":"IF($P16=\"\",\"\",(VLOOKUP($S$27,Worksheet!$A$11:$AE$41,S16+1,FALSE)))","v":""},{"$f":"IF(A16=0,\"\",'Advanced 6'!$V$31)","v":""},null,"","",{"$f":"IF($U16=\"\",\"\",(VLOOKUP($X$27,Worksheet!$A$11:$AE$41,X16+1,FALSE)))","v":""},{"$f":"IF(AB16=\"\",\"\",'Advanced 6'!$AB$28)","v":""},{"$f":"IF(AB16=\"\",\"\",'Advanced 6'!$AB$31)","v":""},{"$f":"IF(A16=0,\"\",'Advanced 6'!$AB$32)","v":""},null,"","",{"$f":"IF($AB16=\"\",\"\",(VLOOKUP($AE$27,Worksheet!$A$11:$AE$41,AE16+1,FALSE)))","v":""},"",null,"","",""]
[{"$f":"'Entry Information'!B77","v":0},{"$f":"'Entry Information'!H77","v":0},{"$f":"'Entry Information'!I77","v":0},{"$f":"'Entry Information'!J77","v":0},"ADV",{"$f":"IF($A17=0,\"\",'Advanced 7'!$D$31)","v":""},null,"","",{"$f":"IF($F17=\"\",\"\",(VLOOKUP($I$27,Worksheet!$A$11:$AE$41,I17+1,FALSE)))","v":""},{"$f":"IF(C17=0,\"\",'Advanced 7'!$J$36)","v":""},null,"","",{"$f":"IF($K17=\"\",\"\",(VLOOKUP($N$27,Worksheet!$A$11:$AE$41,N17+1,FALSE)))","v":""},{"$f":"IF(A17=0,\"\",'Advanced 7'!$P$31)","v":""},null,"","",{"$f":"IF($P17=\"\",\"\",(VLOOKUP($S$27,Worksheet!$A$11:$AE$41,S17+1,FALSE)))","v":""},{"$f":"IF(A17=0,\"\",'Advanced 7'!$V$31)","v":""},null,"","",{"$f":"IF($U17=\"\",\"\",(VLOOKUP($X$27,Worksheet!$A$11:$AE$41,X17+1,FALSE)))","v":""},{"$f":"IF(AB17=\"\",\"\",'Advanced 7'!$AB$28)","v":""},{"$f":"IF(AB17=\"\",\"\",'Advanced 7'!$AB$31)","v":""},{"$f":"IF(A17=0,\"\",'Advanced 7'!$AB$32)","v":""},null,"","",{"$f":"IF($AB17=\"\",\"\",(VLOOKUP($AE$27,Worksheet!$A$11:$AE$41,AE17+1,FALSE)))","v":""},"",null,"","",""]
[{"$f":"'Entry Information'!B78","v":0},{"$f":"'Entry Information'!H78","v":0},{"$f":"'Entry Information'!I78","v":0},{"$f":"'Entry Information'!J78","v":0},"ADV",{"$f":"IF($A18=0,\"\",'Advanced 8'!$D$31)","v":""},null,"","",{"$f":"IF($F18=\"\",\"\",(VLOOKUP($I$27,Worksheet!$A$11:$AE$41,I18+1,FALSE)))","v":""},{"$f":"IF(C18=0,\"\",'Advanced 8'!$J$36)","v":""},null,"","",{"$f":"IF($K18=\"\",\"\",(VLOOKUP($N$27,Worksheet!$A$11:$AE$41,N18+1,FALSE)))","v":""},{"$f":"IF(A18=0,\"\",'Advanced 8'!$P$31)","v":""},null,"","",{"$f":"IF($P18=\"\",\"\",(VLOOKUP($S$27,Worksheet!$A$11:$AE$41,S18+1,FALSE)))","v":""},{"$f":"IF(A18=0,\"\",'Advanced 8'!$V$31)","v":""},null,"","",{"$f":"IF($U18=\"\",\"\",(VLOOKUP($X$27,Worksheet!$A$11:$AE$41,X18+1,FALSE)))","v":""},{"$f":"IF(AB18=\"\",\"\",'Advanced 8'!$AB$28)","v":""},{"$f":"IF(AB18=\"\",\"\",'Advanced 8'!$AB$31)","v":""},{"$f":"IF(A18=0,\"\",'Advanced 8'!$AB$32)","v":""},null,"","",{"$f":"IF($AB18=\"\",\"\",(VLOOKUP($AE$27,Worksheet!$A$11:$AE$41,AE18+1,FALSE)))","v":""},"",null,"","",""]
[{"$f":"'Entry Information'!B79","v":0},{"$f":"'Entry Information'!H79","v":0},{"$f":"'Entry Information'!I79","v":0},{"$f":"'Entry Information'!J79","v":0},"ADV",{"$f":"IF($A19=0,\"\",'Advanced 9'!$D$31)","v":""},null,"","",{"$f":"IF($F19=\"\",\"\",(VLOOKUP($I$27,Worksheet!$A$11:$AE$41,I19+1,FALSE)))","v":""},{"$f":"IF(C19=0,\"\",'Advanced 9'!$J$36)","v":""},null,"","",{"$f":"IF($K19=\"\",\"\",(VLOOKUP($N$27,Worksheet!$A$11:$AE$41,N19+1,FALSE)))","v":""},{"$f":"IF(A19=0,\"\",'Advanced 9'!$P$31)","v":""},null,"","",{"$f":"IF($P19=\"\",\"\",(VLOOKUP($S$27,Worksheet!$A$11:$AE$41,S19+1,FALSE)))","v":""},{"$f":"IF(A19=0,\"\",'Advanced 9'!$V$31)","v":""},null,"","",{"$f":"IF($U19=\"\",\"\",(VLOOKUP($X$27,Worksheet!$A$11:$AE$41,X19+1,FALSE)))","v":""},{"$f":"IF(AB19=\"\",\"\",'Advanced 9'!$AB$28)","v":""},{"$f":"IF(AB19=\"\",\"\",'Advanced 9'!$AB$31)","v":""},{"$f":"IF(A19=0,\"\",'Advanced 9'!$AB$32)","v":""},null,"","",{"$f":"IF($AB19=\"\",\"\",(VLOOKUP($AE$27,Worksheet!$A$11:$AE$41,AE19+1,FALSE)))","v":""},"",null,"","",""]
[{"$f":"'Entry Information'!B80","v":0},{"$f":"'Entry Information'!H80","v":0},{"$f":"'Entry Information'!I80","v":0},{"$f":"'Entry Information'!J80","v":0},"ADV",{"$f":"IF($A20=0,\"\",'Advanced 10'!$D$31)","v":""},null,"","",{"$f":"IF($F20=\"\",\"\",(VLOOKUP($I$27,Worksheet!$A$11:$AE$41,I20+1,FALSE)))","v":""},{"$f":"IF(C20=0,\"\",'Advanced 10'!$J36)","v":""},null,"","",{"$f":"IF($K20=\"\",\"\",(VLOOKUP($N$27,Worksheet!$A$11:$AE$41,N20+1,FALSE)))","v":""},{"$f":"IF(A20=0,\"\",'Advanced 10'!$P$31)","v":""},null,"","",{"$f":"IF($P20=\"\",\"\",(VLOOKUP($S$27,Worksheet!$A$11:$AE$41,S20+1,FALSE)))","v":""},{"$f":"IF(A20=0,\"\",'Advanced 10'!$V$31)","v":""},null,"","",{"$f":"IF($U20=\"\",\"\",(VLOOKUP($X$27,Worksheet!$A$11:$AE$41,X20+1,FALSE)))","v":""},{"$f":"IF(AB20=\"\",\"\",'Advanced 10'!$AB$28)","v":""},{"$f":"IF(AB20=\"\",\"\",'Advanced 10'!$AB$31)","v":""},{"$f":"IF(A20=0,\"\",'Advanced 10'!$AB$32)","v":""},null,"","",{"$f":"IF($AB20=\"\",\"\",(VLOOKUP($AE$27,Worksheet!$A$11:$AE$41,AE20+1,FALSE)))","v":""},"",null,"","",""]
[{"$f":"'Entry Information'!B81","v":0},{"$f":"'Entry Information'!H81","v":0},{"$f":"'Entry Information'!I81","v":0},{"$f":"'Entry Information'!J81","v":0},"ADV",{"$f":"IF($A21=0,\"\",'Advanced 11'!$D$31)","v":""},null,"","",{"$f":"IF($F21=\"\",\"\",(VLOOKUP($I$27,Worksheet!$A$11:$AE$41,I21+1,FALSE)))","v":""},{"$f":"IF(C21=0,\"\",'Advanced 11'!$J$36)","v":""},null,"","",{"$f":"IF($K21=\"\",\"\",(VLOOKUP($N$27,Worksheet!$A$11:$AE$41,N21+1,FALSE)))","v":""},{"$f":"IF(A21=0,\"\",'Advanced 11'!$P$31)","v":""},null,"","",{"$f":"IF($P21=\"\",\"\",(VLOOKUP($S$27,Worksheet!$A$11:$AE$41,S21+1,FALSE)))","v":""},{"$f":"IF(A21=0,\"\",'Advanced 11'!$V$31)","v":""},null,"","",{"$f":"IF($U21=\"\",\"\",(VLOOKUP($X$27,Worksheet!$A$11:$AE$41,X21+1,FALSE)))","v":""},{"$f":"IF(AB21=\"\",\"\",'Advanced 11'!$AB$28)","v":""},{"$f":"IF(AB21=\"\",\"\",'Advanced 11'!$AB$31)","v":""},{"$f":"IF(A21=0,\"\",'Advanced 11'!$AB$32)","v":""},null,"","",{"$f":"IF($AB21=\"\",\"\",(VLOOKUP($AE$27,Worksheet!$A$11:$AE$41,AE21+1,FALSE)))","v":""},"",null,"","",""]
[{"$f":"'Entry Information'!B82","v":0},{"$f":"'Entry Information'!H82","v":0},{"$f":"'Entry Information'!I82","v":0},{"$f":"'Entry Information'!J82","v":0},"ADV",{"$f":"IF($A22=0,\"\",'Advanced 12'!$D$31)","v":""},null,"","",{"$f":"IF($F22=\"\",\"\",(VLOOKUP($I$27,Worksheet!$A$11:$AE$41,I22+1,FALSE)))","v":""},{"$f":"IF(C22=0,\"\",'Advanced 12'!$J$36)","v":""},null,"","",{"$f":"IF($K22=\"\",\"\",(VLOOKUP($N$27,Worksheet!$A$11:$AE$41,N22+1,FALSE)))","v":""},{"$f":"IF(A22=0,\"\",'Advanced 12'!$P$31)","v":""},null,"","",{"$f":"IF($P22=\"\",\"\",(VLOOKUP($S$27,Worksheet!$A$11:$AE$41,S22+1,FALSE)))","v":""},{"$f":"IF($A22=0,\"\",'Advanced 12'!$V$31)","v":""},null,"","",{"$f":"IF($U22=\"\",\"\",(VLOOKUP($X$27,Worksheet!$A$11:$AE$41,X22+1,FALSE)))","v":""},{"$f":"IF(AB22=\"\",\"\",'Advanced 12'!$AB$28)","v":""},{"$f":"IF(AB22=\"\",\"\",'Advanced 12'!$AB$31)","v":""},{"$f":"IF(A22=0,\"\",'Advanced 12'!$AB$32)","v":""},null,"","",{"$f":"IF($AB22=\"\",\"\",(VLOOKUP($AE$27,Worksheet!$A$11:$AE$41,AE22+1,FALSE)))","v":""},"",null,"","",""]
[{"$f":"'Entry Information'!B83","v":0},{"$f":"'Entry Information'!H83","v":0},{"$f":"'Entry Information'!I83","v":0},{"$f":"'Entry Information'!J83","v":0},"ADV",{"$f":"IF($A23=0,\"\",'Advanced 13'!$D$31)","v":""},null,"","",{"$f":"IF($F23=\"\",\"\",(VLOOKUP($I$27,Worksheet!$A$11:$AE$41,I23+1,FALSE)))","v":""},{"$f":"IF(C23=0,\"\",'Advanced 13'!$J$36)","v":""},null,"","",{"$f":"IF($K23=\"\",\"\",(VLOOKUP($N$27,Worksheet!$A$11:$AE$41,N23+1,FALSE)))","v":""},{"$f":"IF(A23=0,\"\",'Advanced 13'!$P$31)","v":""},null,"","",{"$f":"IF($P23=\"\",\"\",(VLOOKUP($S$27,Worksheet!$A$11:$AE$41,S23+1,FALSE)))","v":""},{"$f":"IF(A23=0,\"\",'Advanced 13'!$V$31)","v":""},null,"","",{"$f":"IF($U23=\"\",\"\",(VLOOKUP($X$27,Worksheet!$A$11:$AE$41,X23+1,FALSE)))","v":""},{"$f":"IF(AB23=\"\",\"\",'Advanced 13'!$AB$28)","v":""},{"$f":"IF(AB23=\"\",\"\",'Advanced 13'!$AB$31)","v":""},{"$f":"IF(A23=0,\"\",'Advanced 13'!$AB$32)","v":""},null,"","",{"$f":"IF($AB23=\"\",\"\",(VLOOKUP($AE$27,Worksheet!$A$11:$AE$41,AE23+1,FALSE)))","v":""},"",null,"","",""]
[{"$f":"'Entry Information'!B84","v":0},{"$f":"'Entry Information'!H84","v":0},{"$f":"'Entry Information'!I84","v":0},{"$f":"'Entry Information'!J84","v":0},"ADV",{"$f":"IF($A24=0,\"\",'Advanced 14'!$D$31)","v":""},null,"","",{"$f":"IF($F24=\"\",\"\",(VLOOKUP($I$27,Worksheet!$A$11:$AE$41,I24+1,FALSE)))","v":""},{"$f":"IF(C24=0,\"\",'Advanced 14'!$J$36)","v":""},null,"","",{"$f":"IF($K24=\"\",\"\",(VLOOKUP($N$27,Worksheet!$A$11:$AE$41,N24+1,FALSE)))","v":""},{"$f":"IF(A24=0,\"\",'Advanced 14'!$P$31)","v":""},null,"","",{"$f":"IF($P24=\"\",\"\",(VLOOKUP($S$27,Worksheet!$A$11:$AE$41,S24+1,FALSE)))","v":""},{"$f":"IF(A24=0,\"\",'Advanced 14'!$V$31)","v":""},null,"","",{"$f":"IF($U24=\"\",\"\",(VLOOKUP($X$27,Worksheet!$A$11:$AE$41,X24+1,FALSE)))","v":""},{"$f":"IF(AB24=\"\",\"\",'Advanced 14'!$AB$28)","v":""},{"$f":"IF(AB24=\"\",\"\",'Advanced 14'!$AB$31)","v":""},{"$f":"IF(A24=0,\"\",'Advanced 14'!$AB$32)","v":""},null,"","",{"$f":"IF($AB24=\"\",\"\",(VLOOKUP($AE$27,Worksheet!$A$11:$AE$41,AE24+1,FALSE)))","v":""},"",null,"","",""]
[{"$f":"'Entry Information'!B85","v":0},{"$f":"'Entry Information'!H85","v":0},{"$f":"'Entry Information'!I85","v":0},{"$f":"'Entry Information'!J85","v":0},"ADV",{"$f":"IF($A25=0,\"\",'Advanced 15'!$D$31)","v":""},null,"","",{"$f":"IF($F25=\"\",\"\",(VLOOKUP($I$27,Worksheet!$A$11:$AE$41,I25+1,FALSE)))","v":""},{"$f":"IF(C25=0,\"\",'Advanced 15'!$J$36)","v":""},null,"","",{"$f":"IF($K25=\"\",\"\",(VLOOKUP($N$27,Worksheet!$A$11:$AE$41,N25+1,FALSE)))","v":""},{"$f":"IF(A25=0,\"\",'Advanced 15'!$P$31)","v":""},null,"","",{"$f":"IF($P25=\"\",\"\",(VLOOKUP($S$27,Worksheet!$A$11:$AE$41,S25+1,FALSE)))","v":""},{"$f":"IF(A25=0,\"\",'Advanced 15'!$V$31)","v":""},null,"","",{"$f":"IF($U25=\"\",\"\",(VLOOKUP($X$27,Worksheet!$A$11:$AE$41,X25+1,FALSE)))","v":""},{"$f":"IF(AB25=\"\",\"\",'Advanced 15'!$AB$28)","v":""},{"$f":"IF(AB25=\"\",\"\",'Advanced 15'!$AB$31)","v":""},{"$f":"IF(A25=0,\"\",'Advanced 15'!$AB$32)","v":""},null,"","",{"$f":"IF($AB25=\"\",\"\",(VLOOKUP($AE$27,Worksheet!$A$11:$AE$41,AE25+1,FALSE)))","v":""},"",null,"","",""]
[]
[null,null,null,null,null,null,null,{"$f":"IF(G27=\"\",F27,(F27+(G27*0.001)))","v":0},{"$f":"COUNTIF(I11:I25,\">=0\")","v":2},null,null,null,null,{"$f":"COUNTIF(N11:N25,\">=0\")","v":2},null,null,null,null,{"$f":"COUNTIF(S11:S25,\">=0\")","v":2},null,null,null,null,{"$f":"COUNTIF(X11:X25,\">=0\")","v":2},null,null,null,null,null,{"$f":"IF(AC27=\"\",AB27,(AB27+(AC27*0.001)))","v":0},{"$f":"COUNTIF(AE11:AE25,\">=0\")","v":2}]
[null,null,null,"Tie  Breakers = ",null,"1 - Extended Trot",null,null,null,null,"1 - Roping Cow",null,null,null,null,"1 - Penning",null,null,null,null,"1 - Drag log",null,null,null,null,"1- Structural Correctness",null,null,null,null,null,null,"Working Ranch Score "]
[null,null,null,null,null,"2 - Transition down lope/walk/stop",null,null,null,null,"2 - Box Cow",null,null,null,null,"2 - Working Center of arena",null,null,null,null,"2 - Ground tie/bridle/pick-up legs",null,null,null,null,"2 - Balance",null,null,null,null,null,null,"and then use WR Tie-Breakers"]
[null,null,null,null,null,"3 - Transition to lope/lope",null,null,null,null,"3 - First Lead Change",null,null,null,null,"3 -Cut from Herd",null,null,null,null,"3 - Gate",null,null,null,null,"3 - Ranch Cutting"]
[null,null,null,null,null,null,null,null,null,null,"4 - Spin"]

{"sheet":"OPEN RESULTS (2)","index":7,"n_rows":31,"n_cols":37,"rows_kept":31,"cut":false,"hidden":false,"merged":[[29,25,29,27],[1,31,1,36],[2,1,2,2],[2,4,2,5],[2,8,2,10],[2,18,2,19],[2,20,2,26],[2,27,2,30],[2,31,2,36],[1,0,1,2],[1,4,1,5],[1,8,1,14],[1,18,1,19],[1,20,1,26],[1,27,1,30],[6,5,6,9],[6,10,6,14],[6,15,6,19],[6,20,6,24],[6,26,6,31],[5,5,5,9],[5,10,5,14],[5,15,5,19],[5,20,5,24],[5,26,5,31]]}
[]
[null,null,null,null,"Event Name:",null,null,null,{"$f":"'Entry Information'!H4","v":"The Horse First Farm, Brooklyn, WI"},null,null,null,null,null,null,null,null,null,"Judges Name:",null,{"$f":"'Entry Information'!K4","v":"Dave Currin"},null,null,null,null,null,null,"Classes Judged?",null,null,null,{"$f":"'Entry Information'!O4","v":"CN, RR, RT"}]
["Division:","OPEN",null,null,"Event Date:",null,null,null,{"$f":"'Entry Information'!H5","v":"June 28-29,2014"},null,null,null,null,null,null,null,null,null,"Judges Name:",null,{"$f":"'Entry Information'!K5","v":"Jeff Barnes"},null,null,null,null,null,null,"Classes Judged?",null,null,null,{"$f":"'Entry Information'!O5","v":"WR, RC"}]
[]
[1,2,3,4,5,6,7,null,8,9,10,11,null,12,13,14,15,null,16,17,18,19,null,20,21,22,23,24,25,null,26,27,28,29,null,30,31]
[null,null,null,null,null,"Ranch",null,null,null,null,"Working",null,null,null,null,"Ranch",null,null,null,null,"Ranch ",null,null,null,null,null,"Ranch",null,null,null,null,null,"Total",null,"Adjusted ","Event ","Event"]
[null,null,null,null,null,"Riding",null,null,null,null,"Ranch",null,null,null,null,"Cutting",null,null,null,null,"Trail",null,null,null,null,null,"Conformation",null,null,null,null,null,"Placement","Tie ","Placement","All","Total"]
[null,null,null,null,null,"Score","Tie ","Adjusted","Place","Place-","Score","Tie ","Adjusted","Place","Place-","Score","Tie ","Adjusted","Place","Place-","Score","Tie ","Adjusted","Place","Place-","Judges","Function ","TOTAL","Tie ","Adjusted","Place","Place-","Points","Breaker","Points","Around","Score"]
[null,null,null,null,null,null,"Breaker","Score",null,"ment",null,"Breaker","Score",null,"ment",null,"Breaker","Score",null,"ment",null,"Breaker","Score",null,"ment","Score","Score","SCORE","Breaker","Score",null,"ment"]
["Back No.","Last Name","First Name","Registered Horse Name","Division",null,null,null,null,"Points",null,null,null,null,"Points",null,null,null,null,"Points",null,null,null,null,"Points",null,null,null,null,null,null,"Points"]
[{"$f":"'Entry Information'!B86","v":45},{"$f":"'Entry Information'!H86","v":"Dunn"},{"$f":"'Entry Information'!I86","v":"Maureen"},{"$f":"'Entry Information'!J86","v":"AR Sannabella Check"},"OPEN",{"$f":"IF($A11=0,\"\",'Open 1'!$D$31)","v":56.599999999999994},null,{"$f":"IF(G11=\"\",F11,(F11+(G11*0.001)))","v":56.599999999999994},{"$f":"IF(H11=\"\",\"\",(RANK(H11,$H$11:$H$25,0)))","v":2},{"$f":"IF($F11=\"\",\"\",(VLOOKUP($I$27,Worksheet!$A$11:$AE$41,I11+1,FALSE)))","v":1},{"$f":"IF(C11=0,\"\",'Open 1'!$J$36)","v":19.5},null,{"$f":"IF(L11=\"\",K11,(K11+(L11*0.001)))","v":19.5},{"$f":"IF(M11=\"\",\"\",(RANK(M11,$M$11:$M$25,0)))","v":2},{"$f":"IF($K11=\"\",\"\",(VLOOKUP($N$27,Worksheet!$A$11:$AE$41,N11+1,FALSE)))","v":1},{"$f":"IF(A11=0,\"\",'Open 1'!$P$31)","v":20},null,{"$f":"IF(Q11=\"\",P11,(P11+(Q11*0.001)))","v":20},{"$f":"IF(R11=\"\",\"\",(RANK(R11,$R$11:$R$25,0)))","v":3},{"$f":"IF($P11=\"\",\"\",(VLOOKUP($S$27,Worksheet!$A$11:$AE$41,S11+1,FALSE)))","v":0},{"$f":"IF(A11=0,\"\",'Open 1'!$V$31)","v":52.5},null,{"$f":"IF(V11=\"\",U11,(U11+(V11*0.001)))","v":52.5},{"$f":"IF(W11=\"\",\"\",(RANK(W11,$W$11:$W$25,0)))","v":3},{"$f":"IF($U11=\"\",\"\",(VLOOKUP($X$27,Worksheet!$A$11:$AE$41,X11+1,FALSE)))","v":0},{"$f":"IF(AB11=\"\",\"\",'Open 1'!$AB$28)","v":42.33},{"$f":"IF(AB11=\"\",\"\",'Open 1'!$AB$31)","v":14.86},{"$f":"IF(A11=0,\"\",'Open 1'!$AB$32)","v":57.19},null,{"$f":"IF(AC11=\"\",AB11,(AB11+(AC11*0.001)))","v":57.19},{"$f":"IF(AD11=\"\",\"\",(RANK(AD11,$AD$11:$AD$25,0)))","v":2},{"$f":"IF($AB11=\"\",\"\",(VLOOKUP($AE$27,Worksheet!$A$11:$AE$41,AE11+1,FALSE)))","v":1},{"$f":"IF(A11=0,\"\",(SUM($J11,$O11,$T11,$Y11,$AF11)))","v":3},null,{"$f":"IF(AH11=\"\",AG11,(AG11+(AH11*0.001)))","v":3},{"$f":"IF(AI11=\"\",\"\",(RANK(AI11,$AI$11:$AI$25,0)))","v":3},{"$f":"IF(A11=0,\"\",(SUM(F11,K11,P11,U11,AB11)))","v":205.79}]
[{"$f":"'Entry Information'!B87","v":50},{"$f":"'Entry Information'!H87","v":"Goodland"},{"$f":"'Entry Information'!I87","v":"Rob"},{"$f":"'Entry Information'!J87","v":"Royale Smooth Sailin"},"OPEN",{"$f":"IF($A12=0,\"\",'Open 2'!$D$31)","v":53.499999999999993},null,{"$f":"IF(G12=\"\",F12,(F12+(G12*0.001)))","v":53.499999999999993},3,{"$f":"IF($F12=\"\",\"\",(VLOOKUP($I$27,Worksheet!$A$11:$AE$41,I12+1,FALSE)))","v":0},{"$f":"IF(C12=0,\"\",'Open 2'!$J$36)","v":22},null,{"$f":"IF(L12=\"\",K12,(K12+(L12*0.001)))","v":22},1,{"$f":"IF($K12=\"\",\"\",(VLOOKUP($N$27,Worksheet!$A$11:$AE$41,N12+1,FALSE)))","v":2},{"$f":"IF(A12=0,\"\",'Open 2'!$P$31)","v":36},null,{"$f":"IF(Q12=\"\",P12,(P12+(Q12*0.001)))","v":36},2,{"$f":"IF($P12=\"\",\"\",(VLOOKUP($S$27,Worksheet!$A$11:$AE$41,S12+1,FALSE)))","v":1},{"$f":"IF(A12=0,\"\",'Open 2'!$V$31)","v":67.5},null,{"$f":"IF(V12=\"\",U12,(U12+(V12*0.001)))","v":67.5},1,{"$f":"IF($U12=\"\",\"\",(VLOOKUP($X$27,Worksheet!$A$11:$AE$41,X12+1,FALSE)))","v":2},{"$f":"IF(AB12=\"\",\"\",'Open 2'!$AB$28)","v":36.72},{"$f":"IF(AB12=\"\",\"\",'Open 2'!$AB$31)","v":17.900000000000002},{"$f":"IF(A12=0,\"\",'Open 2'!$AB$32)","v":54.620000000000005},null,54.620000000000005,3,{"$f":"IF($AB12=\"\",\"\",(VLOOKUP($AE$27,Worksheet!$A$11:$AE$41,AE12+1,FALSE)))","v":0},5,null,{"$f":"IF(AH12=\"\",AG12,(AG12+(AH12*0.001)))","v":5},2,233.62]
[{"$f":"'Entry Information'!B88","v":43},{"$f":"'Entry Information'!H88","v":"Sween"},{"$f":"'Entry Information'!I88","v":"Carolyn"},{"$f":"'Entry Information'!J88","v":"AR Powderfully"},"OPEN",{"$f":"IF($A13=0,\"\",'Open 3'!$D$31)","v":60.899999999999991},null,60.899999999999991,1,{"$f":"IF($F13=\"\",\"\",(VLOOKUP($I$27,Worksheet!$A$11:$AE$41,I13+1,FALSE)))","v":2},{"$f":"IF(C13=0,\"\",'Open 3'!$J$36)","v":9.5},null,9.5,3,{"$f":"IF($K13=\"\",\"\",(VLOOKUP($N$27,Worksheet!$A$11:$AE$41,N13+1,FALSE)))","v":0},{"$f":"IF(A13=0,\"\",'Open 3'!$P$31)","v":84},null,84,1,{"$f":"IF($P13=\"\",\"\",(VLOOKUP($S$27,Worksheet!$A$11:$AE$41,S13+1,FALSE)))","v":2},{"$f":"IF(A13=0,\"\",'Open 3'!$V$31)","v":55},null,55,2,{"$f":"IF($U13=\"\",\"\",(VLOOKUP($X$27,Worksheet!$A$11:$AE$41,X13+1,FALSE)))","v":1},{"$f":"IF(AB13=\"\",\"\",'Open 3'!$AB$28)","v":41.34},{"$f":"IF(AB13=\"\",\"\",'Open 3'!$AB$31)","v":20.939999999999998},{"$f":"IF(A13=0,\"\",'Open 3'!$AB$32)","v":62.28},null,62.28,1,{"$f":"IF($AB13=\"\",\"\",(VLOOKUP($AE$27,Worksheet!$A$11:$AE$41,AE13+1,FALSE)))","v":2},7,null,7,1,271.67999999999995]
[{"$f":"'Entry Information'!B89","v":0},{"$f":"'Entry Information'!H89","v":0},{"$f":"'Entry Information'!I89","v":0},{"$f":"'Entry Information'!J89","v":0},"OPEN",{"$f":"IF($A14=0,\"\",'Open 4'!$D$31)","v":""},null,"","",{"$f":"IF($F14=\"\",\"\",(VLOOKUP($I$27,Worksheet!$A$11:$AE$41,I14+1,FALSE)))","v":""},{"$f":"IF(C14=0,\"\",'Open 4'!$J$36)","v":""},null,"","",{"$f":"IF($K14=\"\",\"\",(VLOOKUP($N$27,Worksheet!$A$11:$AE$41,N14+1,FALSE)))","v":""},{"$f":"IF(A14=0,\"\",'Open 4'!$P$31)","v":""},null,"","",{"$f":"IF($P14=\"\",\"\",(VLOOKUP($S$27,Worksheet!$A$11:$AE$41,S14+1,FALSE)))","v":""},{"$f":"IF(A14=0,\"\",'Open 4'!$V$31)","v":""},null,"","",{"$f":"IF($U14=\"\",\"\",(VLOOKUP($X$27,Worksheet!$A$11:$AE$41,X14+1,FALSE)))","v":""},{"$f":"IF(AB14=\"\",\"\",'Open 4'!$AB$28)","v":""},{"$f":"IF(AB14=\"\",\"\",'Open 4'!$AB$31)","v":""},{"$f":"IF(A14=0,\"\",'Open 4'!$AB$32)","v":""},null,"","",{"$f":"IF($AB14=\"\",\"\",(VLOOKUP($AE$27,Worksheet!$A$11:$AE$41,AE14+1,FALSE)))","v":""},"",null,"","",""]
[{"$f":"'Entry Information'!B90","v":0},{"$f":"'Entry Information'!H90","v":0},{"$f":"'Entry Information'!I90","v":0},{"$f":"'Entry Information'!J90","v":0},"OPEN",{"$f":"IF($A15=0,\"\",'Open 5'!$D$31)","v":""},null,"","",{"$f":"IF($F15=\"\",\"\",(VLOOKUP($I$27,Worksheet!$A$11:$AE$41,I15+1,FALSE)))","v":""},{"$f":"IF(C15=0,\"\",'Open 5'!$J$36)","v":""},null,"","",{"$f":"IF($K15=\"\",\"\",(VLOOKUP($N$27,Worksheet!$A$11:$AE$41,N15+1,FALSE)))","v":""},{"$f":"IF(A15=0,\"\",'Open 5'!$P$31)","v":""},null,"","",{"$f":"IF($P15=\"\",\"\",(VLOOKUP($S$27,Worksheet!$A$11:$AE$41,S15+1,FALSE)))","v":""},{"$f":"IF(A15=0,\"\",'Open 5'!$V$31)","v":""},null,"","",{"$f":"IF($U15=\"\",\"\",(VLOOKUP($X$27,Worksheet!$A$11:$AE$41,X15+1,FALSE)))","v":""},{"$f":"IF(AB15=\"\",\"\",'Open 5'!$AB$28)","v":""},{"$f":"IF(AB15=\"\",\"\",'Open 5'!$AB$31)","v":""},{"$f":"IF(A15=0,\"\",'Open 5'!$AB$32)","v":""},null,"","",{"$f":"IF($AB15=\"\",\"\",(VLOOKUP($AE$27,Worksheet!$A$11:$AE$41,AE15+1,FALSE)))","v":""},"",null,"","",""]
[{"$f":"'Entry Information'!B91","v":0},{"$f":"'Entry Information'!H91","v":0},{"$f":"'Entry Information'!I91","v":0},{"$f":"'Entry Information'!J91","v":0},"OPEN",{"$f":"IF($A16=0,\"\",'Open 6'!$D$31)","v":""},null,"","",{"$f":"IF($F16=\"\",\"\",(VLOOKUP($I$27,Worksheet!$A$11:$AE$41,I16+1,FALSE)))","v":""},{"$f":"IF(C16=0,\"\",'Open 6'!$J$36)","v":""},null,"","",{"$f":"IF($K16=\"\",\"\",(VLOOKUP($N$27,Worksheet!$A$11:$AE$41,N16+1,FALSE)))","v":""},{"$f":"IF(A16=0,\"\",'Open 6'!$P$31)","v":""},null,"","",{"$f":"IF($P16=\"\",\"\",(VLOOKUP($S$27,Worksheet!$A$11:$AE$41,S16+1,FALSE)))","v":""},{"$f":"IF(A16=0,\"\",'Open 6'!$V$31)","v":""},null,"","",{"$f":"IF($U16=\"\",\"\",(VLOOKUP($X$27,Worksheet!$A$11:$AE$41,X16+1,FALSE)))","v":""},{"$f":"IF(AB16=\"\",\"\",'Open 6'!$AB$28)","v":""},{"$f":"IF(AB16=\"\",\"\",'Open 6'!$AB$31)","v":""},{"$f":"IF(A16=0,\"\",'Open 6'!$AB$32)","v":""},null,"","",{"$f":"IF($AB16=\"\",\"\",(VLOOKUP($AE$27,Worksheet!$A$11:$AE$41,AE16+1,FALSE)))","v":""},"",null,"","",""]
[{"$f":"'Entry Information'!B92","v":0},{"$f":"'Entry Information'!H92","v":0},{"$f":"'Entry Information'!I92","v":0},{"$f":"'Entry Information'!J92","v":0},"OPEN",{"$f":"IF($A17=0,\"\",'Open 7'!$D$31)","v":""},null,"","",{"$f":"IF($F17=\"\",\"\",(VLOOKUP($I$27,Worksheet!$A$11:$AE$41,I17+1,FALSE)))","v":""},{"$f":"IF(C17=0,\"\",'Open 7'!$J$36)","v":""},null,"","",{"$f":"IF($K17=\"\",\"\",(VLOOKUP($N$27,Worksheet!$A$11:$AE$41,N17+1,FALSE)))","v":""},{"$f":"IF(A17=0,\"\",'Open 7'!$P$31)","v":""},null,"","",{"$f":"IF($P17=\"\",\"\",(VLOOKUP($S$27,Worksheet!$A$11:$AE$41,S17+1,FALSE)))","v":""},{"$f":"IF(A17=0,\"\",'Open 7'!$V$31)","v":""},null,"","",{"$f":"IF($U17=\"\",\"\",(VLOOKUP($X$27,Worksheet!$A$11:$AE$41,X17+1,FALSE)))","v":""},{"$f":"IF(AB17=\"\",\"\",'Open 7'!$AB$28)","v":""},{"$f":"IF(AB17=\"\",\"\",'Open 7'!$AB$31)","v":""},{"$f":"IF(A17=0,\"\",'Open 7'!$AB$32)","v":""},null,"","",{"$f":"IF($AB17=\"\",\"\",(VLOOKUP($AE$27,Worksheet!$A$11:$AE$41,AE17+1,FALSE)))","v":""},"",null,"","",""]
[{"$f":"'Entry Information'!B93","v":0},{"$f":"'Entry Information'!H93","v":0},{"$f":"'Entry Information'!I93","v":0},{"$f":"'Entry Information'!J93","v":0},"OPEN",{"$f":"IF($A18=0,\"\",'Open 8'!$D$31)","v":""},null,"","",{"$f":"IF($F18=\"\",\"\",(VLOOKUP($I$27,Worksheet!$A$11:$AE$41,I18+1,FALSE)))","v":""},{"$f":"IF(C18=0,\"\",'Open 8'!$J$36)","v":""},null,"","",{"$f":"IF($K18=\"\",\"\",(VLOOKUP($N$27,Worksheet!$A$11:$AE$41,N18+1,FALSE)))","v":""},{"$f":"IF(A18=0,\"\",'Open 8'!$P$31)","v":""},null,"","",{"$f":"IF($P18=\"\",\"\",(VLOOKUP($S$27,Worksheet!$A$11:$AE$41,S18+1,FALSE)))","v":""},{"$f":"IF(A18=0,\"\",'Open 8'!$V$31)","v":""},null,"","",{"$f":"IF($U18=\"\",\"\",(VLOOKUP($X$27,Worksheet!$A$11:$AE$41,X18+1,FALSE)))","v":""},{"$f":"IF(AB18=\"\",\"\",'Open 8'!$AB$28)","v":""},{"$f":"IF(AB18=\"\",\"\",'Open 8'!$AB$31)","v":""},{"$f":"IF(A18=0,\"\",'Open 8'!$AB$32)","v":""},null,"","",{"$f":"IF($AB18=\"\",\"\",(VLOOKUP($AE$27,Worksheet!$A$11:$AE$41,AE18+1,FALSE)))","v":""},"",null,"","",""]
[{"$f":"'Entry Information'!B94","v":0},{"$f":"'Entry Information'!H94","v":0},{"$f":"'Entry Information'!I94","v":0},{"$f":"'Entry Information'!J94","v":0},"OPEN",{"$f":"IF($A19=0,\"\",'Open 9'!$D$31)","v":""},null,"","",{"$f":"IF($F19=\"\",\"\",(VLOOKUP($I$27,Worksheet!$A$11:$AE$41,I19+1,FALSE)))","v":""},{"$f":"IF(C19=0,\"\",'Open 9'!$J$36)","v":""},null,"","",{"$f":"IF($K19=\"\",\"\",(VLOOKUP($N$27,Worksheet!$A$11:$AE$41,N19+1,FALSE)))","v":""},{"$f":"IF(A19=0,\"\",'Open 9'!$P$31)","v":""},null,"","",{"$f":"IF($P19=\"\",\"\",(VLOOKUP($S$27,Worksheet!$A$11:$AE$41,S19+1,FALSE)))","v":""},{"$f":"IF(A19=0,\"\",'Open 9'!$V$31)","v":""},null,"","",{"$f":"IF($U19=\"\",\"\",(VLOOKUP($X$27,Worksheet!$A$11:$AE$41,X19+1,FALSE)))","v":""},{"$f":"IF(AB19=\"\",\"\",'Open 9'!$AB$28)","v":""},{"$f":"IF(AB19=\"\",\"\",'Open 9'!$AB$31)","v":""},{"$f":"IF(A19=0,\"\",'Open 9'!$AB$32)","v":""},null,"","",{"$f":"IF($AB19=\"\",\"\",(VLOOKUP($AE$27,Worksheet!$A$11:$AE$41,AE19+1,FALSE)))","v":""},"",null,"","",""]
[{"$f":"'Entry Information'!B95","v":0},{"$f":"'Entry Information'!H95","v":0},{"$f":"'Entry Information'!I95","v":0},{"$f":"'Entry Information'!J95","v":0},"OPEN",{"$f":"IF($A20=0,\"\",'Open 10'!$D$31)","v":""},null,"","",{"$f":"IF($F20=\"\",\"\",(VLOOKUP($I$27,Worksheet!$A$11:$AE$41,I20+1,FALSE)))","v":""},{"$f":"IF(C20=0,\"\",'Open 10'!$J36)","v":""},null,"","",{"$f":"IF($K20=\"\",\"\",(VLOOKUP($N$27,Worksheet!$A$11:$AE$41,N20+1,FALSE)))","v":""},{"$f":"IF(A20=0,\"\",'Open 10'!$P$31)","v":""},null,"","",{"$f":"IF($P20=\"\",\"\",(VLOOKUP($S$27,Worksheet!$A$11:$AE$41,S20+1,FALSE)))","v":""},{"$f":"IF(A20=0,\"\",'Open 10'!$V$31)","v":""},null,"","",{"$f":"IF($U20=\"\",\"\",(VLOOKUP($X$27,Worksheet!$A$11:$AE$41,X20+1,FALSE)))","v":""},{"$f":"IF(AB20=\"\",\"\",'Open 10'!$AB$28)","v":""},{"$f":"IF(AB20=\"\",\"\",'Open 10'!$AB$31)","v":""},{"$f":"IF(A20=0,\"\",'Open 10'!$AB$32)","v":""},null,"","",{"$f":"IF($AB20=\"\",\"\",(VLOOKUP($AE$27,Worksheet!$A$11:$AE$41,AE20+1,FALSE)))","v":""},"",null,"","",""]
[{"$f":"'Entry Information'!B96","v":0},{"$f":"'Entry Information'!H96","v":0},{"$f":"'Entry Information'!I96","v":0},{"$f":"'Entry Information'!J96","v":0},"OPEN",{"$f":"IF($A21=0,\"\",'Open 11'!$D$31)","v":""},null,"","",{"$f":"IF($F21=\"\",\"\",(VLOOKUP($I$27,Worksheet!$A$11:$AE$41,I21+1,FALSE)))","v":""},{"$f":"IF(C21=0,\"\",'Open 11'!$J$36)","v":""},null,"","",{"$f":"IF($K21=\"\",\"\",(VLOOKUP($N$27,Worksheet!$A$11:$AE$41,N21+1,FALSE)))","v":""},{"$f":"IF(A21=0,\"\",'Open 11'!$P$31)","v":""},null,"","",{"$f":"IF($P21=\"\",\"\",(VLOOKUP($S$27,Worksheet!$A$11:$AE$41,S21+1,FALSE)))","v":""},{"$f":"IF(A21=0,\"\",'Open 11'!$V$31)","v":""},null,"","",{"$f":"IF($U21=\"\",\"\",(VLOOKUP($X$27,Worksheet!$A$11:$AE$41,X21+1,FALSE)))","v":""},{"$f":"IF(AB21=\"\",\"\",'Open 11'!$AB$28)","v":""},{"$f":"IF(AB21=\"\",\"\",'Open 11'!$AB$31)","v":""},{"$f":"IF(A21=0,\"\",'Open 11'!$AB$32)","v":""},null,"","",{"$f":"IF($AB21=\"\",\"\",(VLOOKUP($AE$27,Worksheet!$A$11:$AE$41,AE21+1,FALSE)))","v":""},"",null,"","",""]
[{"$f":"'Entry Information'!B97","v":0},{"$f":"'Entry Information'!H97","v":0},{"$f":"'Entry Information'!I97","v":0},{"$f":"'Entry Information'!J97","v":0},"OPEN",{"$f":"IF($A22=0,\"\",'Open 12'!$D$31)","v":""},null,"","",{"$f":"IF($F22=\"\",\"\",(VLOOKUP($I$27,Worksheet!$A$11:$AE$41,I22+1,FALSE)))","v":""},{"$f":"IF(C22=0,\"\",'Open 12'!$J$36)","v":""},null,"","",{"$f":"IF($K22=\"\",\"\",(VLOOKUP($N$27,Worksheet!$A$11:$AE$41,N22+1,FALSE)))","v":""},{"$f":"IF(A22=0,\"\",'Open 12'!$P$31)","v":""},null,"","",{"$f":"IF($P22=\"\",\"\",(VLOOKUP($S$27,Worksheet!$A$11:$AE$41,S22+1,FALSE)))","v":""},{"$f":"IF($A22=0,\"\",'Open 12'!$V$31)","v":""},null,"","",{"$f":"IF($U22=\"\",\"\",(VLOOKUP($X$27,Worksheet!$A$11:$AE$41,X22+1,FALSE)))","v":""},{"$f":"IF(AB22=\"\",\"\",'Open 12'!$AB$28)","v":""},{"$f":"IF(AB22=\"\",\"\",'Open 12'!$AB$31)","v":""},{"$f":"IF(A22=0,\"\",'Open 12'!$AB$32)","v":""},null,"","",{"$f":"IF($AB22=\"\",\"\",(VLOOKUP($AE$27,Worksheet!$A$11:$AE$41,AE22+1,FALSE)))","v":""},"",null,"","",""]
[{"$f":"'Entry Information'!B98","v":0},{"$f":"'Entry Information'!H98","v":0},{"$f":"'Entry Information'!I98","v":0},{"$f":"'Entry Information'!J98","v":0},"OPEN",{"$f":"IF($A23=0,\"\",'Open 13'!$D$31)","v":""},null,"","",{"$f":"IF($F23=\"\",\"\",(VLOOKUP($I$27,Worksheet!$A$11:$AE$41,I23+1,FALSE)))","v":""},{"$f":"IF(C23=0,\"\",'Open 13'!$J$36)","v":""},null,"","",{"$f":"IF($K23=\"\",\"\",(VLOOKUP($N$27,Worksheet!$A$11:$AE$41,N23+1,FALSE)))","v":""},{"$f":"IF(A23=0,\"\",'Open 13'!$P$31)","v":""},null,"","",{"$f":"IF($P23=\"\",\"\",(VLOOKUP($S$27,Worksheet!$A$11:$AE$41,S23+1,FALSE)))","v":""},{"$f":"IF(A23=0,\"\",'Open 13'!$V$31)","v":""},null,"","",{"$f":"IF($U23=\"\",\"\",(VLOOKUP($X$27,Worksheet!$A$11:$AE$41,X23+1,FALSE)))","v":""},{"$f":"IF(AB23=\"\",\"\",'Open 13'!$AB$28)","v":""},{"$f":"IF(AB23=\"\",\"\",'Open 13'!$AB$31)","v":""},{"$f":"IF(A23=0,\"\",'Open 13'!$AB$32)","v":""},null,"","",{"$f":"IF($AB23=\"\",\"\",(VLOOKUP($AE$27,Worksheet!$A$11:$AE$41,AE23+1,FALSE)))","v":""},"",null,"","",""]
[{"$f":"'Entry Information'!B99","v":0},{"$f":"'Entry Information'!H99","v":0},{"$f":"'Entry Information'!I99","v":0},{"$f":"'Entry Information'!J99","v":0},"OPEN",{"$f":"IF($A24=0,\"\",'Open 14'!$D$31)","v":""},null,"","",{"$f":"IF($F24=\"\",\"\",(VLOOKUP($I$27,Worksheet!$A$11:$AE$41,I24+1,FALSE)))","v":""},{"$f":"IF(C24=0,\"\",'Open 14'!$J$36)","v":""},null,"","",{"$f":"IF($K24=\"\",\"\",(VLOOKUP($N$27,Worksheet!$A$11:$AE$41,N24+1,FALSE)))","v":""},{"$f":"IF(A24=0,\"\",'Open 14'!$P$31)","v":""},null,"","",{"$f":"IF($P24=\"\",\"\",(VLOOKUP($S$27,Worksheet!$A$11:$AE$41,S24+1,FALSE)))","v":""},{"$f":"IF(A24=0,\"\",'Open 14'!$V$31)","v":""},null,"","",{"$f":"IF($U24=\"\",\"\",(VLOOKUP($X$27,Worksheet!$A$11:$AE$41,X24+1,FALSE)))","v":""},{"$f":"IF(AB24=\"\",\"\",'Open 14'!$AB$28)","v":""},{"$f":"IF(AB24=\"\",\"\",'Open 14'!$AB$31)","v":""},{"$f":"IF(A24=0,\"\",'Open 14'!$AB$32)","v":""},null,"","",{"$f":"IF($AB24=\"\",\"\",(VLOOKUP($AE$27,Worksheet!$A$11:$AE$41,AE24+1,FALSE)))","v":""},"",null,"","",""]
[{"$f":"'Entry Information'!B100","v":0},{"$f":"'Entry Information'!H100","v":0},{"$f":"'Entry Information'!I100","v":0},{"$f":"'Entry Information'!J100","v":0},"OPEN",{"$f":"IF($A25=0,\"\",'Open 15'!$D$31)","v":""},null,"","",{"$f":"IF($F25=\"\",\"\",(VLOOKUP($I$27,Worksheet!$A$11:$AE$41,I25+1,FALSE)))","v":""},{"$f":"IF(C25=0,\"\",'Open 15'!$J$36)","v":""},null,"","",{"$f":"IF($K25=\"\",\"\",(VLOOKUP($N$27,Worksheet!$A$11:$AE$41,N25+1,FALSE)))","v":""},{"$f":"IF(A25=0,\"\",'Open 15'!$P$31)","v":""},null,"","",{"$f":"IF($P25=\"\",\"\",(VLOOKUP($S$27,Worksheet!$A$11:$AE$41,S25+1,FALSE)))","v":""},{"$f":"IF(A25=0,\"\",'Open 15'!$V$31)","v":""},null,"","",{"$f":"IF($U25=\"\",\"\",(VLOOKUP($X$27,Worksheet!$A$11:$AE$41,X25+1,FALSE)))","v":""},{"$f":"IF(AB25=\"\",\"\",'Open 15'!$AB$28)","v":""},{"$f":"IF(AB25=\"\",\"\",'Open 15'!$AB$31)","v":""},{"$f":"IF(A25=0,\"\",'Open 15'!$AB$32)","v":""},null,"","",{"$f":"IF($AB25=\"\",\"\",(VLOOKUP($AE$27,Worksheet!$A$11:$AE$41,AE25+1,FALSE)))","v":""},"",null,"","",""]
[]
[null,null,null,null,null,null,null,null,{"$f":"COUNTIF(I11:I25,\">=0\")","v":3},null,null,null,null,{"$f":"COUNTIF(N11:N25,\">=0\")","v":3},null,null,null,null,{"$f":"COUNTIF(S11:S25,\">=0\")","v":3},null,null,null,null,{"$f":"COUNTIF(X11:X25,\">=0\")","v":3},null,null,null,null,null,{"$f":"IF(AC27=\"\",AB27,(AB27+(AC27*0.001)))","v":0},{"$f":"COUNTIF(AE11:AE25,\">=0\")","v":3}]
[null,null,null,"Tie  Breakers = ",null,"1 - Extended Trot",null,null,null,null,"1 - Roping Cow",null,null,null,null,"1 - Penning",null,null,null,null,"1 - Drag log",null,null,null,null,"1- Structural Correctness",null,null,null,null,null,null,"Working Ranch Score "]
[null,null,null,null,null,"2 - Transition down lope/walk/stop",null,null,null,null,"2 - Box Cow",null,null,null,null,"2 - Working Center of arena",null,null,null,null,"2 - Ground tie/bridle/pick-up legs",null,null,null,null,"2 - Balance",null,null,null,null,null,null,"and then use WR Tie-Breakers"]
[null,null,null,null,null,"3 - Transition to lope/lope",null,null,null,null,"3 - First Lead Change",null,null,null,null,"3 -Cut from Herd",null,null,null,null,"3 - Gate",null,null,null,null,"3 - Ranch Cutting"]
[null,null,null,null,null,null,null,null,null,null,"4 - Spin"]

{"sheet":"YOUTH RESULTS (2)","index":8,"n_rows":30,"n_cols":37,"rows_kept":30,"cut":false,"hidden":false,"merged":[[29,25,29,27],[1,31,1,36],[2,1,2,2],[2,4,2,5],[2,8,2,10],[2,18,2,19],[2,20,2,26],[2,27,2,30],[2,31,2,36],[1,0,1,2],[1,4,1,5],[1,8,1,14],[1,18,1,19],[1,20,1,26],[1,27,1,30],[6,5,6,9],[6,10,6,14],[6,15,6,19],[6,20,6,24],[6,26,6,31],[5,5,5,9],[5,10,5,14],[5,15,5,19],[5,20,5,24],[5,26,5,31]]}
[]
[null,null,null,null,"Event Name:",null,null,null,{"$f":"'Entry Information'!H4","v":"The Horse First Farm, Brooklyn, WI"},null,null,null,null,null,null,null,null,null,"Judges Name:",null,{"$f":"'Entry Information'!K4","v":"Dave Currin"},null,null,null,null,null,null,"Classes Judged?",null,null,null,{"$f":"'Entry Information'!O4","v":"CN, RR, RT"}]
["Division:","YOUTH",null,null,"Event Date:",null,null,null,{"$f":"'Entry Information'!H5","v":"June 28-29,2014"},null,null,null,null,null,null,null,null,null,"Judges Name:",null,{"$f":"'Entry Information'!K5","v":"Jeff Barnes"},null,null,null,null,null,null,"Classes Judged?",null,null,null,{"$f":"'Entry Information'!O5","v":"WR, RC"}]
[]
[1,2,3,4,5,6,7,null,8,9,10,11,null,12,13,14,15,null,16,17,18,19,null,20,21,22,23,24,25,null,26,27,28,29,null,30,31]
[null,null,null,null,null,"Ranch",null,null,null,null,"Working",null,null,null,null,"Ranch",null,null,null,null,"Ranch ",null,null,null,null,null,"Ranch",null,null,null,null,null,"Total",null,"Adjusted ","Event ","Event"]
[null,null,null,null,null,"Riding",null,null,null,null,"Ranch",null,null,null,null,"Cutting",null,null,null,null,"Trail",null,null,null,null,null,"Conformation",null,null,null,null,null,"Placement","Tie ","Placement","All","Total"]
[null,null,null,null,null,"Score","Tie ","Adjusted","Place","Place-","Score","Tie ","Adjusted","Place","Place-","Score","Tie ","Adjusted","Place","Place-","Score","Tie ","Adjusted","Place","Place-","Judges","Function ","TOTAL","Tie ","Adjusted","Place","Place-","Points","Breaker","Points","Around","Score"]
[null,null,null,null,null,null,"Breaker","Score",null,"ment",null,"Breaker","Score",null,"ment",null,"Breaker","Score",null,"ment",null,"Breaker","Score",null,"ment","Score","Score","SCORE","Breaker","Score",null,"ment"]
["Back No.","Last Name","First Name","Registered Horse Name","Division",null,null,null,null,"Points",null,null,null,null,"Points",null,null,null,null,"Points",null,null,null,null,"Points",null,null,null,null,null,null,"Points"]
[{"$f":"'Entry Information'!$B110","v":0},{"$f":"'Entry Information'!$H110","v":0},{"$f":"'Entry Information'!$I110","v":0},{"$f":"'Entry Information'!$J110","v":0},"YOUTH",{"$f":"IF($A11=0,\"\",'Youth 1'!$D$31)","v":""},null,{"$f":"IF(G11=\"\",F11,(F11+(G11*0.001)))","v":""},{"$f":"IF(H11=\"\",\"\",(RANK(H11,$H$11:$H$25,0)))","v":""},{"$f":"IF($F11=\"\",\"\",(VLOOKUP($I$27,Worksheet!$A$11:$AE$41,I11+1,FALSE)))","v":""},{"$f":"IF(A11=0,\"\",'Youth 1'!$J$31)","v":""},null,{"$f":"IF(L11=\"\",K11,(K11+(L11*0.001)))","v":""},{"$f":"IF(M11=\"\",\"\",(RANK(M11,$M$11:$M$25,0)))","v":""},{"$f":"IF($K11=\"\",\"\",(VLOOKUP($N$27,Worksheet!$A$11:$AE$41,N11+1,FALSE)))","v":""},{"$f":"IF(A11=0,\"\",'Youth 1'!$P$31)","v":""},null,{"$f":"IF(Q11=\"\",P11,(P11+(Q11*0.001)))","v":""},{"$f":"IF(R11=\"\",\"\",(RANK(R11,$R$11:$R$25,0)))","v":""},{"$f":"IF($P11=\"\",\"\",(VLOOKUP($S$27,Worksheet!$A$11:$AE$41,S11+1,FALSE)))","v":""},{"$f":"IF(A11=0,\"\",'Youth 1'!$V$31)","v":""},null,{"$f":"IF(V11=\"\",U11,(U11+(V11*0.001)))","v":""},{"$f":"IF(W11=\"\",\"\",(RANK(W11,$W$11:$W$25,0)))","v":""},{"$f":"IF($U11=\"\",\"\",(VLOOKUP($X$27,Worksheet!$A$11:$AE$41,X11+1,FALSE)))","v":""},{"$f":"IF(AB11=\"\",\"\",'Youth 1'!$AB$28)","v":""},{"$f":"IF(AB11=\"\",\"\",'Youth 1'!$AB$31)","v":""},{"$f":"IF(A11=0,\"\",'Youth 1'!$AB$32)","v":""},null,{"$f":"IF(AC11=\"\",AB11,(AB11+(AC11*0.001)))","v":""},{"$f":"IF(AD11=\"\",\"\",(RANK(AD11,$AD$11:$AD$25,0)))","v":""},{"$f":"IF($AB11=\"\",\"\",(VLOOKUP($AE$27,Worksheet!$A$11:$AE$41,AE11+1,FALSE)))","v":""},{"$f":"IF(A11=0,\"\",(SUM($J11,$O11,$T11,$Y11,$AF11)))","v":""},null,{"$f":"IF(AH11=\"\",AG11,(AG11+(AH11*0.001)))","v":""},{"$f":"IF(AI11=\"\",\"\",(RANK(AI11,$AI$11:$AI$25,0)))","v":""},{"$f":"IF(A11=0,\"\",(SUM(F11,K11,P11,U11,AB11)))","v":""}]
[{"$f":"'Entry Information'!$B111","v":0},{"$f":"'Entry Information'!$H111","v":0},{"$f":"'Entry Information'!$I111","v":0},{"$f":"'Entry Information'!$J111","v":0},"YOUTH",{"$f":"IF($A12=0,\"\",'Youth 2'!$D$31)","v":""},null,{"$f":"IF(G12=\"\",F12,(F12+(G12*0.001)))","v":""},"",{"$f":"IF($F12=\"\",\"\",(VLOOKUP($I$27,Worksheet!$A$11:$AE$41,I12+1,FALSE)))","v":""},{"$f":"IF(A12=0,\"\",'Youth 2'!$J$31)","v":""},null,{"$f":"IF(L12=\"\",K12,(K12+(L12*0.001)))","v":""},"",{"$f":"IF($K12=\"\",\"\",(VLOOKUP($N$27,Worksheet!$A$11:$AE$41,N12+1,FALSE)))","v":""},{"$f":"IF(A12=0,\"\",'Youth 2'!$P$31)","v":""},null,{"$f":"IF(Q12=\"\",P12,(P12+(Q12*0.001)))","v":""},"",{"$f":"IF($P12=\"\",\"\",(VLOOKUP($S$27,Worksheet!$A$11:$AE$41,S12+1,FALSE)))","v":""},{"$f":"IF(A12=0,\"\",'Youth 2'!$V$31)","v":""},null,{"$f":"IF(V12=\"\",U12,(U12+(V12*0.001)))","v":""},"",{"$f":"IF($U12=\"\",\"\",(VLOOKUP($X$27,Worksheet!$A$11:$AE$41,X12+1,FALSE)))","v":""},{"$f":"IF(AB12=\"\",\"\",'Youth 2'!$AB$28)","v":""},{"$f":"IF(AB12=\"\",\"\",'Youth 2'!$AB$31)","v":""},{"$f":"IF(A12=0,\"\",'Youth 2'!$AB$32)","v":""},null,"","",{"$f":"IF($AB12=\"\",\"\",(VLOOKUP($AE$27,Worksheet!$A$11:$AE$41,AE12+1,FALSE)))","v":""},"",null,{"$f":"IF(AH12=\"\",AG12,(AG12+(AH12*0.001)))","v":""},"",""]
[{"$f":"'Entry Information'!$B112","v":0},{"$f":"'Entry Information'!$H112","v":0},{"$f":"'Entry Information'!$I112","v":0},{"$f":"'Entry Information'!$J112","v":0},"YOUTH",{"$f":"IF($A13=0,\"\",'Youth 3'!$D$31)","v":""},null,"","",{"$f":"IF($F13=\"\",\"\",(VLOOKUP($I$27,Worksheet!$A$11:$AE$41,I13+1,FALSE)))","v":""},{"$f":"IF(A13=0,\"\",'Youth 3'!$J$31)","v":""},null,"","",{"$f":"IF($K13=\"\",\"\",(VLOOKUP($N$27,Worksheet!$A$11:$AE$41,N13+1,FALSE)))","v":""},{"$f":"IF(A13=0,\"\",'Youth 3'!$P$31)","v":""},null,"","",{"$f":"IF($P13=\"\",\"\",(VLOOKUP($S$27,Worksheet!$A$11:$AE$41,S13+1,FALSE)))","v":""},{"$f":"IF(A13=0,\"\",'Youth 3'!$V$31)","v":""},null,"","",{"$f":"IF($U13=\"\",\"\",(VLOOKUP($X$27,Worksheet!$A$11:$AE$41,X13+1,FALSE)))","v":""},{"$f":"IF(AB13=\"\",\"\",'Youth 3'!$AB$28)","v":""},{"$f":"IF(AB13=\"\",\"\",'Youth 3'!$AB$31)","v":""},{"$f":"IF(A13=0,\"\",'Youth 3'!$AB$32)","v":""},null,"","",{"$f":"IF($AB13=\"\",\"\",(VLOOKUP($AE$27,Worksheet!$A$11:$AE$41,AE13+1,FALSE)))","v":""},"",null,"","",""]
[{"$f":"'Entry Information'!$B113","v":0},{"$f":"'Entry Information'!$H113","v":0},{"$f":"'Entry Information'!$I113","v":0},{"$f":"'Entry Information'!$J113","v":0},"YOUTH",{"$f":"IF($A14=0,\"\",'Youth 4'!$D$31)","v":""},null,"","",{"$f":"IF($F14=\"\",\"\",(VLOOKUP($I$27,Worksheet!$A$11:$AE$41,I14+1,FALSE)))","v":""},{"$f":"IF(A14=0,\"\",'Youth 4'!$J$31)","v":""},null,"","",{"$f":"IF($K14=\"\",\"\",(VLOOKUP($N$27,Worksheet!$A$11:$AE$41,N14+1,FALSE)))","v":""},{"$f":"IF(A14=0,\"\",'Youth 4'!$P$31)","v":""},null,"","",{"$f":"IF($P14=\"\",\"\",(VLOOKUP($S$27,Worksheet!$A$11:$AE$41,S14+1,FALSE)))","v":""},{"$f":"IF(A14=0,\"\",'Youth 4'!$V$31)","v":""},null,"","",{"$f":"IF($U14=\"\",\"\",(VLOOKUP($X$27,Worksheet!$A$11:$AE$41,X14+1,FALSE)))","v":""},{"$f":"IF(AB14=\"\",\"\",'Youth 4'!$AB$28)","v":""},{"$f":"IF(AB14=\"\",\"\",'Youth 4'!$AB$31)","v":""},{"$f":"IF(A14=0,\"\",'Youth 4'!$AB$32)","v":""},null,"","",{"$f":"IF($AB14=\"\",\"\",(VLOOKUP($AE$27,Worksheet!$A$11:$AE$41,AE14+1,FALSE)))","v":""},"",null,"","",""]
[{"$f":"'Entry Information'!$B114","v":0},{"$f":"'Entry Information'!$H114","v":0},{"$f":"'Entry Information'!$I114","v":0},{"$f":"'Entry Information'!$J114","v":0},"YOUTH",{"$f":"IF($A15=0,\"\",'Youth 5'!$D$31)","v":""},null,"","",{"$f":"IF($F15=\"\",\"\",(VLOOKUP($I$27,Worksheet!$A$11:$AE$41,I15+1,FALSE)))","v":""},{"$f":"IF(A15=0,\"\",'Youth 5'!$J$31)","v":""},null,"","",{"$f":"IF($K15=\"\",\"\",(VLOOKUP($N$27,Worksheet!$A$11:$AE$41,N15+1,FALSE)))","v":""},{"$f":"IF(A15=0,\"\",'Youth 5'!$P$31)","v":""},null,"","",{"$f":"IF($P15=\"\",\"\",(VLOOKUP($S$27,Worksheet!$A$11:$AE$41,S15+1,FALSE)))","v":""},{"$f":"IF(A15=0,\"\",'Youth 5'!$V$31)","v":""},null,"","",{"$f":"IF($U15=\"\",\"\",(VLOOKUP($X$27,Worksheet!$A$11:$AE$41,X15+1,FALSE)))","v":""},{"$f":"IF(AB15=\"\",\"\",'Youth 5'!$AB$28)","v":""},{"$f":"IF(AB15=\"\",\"\",'Youth 5'!$AB$31)","v":""},{"$f":"IF(A15=0,\"\",'Youth 5'!$AB$32)","v":""},null,"","",{"$f":"IF($AB15=\"\",\"\",(VLOOKUP($AE$27,Worksheet!$A$11:$AE$41,AE15+1,FALSE)))","v":""},"",null,"","",""]
[{"$f":"'Entry Information'!$B115","v":0},{"$f":"'Entry Information'!$H115","v":0},{"$f":"'Entry Information'!$I115","v":0},{"$f":"'Entry Information'!$J115","v":0},"YOUTH",{"$f":"IF($A16=0,\"\",'Youth 6'!$D$31)","v":""},null,"","",{"$f":"IF($F16=\"\",\"\",(VLOOKUP($I$27,Worksheet!$A$11:$AE$41,I16+1,FALSE)))","v":""},{"$f":"IF(A16=0,\"\",'Youth 6'!$J$31)","v":""},null,"","",{"$f":"IF($K16=\"\",\"\",(VLOOKUP($N$27,Worksheet!$A$11:$AE$41,N16+1,FALSE)))","v":""},{"$f":"IF(A16=0,\"\",'Youth 6'!$P$31)","v":""},null,"","",{"$f":"IF($P16=\"\",\"\",(VLOOKUP($S$27,Worksheet!$A$11:$AE$41,S16+1,FALSE)))","v":""},{"$f":"IF(A16=0,\"\",'Youth 6'!$V$31)","v":""},null,"","",{"$f":"IF($U16=\"\",\"\",(VLOOKUP($X$27,Worksheet!$A$11:$AE$41,X16+1,FALSE)))","v":""},{"$f":"IF(AB16=\"\",\"\",'Youth 6'!$AB$28)","v":""},{"$f":"IF(AB16=\"\",\"\",'Youth 6'!$AB$31)","v":""},{"$f":"IF(A16=0,\"\",'Youth 6'!$AB$32)","v":""},null,"","",{"$f":"IF($AB16=\"\",\"\",(VLOOKUP($AE$27,Worksheet!$A$11:$AE$41,AE16+1,FALSE)))","v":""},"",null,"","",""]
[{"$f":"'Entry Information'!$B116","v":0},{"$f":"'Entry Information'!$H116","v":0},{"$f":"'Entry Information'!$I116","v":0},{"$f":"'Entry Information'!$J116","v":0},"YOUTH",{"$f":"IF($A17=0,\"\",'Youth 7'!$D$31)","v":""},null,"","",{"$f":"IF($F17=\"\",\"\",(VLOOKUP($I$27,Worksheet!$A$11:$AE$41,I17+1,FALSE)))","v":""},{"$f":"IF(A17=0,\"\",'Youth 7'!$J$31)","v":""},null,"","",{"$f":"IF($K17=\"\",\"\",(VLOOKUP($N$27,Worksheet!$A$11:$AE$41,N17+1,FALSE)))","v":""},{"$f":"IF(A17=0,\"\",'Youth 7'!$P$31)","v":""},null,"","",{"$f":"IF($P17=\"\",\"\",(VLOOKUP($S$27,Worksheet!$A$11:$AE$41,S17+1,FALSE)))","v":""},{"$f":"IF(A17=0,\"\",'Youth 7'!$V$31)","v":""},null,"","",{"$f":"IF($U17=\"\",\"\",(VLOOKUP($X$27,Worksheet!$A$11:$AE$41,X17+1,FALSE)))","v":""},{"$f":"IF(AB17=\"\",\"\",'Youth 7'!$AB$28)","v":""},{"$f":"IF(AB17=\"\",\"\",'Youth 7'!$AB$31)","v":""},{"$f":"IF(A17=0,\"\",'Youth 7'!$AB$32)","v":""},null,"","",{"$f":"IF($AB17=\"\",\"\",(VLOOKUP($AE$27,Worksheet!$A$11:$AE$41,AE17+1,FALSE)))","v":""},"",null,"","",""]
[{"$f":"'Entry Information'!$B117","v":0},{"$f":"'Entry Information'!$H117","v":0},{"$f":"'Entry Information'!$I117","v":0},{"$f":"'Entry Information'!$J117","v":0},"YOUTH",{"$f":"IF($A18=0,\"\",'Youth 8'!$D$31)","v":""},null,"","",{"$f":"IF($F18=\"\",\"\",(VLOOKUP($I$27,Worksheet!$A$11:$AE$41,I18+1,FALSE)))","v":""},{"$f":"IF(A18=0,\"\",'Youth 8'!$J$31)","v":""},null,"","",{"$f":"IF($K18=\"\",\"\",(VLOOKUP($N$27,Worksheet!$A$11:$AE$41,N18+1,FALSE)))","v":""},{"$f":"IF(A18=0,\"\",'Youth 8'!$P$31)","v":""},null,"","",{"$f":"IF($P18=\"\",\"\",(VLOOKUP($S$27,Worksheet!$A$11:$AE$41,S18+1,FALSE)))","v":""},{"$f":"IF(A18=0,\"\",'Youth 8'!$V$31)","v":""},null,"","",{"$f":"IF($U18=\"\",\"\",(VLOOKUP($X$27,Worksheet!$A$11:$AE$41,X18+1,FALSE)))","v":""},{"$f":"IF(AB18=\"\",\"\",'Youth 8'!$AB$28)","v":""},{"$f":"IF(AB18=\"\",\"\",'Youth 8'!$AB$31)","v":""},{"$f":"IF(A18=0,\"\",'Youth 8'!$AB$32)","v":""},null,"","",{"$f":"IF($AB18=\"\",\"\",(VLOOKUP($AE$27,Worksheet!$A$11:$AE$41,AE18+1,FALSE)))","v":""},"",null,"","",""]
[{"$f":"'Entry Information'!$B118","v":0},{"$f":"'Entry Information'!$H118","v":0},{"$f":"'Entry Information'!$I118","v":0},{"$f":"'Entry Information'!$J118","v":0},"YOUTH",{"$f":"IF($A19=0,\"\",'Youth 9'!$D$31)","v":""},null,"","",{"$f":"IF($F19=\"\",\"\",(VLOOKUP($I$27,Worksheet!$A$11:$AE$41,I19+1,FALSE)))","v":""},{"$f":"IF(A19=0,\"\",'Youth 9'!$J$31)","v":""},null,"","",{"$f":"IF($K19=\"\",\"\",(VLOOKUP($N$27,Worksheet!$A$11:$AE$41,N19+1,FALSE)))","v":""},{"$f":"IF(A19=0,\"\",'Youth 9'!$P$31)","v":""},null,"","",{"$f":"IF($P19=\"\",\"\",(VLOOKUP($S$27,Worksheet!$A$11:$AE$41,S19+1,FALSE)))","v":""},{"$f":"IF(A19=0,\"\",'Youth 9'!$V$31)","v":""},null,"","",{"$f":"IF($U19=\"\",\"\",(VLOOKUP($X$27,Worksheet!$A$11:$AE$41,X19+1,FALSE)))","v":""},{"$f":"IF(AB19=\"\",\"\",'Youth 9'!$AB$28)","v":""},{"$f":"IF(AB19=\"\",\"\",'Youth 9'!$AB$31)","v":""},{"$f":"IF(A19=0,\"\",'Youth 9'!$AB$32)","v":""},null,"","",{"$f":"IF($AB19=\"\",\"\",(VLOOKUP($AE$27,Worksheet!$A$11:$AE$41,AE19+1,FALSE)))","v":""},"",null,"","",""]
[{"$f":"'Entry Information'!$B119","v":0},{"$f":"'Entry Information'!$H119","v":0},{"$f":"'Entry Information'!$I119","v":0},{"$f":"'Entry Information'!$J119","v":0},"YOUTH",{"$f":"IF($A20=0,\"\",'Youth 10'!$D$31)","v":""},null,"","",{"$f":"IF($F20=\"\",\"\",(VLOOKUP($I$27,Worksheet!$A$11:$AE$41,I20+1,FALSE)))","v":""},{"$f":"IF(A20=0,\"\",'Youth 10'!$J31)","v":""},null,"","",{"$f":"IF($K20=\"\",\"\",(VLOOKUP($N$27,Worksheet!$A$11:$AE$41,N20+1,FALSE)))","v":""},{"$f":"IF(A20=0,\"\",'Youth 10'!$P$31)","v":""},null,"","",{"$f":"IF($P20=\"\",\"\",(VLOOKUP($S$27,Worksheet!$A$11:$AE$41,S20+1,FALSE)))","v":""},{"$f":"IF(A20=0,\"\",'Youth 10'!$V$31)","v":""},null,"","",{"$f":"IF($U20=\"\",\"\",(VLOOKUP($X$27,Worksheet!$A$11:$AE$41,X20+1,FALSE)))","v":""},{"$f":"IF(AB20=\"\",\"\",'Youth 10'!$AB$28)","v":""},{"$f":"IF(AB20=\"\",\"\",'Youth 10'!$AB$31)","v":""},{"$f":"IF(A20=0,\"\",'Youth 10'!$AB$32)","v":""},null,"","",{"$f":"IF($AB20=\"\",\"\",(VLOOKUP($AE$27,Worksheet!$A$11:$AE$41,AE20+1,FALSE)))","v":""},"",null,"","",""]
[{"$f":"'Entry Information'!$B120","v":0},{"$f":"'Entry Information'!$H120","v":0},{"$f":"'Entry Information'!$I120","v":0},{"$f":"'Entry Information'!$J120","v":0},"YOUTH",{"$f":"IF($A21=0,\"\",'Youth 11'!$D$31)","v":""},null,"","",{"$f":"IF($F21=\"\",\"\",(VLOOKUP($I$27,Worksheet!$A$11:$AE$41,I21+1,FALSE)))","v":""},{"$f":"IF(A21=0,\"\",'Youth 11'!$J$31)","v":""},null,"","",{"$f":"IF($K21=\"\",\"\",(VLOOKUP($N$27,Worksheet!$A$11:$AE$41,N21+1,FALSE)))","v":""},{"$f":"IF(A21=0,\"\",'Youth 11'!$P$31)","v":""},null,"","",{"$f":"IF($P21=\"\",\"\",(VLOOKUP($S$27,Worksheet!$A$11:$AE$41,S21+1,FALSE)))","v":""},{"$f":"IF(A21=0,\"\",'Youth 11'!$V$31)","v":""},null,"","",{"$f":"IF($U21=\"\",\"\",(VLOOKUP($X$27,Worksheet!$A$11:$AE$41,X21+1,FALSE)))","v":""},{"$f":"IF(AB21=\"\",\"\",'Youth 11'!$AB$28)","v":""},{"$f":"IF(AB21=\"\",\"\",'Youth 11'!$AB$31)","v":""},{"$f":"IF(A21=0,\"\",'Youth 11'!$AB$32)","v":""},null,"","",{"$f":"IF($AB21=\"\",\"\",(VLOOKUP($AE$27,Worksheet!$A$11:$AE$41,AE21+1,FALSE)))","v":""},"",null,"","",""]
[{"$f":"'Entry Information'!$B121","v":0},{"$f":"'Entry Information'!$H121","v":0},{"$f":"'Entry Information'!$I121","v":0},{"$f":"'Entry Information'!$J121","v":0},"YOUTH",{"$f":"IF($A22=0,\"\",'Youth 12'!$D$31)","v":""},null,"","",{"$f":"IF($F22=\"\",\"\",(VLOOKUP($I$27,Worksheet!$A$11:$AE$41,I22+1,FALSE)))","v":""},{"$f":"IF(A22=0,\"\",'Youth 12'!$J$31)","v":""},null,"","",{"$f":"IF($K22=\"\",\"\",(VLOOKUP($N$27,Worksheet!$A$11:$AE$41,N22+1,FALSE)))","v":""},{"$f":"IF(A22=0,\"\",'Youth 12'!$P$31)","v":""},null,"","",{"$f":"IF($P22=\"\",\"\",(VLOOKUP($S$27,Worksheet!$A$11:$AE$41,S22+1,FALSE)))","v":""},{"$f":"IF($A22=0,\"\",'Youth 12'!$V$31)","v":""},null,"","",{"$f":"IF($U22=\"\",\"\",(VLOOKUP($X$27,Worksheet!$A$11:$AE$41,X22+1,FALSE)))","v":""},{"$f":"IF(AB22=\"\",\"\",'Youth 12'!$AB$28)","v":""},{"$f":"IF(AB22=\"\",\"\",'Youth 12'!$AB$31)","v":""},{"$f":"IF(A22=0,\"\",'Youth 12'!$AB$32)","v":""},null,"","",{"$f":"IF($AB22=\"\",\"\",(VLOOKUP($AE$27,Worksheet!$A$11:$AE$41,AE22+1,FALSE)))","v":""},"",null,"","",""]
[{"$f":"'Entry Information'!$B122","v":0},{"$f":"'Entry Information'!$H122","v":0},{"$f":"'Entry Information'!$I122","v":0},{"$f":"'Entry Information'!$J122","v":0},"YOUTH",{"$f":"IF($A23=0,\"\",'Youth 13'!$D$31)","v":""},null,"","",{"$f":"IF($F23=\"\",\"\",(VLOOKUP($I$27,Worksheet!$A$11:$AE$41,I23+1,FALSE)))","v":""},{"$f":"IF(A23=0,\"\",'Youth 13'!$J$31)","v":""},null,"","",{"$f":"IF($K23=\"\",\"\",(VLOOKUP($N$27,Worksheet!$A$11:$AE$41,N23+1,FALSE)))","v":""},{"$f":"IF(A23=0,\"\",'Youth 13'!$P$31)","v":""},null,"","",{"$f":"IF($P23=\"\",\"\",(VLOOKUP($S$27,Worksheet!$A$11:$AE$41,S23+1,FALSE)))","v":""},{"$f":"IF(A23=0,\"\",'Youth 13'!$V$31)","v":""},null,"","",{"$f":"IF($U23=\"\",\"\",(VLOOKUP($X$27,Worksheet!$A$11:$AE$41,X23+1,FALSE)))","v":""},{"$f":"IF(AB23=\"\",\"\",'Youth 13'!$AB$28)","v":""},{"$f":"IF(AB23=\"\",\"\",'Youth 13'!$AB$31)","v":""},{"$f":"IF(A23=0,\"\",'Youth 13'!$AB$32)","v":""},null,"","",{"$f":"IF($AB23=\"\",\"\",(VLOOKUP($AE$27,Worksheet!$A$11:$AE$41,AE23+1,FALSE)))","v":""},"",null,"","",""]
[{"$f":"'Entry Information'!$B123","v":0},{"$f":"'Entry Information'!$H123","v":0},{"$f":"'Entry Information'!$I123","v":0},{"$f":"'Entry Information'!$J123","v":0},"YOUTH",{"$f":"IF($A24=0,\"\",'Youth 14'!$D$31)","v":""},null,"","",{"$f":"IF($F24=\"\",\"\",(VLOOKUP($I$27,Worksheet!$A$11:$AE$41,I24+1,FALSE)))","v":""},{"$f":"IF(A24=0,\"\",'Youth 14'!$J$31)","v":""},null,"","",{"$f":"IF($K24=\"\",\"\",(VLOOKUP($N$27,Worksheet!$A$11:$AE$41,N24+1,FALSE)))","v":""},{"$f":"IF(A24=0,\"\",'Youth 14'!$P$31)","v":""},null,"","",{"$f":"IF($P24=\"\",\"\",(VLOOKUP($S$27,Worksheet!$A$11:$AE$41,S24+1,FALSE)))","v":""},{"$f":"IF(A24=0,\"\",'Youth 14'!$V$31)","v":""},null,"","",{"$f":"IF($U24=\"\",\"\",(VLOOKUP($X$27,Worksheet!$A$11:$AE$41,X24+1,FALSE)))","v":""},{"$f":"IF(AB24=\"\",\"\",'Youth 14'!$AB$28)","v":""},{"$f":"IF(AB24=\"\",\"\",'Youth 14'!$AB$31)","v":""},{"$f":"IF(A24=0,\"\",'Youth 14'!$AB$32)","v":""},null,"","",{"$f":"IF($AB24=\"\",\"\",(VLOOKUP($AE$27,Worksheet!$A$11:$AE$41,AE24+1,FALSE)))","v":""},"",null,"","",""]
[{"$f":"'Entry Information'!$B124","v":0},{"$f":"'Entry Information'!$H124","v":0},{"$f":"'Entry Information'!$I124","v":0},{"$f":"'Entry Information'!$J124","v":0},"YOUTH",{"$f":"IF($A25=0,\"\",'Youth 15'!$D$31)","v":""},null,"","",{"$f":"IF($F25=\"\",\"\",(VLOOKUP($I$27,Worksheet!$A$11:$AE$41,I25+1,FALSE)))","v":""},{"$f":"IF(A25=0,\"\",'Youth 15'!$J$31)","v":""},null,"","",{"$f":"IF($K25=\"\",\"\",(VLOOKUP($N$27,Worksheet!$A$11:$AE$41,N25+1,FALSE)))","v":""},{"$f":"IF(A25=0,\"\",'Youth 15'!$P$31)","v":""},null,"","",{"$f":"IF($P25=\"\",\"\",(VLOOKUP($S$27,Worksheet!$A$11:$AE$41,S25+1,FALSE)))","v":""},{"$f":"IF(A25=0,\"\",'Youth 15'!$V$31)","v":""},null,"","",{"$f":"IF($U25=\"\",\"\",(VLOOKUP($X$27,Worksheet!$A$11:$AE$41,X25+1,FALSE)))","v":""},{"$f":"IF(AB25=\"\",\"\",'Youth 15'!$AB$28)","v":""},{"$f":"IF(AB25=\"\",\"\",'Youth 15'!$AB$31)","v":""},{"$f":"IF(A25=0,\"\",'Youth 15'!$AB$32)","v":""},null,"","",{"$f":"IF($AB25=\"\",\"\",(VLOOKUP($AE$27,Worksheet!$A$11:$AE$41,AE25+1,FALSE)))","v":""},"",null,"","",""]
[]
[null,null,null,null,null,null,null,null,{"$f":"COUNTIF(I11:I25,\">=0\")","v":0},null,null,null,null,{"$f":"COUNTIF(N11:N25,\">=0\")","v":0},null,null,null,null,{"$f":"COUNTIF(S11:S25,\">=0\")","v":0},null,null,null,null,{"$f":"COUNTIF(X11:X25,\">=0\")","v":0},null,null,null,null,null,{"$f":"IF(AC27=\"\",AB27,(AB27+(AC27*0.001)))","v":0},{"$f":"COUNTIF(AE11:AE25,\">=0\")","v":0}]
[null,null,null,"Tie  Breakers = ",null,"1 - Extended Trot",null,null,null,null,"1 - Box Cow",null,null,null,null,"1 - Penning",null,null,null,null,"1 - Drag log",null,null,null,null,"1- Structural Correctness",null,null,null,null,null,null,"Working Ranch Score "]
[null,null,null,null,null,"2 - Transition down lope/walk/stop",null,null,null,null,"2 -First Lead Change",null,null,null,null,"2 - Working Center of arena",null,null,null,null,"2 - Ground tie/bridle/pick-up legs",null,null,null,null,"2 - Balance",null,null,null,null,null,null,"and then use WR Tie-Breakers"]
[null,null,null,null,null,"3 - Transition to lope/lope",null,null,null,null,"3 -Spin",null,null,null,null,"3 -Cut from Herd",null,null,null,null,"3 - Gate",null,null,null,null,"3 - Ranch Cutting"]

{"sheet":"AWARDS (2)","index":9,"n_rows":124,"n_cols":11,"rows_kept":124,"cut":false,"hidden":false,"merged":[[5,0,6,0],[6,1,6,2],[6,3,6,4],[6,5,6,6],[6,7,6,8],[6,9,6,10],[1,0,1,9],[2,0,2,9],[4,1,4,2],[4,3,4,4],[4,5,4,6],[4,7,4,8],[4,9,4,10],[9,0,10,0],[10,1,10,2],[10,3,10,4],[10,5,10,6],[10,7,10,8],[10,9,10,10],[7,0,8,0],[8,1,8,2],[8,3,8,4],[8,5,8,6],[8,7,8,8],[8,9,8,10],[13,0,14,0],[14,1,14,2],[14,3,14,4],[14,5,14,6],[14,7,14,8],[14,9,14,10],[11,0,12,0],[12,1,12,2],[12,3,12,4],[12,5,12,6],[12,7,12,8],[12,9,12,10],[17,0,18,6],[17,7,17,8],[17,9,17,10],[18,7,18,10],[19,0,20,6],[19,7,19,8],[19,9,19,10],[20,7,20,10],[15,0,16,0],[16,1,16,2],[16,3,16,4],[16,5,16,6],[16,7,16,8],[16,9,16,10],[23,1,23,2],[23,3,23,4],[23,5,23,6],[23,7,23,8],[23,9,23,10],[24,0,25,0],[25,1,25,2],[25,3,25,4],[25,5,25,6],[25,7,25,8],[28,0,29,0],[29,1,29,2],[29,3,29,4],[29,5,29,6],[29,7,29,8],[29,9,29,10],[25,9,25,10],[26,0,27,0],[27,1,27,2],[27,3,27,4],[27,5,27,6],[27,7,27,8],[27,9,27,10],[32,0,33,0],[33,1,33,2],[33,3,33,4],[33,5,33,6],[33,7,33,8],[33,9,33,10],[30,0,31,0],[31,1,31,2],[31,3,31,4],[31,5,31,6],[31,7,31,8],[31,9,31,10],[36,0,37,6],[36,7,36,8],[36,9,36,10],[37,7,37,10],[38,0,39,6],[38,7,38,8],[38,9,38,10],[39,7,39,10],[34,0,35,0],[35,1,35,2],[35,3,35,4],[35,5,35,6],[35,7,35,8],[35,9,35,10],[47,0,48,0],[48,1,48,2],[48,3,48,4],[48,5,48,6],[48,7,48,8],[48,9,48,10],[42,0,42,9],[43,0,43,9],[46,1,46,2],[46,3,46,4],[46,5,46,6],[46,7,46,8],[46,9,46,10],[51,0,52,0],[52,1,52,2],[52,3,52,4],[52,5,52,6],[52,7,52,8],[52,9,52,10],[49,0,50,0],[50,1,50,2],[50,3,50,4],[50,5,50,6],[50,7,50,8],[50,9,50,10],[55,0,56,0],[56,1,56,2],[56,3,56,4],[56,5,56,6],[56,7,56,8],[56,9,56,10],[53,0,54,0],[54,1,54,2],[54,3,54,4],[54,5,54,6],[54,7,54,8],[54,9,54,10],[59,0,60,6],[59,7,59,8],[59,9,59,10],[60,7,60,10],[61,0,62,6],[61,7,61,8],[61,9,61,10],[62,7,62,10],[57,0,58,0],[58,1,58,2],[58,3,58,4],[58,5,58,6],[58,7,58,8],[58,9,58,10],[65,1,65,2],[65,3,65,4],[65,5,65,6],[65,7,65,8],[65,9,65,10],[66,0,67,0],[67,1,67,2],[67,3,67,4],[67,5,67,6],[67,7,67,8],[70,0,71,0],[71,1,71,2],[71,3,71,4],[71,5,71,6],[71,7,71,8],[71,9,71,10],[67,9,67,10],[68,0,69,0],[69,1,69,2],[69,3,69,4],[69,5,69,6],[69,7,69,8],[69,9,69,10],[74,0,75,0],[75,1,75,2],[75,3,75,4],[75,5,75,6],[75,7,75,8],[75,9,75,10],[72,0,73,0],[73,1,73,2],[73,3,73,4],[73,5,73,6],[73,7,73,8],[73,9,73,10],[78,0,79,6],[78,7,78,8],[78,9,78,10],[79,7,79,10],[80,0,81,6],[80,7,80,8],[80,9,80,10],[81,7,81,10],[76,0,77,0],[77,1,77,2],[77,3,77,4],[77,5,77,6],[77,7,77,8],[77,9,77,10],[89,0,90,0],[90,1,90,2],[90,3,90,4],[90,5,90,6],[90,7,90,8],[90,9,90,10],[84,0,84,9],[85,0,85,9],[88,1,88,2],[88,3,88,4],[88,5,88,6],[88,7,88,8],[88,9,88,10],[93,0,94,0],[94,1,94,2],[94,3,94,4],[94,5,94,6],[94,7,94,8],[94,9,94,10],[91,0,92,0],[92,1,92,2],[92,3,92,4],[92,5,92,6],[92,7,92,8],[92,9,92,10],[97,0,98,0],[98,1,98,2],[98,3,98,4],[98,5,98,6],[98,7,98,8],[98,9,98,10],[95,0,96,0],[96,1,96,2],[96,3,96,4],[96,5,96,6],[96,7,96,8],[96,9,96,10],[101,0,102,6],[101,7,101,8],[101,9,101,10],[102,7,102,10],[103,0,104,6],[103,7,103,8],[103,9,103,10],[104,7,104,10],[99,0,100,0],[100,1,100,2],[100,3,100,4],[100,5,100,6],[100,7,100,8],[100,9,100,10],[107,1,107,2],[107,3,107,4],[107,5,107,6],[107,7,107,8],[107,9,107,10],[108,0,109,0],[109,1,109,2],[109,3,109,4],[109,5,109,6],[109,7,109,8],[112,0,113,0],[113,1,113,2],[113,3,113,4],[113,5,113,6],[113,7,113,8],[113,9,113,10],[109,9,109,10],[110,0,111,0],[111,1,111,2],[111,3,111,4],[111,5,111,6],[111,7,111,8],[111,9,111,10],[116,0,117,0],[117,1,117,2],[117,3,117,4],[117,5,117,6],[117,7,117,8],[117,9,117,10],[114,0,115,0],[115,1,115,2],[115,3,115,4],[115,5,115,6],[115,7,115,8],[115,9,115,10],[120,0,121,6],[120,7,120,8],[120,9,120,10],[121,7,121,10],[122,0,123,6],[122,7,122,8],[122,9,122,10],[123,7,123,10],[118,0,119,0],[119,1,119,2],[119,3,119,4],[119,5,119,6],[119,7,119,8],[119,9,119,10]]}
[]
[{"$f":"'Entry Information'!H4","v":"The Horse First Farm, Brooklyn, WI"}]
[{"$f":"'Entry Information'!H5","v":"June 28-29,2014"}]
[]
["NOVICE","Ranch Riding",null,"Working Ranch Horse",null,"Cutting",null,"Trail",null,"Conformation"]
[1,{"$f":"INDEX('NOVICE RESULTS (2)'!C$11:$C$40,MATCH('AWARDS (2)'!A6,'NOVICE RESULTS (2)'!$I$11:$I$40,0))","v":"Sue"},{"$f":"INDEX('NOVICE RESULTS (2)'!$B$11:$B$40,MATCH('AWARDS (2)'!A6,'NOVICE RESULTS (2)'!$I$11:$I$40,0))","v":"Eisenman"},{"$f":"INDEX('NOVICE RESULTS (2)'!$C$11:$C$40,MATCH('AWARDS (2)'!A6,'NOVICE RESULTS (2)'!$N$11:$N$40,0))","v":"Roger"},{"$f":"INDEX('NOVICE RESULTS (2)'!$B$11:$B$40,MATCH('AWARDS (2)'!A6,'NOVICE RESULTS (2)'!$N$11:$N$40,0))","v":"Knapp"},{"$f":"INDEX('NOVICE RESULTS (2)'!$C$11:$C$40,MATCH('AWARDS (2)'!A6,'NOVICE RESULTS (2)'!$S$11:$S$40,0))","v":"Dale"},{"$f":"INDEX('NOVICE RESULTS (2)'!$B$11:$B$40,MATCH('AWARDS (2)'!A6,'NOVICE RESULTS (2)'!$S$11:$S$40,0))","v":"Grove"},{"$f":"INDEX('NOVICE RESULTS (2)'!$C$11:$C$40,MATCH('AWARDS (2)'!A6,'NOVICE RESULTS (2)'!$X$11:$X$40,0))","v":"Kelly"},{"$f":"INDEX('NOVICE RESULTS (2)'!$B$11:$B$40,MATCH('AWARDS (2)'!A6,'NOVICE RESULTS (2)'!$X$11:$X$40,0))","v":"Messera"},{"$f":"INDEX('NOVICE RESULTS (2)'!$C$11:$C$40,MATCH('AWARDS (2)'!A6,'NOVICE RESULTS (2)'!$AE$11:$AE$40,0))","v":"Kelly"},{"$f":"INDEX('NOVICE RESULTS (2)'!$B$11:$B$40,MATCH('AWARDS (2)'!A6,'NOVICE RESULTS (2)'!$AE$11:$AE$40,0))","v":"Messera"}]
[null,{"$f":"INDEX('NOVICE RESULTS (2)'!$D$11:$D$40,MATCH('AWARDS (2)'!A6,'NOVICE RESULTS (2)'!$I$11:$I$40,0))","v":"DLB Smart Blue Bars"},null,{"$f":"INDEX('NOVICE RESULTS (2)'!$D$11:$D$40,MATCH('AWARDS (2)'!A6,'NOVICE RESULTS (2)'!$N$11:$N$40,0))","v":"Easy Rocket Doc"},{"$f":"INDEX(#REF!,MATCH('AWARDS (2)'!B7,#REF!,0))","v":{"$error":"#REF!"}},{"$f":"INDEX('NOVICE RESULTS (2)'!$D$11:$D$40,MATCH('AWARDS (2)'!A6,'NOVICE RESULTS (2)'!$S$11:$S$40,0))","v":"Woody B Stylin"},{"$f":"INDEX(#REF!,MATCH('AWARDS (2)'!A7,#REF!,0))","v":{"$error":"#REF!"}},{"$f":"INDEX('NOVICE RESULTS (2)'!$D$11:$D$40,MATCH('AWARDS (2)'!A6,'NOVICE RESULTS (2)'!$X$11:$X$40,0))","v":"Magic Dance Man"},{"$f":"INDEX(#REF!,MATCH('AWARDS (2)'!A7,#REF!,0))","v":{"$error":"#REF!"}},{"$f":"INDEX('NOVICE RESULTS (2)'!$D$11:$D$40,MATCH('AWARDS (2)'!A6,'NOVICE RESULTS (2)'!$AE$11:$AE$40,0))","v":"Magic Dance Man"},{"$f":"INDEX(#REF!,MATCH('AWARDS (2)'!A7,#REF!,0))","v":{"$error":"#REF!"}}]
[2,{"$f":"INDEX('NOVICE RESULTS (2)'!C$11:$C$40,MATCH('AWARDS (2)'!A8,'NOVICE RESULTS (2)'!$I$11:$I$40,0))","v":"Kelly"},{"$f":"INDEX('NOVICE RESULTS (2)'!$B$11:$B$40,MATCH('AWARDS (2)'!A8,'NOVICE RESULTS (2)'!$I$11:$I$40,0))","v":"Messera"},{"$f":"INDEX('NOVICE RESULTS (2)'!$C$11:$C$40,MATCH('AWARDS (2)'!A8,'NOVICE RESULTS (2)'!$N$11:$N$40,0))","v":"Kelly"},{"$f":"INDEX('NOVICE RESULTS (2)'!$B$11:$B$40,MATCH('AWARDS (2)'!A8,'NOVICE RESULTS (2)'!$N$11:$N$40,0))","v":"Messera"},{"$f":"INDEX('NOVICE RESULTS (2)'!$C$11:$C$40,MATCH('AWARDS (2)'!A8,'NOVICE RESULTS (2)'!$S$11:$S$40,0))","v":"Kelly"},{"$f":"INDEX('NOVICE RESULTS (2)'!$B$11:$B$40,MATCH('AWARDS (2)'!A8,'NOVICE RESULTS (2)'!$S$11:$S$40,0))","v":"Messera"},{"$f":"INDEX('NOVICE RESULTS (2)'!$C$11:$C$40,MATCH('AWARDS (2)'!A8,'NOVICE RESULTS (2)'!$X$11:$X$40,0))","v":"Roxanne"},{"$f":"INDEX('NOVICE RESULTS (2)'!$B$11:$B$40,MATCH('AWARDS (2)'!A8,'NOVICE RESULTS (2)'!$X$11:$X$40,0))","v":"Burton"},{"$f":"INDEX('NOVICE RESULTS (2)'!$C$11:$C$40,MATCH('AWARDS (2)'!A8,'NOVICE RESULTS (2)'!$AE$11:$AE$40,0))","v":"Roxanne"},{"$f":"INDEX('NOVICE RESULTS (2)'!$B$11:$B$40,MATCH('AWARDS (2)'!A8,'NOVICE RESULTS (2)'!$AE$11:$AE$40,0))","v":"Burton"}]
[null,{"$f":"INDEX('NOVICE RESULTS (2)'!$D$11:$D$40,MATCH('AWARDS (2)'!A8,'NOVICE RESULTS (2)'!$I$11:$I$40,0))","v":"Magic Dance Man"},null,{"$f":"INDEX('NOVICE RESULTS (2)'!$D$11:$D$40,MATCH('AWARDS (2)'!A8,'NOVICE RESULTS (2)'!$N$11:$N$40,0))","v":"Magic Dance Man"},{"$f":"INDEX(#REF!,MATCH('AWARDS (2)'!B9,#REF!,0))","v":{"$error":"#REF!"}},{"$f":"INDEX('NOVICE RESULTS (2)'!$D$11:$D$40,MATCH('AWARDS (2)'!A8,'NOVICE RESULTS (2)'!$S$11:$S$40,0))","v":"Magic Dance Man"},{"$f":"INDEX(#REF!,MATCH('AWARDS (2)'!A9,#REF!,0))","v":{"$error":"#REF!"}},{"$f":"INDEX('NOVICE RESULTS (2)'!$D$11:$D$40,MATCH('AWARDS (2)'!A8,'NOVICE RESULTS (2)'!$X$11:$X$40,0))","v":"Miss Smart Gun RG"},{"$f":"INDEX(#REF!,MATCH('AWARDS (2)'!A9,#REF!,0))","v":{"$error":"#REF!"}},{"$f":"INDEX('NOVICE RESULTS (2)'!$D$11:$D$40,MATCH('AWARDS (2)'!A8,'NOVICE RESULTS (2)'!$AE$11:$AE$40,0))","v":"Miss Smart Gun RG"},{"$f":"INDEX(#REF!,MATCH('AWARDS (2)'!A9,#REF!,0))","v":{"$error":"#REF!"}}]
[3,{"$f":"INDEX('NOVICE RESULTS (2)'!C$11:$C$40,MATCH('AWARDS (2)'!A10,'NOVICE RESULTS (2)'!$I$11:$I$40,0))","v":"Roxanne"},{"$f":"INDEX('NOVICE RESULTS (2)'!$B$11:$B$40,MATCH('AWARDS (2)'!A10,'NOVICE RESULTS (2)'!$I$11:$I$40,0))","v":"Burton"},{"$f":"INDEX('NOVICE RESULTS (2)'!$C$11:$C$40,MATCH('AWARDS (2)'!A10,'NOVICE RESULTS (2)'!$N$11:$N$40,0))","v":"Roxanne"},{"$f":"INDEX('NOVICE RESULTS (2)'!$B$11:$B$40,MATCH('AWARDS (2)'!A10,'NOVICE RESULTS (2)'!$N$11:$N$40,0))","v":"Burton"},{"$f":"INDEX('NOVICE RESULTS (2)'!$C$11:$C$40,MATCH('AWARDS (2)'!A10,'NOVICE RESULTS (2)'!$S$11:$S$40,0))","v":"Roxanne"},{"$f":"INDEX('NOVICE RESULTS (2)'!$B$11:$B$40,MATCH('AWARDS (2)'!A10,'NOVICE RESULTS (2)'!$S$11:$S$40,0))","v":"Burton"},{"$f":"INDEX('NOVICE RESULTS (2)'!$C$11:$C$40,MATCH('AWARDS (2)'!A10,'NOVICE RESULTS (2)'!$X$11:$X$40,0))","v":"Dale"},{"$f":"INDEX('NOVICE RESULTS (2)'!$B$11:$B$40,MATCH('AWARDS (2)'!A10,'NOVICE RESULTS (2)'!$X$11:$X$40,0))","v":"Grove"},{"$f":"INDEX('NOVICE RESULTS (2)'!$C$11:$C$40,MATCH('AWARDS (2)'!A10,'NOVICE RESULTS (2)'!$AE$11:$AE$40,0))","v":"Dale"},{"$f":"INDEX('NOVICE RESULTS (2)'!$B$11:$B$40,MATCH('AWARDS (2)'!A10,'NOVICE RESULTS (2)'!$AE$11:$AE$40,0))","v":"Grove"}]
[null,{"$f":"INDEX('NOVICE RESULTS (2)'!$D$11:$D$40,MATCH('AWARDS (2)'!A10,'NOVICE RESULTS (2)'!$I$11:$I$40,0))","v":"Miss Smart Gun RG"},null,{"$f":"INDEX('NOVICE RESULTS (2)'!$D$11:$D$40,MATCH('AWARDS (2)'!A10,'NOVICE RESULTS (2)'!$N$11:$N$40,0))","v":"Miss Smart Gun RG"},{"$f":"INDEX(#REF!,MATCH('AWARDS (2)'!B11,#REF!,0))","v":{"$error":"#REF!"}},{"$f":"INDEX('NOVICE RESULTS (2)'!$D$11:$D$40,MATCH('AWARDS (2)'!A10,'NOVICE RESULTS (2)'!$S$11:$S$40,0))","v":"Miss Smart Gun RG"},{"$f":"INDEX(#REF!,MATCH('AWARDS (2)'!A11,#REF!,0))","v":{"$error":"#REF!"}},{"$f":"INDEX('NOVICE RESULTS (2)'!$D$11:$D$40,MATCH('AWARDS (2)'!A10,'NOVICE RESULTS (2)'!$X$11:$X$40,0))","v":"Woody B Stylin"},{"$f":"INDEX(#REF!,MATCH('AWARDS (2)'!A11,#REF!,0))","v":{"$error":"#REF!"}},{"$f":"INDEX('NOVICE RESULTS (2)'!$D$11:$D$40,MATCH('AWARDS (2)'!A10,'NOVICE RESULTS (2)'!$AE$11:$AE$40,0))","v":"Woody B Stylin"},{"$f":"INDEX(#REF!,MATCH('AWARDS (2)'!A11,#REF!,0))","v":{"$error":"#REF!"}}]
[4,{"$f":"INDEX('NOVICE RESULTS (2)'!C$11:$C$40,MATCH('AWARDS (2)'!A12,'NOVICE RESULTS (2)'!$I$11:$I$40,0))","v":"Matthew"},{"$f":"INDEX('NOVICE RESULTS (2)'!$B$11:$B$40,MATCH('AWARDS (2)'!A12,'NOVICE RESULTS (2)'!$I$11:$I$40,0))","v":"Heinz"},{"$f":"INDEX('NOVICE RESULTS (2)'!$C$11:$C$40,MATCH('AWARDS (2)'!A12,'NOVICE RESULTS (2)'!$N$11:$N$40,0))","v":"Dale"},{"$f":"INDEX('NOVICE RESULTS (2)'!$B$11:$B$40,MATCH('AWARDS (2)'!A12,'NOVICE RESULTS (2)'!$N$11:$N$40,0))","v":"Grove"},{"$f":"INDEX('NOVICE RESULTS (2)'!$C$11:$C$40,MATCH('AWARDS (2)'!A12,'NOVICE RESULTS (2)'!$S$11:$S$40,0))","v":"Codi"},{"$f":"INDEX('NOVICE RESULTS (2)'!$B$11:$B$40,MATCH('AWARDS (2)'!A12,'NOVICE RESULTS (2)'!$S$11:$S$40,0))","v":"Christianson"},{"$f":"INDEX('NOVICE RESULTS (2)'!$C$11:$C$40,MATCH('AWARDS (2)'!A12,'NOVICE RESULTS (2)'!$X$11:$X$40,0))","v":"Roger"},{"$f":"INDEX('NOVICE RESULTS (2)'!$B$11:$B$40,MATCH('AWARDS (2)'!A12,'NOVICE RESULTS (2)'!$X$11:$X$40,0))","v":"Knapp"},{"$f":"INDEX('NOVICE RESULTS (2)'!$C$11:$C$40,MATCH('AWARDS (2)'!A12,'NOVICE RESULTS (2)'!$AE$11:$AE$40,0))","v":"Roger"},{"$f":"INDEX('NOVICE RESULTS (2)'!$B$11:$B$40,MATCH('AWARDS (2)'!A12,'NOVICE RESULTS (2)'!$AE$11:$AE$40,0))","v":"Knapp"}]
[null,{"$f":"INDEX('NOVICE RESULTS (2)'!$D$11:$D$40,MATCH('AWARDS (2)'!A12,'NOVICE RESULTS (2)'!$I$11:$I$40,0))","v":"Sun Dee Fox"},null,{"$f":"INDEX('NOVICE RESULTS (2)'!$D$11:$D$40,MATCH('AWARDS (2)'!A12,'NOVICE RESULTS (2)'!$N$11:$N$40,0))","v":"Woody B Stylin"},{"$f":"INDEX(#REF!,MATCH('AWARDS (2)'!B13,#REF!,0))","v":{"$error":"#REF!"}},{"$f":"INDEX('NOVICE RESULTS (2)'!$D$11:$D$40,MATCH('AWARDS (2)'!A12,'NOVICE RESULTS (2)'!$S$11:$S$40,0))","v":"Miss Makin Shine"},{"$f":"INDEX(#REF!,MATCH('AWARDS (2)'!A13,#REF!,0))","v":{"$error":"#REF!"}},{"$f":"INDEX('NOVICE RESULTS (2)'!$D$11:$D$40,MATCH('AWARDS (2)'!A12,'NOVICE RESULTS (2)'!$X$11:$X$40,0))","v":"Easy Rocket Doc"},{"$f":"INDEX(#REF!,MATCH('AWARDS (2)'!A13,#REF!,0))","v":{"$error":"#REF!"}},{"$f":"INDEX('NOVICE RESULTS (2)'!$D$11:$D$40,MATCH('AWARDS (2)'!A12,'NOVICE RESULTS (2)'!$AE$11:$AE$40,0))","v":"Easy Rocket Doc"},{"$f":"INDEX(#REF!,MATCH('AWARDS (2)'!A13,#REF!,0))","v":{"$error":"#REF!"}}]
[5,{"$f":"INDEX('NOVICE RESULTS (2)'!C$11:$C$40,MATCH('AWARDS (2)'!A14,'NOVICE RESULTS (2)'!$I$11:$I$40,0))","v":"Dale"},{"$f":"INDEX('NOVICE RESULTS (2)'!$B$11:$B$40,MATCH('AWARDS (2)'!A14,'NOVICE RESULTS (2)'!$I$11:$I$40,0))","v":"Grove"},{"$f":"INDEX('NOVICE RESULTS (2)'!$C$11:$C$40,MATCH('AWARDS (2)'!A14,'NOVICE RESULTS (2)'!$N$11:$N$40,0))","v":"Sue"},{"$f":"INDEX('NOVICE RESULTS (2)'!$B$11:$B$40,MATCH('AWARDS (2)'!A14,'NOVICE RESULTS (2)'!$N$11:$N$40,0))","v":"Eisenman"},{"$f":"INDEX('NOVICE RESULTS (2)'!$C$11:$C$40,MATCH('AWARDS (2)'!A14,'NOVICE RESULTS (2)'!$S$11:$S$40,0))","v":"Sandra"},{"$f":"INDEX('NOVICE RESULTS (2)'!$B$11:$B$40,MATCH('AWARDS (2)'!A14,'NOVICE RESULTS (2)'!$S$11:$S$40,0))","v":"Hoppe"},{"$f":"INDEX('NOVICE RESULTS (2)'!$C$11:$C$40,MATCH('AWARDS (2)'!A14,'NOVICE RESULTS (2)'!$X$11:$X$40,0))","v":"Sue"},{"$f":"INDEX('NOVICE RESULTS (2)'!$B$11:$B$40,MATCH('AWARDS (2)'!A14,'NOVICE RESULTS (2)'!$X$11:$X$40,0))","v":"Eisenman"},{"$f":"INDEX('NOVICE RESULTS (2)'!$C$11:$C$40,MATCH('AWARDS (2)'!A14,'NOVICE RESULTS (2)'!$AE$11:$AE$40,0))","v":"Sue"},{"$f":"INDEX('NOVICE RESULTS (2)'!$B$11:$B$40,MATCH('AWARDS (2)'!A14,'NOVICE RESULTS (2)'!$AE$11:$AE$40,0))","v":"Eisenman"}]
[null,{"$f":"INDEX('NOVICE RESULTS (2)'!$D$11:$D$40,MATCH('AWARDS (2)'!A14,'NOVICE RESULTS (2)'!$I$11:$I$40,0))","v":"Woody B Stylin"},null,{"$f":"INDEX('NOVICE RESULTS (2)'!$D$11:$D$40,MATCH('AWARDS (2)'!A14,'NOVICE RESULTS (2)'!$N$11:$N$40,0))","v":"DLB Smart Blue Bars"},{"$f":"INDEX(#REF!,MATCH('AWARDS (2)'!B15,#REF!,0))","v":{"$error":"#REF!"}},{"$f":"INDEX('NOVICE RESULTS (2)'!$D$11:$D$40,MATCH('AWARDS (2)'!A14,'NOVICE RESULTS (2)'!$S$11:$S$40,0))","v":"B Cruzin Along"},{"$f":"INDEX(#REF!,MATCH('AWARDS (2)'!A15,#REF!,0))","v":{"$error":"#REF!"}},{"$f":"INDEX('NOVICE RESULTS (2)'!$D$11:$D$40,MATCH('AWARDS (2)'!A14,'NOVICE RESULTS (2)'!$X$11:$X$40,0))","v":"DLB Smart Blue Bars"},{"$f":"INDEX(#REF!,MATCH('AWARDS (2)'!A15,#REF!,0))","v":{"$error":"#REF!"}},{"$f":"INDEX('NOVICE RESULTS (2)'!$D$11:$D$40,MATCH('AWARDS (2)'!A14,'NOVICE RESULTS (2)'!$AE$11:$AE$40,0))","v":"DLB Smart Blue Bars"},{"$f":"INDEX(#REF!,MATCH('AWARDS (2)'!A15,#REF!,0))","v":{"$error":"#REF!"}}]
[6,{"$f":"INDEX('NOVICE RESULTS (2)'!C$11:$C$40,MATCH('AWARDS (2)'!A16,'NOVICE RESULTS (2)'!$I$11:$I$40,0))","v":"Codi"},{"$f":"INDEX('NOVICE RESULTS (2)'!$B$11:$B$40,MATCH('AWARDS (2)'!A16,'NOVICE RESULTS (2)'!$I$11:$I$40,0))","v":"Christianson"},{"$f":"INDEX('NOVICE RESULTS (2)'!$C$11:$C$40,MATCH('AWARDS (2)'!A16,'NOVICE RESULTS (2)'!$N$11:$N$40,0))","v":"Sandra"},{"$f":"INDEX('NOVICE RESULTS (2)'!$B$11:$B$40,MATCH('AWARDS (2)'!A16,'NOVICE RESULTS (2)'!$N$11:$N$40,0))","v":"Hoppe"},{"$f":"INDEX('NOVICE RESULTS (2)'!$C$11:$C$40,MATCH('AWARDS (2)'!A16,'NOVICE RESULTS (2)'!$S$11:$S$40,0))","v":"Matthew"},{"$f":"INDEX('NOVICE RESULTS (2)'!$B$11:$B$40,MATCH('AWARDS (2)'!A16,'NOVICE RESULTS (2)'!$S$11:$S$40,0))","v":"Heinz"},{"$f":"INDEX('NOVICE RESULTS (2)'!$C$11:$C$40,MATCH('AWARDS (2)'!A16,'NOVICE RESULTS (2)'!$X$11:$X$40,0))","v":"Matthew"},{"$f":"INDEX('NOVICE RESULTS (2)'!$B$11:$B$40,MATCH('AWARDS (2)'!A16,'NOVICE RESULTS (2)'!$X$11:$X$40,0))","v":"Heinz"},{"$f":"INDEX('NOVICE RESULTS (2)'!$C$11:$C$40,MATCH('AWARDS (2)'!A16,'NOVICE RESULTS (2)'!$AE$11:$AE$40,0))","v":"Tracy"},{"$f":"INDEX('NOVICE RESULTS (2)'!$B$11:$B$40,MATCH('AWARDS (2)'!A16,'NOVICE RESULTS (2)'!$AE$11:$AE$40,0))","v":"Gilbert"}]
[null,{"$f":"INDEX('NOVICE RESULTS (2)'!$D$11:$D$40,MATCH('AWARDS (2)'!A16,'NOVICE RESULTS (2)'!$I$11:$I$40,0))","v":"Miss Makin Shine"},null,{"$f":"INDEX('NOVICE RESULTS (2)'!$D$11:$D$40,MATCH('AWARDS (2)'!A16,'NOVICE RESULTS (2)'!$N$11:$N$40,0))","v":"B Cruzin Along"},{"$f":"INDEX(#REF!,MATCH('AWARDS (2)'!B17,#REF!,0))","v":{"$error":"#REF!"}},{"$f":"INDEX('NOVICE RESULTS (2)'!$D$11:$D$40,MATCH('AWARDS (2)'!A16,'NOVICE RESULTS (2)'!$S$11:$S$40,0))","v":"Sun Dee Fox"},{"$f":"INDEX(#REF!,MATCH('AWARDS (2)'!A17,#REF!,0))","v":{"$error":"#REF!"}},{"$f":"INDEX('NOVICE RESULTS (2)'!$D$11:$D$40,MATCH('AWARDS (2)'!A16,'NOVICE RESULTS (2)'!$X$11:$X$40,0))","v":"Sun Dee Fox"},{"$f":"INDEX(#REF!,MATCH('AWARDS (2)'!A17,#REF!,0))","v":{"$error":"#REF!"}},{"$f":"INDEX('NOVICE RESULTS (2)'!$D$11:$D$40,MATCH('AWARDS (2)'!A16,'NOVICE RESULTS (2)'!$AE$11:$AE$40,0))","v":"Bud's Diablo Star"},{"$f":"INDEX(#REF!,MATCH('AWARDS (2)'!A17,#REF!,0))","v":{"$error":"#REF!"}}]
["Novice Reserve Champion",null,null,null,null,null,null,{"$f":"INDEX('NOVICE RESULTS (2)'!$C$11:$C$40,MATCH(2,'NOVICE RESULTS (2)'!$AJ$11:$AJ$40,0))","v":"Roxanne"},null,{"$f":"INDEX('NOVICE RESULTS (2)'!$B$11:$B$40,MATCH(2,'NOVICE RESULTS (2)'!$AJ$11:$AJ$40,0))","v":"Burton"}]
[null,null,null,null,null,null,null,{"$f":"INDEX('NOVICE RESULTS (2)'!$D$11:$D$40,MATCH(2,'NOVICE RESULTS (2)'!$AJ$11:$AJ$40,0))","v":"Miss Smart Gun RG"},null,{"$f":"INDEX(#REF!,MATCH(2,#REF!,0))","v":{"$error":"#REF!"}}]
["Novice Champion",null,null,null,null,null,null,{"$f":"INDEX('NOVICE RESULTS (2)'!$C$11:$C$40,MATCH(1,'NOVICE RESULTS (2)'!$AJ$11:$AJ$40,0))","v":"Kelly"},null,{"$f":"INDEX('NOVICE RESULTS (2)'!$B$11:$B$40,MATCH(1,'NOVICE RESULTS (2)'!$AJ$11:$AJ$40,0))","v":"Messera"}]
[null,null,null,null,null,null,null,{"$f":"INDEX('NOVICE RESULTS (2)'!$D$11:$D$40,MATCH(1,'NOVICE RESULTS (2)'!$AJ$11:$AJ$40,0))","v":"Magic Dance Man"},null,{"$f":"INDEX(#REF!,MATCH(1,#REF!,0))","v":{"$error":"#REF!"}}]
[]
[]
["LIMITED","Ranch Riding",null,"Working Ranch Horse",null,"Cutting",null,"Trail",null,"Conformation"]
[1,{"$f":"INDEX('LIMITED RESULTS (2)'!C$11:$C$33,MATCH('AWARDS (2)'!A25,'LIMITED RESULTS (2)'!$I$11:$I$33,0))","v":"Steph"},{"$f":"INDEX('LIMITED RESULTS (2)'!$B$11:$B$33,MATCH('AWARDS (2)'!A25,'LIMITED RESULTS (2)'!$I$11:$I$33,0))","v":"Siitari"},{"$f":"INDEX('LIMITED RESULTS (2)'!$C$11:$C$33,MATCH('AWARDS (2)'!A25,'LIMITED RESULTS (2)'!$N$11:$N$33,0))","v":"Gena"},{"$f":"INDEX('LIMITED RESULTS (2)'!$B$11:$B$33,MATCH('AWARDS (2)'!A25,'LIMITED RESULTS (2)'!$N$11:$N$33,0))","v":"Janetka"},{"$f":"INDEX('LIMITED RESULTS (2)'!$C$11:$C$33,MATCH('AWARDS (2)'!A25,'LIMITED RESULTS (2)'!$S$11:$S$33,0))","v":"Steph"},{"$f":"INDEX('LIMITED RESULTS (2)'!$B$11:$B$33,MATCH('AWARDS (2)'!A25,'LIMITED RESULTS (2)'!$S$11:$S$33,0))","v":"Siitari"},{"$f":"INDEX('LIMITED RESULTS (2)'!$C$11:$C$33,MATCH('AWARDS (2)'!A25,'LIMITED RESULTS (2)'!$X$11:$X$33,0))","v":"Steph"},{"$f":"INDEX('LIMITED RESULTS (2)'!$B$11:$B$33,MATCH('AWARDS (2)'!A25,'LIMITED RESULTS (2)'!$X$11:$X$33,0))","v":"Siitari"},{"$f":"INDEX('LIMITED RESULTS (2)'!$C$11:$C$33,MATCH('AWARDS (2)'!A25,'LIMITED RESULTS (2)'!$AE$11:$AE$33,0))","v":"Gena"},{"$f":"INDEX('LIMITED RESULTS (2)'!$B$11:$B$33,MATCH('AWARDS (2)'!A25,'LIMITED RESULTS (2)'!$AE$11:$AE$33,0))","v":"Janetka"}]
[null,{"$f":"INDEX('LIMITED RESULTS (2)'!$D$11:$D$33,MATCH('AWARDS (2)'!A25,'LIMITED RESULTS (2)'!$I$11:$I$33,0))","v":"SLJ Ruby Slippers"},null,{"$f":"INDEX('LIMITED RESULTS (2)'!$D$11:$D$33,MATCH('AWARDS (2)'!A25,'LIMITED RESULTS (2)'!$N$11:$N$33,0))","v":"Froghorn Leghorn"},{"$f":"INDEX(#REF!,MATCH('AWARDS (2)'!B26,#REF!,0))","v":{"$error":"#REF!"}},{"$f":"INDEX('LIMITED RESULTS (2)'!$D$11:$D$33,MATCH('AWARDS (2)'!A25,'LIMITED RESULTS (2)'!$S$11:$S$33,0))","v":"SLJ Ruby Slippers"},{"$f":"INDEX(#REF!,MATCH('AWARDS (2)'!A26,#REF!,0))","v":{"$error":"#REF!"}},{"$f":"INDEX('LIMITED RESULTS (2)'!$D$11:$D$33,MATCH('AWARDS (2)'!A25,'LIMITED RESULTS (2)'!$X$11:$X$33,0))","v":"SLJ Ruby Slippers"},{"$f":"INDEX(#REF!,MATCH('AWARDS (2)'!A26,#REF!,0))","v":{"$error":"#REF!"}},{"$f":"INDEX('LIMITED RESULTS (2)'!$D$11:$D$33,MATCH('AWARDS (2)'!A25,'LIMITED RESULTS (2)'!$AE$11:$AE$33,0))","v":"Froghorn Leghorn"},{"$f":"INDEX(#REF!,MATCH('AWARDS (2)'!A26,#REF!,0))","v":{"$error":"#REF!"}}]
[2,{"$f":"INDEX('LIMITED RESULTS (2)'!C$11:$C$33,MATCH('AWARDS (2)'!A27,'LIMITED RESULTS (2)'!$I$11:$I$33,0))","v":"Gena"},{"$f":"INDEX('LIMITED RESULTS (2)'!$B$11:$B$33,MATCH('AWARDS (2)'!A27,'LIMITED RESULTS (2)'!$I$11:$I$33,0))","v":"Janetka"},{"$f":"INDEX('LIMITED RESULTS (2)'!$C$11:$C$33,MATCH('AWARDS (2)'!A27,'LIMITED RESULTS (2)'!$N$11:$N$33,0))","v":"Steph"},{"$f":"INDEX('LIMITED RESULTS (2)'!$B$11:$B$33,MATCH('AWARDS (2)'!A27,'LIMITED RESULTS (2)'!$N$11:$N$33,0))","v":"Siitari"},{"$f":"INDEX('LIMITED RESULTS (2)'!$C$11:$C$33,MATCH('AWARDS (2)'!A27,'LIMITED RESULTS (2)'!$S$11:$S$33,0))","v":"Gena"},{"$f":"INDEX('LIMITED RESULTS (2)'!$B$11:$B$33,MATCH('AWARDS (2)'!A27,'LIMITED RESULTS (2)'!$S$11:$S$33,0))","v":"Janetka"},{"$f":"INDEX('LIMITED RESULTS (2)'!$C$11:$C$33,MATCH('AWARDS (2)'!A27,'LIMITED RESULTS (2)'!$X$11:$X$33,0))","v":"Gena"},{"$f":"INDEX('LIMITED RESULTS (2)'!$B$11:$B$33,MATCH('AWARDS (2)'!A27,'LIMITED RESULTS (2)'!$X$11:$X$33,0))","v":"Janetka"},{"$f":"INDEX('LIMITED RESULTS (2)'!$C$11:$C$33,MATCH('AWARDS (2)'!A27,'LIMITED RESULTS (2)'!$AE$11:$AE$33,0))","v":"Steph"},{"$f":"INDEX('LIMITED RESULTS (2)'!$B$11:$B$33,MATCH('AWARDS (2)'!A27,'LIMITED RESULTS (2)'!$AE$11:$AE$33,0))","v":"Siitari"}]
[null,{"$f":"INDEX('LIMITED RESULTS (2)'!$D$11:$D$33,MATCH('AWARDS (2)'!A27,'LIMITED RESULTS (2)'!$I$11:$I$33,0))","v":"Froghorn Leghorn"},null,{"$f":"INDEX('LIMITED RESULTS (2)'!$D$11:$D$33,MATCH('AWARDS (2)'!A27,'LIMITED RESULTS (2)'!$N$11:$N$33,0))","v":"SLJ Ruby Slippers"},{"$f":"INDEX(#REF!,MATCH('AWARDS (2)'!B28,#REF!,0))","v":{"$error":"#REF!"}},{"$f":"INDEX('LIMITED RESULTS (2)'!$D$11:$D$33,MATCH('AWARDS (2)'!A27,'LIMITED RESULTS (2)'!$S$11:$S$33,0))","v":"Froghorn Leghorn"},{"$f":"INDEX(#REF!,MATCH('AWARDS (2)'!A28,#REF!,0))","v":{"$error":"#REF!"}},{"$f":"INDEX('LIMITED RESULTS (2)'!$D$11:$D$33,MATCH('AWARDS (2)'!A27,'LIMITED RESULTS (2)'!$X$11:$X$33,0))","v":"Froghorn Leghorn"},{"$f":"INDEX(#REF!,MATCH('AWARDS (2)'!A28,#REF!,0))","v":{"$error":"#REF!"}},{"$f":"INDEX('LIMITED RESULTS (2)'!$D$11:$D$33,MATCH('AWARDS (2)'!A27,'LIMITED RESULTS (2)'!$AE$11:$AE$33,0))","v":"SLJ Ruby Slippers"},{"$f":"INDEX(#REF!,MATCH('AWARDS (2)'!A28,#REF!,0))","v":{"$error":"#REF!"}}]
[3,{"$f":"INDEX('LIMITED RESULTS (2)'!C$11:$C$33,MATCH('AWARDS (2)'!A29,'LIMITED RESULTS (2)'!$I$11:$I$33,0))","v":{"$error":"#N/A"}},{"$f":"INDEX('LIMITED RESULTS (2)'!$B$11:$B$33,MATCH('AWARDS (2)'!A29,'LIMITED RESULTS (2)'!$I$11:$I$33,0))","v":{"$error":"#N/A"}},{"$f":"INDEX('LIMITED RESULTS (2)'!$C$11:$C$33,MATCH('AWARDS (2)'!A29,'LIMITED RESULTS (2)'!$N$11:$N$33,0))","v":{"$error":"#N/A"}},{"$f":"INDEX('LIMITED RESULTS (2)'!$B$11:$B$33,MATCH('AWARDS (2)'!A29,'LIMITED RESULTS (2)'!$N$11:$N$33,0))","v":{"$error":"#N/A"}},{"$f":"INDEX('LIMITED RESULTS (2)'!$C$11:$C$33,MATCH('AWARDS (2)'!A29,'LIMITED RESULTS (2)'!$S$11:$S$33,0))","v":{"$error":"#N/A"}},{"$f":"INDEX('LIMITED RESULTS (2)'!$B$11:$B$33,MATCH('AWARDS (2)'!A29,'LIMITED RESULTS (2)'!$S$11:$S$33,0))","v":{"$error":"#N/A"}},{"$f":"INDEX('LIMITED RESULTS (2)'!$C$11:$C$33,MATCH('AWARDS (2)'!A29,'LIMITED RESULTS (2)'!$X$11:$X$33,0))","v":{"$error":"#N/A"}},{"$f":"INDEX('LIMITED RESULTS (2)'!$B$11:$B$33,MATCH('AWARDS (2)'!A29,'LIMITED RESULTS (2)'!$X$11:$X$33,0))","v":{"$error":"#N/A"}},{"$f":"INDEX('LIMITED RESULTS (2)'!$C$11:$C$33,MATCH('AWARDS (2)'!A29,'LIMITED RESULTS (2)'!$AE$11:$AE$33,0))","v":{"$error":"#N/A"}},{"$f":"INDEX('LIMITED RESULTS (2)'!$B$11:$B$33,MATCH('AWARDS (2)'!A29,'LIMITED RESULTS (2)'!$AE$11:$AE$33,0))","v":{"$error":"#N/A"}}]
[null,{"$f":"INDEX('LIMITED RESULTS (2)'!$D$11:$D$33,MATCH('AWARDS (2)'!A29,'LIMITED RESULTS (2)'!$I$11:$I$33,0))","v":{"$error":"#N/A"}},null,{"$f":"INDEX('LIMITED RESULTS (2)'!$D$11:$D$33,MATCH('AWARDS (2)'!A29,'LIMITED RESULTS (2)'!$N$11:$N$33,0))","v":{"$error":"#N/A"}},{"$f":"INDEX(#REF!,MATCH('AWARDS (2)'!B30,#REF!,0))","v":{"$error":"#REF!"}},{"$f":"INDEX('LIMITED RESULTS (2)'!$D$11:$D$33,MATCH('AWARDS (2)'!A29,'LIMITED RESULTS (2)'!$S$11:$S$33,0))","v":{"$error":"#N/A"}},{"$f":"INDEX(#REF!,MATCH('AWARDS (2)'!A30,#REF!,0))","v":{"$error":"#REF!"}},{"$f":"INDEX('LIMITED RESULTS (2)'!$D$11:$D$33,MATCH('AWARDS (2)'!A29,'LIMITED RESULTS (2)'!$X$11:$X$33,0))","v":{"$error":"#N/A"}},{"$f":"INDEX(#REF!,MATCH('AWARDS (2)'!A30,#REF!,0))","v":{"$error":"#REF!"}},{"$f":"INDEX('LIMITED RESULTS (2)'!$D$11:$D$33,MATCH('AWARDS (2)'!A29,'LIMITED RESULTS (2)'!$AE$11:$AE$33,0))","v":{"$error":"#N/A"}},{"$f":"INDEX(#REF!,MATCH('AWARDS (2)'!A30,#REF!,0))","v":{"$error":"#REF!"}}]
[4,{"$f":"INDEX('LIMITED RESULTS (2)'!C$11:$C$33,MATCH('AWARDS (2)'!A31,'LIMITED RESULTS (2)'!$I$11:$I$33,0))","v":{"$error":"#N/A"}},{"$f":"INDEX('LIMITED RESULTS (2)'!$B$11:$B$33,MATCH('AWARDS (2)'!A31,'LIMITED RESULTS (2)'!$I$11:$I$33,0))","v":{"$error":"#N/A"}},{"$f":"INDEX('LIMITED RESULTS (2)'!$C$11:$C$33,MATCH('AWARDS (2)'!A31,'LIMITED RESULTS (2)'!$N$11:$N$33,0))","v":{"$error":"#N/A"}},{"$f":"INDEX('LIMITED RESULTS (2)'!$B$11:$B$33,MATCH('AWARDS (2)'!A31,'LIMITED RESULTS (2)'!$N$11:$N$33,0))","v":{"$error":"#N/A"}},{"$f":"INDEX('LIMITED RESULTS (2)'!$C$11:$C$33,MATCH('AWARDS (2)'!A31,'LIMITED RESULTS (2)'!$S$11:$S$33,0))","v":{"$error":"#N/A"}},{"$f":"INDEX('LIMITED RESULTS (2)'!$B$11:$B$33,MATCH('AWARDS (2)'!A31,'LIMITED RESULTS (2)'!$S$11:$S$33,0))","v":{"$error":"#N/A"}},{"$f":"INDEX('LIMITED RESULTS (2)'!$C$11:$C$33,MATCH('AWARDS (2)'!A31,'LIMITED RESULTS (2)'!$X$11:$X$33,0))","v":{"$error":"#N/A"}},{"$f":"INDEX('LIMITED RESULTS (2)'!$B$11:$B$33,MATCH('AWARDS (2)'!A31,'LIMITED RESULTS (2)'!$X$11:$X$33,0))","v":{"$error":"#N/A"}},{"$f":"INDEX('LIMITED RESULTS (2)'!$C$11:$C$33,MATCH('AWARDS (2)'!A31,'LIMITED RESULTS (2)'!$AE$11:$AE$33,0))","v":{"$error":"#N/A"}},{"$f":"INDEX('LIMITED RESULTS (2)'!$B$11:$B$33,MATCH('AWARDS (2)'!A31,'LIMITED RESULTS (2)'!$AE$11:$AE$33,0))","v":{"$error":"#N/A"}}]
[null,{"$f":"INDEX('LIMITED RESULTS (2)'!$D$11:$D$33,MATCH('AWARDS (2)'!A31,'LIMITED RESULTS (2)'!$I$11:$I$33,0))","v":{"$error":"#N/A"}},null,{"$f":"INDEX('LIMITED RESULTS (2)'!$D$11:$D$33,MATCH('AWARDS (2)'!A31,'LIMITED RESULTS (2)'!$N$11:$N$33,0))","v":{"$error":"#N/A"}},{"$f":"INDEX(#REF!,MATCH('AWARDS (2)'!B32,#REF!,0))","v":{"$error":"#REF!"}},{"$f":"INDEX('LIMITED RESULTS (2)'!$D$11:$D$33,MATCH('AWARDS (2)'!A31,'LIMITED RESULTS (2)'!$S$11:$S$33,0))","v":{"$error":"#N/A"}},{"$f":"INDEX(#REF!,MATCH('AWARDS (2)'!A32,#REF!,0))","v":{"$error":"#REF!"}},{"$f":"INDEX('LIMITED RESULTS (2)'!$D$11:$D$33,MATCH('AWARDS (2)'!A31,'LIMITED RESULTS (2)'!$X$11:$X$33,0))","v":{"$error":"#N/A"}},{"$f":"INDEX(#REF!,MATCH('AWARDS (2)'!A32,#REF!,0))","v":{"$error":"#REF!"}},{"$f":"INDEX('LIMITED RESULTS (2)'!$D$11:$D$33,MATCH('AWARDS (2)'!A31,'LIMITED RESULTS (2)'!$AE$11:$AE$33,0))","v":{"$error":"#N/A"}},{"$f":"INDEX(#REF!,MATCH('AWARDS (2)'!A32,#REF!,0))","v":{"$error":"#REF!"}}]
[5,{"$f":"INDEX('LIMITED RESULTS (2)'!C$11:$C$33,MATCH('AWARDS (2)'!A33,'LIMITED RESULTS (2)'!$I$11:$I$33,0))","v":{"$error":"#N/A"}},{"$f":"INDEX('LIMITED RESULTS (2)'!$B$11:$B$33,MATCH('AWARDS (2)'!A33,'LIMITED RESULTS (2)'!$I$11:$I$33,0))","v":{"$error":"#N/A"}},{"$f":"INDEX('LIMITED RESULTS (2)'!$C$11:$C$33,MATCH('AWARDS (2)'!A33,'LIMITED RESULTS (2)'!$N$11:$N$33,0))","v":{"$error":"#N/A"}},{"$f":"INDEX('LIMITED RESULTS (2)'!$B$11:$B$33,MATCH('AWARDS (2)'!A33,'LIMITED RESULTS (2)'!$N$11:$N$33,0))","v":{"$error":"#N/A"}},{"$f":"INDEX('LIMITED RESULTS (2)'!$C$11:$C$33,MATCH('AWARDS (2)'!A33,'LIMITED RESULTS (2)'!$S$11:$S$33,0))","v":{"$error":"#N/A"}},{"$f":"INDEX('LIMITED RESULTS (2)'!$B$11:$B$33,MATCH('AWARDS (2)'!A33,'LIMITED RESULTS (2)'!$S$11:$S$33,0))","v":{"$error":"#N/A"}},{"$f":"INDEX('LIMITED RESULTS (2)'!$C$11:$C$33,MATCH('AWARDS (2)'!A33,'LIMITED RESULTS (2)'!$X$11:$X$33,0))","v":{"$error":"#N/A"}},{"$f":"INDEX('LIMITED RESULTS (2)'!$B$11:$B$33,MATCH('AWARDS (2)'!A33,'LIMITED RESULTS (2)'!$X$11:$X$33,0))","v":{"$error":"#N/A"}},{"$f":"INDEX('LIMITED RESULTS (2)'!$C$11:$C$33,MATCH('AWARDS (2)'!A33,'LIMITED RESULTS (2)'!$AE$11:$AE$33,0))","v":{"$error":"#N/A"}},{"$f":"INDEX('LIMITED RESULTS (2)'!$B$11:$B$33,MATCH('AWARDS (2)'!A33,'LIMITED RESULTS (2)'!$AE$11:$AE$33,0))","v":{"$error":"#N/A"}}]
[null,{"$f":"INDEX('LIMITED RESULTS (2)'!$D$11:$D$33,MATCH('AWARDS (2)'!A33,'LIMITED RESULTS (2)'!$I$11:$I$33,0))","v":{"$error":"#N/A"}},null,{"$f":"INDEX('LIMITED RESULTS (2)'!$D$11:$D$33,MATCH('AWARDS (2)'!A33,'LIMITED RESULTS (2)'!$N$11:$N$33,0))","v":{"$error":"#N/A"}},{"$f":"INDEX(#REF!,MATCH('AWARDS (2)'!B34,#REF!,0))","v":{"$error":"#REF!"}},{"$f":"INDEX('LIMITED RESULTS (2)'!$D$11:$D$33,MATCH('AWARDS (2)'!A33,'LIMITED RESULTS (2)'!$S$11:$S$33,0))","v":{"$error":"#N/A"}},{"$f":"INDEX(#REF!,MATCH('AWARDS (2)'!A34,#REF!,0))","v":{"$error":"#REF!"}},{"$f":"INDEX('LIMITED RESULTS (2)'!$D$11:$D$33,MATCH('AWARDS (2)'!A33,'LIMITED RESULTS (2)'!$X$11:$X$33,0))","v":{"$error":"#N/A"}},{"$f":"INDEX(#REF!,MATCH('AWARDS (2)'!A34,#REF!,0))","v":{"$error":"#REF!"}},{"$f":"INDEX('LIMITED RESULTS (2)'!$D$11:$D$33,MATCH('AWARDS (2)'!A33,'LIMITED RESULTS (2)'!$AE$11:$AE$33,0))","v":{"$error":"#N/A"}},{"$f":"INDEX(#REF!,MATCH('AWARDS (2)'!A34,#REF!,0))","v":{"$error":"#REF!"}}]
[6,{"$f":"INDEX('LIMITED RESULTS (2)'!C$11:$C$33,MATCH('AWARDS (2)'!A35,'LIMITED RESULTS (2)'!$I$11:$I$33,0))","v":{"$error":"#N/A"}},{"$f":"INDEX('LIMITED RESULTS (2)'!$B$11:$B$33,MATCH('AWARDS (2)'!A35,'LIMITED RESULTS (2)'!$I$11:$I$33,0))","v":{"$error":"#N/A"}},{"$f":"INDEX('LIMITED RESULTS (2)'!$C$11:$C$33,MATCH('AWARDS (2)'!A35,'LIMITED RESULTS (2)'!$N$11:$N$33,0))","v":{"$error":"#N/A"}},{"$f":"INDEX('LIMITED RESULTS (2)'!$B$11:$B$33,MATCH('AWARDS (2)'!A35,'LIMITED RESULTS (2)'!$N$11:$N$33,0))","v":{"$error":"#N/A"}},{"$f":"INDEX('LIMITED RESULTS (2)'!$C$11:$C$33,MATCH('AWARDS (2)'!A35,'LIMITED RESULTS (2)'!$S$11:$S$33,0))","v":{"$error":"#N/A"}},{"$f":"INDEX('LIMITED RESULTS (2)'!$B$11:$B$33,MATCH('AWARDS (2)'!A35,'LIMITED RESULTS (2)'!$S$11:$S$33,0))","v":{"$error":"#N/A"}},{"$f":"INDEX('LIMITED RESULTS (2)'!$C$11:$C$33,MATCH('AWARDS (2)'!A35,'LIMITED RESULTS (2)'!$X$11:$X$33,0))","v":{"$error":"#N/A"}},{"$f":"INDEX('LIMITED RESULTS (2)'!$B$11:$B$33,MATCH('AWARDS (2)'!A35,'LIMITED RESULTS (2)'!$X$11:$X$33,0))","v":{"$error":"#N/A"}},{"$f":"INDEX('LIMITED RESULTS (2)'!$C$11:$C$33,MATCH('AWARDS (2)'!A35,'LIMITED RESULTS (2)'!$AE$11:$AE$33,0))","v":{"$error":"#N/A"}},{"$f":"INDEX('LIMITED RESULTS (2)'!$B$11:$B$33,MATCH('AWARDS (2)'!A35,'LIMITED RESULTS (2)'!$AE$11:$AE$33,0))","v":{"$error":"#N/A"}}]
[null,{"$f":"INDEX('LIMITED RESULTS (2)'!$D$11:$D$33,MATCH('AWARDS (2)'!A35,'LIMITED RESULTS (2)'!$I$11:$I$33,0))","v":{"$error":"#N/A"}},null,{"$f":"INDEX('LIMITED RESULTS (2)'!$D$11:$D$33,MATCH('AWARDS (2)'!A35,'LIMITED RESULTS (2)'!$N$11:$N$33,0))","v":{"$error":"#N/A"}},{"$f":"INDEX(#REF!,MATCH('AWARDS (2)'!B36,#REF!,0))","v":{"$error":"#REF!"}},{"$f":"INDEX('LIMITED RESULTS (2)'!$D$11:$D$33,MATCH('AWARDS (2)'!A35,'LIMITED RESULTS (2)'!$S$11:$S$33,0))","v":{"$error":"#N/A"}},{"$f":"INDEX(#REF!,MATCH('AWARDS (2)'!A36,#REF!,0))","v":{"$error":"#REF!"}},{"$f":"INDEX('LIMITED RESULTS (2)'!$D$11:$D$33,MATCH('AWARDS (2)'!A35,'LIMITED RESULTS (2)'!$X$11:$X$33,0))","v":{"$error":"#N/A"}},{"$f":"INDEX(#REF!,MATCH('AWARDS (2)'!A36,#REF!,0))","v":{"$error":"#REF!"}},{"$f":"INDEX('LIMITED RESULTS (2)'!$D$11:$D$33,MATCH('AWARDS (2)'!A35,'LIMITED RESULTS (2)'!$AE$11:$AE$33,0))","v":{"$error":"#N/A"}},{"$f":"INDEX(#REF!,MATCH('AWARDS (2)'!A36,#REF!,0))","v":{"$error":"#REF!"}}]
["Limited Reserve Champion",null,null,null,null,null,null,{"$f":"INDEX('LIMITED RESULTS (2)'!$C$11:$C$33,MATCH(2,'LIMITED RESULTS (2)'!$AJ$11:$AJ$33,0))","v":"Gena"},null,{"$f":"INDEX('LIMITED RESULTS (2)'!$B$11:$B$33,MATCH(2,'LIMITED RESULTS (2)'!$AJ$11:$AJ$33,0))","v":"Janetka"}]
[null,null,null,null,null,null,null,{"$f":"INDEX('LIMITED RESULTS (2)'!$D$11:$D$33,MATCH(2,'LIMITED RESULTS (2)'!$AJ$11:$AJ$33,0))","v":"Froghorn Leghorn"},null,{"$f":"INDEX(#REF!,MATCH(2,#REF!,0))","v":{"$error":"#REF!"}}]
["Limited Champion",null,null,null,null,null,null,{"$f":"INDEX('LIMITED RESULTS (2)'!$C$11:$C$33,MATCH(1,'LIMITED RESULTS (2)'!$AJ$11:$AJ$33,0))","v":"Steph"},null,{"$f":"INDEX('LIMITED RESULTS (2)'!$B$11:$B$33,MATCH(1,'LIMITED RESULTS (2)'!$AJ$11:$AJ$33,0))","v":"Siitari"}]
[null,null,null,null,null,null,null,{"$f":"INDEX('LIMITED RESULTS (2)'!$D$11:$D$33,MATCH(1,'LIMITED RESULTS (2)'!$AJ$11:$AJ$33,0))","v":"SLJ Ruby Slippers"},null,{"$f":"INDEX(#REF!,MATCH(1,#REF!,0))","v":{"$error":"#REF!"}}]
[]
[]
[{"$f":"'Entry Information'!H4","v":"The Horse First Farm, Brooklyn, WI"}]
[{"$f":"'Entry Information'!H5","v":"June 28-29,2014"}]
[]
[]
["INTERMEDIATE","Ranch Riding",null,"Working Ranch Horse",null,"Cutting",null,"Trail",null,"Conformation"]
[1,{"$f":"INDEX('INTERMEDIATE RESULTS (2)'!C$11:$C$33,MATCH('AWARDS (2)'!A48,'INTERMEDIATE RESULTS (2)'!$I$11:$I$33,0))","v":"Carlos"},{"$f":"INDEX('INTERMEDIATE RESULTS (2)'!$B$11:$B$33,MATCH('AWARDS (2)'!A48,'INTERMEDIATE RESULTS (2)'!$I$11:$I$33,0))","v":"Osorio"},{"$f":"INDEX('INTERMEDIATE RESULTS (2)'!$C$11:$C$33,MATCH('AWARDS (2)'!A48,'INTERMEDIATE RESULTS (2)'!$N$11:$N$33,0))","v":"Carlos"},{"$f":"INDEX('INTERMEDIATE RESULTS (2)'!$B$11:$B$33,MATCH('AWARDS (2)'!A48,'INTERMEDIATE RESULTS (2)'!$N$11:$N$33,0))","v":"Osorio"},{"$f":"INDEX('INTERMEDIATE RESULTS (2)'!$C$11:$C$33,MATCH('AWARDS (2)'!A48,'INTERMEDIATE RESULTS (2)'!$S$11:$S$33,0))","v":"Carlos"},{"$f":"INDEX('INTERMEDIATE RESULTS (2)'!$B$11:$B$33,MATCH('AWARDS (2)'!A48,'INTERMEDIATE RESULTS (2)'!$S$11:$S$33,0))","v":"Osorio"},{"$f":"INDEX('INTERMEDIATE RESULTS (2)'!$C$11:$C$33,MATCH('AWARDS (2)'!A48,'INTERMEDIATE RESULTS (2)'!$X$11:$X$33,0))","v":"Carlos"},{"$f":"INDEX('INTERMEDIATE RESULTS (2)'!$B$11:$B$33,MATCH('AWARDS (2)'!A48,'INTERMEDIATE RESULTS (2)'!$X$11:$X$33,0))","v":"Osorio"},{"$f":"INDEX('INTERMEDIATE RESULTS (2)'!$C$11:$C$33,MATCH('AWARDS (2)'!A48,'INTERMEDIATE RESULTS (2)'!$AE$11:$AE$33,0))","v":"Carlos"},{"$f":"INDEX('INTERMEDIATE RESULTS (2)'!$B$11:$B$33,MATCH('AWARDS (2)'!A48,'INTERMEDIATE RESULTS (2)'!$AE$11:$AE$33,0))","v":"Osorio"}]
[null,{"$f":"INDEX('INTERMEDIATE RESULTS (2)'!$D$11:$D$33,MATCH('AWARDS (2)'!A48,'INTERMEDIATE RESULTS (2)'!$I$11:$I$33,0))","v":"AR Especial"},null,{"$f":"INDEX('INTERMEDIATE RESULTS (2)'!$D$11:$D$33,MATCH('AWARDS (2)'!A48,'INTERMEDIATE RESULTS (2)'!$N$11:$N$33,0))","v":"AR Especial"},{"$f":"INDEX(#REF!,MATCH('AWARDS (2)'!B49,#REF!,0))","v":{"$error":"#REF!"}},{"$f":"INDEX('INTERMEDIATE RESULTS (2)'!$D$11:$D$33,MATCH('AWARDS (2)'!A48,'INTERMEDIATE RESULTS (2)'!$S$11:$S$33,0))","v":"AR Especial"},{"$f":"INDEX(#REF!,MATCH('AWARDS (2)'!A49,#REF!,0))","v":{"$error":"#REF!"}},{"$f":"INDEX('INTERMEDIATE RESULTS (2)'!$D$11:$D$33,MATCH('AWARDS (2)'!A48,'INTERMEDIATE RESULTS (2)'!$X$11:$X$33,0))","v":"AR Especial"},{"$f":"INDEX(#REF!,MATCH('AWARDS (2)'!A49,#REF!,0))","v":{"$error":"#REF!"}},{"$f":"INDEX('INTERMEDIATE RESULTS (2)'!$D$11:$D$33,MATCH('AWARDS (2)'!A48,'INTERMEDIATE RESULTS (2)'!$AE$11:$AE$33,0))","v":"AR Especial"},{"$f":"INDEX(#REF!,MATCH('AWARDS (2)'!A49,#REF!,0))","v":{"$error":"#REF!"}}]
[2,{"$f":"INDEX('INTERMEDIATE RESULTS (2)'!C$11:$C$33,MATCH('AWARDS (2)'!A50,'INTERMEDIATE RESULTS (2)'!$I$11:$I$33,0))","v":{"$error":"#N/A"}},{"$f":"INDEX('INTERMEDIATE RESULTS (2)'!$B$11:$B$33,MATCH('AWARDS (2)'!A50,'INTERMEDIATE RESULTS (2)'!$I$11:$I$33,0))","v":{"$error":"#N/A"}},{"$f":"INDEX('INTERMEDIATE RESULTS (2)'!$C$11:$C$33,MATCH('AWARDS (2)'!A50,'INTERMEDIATE RESULTS (2)'!$N$11:$N$33,0))","v":{"$error":"#N/A"}},{"$f":"INDEX('INTERMEDIATE RESULTS (2)'!$B$11:$B$33,MATCH('AWARDS (2)'!A50,'INTERMEDIATE RESULTS (2)'!$N$11:$N$33,0))","v":{"$error":"#N/A"}},{"$f":"INDEX('INTERMEDIATE RESULTS (2)'!$C$11:$C$33,MATCH('AWARDS (2)'!A50,'INTERMEDIATE RESULTS (2)'!$S$11:$S$33,0))","v":{"$error":"#N/A"}},{"$f":"INDEX('INTERMEDIATE RESULTS (2)'!$B$11:$B$33,MATCH('AWARDS (2)'!A50,'INTERMEDIATE RESULTS (2)'!$S$11:$S$33,0))","v":{"$error":"#N/A"}},{"$f":"INDEX('INTERMEDIATE RESULTS (2)'!$C$11:$C$33,MATCH('AWARDS (2)'!A50,'INTERMEDIATE RESULTS (2)'!$X$11:$X$33,0))","v":{"$error":"#N/A"}},{"$f":"INDEX('INTERMEDIATE RESULTS (2)'!$B$11:$B$33,MATCH('AWARDS (2)'!A50,'INTERMEDIATE RESULTS (2)'!$X$11:$X$33,0))","v":{"$error":"#N/A"}},{"$f":"INDEX('INTERMEDIATE RESULTS (2)'!$C$11:$C$33,MATCH('AWARDS (2)'!A50,'INTERMEDIATE RESULTS (2)'!$AE$11:$AE$33,0))","v":{"$error":"#N/A"}},{"$f":"INDEX('INTERMEDIATE RESULTS (2)'!$B$11:$B$33,MATCH('AWARDS (2)'!A50,'INTERMEDIATE RESULTS (2)'!$AE$11:$AE$33,0))","v":{"$error":"#N/A"}}]
[null,{"$f":"INDEX('INTERMEDIATE RESULTS (2)'!$D$11:$D$33,MATCH('AWARDS (2)'!A50,'INTERMEDIATE RESULTS (2)'!$I$11:$I$33,0))","v":{"$error":"#N/A"}},null,{"$f":"INDEX('INTERMEDIATE RESULTS (2)'!$D$11:$D$33,MATCH('AWARDS (2)'!A50,'INTERMEDIATE RESULTS (2)'!$N$11:$N$33,0))","v":{"$error":"#N/A"}},{"$f":"INDEX(#REF!,MATCH('AWARDS (2)'!B51,#REF!,0))","v":{"$error":"#REF!"}},{"$f":"INDEX('INTERMEDIATE RESULTS (2)'!$D$11:$D$33,MATCH('AWARDS (2)'!A50,'INTERMEDIATE RESULTS (2)'!$S$11:$S$33,0))","v":{"$error":"#N/A"}},{"$f":"INDEX(#REF!,MATCH('AWARDS (2)'!A51,#REF!,0))","v":{"$error":"#REF!"}},{"$f":"INDEX('INTERMEDIATE RESULTS (2)'!$D$11:$D$33,MATCH('AWARDS (2)'!A50,'INTERMEDIATE RESULTS (2)'!$X$11:$X$33,0))","v":{"$error":"#N/A"}},{"$f":"INDEX(#REF!,MATCH('AWARDS (2)'!A51,#REF!,0))","v":{"$error":"#REF!"}},{"$f":"INDEX('INTERMEDIATE RESULTS (2)'!$D$11:$D$33,MATCH('AWARDS (2)'!A50,'INTERMEDIATE RESULTS (2)'!$AE$11:$AE$33,0))","v":{"$error":"#N/A"}},{"$f":"INDEX(#REF!,MATCH('AWARDS (2)'!A51,#REF!,0))","v":{"$error":"#REF!"}}]
[3,{"$f":"INDEX('INTERMEDIATE RESULTS (2)'!C$11:$C$33,MATCH('AWARDS (2)'!A52,'INTERMEDIATE RESULTS (2)'!$I$11:$I$33,0))","v":{"$error":"#N/A"}},{"$f":"INDEX('INTERMEDIATE RESULTS (2)'!$B$11:$B$33,MATCH('AWARDS (2)'!A52,'INTERMEDIATE RESULTS (2)'!$I$11:$I$33,0))","v":{"$error":"#N/A"}},{"$f":"INDEX('INTERMEDIATE RESULTS (2)'!$C$11:$C$33,MATCH('AWARDS (2)'!A52,'INTERMEDIATE RESULTS (2)'!$N$11:$N$33,0))","v":{"$error":"#N/A"}},{"$f":"INDEX('INTERMEDIATE RESULTS (2)'!$B$11:$B$33,MATCH('AWARDS (2)'!A52,'INTERMEDIATE RESULTS (2)'!$N$11:$N$33,0))","v":{"$error":"#N/A"}},{"$f":"INDEX('INTERMEDIATE RESULTS (2)'!$C$11:$C$33,MATCH('AWARDS (2)'!A52,'INTERMEDIATE RESULTS (2)'!$S$11:$S$33,0))","v":{"$error":"#N/A"}},{"$f":"INDEX('INTERMEDIATE RESULTS (2)'!$B$11:$B$33,MATCH('AWARDS (2)'!A52,'INTERMEDIATE RESULTS (2)'!$S$11:$S$33,0))","v":{"$error":"#N/A"}},{"$f":"INDEX('INTERMEDIATE RESULTS (2)'!$C$11:$C$33,MATCH('AWARDS (2)'!A52,'INTERMEDIATE RESULTS (2)'!$X$11:$X$33,0))","v":{"$error":"#N/A"}},{"$f":"INDEX('INTERMEDIATE RESULTS (2)'!$B$11:$B$33,MATCH('AWARDS (2)'!A52,'INTERMEDIATE RESULTS (2)'!$X$11:$X$33,0))","v":{"$error":"#N/A"}},{"$f":"INDEX('INTERMEDIATE RESULTS (2)'!$C$11:$C$33,MATCH('AWARDS (2)'!A52,'INTERMEDIATE RESULTS (2)'!$AE$11:$AE$33,0))","v":{"$error":"#N/A"}},{"$f":"INDEX('INTERMEDIATE RESULTS (2)'!$B$11:$B$33,MATCH('AWARDS (2)'!A52,'INTERMEDIATE RESULTS (2)'!$AE$11:$AE$33,0))","v":{"$error":"#N/A"}}]
[null,{"$f":"INDEX('INTERMEDIATE RESULTS (2)'!$D$11:$D$33,MATCH('AWARDS (2)'!A52,'INTERMEDIATE RESULTS (2)'!$I$11:$I$33,0))","v":{"$error":"#N/A"}},null,{"$f":"INDEX('INTERMEDIATE RESULTS (2)'!$D$11:$D$33,MATCH('AWARDS (2)'!A52,'INTERMEDIATE RESULTS (2)'!$N$11:$N$33,0))","v":{"$error":"#N/A"}},{"$f":"INDEX(#REF!,MATCH('AWARDS (2)'!B53,#REF!,0))","v":{"$error":"#REF!"}},{"$f":"INDEX('INTERMEDIATE RESULTS (2)'!$D$11:$D$33,MATCH('AWARDS (2)'!A52,'INTERMEDIATE RESULTS (2)'!$S$11:$S$33,0))","v":{"$error":"#N/A"}},{"$f":"INDEX(#REF!,MATCH('AWARDS (2)'!A53,#REF!,0))","v":{"$error":"#REF!"}},{"$f":"INDEX('INTERMEDIATE RESULTS (2)'!$D$11:$D$33,MATCH('AWARDS (2)'!A52,'INTERMEDIATE RESULTS (2)'!$X$11:$X$33,0))","v":{"$error":"#N/A"}},{"$f":"INDEX(#REF!,MATCH('AWARDS (2)'!A53,#REF!,0))","v":{"$error":"#REF!"}},{"$f":"INDEX('INTERMEDIATE RESULTS (2)'!$D$11:$D$33,MATCH('AWARDS (2)'!A52,'INTERMEDIATE RESULTS (2)'!$AE$11:$AE$33,0))","v":{"$error":"#N/A"}},{"$f":"INDEX(#REF!,MATCH('AWARDS (2)'!A53,#REF!,0))","v":{"$error":"#REF!"}}]
[4,{"$f":"INDEX('INTERMEDIATE RESULTS (2)'!C$11:$C$33,MATCH('AWARDS (2)'!A54,'INTERMEDIATE RESULTS (2)'!$I$11:$I$33,0))","v":{"$error":"#N/A"}},{"$f":"INDEX('INTERMEDIATE RESULTS (2)'!$B$11:$B$33,MATCH('AWARDS (2)'!A54,'INTERMEDIATE RESULTS (2)'!$I$11:$I$33,0))","v":{"$error":"#N/A"}},{"$f":"INDEX('INTERMEDIATE RESULTS (2)'!$C$11:$C$33,MATCH('AWARDS (2)'!A54,'INTERMEDIATE RESULTS (2)'!$N$11:$N$33,0))","v":{"$error":"#N/A"}},{"$f":"INDEX('INTERMEDIATE RESULTS (2)'!$B$11:$B$33,MATCH('AWARDS (2)'!A54,'INTERMEDIATE RESULTS (2)'!$N$11:$N$33,0))","v":{"$error":"#N/A"}},{"$f":"INDEX('INTERMEDIATE RESULTS (2)'!$C$11:$C$33,MATCH('AWARDS (2)'!A54,'INTERMEDIATE RESULTS (2)'!$S$11:$S$33,0))","v":{"$error":"#N/A"}},{"$f":"INDEX('INTERMEDIATE RESULTS (2)'!$B$11:$B$33,MATCH('AWARDS (2)'!A54,'INTERMEDIATE RESULTS (2)'!$S$11:$S$33,0))","v":{"$error":"#N/A"}},{"$f":"INDEX('INTERMEDIATE RESULTS (2)'!$C$11:$C$33,MATCH('AWARDS (2)'!A54,'INTERMEDIATE RESULTS (2)'!$X$11:$X$33,0))","v":{"$error":"#N/A"}},{"$f":"INDEX('INTERMEDIATE RESULTS (2)'!$B$11:$B$33,MATCH('AWARDS (2)'!A54,'INTERMEDIATE RESULTS (2)'!$X$11:$X$33,0))","v":{"$error":"#N/A"}},{"$f":"INDEX('INTERMEDIATE RESULTS (2)'!$C$11:$C$33,MATCH('AWARDS (2)'!A54,'INTERMEDIATE RESULTS (2)'!$AE$11:$AE$33,0))","v":{"$error":"#N/A"}},{"$f":"INDEX('INTERMEDIATE RESULTS (2)'!$B$11:$B$33,MATCH('AWARDS (2)'!A54,'INTERMEDIATE RESULTS (2)'!$AE$11:$AE$33,0))","v":{"$error":"#N/A"}}]
[null,{"$f":"INDEX('INTERMEDIATE RESULTS (2)'!$D$11:$D$33,MATCH('AWARDS (2)'!A54,'INTERMEDIATE RESULTS (2)'!$I$11:$I$33,0))","v":{"$error":"#N/A"}},null,{"$f":"INDEX('INTERMEDIATE RESULTS (2)'!$D$11:$D$33,MATCH('AWARDS (2)'!A54,'INTERMEDIATE RESULTS (2)'!$N$11:$N$33,0))","v":{"$error":"#N/A"}},{"$f":"INDEX(#REF!,MATCH('AWARDS (2)'!B55,#REF!,0))","v":{"$error":"#REF!"}},{"$f":"INDEX('INTERMEDIATE RESULTS (2)'!$D$11:$D$33,MATCH('AWARDS (2)'!A54,'INTERMEDIATE RESULTS (2)'!$S$11:$S$33,0))","v":{"$error":"#N/A"}},{"$f":"INDEX(#REF!,MATCH('AWARDS (2)'!A55,#REF!,0))","v":{"$error":"#REF!"}},{"$f":"INDEX('INTERMEDIATE RESULTS (2)'!$D$11:$D$33,MATCH('AWARDS (2)'!A54,'INTERMEDIATE RESULTS (2)'!$X$11:$X$33,0))","v":{"$error":"#N/A"}},{"$f":"INDEX(#REF!,MATCH('AWARDS (2)'!A55,#REF!,0))","v":{"$error":"#REF!"}},{"$f":"INDEX('INTERMEDIATE RESULTS (2)'!$D$11:$D$33,MATCH('AWARDS (2)'!A54,'INTERMEDIATE RESULTS (2)'!$AE$11:$AE$33,0))","v":{"$error":"#N/A"}},{"$f":"INDEX(#REF!,MATCH('AWARDS (2)'!A55,#REF!,0))","v":{"$error":"#REF!"}}]
[5,{"$f":"INDEX('INTERMEDIATE RESULTS (2)'!C$11:$C$33,MATCH('AWARDS (2)'!A56,'INTERMEDIATE RESULTS (2)'!$I$11:$I$33,0))","v":{"$error":"#N/A"}},{"$f":"INDEX('INTERMEDIATE RESULTS (2)'!$B$11:$B$33,MATCH('AWARDS (2)'!A56,'INTERMEDIATE RESULTS (2)'!$I$11:$I$33,0))","v":{"$error":"#N/A"}},{"$f":"INDEX('INTERMEDIATE RESULTS (2)'!$C$11:$C$33,MATCH('AWARDS (2)'!A56,'INTERMEDIATE RESULTS (2)'!$N$11:$N$33,0))","v":{"$error":"#N/A"}},{"$f":"INDEX('INTERMEDIATE RESULTS (2)'!$B$11:$B$33,MATCH('AWARDS (2)'!A56,'INTERMEDIATE RESULTS (2)'!$N$11:$N$33,0))","v":{"$error":"#N/A"}},{"$f":"INDEX('INTERMEDIATE RESULTS (2)'!$C$11:$C$33,MATCH('AWARDS (2)'!A56,'INTERMEDIATE RESULTS (2)'!$S$11:$S$33,0))","v":{"$error":"#N/A"}},{"$f":"INDEX('INTERMEDIATE RESULTS (2)'!$B$11:$B$33,MATCH('AWARDS (2)'!A56,'INTERMEDIATE RESULTS (2)'!$S$11:$S$33,0))","v":{"$error":"#N/A"}},{"$f":"INDEX('INTERMEDIATE RESULTS (2)'!$C$11:$C$33,MATCH('AWARDS (2)'!A56,'INTERMEDIATE RESULTS (2)'!$X$11:$X$33,0))","v":{"$error":"#N/A"}},{"$f":"INDEX('INTERMEDIATE RESULTS (2)'!$B$11:$B$33,MATCH('AWARDS (2)'!A56,'INTERMEDIATE RESULTS (2)'!$X$11:$X$33,0))","v":{"$error":"#N/A"}},{"$f":"INDEX('INTERMEDIATE RESULTS (2)'!$C$11:$C$33,MATCH('AWARDS (2)'!A56,'INTERMEDIATE RESULTS (2)'!$AE$11:$AE$33,0))","v":{"$error":"#N/A"}},{"$f":"INDEX('INTERMEDIATE RESULTS (2)'!$B$11:$B$33,MATCH('AWARDS (2)'!A56,'INTERMEDIATE RESULTS (2)'!$AE$11:$AE$33,0))","v":{"$error":"#N/A"}}]
[null,{"$f":"INDEX('INTERMEDIATE RESULTS (2)'!$D$11:$D$33,MATCH('AWARDS (2)'!A56,'INTERMEDIATE RESULTS (2)'!$I$11:$I$33,0))","v":{"$error":"#N/A"}},null,{"$f":"INDEX('INTERMEDIATE RESULTS (2)'!$D$11:$D$33,MATCH('AWARDS (2)'!A56,'INTERMEDIATE RESULTS (2)'!$N$11:$N$33,0))","v":{"$error":"#N/A"}},{"$f":"INDEX(#REF!,MATCH('AWARDS (2)'!B57,#REF!,0))","v":{"$error":"#REF!"}},{"$f":"INDEX('INTERMEDIATE RESULTS (2)'!$D$11:$D$33,MATCH('AWARDS (2)'!A56,'INTERMEDIATE RESULTS (2)'!$S$11:$S$33,0))","v":{"$error":"#N/A"}},{"$f":"INDEX(#REF!,MATCH('AWARDS (2)'!A57,#REF!,0))","v":{"$error":"#REF!"}},{"$f":"INDEX('INTERMEDIATE RESULTS (2)'!$D$11:$D$33,MATCH('AWARDS (2)'!A56,'INTERMEDIATE RESULTS (2)'!$X$11:$X$33,0))","v":{"$error":"#N/A"}},{"$f":"INDEX(#REF!,MATCH('AWARDS (2)'!A57,#REF!,0))","v":{"$error":"#REF!"}},{"$f":"INDEX('INTERMEDIATE RESULTS (2)'!$D$11:$D$33,MATCH('AWARDS (2)'!A56,'INTERMEDIATE RESULTS (2)'!$AE$11:$AE$33,0))","v":{"$error":"#N/A"}},{"$f":"INDEX(#REF!,MATCH('AWARDS (2)'!A57,#REF!,0))","v":{"$error":"#REF!"}}]
[6,{"$f":"INDEX('INTERMEDIATE RESULTS (2)'!C$11:$C$33,MATCH('AWARDS (2)'!A58,'INTERMEDIATE RESULTS (2)'!$I$11:$I$33,0))","v":{"$error":"#N/A"}},{"$f":"INDEX('INTERMEDIATE RESULTS (2)'!$B$11:$B$33,MATCH('AWARDS (2)'!A58,'INTERMEDIATE RESULTS (2)'!$I$11:$I$33,0))","v":{"$error":"#N/A"}},{"$f":"INDEX('INTERMEDIATE RESULTS (2)'!$C$11:$C$33,MATCH('AWARDS (2)'!A58,'INTERMEDIATE RESULTS (2)'!$N$11:$N$33,0))","v":{"$error":"#N/A"}},{"$f":"INDEX('INTERMEDIATE RESULTS (2)'!$B$11:$B$33,MATCH('AWARDS (2)'!A58,'INTERMEDIATE RESULTS (2)'!$N$11:$N$33,0))","v":{"$error":"#N/A"}},{"$f":"INDEX('INTERMEDIATE RESULTS (2)'!$C$11:$C$33,MATCH('AWARDS (2)'!A58,'INTERMEDIATE RESULTS (2)'!$S$11:$S$33,0))","v":{"$error":"#N/A"}},{"$f":"INDEX('INTERMEDIATE RESULTS (2)'!$B$11:$B$33,MATCH('AWARDS (2)'!A58,'INTERMEDIATE RESULTS (2)'!$S$11:$S$33,0))","v":{"$error":"#N/A"}},{"$f":"INDEX('INTERMEDIATE RESULTS (2)'!$C$11:$C$33,MATCH('AWARDS (2)'!A58,'INTERMEDIATE RESULTS (2)'!$X$11:$X$33,0))","v":{"$error":"#N/A"}},{"$f":"INDEX('INTERMEDIATE RESULTS (2)'!$B$11:$B$33,MATCH('AWARDS (2)'!A58,'INTERMEDIATE RESULTS (2)'!$X$11:$X$33,0))","v":{"$error":"#N/A"}},{"$f":"INDEX('INTERMEDIATE RESULTS (2)'!$C$11:$C$33,MATCH('AWARDS (2)'!A58,'INTERMEDIATE RESULTS (2)'!$AE$11:$AE$33,0))","v":{"$error":"#N/A"}},{"$f":"INDEX('INTERMEDIATE RESULTS (2)'!$B$11:$B$33,MATCH('AWARDS (2)'!A58,'INTERMEDIATE RESULTS (2)'!$AE$11:$AE$33,0))","v":{"$error":"#N/A"}}]
[null,{"$f":"INDEX('INTERMEDIATE RESULTS (2)'!$D$11:$D$33,MATCH('AWARDS (2)'!A58,'INTERMEDIATE RESULTS (2)'!$I$11:$I$33,0))","v":{"$error":"#N/A"}},null,{"$f":"INDEX('INTERMEDIATE RESULTS (2)'!$D$11:$D$33,MATCH('AWARDS (2)'!A58,'INTERMEDIATE RESULTS (2)'!$N$11:$N$33,0))","v":{"$error":"#N/A"}},{"$f":"INDEX(#REF!,MATCH('AWARDS (2)'!B59,#REF!,0))","v":{"$error":"#REF!"}},{"$f":"INDEX('INTERMEDIATE RESULTS (2)'!$D$11:$D$33,MATCH('AWARDS (2)'!A58,'INTERMEDIATE RESULTS (2)'!$S$11:$S$33,0))","v":{"$error":"#N/A"}},{"$f":"INDEX(#REF!,MATCH('AWARDS (2)'!A59,#REF!,0))","v":{"$error":"#REF!"}},{"$f":"INDEX('INTERMEDIATE RESULTS (2)'!$D$11:$D$33,MATCH('AWARDS (2)'!A58,'INTERMEDIATE RESULTS (2)'!$X$11:$X$33,0))","v":{"$error":"#N/A"}},{"$f":"INDEX(#REF!,MATCH('AWARDS (2)'!A59,#REF!,0))","v":{"$error":"#REF!"}},{"$f":"INDEX('INTERMEDIATE RESULTS (2)'!$D$11:$D$33,MATCH('AWARDS (2)'!A58,'INTERMEDIATE RESULTS (2)'!$AE$11:$AE$33,0))","v":{"$error":"#N/A"}},{"$f":"INDEX(#REF!,MATCH('AWARDS (2)'!A59,#REF!,0))","v":{"$error":"#REF!"}}]
["Intermediate Reserve Champion",null,null,null,null,null,null,{"$f":"INDEX('INTERMEDIATE RESULTS (2)'!$C$11:$C$33,MATCH(2,'INTERMEDIATE RESULTS (2)'!$AJ$11:$AJ$33,0))","v":{"$error":"#N/A"}},null,{"$f":"INDEX('INTERMEDIATE RESULTS (2)'!$B$11:$B$33,MATCH(2,'INTERMEDIATE RESULTS (2)'!$AJ$11:$AJ$33,0))","v":{"$error":"#N/A"}}]
[null,null,null,null,null,null,null,{"$f":"INDEX('INTERMEDIATE RESULTS (2)'!$D$11:$D$33,MATCH(2,'INTERMEDIATE RESULTS (2)'!$AJ$11:$AJ$33,0))","v":{"$error":"#N/A"}},null,{"$f":"INDEX(#REF!,MATCH(2,#REF!,0))","v":{"$error":"#REF!"}}]
["Intermediate Champion",null,null,null,null,null,null,{"$f":"INDEX('INTERMEDIATE RESULTS (2)'!$C$11:$C$33,MATCH(1,'INTERMEDIATE RESULTS (2)'!$AJ$11:$AJ$33,0))","v":"Carlos"},null,{"$f":"INDEX('INTERMEDIATE RESULTS (2)'!$B$11:$B$33,MATCH(1,'INTERMEDIATE RESULTS (2)'!$AJ$11:$AJ$33,0))","v":"Osorio"}]
[null,null,null,null,null,null,null,{"$f":"INDEX('INTERMEDIATE RESULTS (2)'!$D$11:$D$33,MATCH(1,'INTERMEDIATE RESULTS (2)'!$AJ$11:$AJ$33,0))","v":"AR Especial"},null,{"$f":"INDEX(#REF!,MATCH(1,#REF!,0))","v":{"$error":"#REF!"}}]
[]
[]
["ADVANCED","Ranch Riding",null,"Working Ranch Horse",null,"Cutting",null,"Trail",null,"Conformation"]
[1,{"$f":"INDEX('ADVANCED RESULTS (2)'!C$11:$C$29,MATCH('AWARDS (2)'!A67,'ADVANCED RESULTS (2)'!$I$11:$I$29,0))","v":"Shelley"},{"$f":"INDEX('ADVANCED RESULTS (2)'!$B$11:$B$29,MATCH('AWARDS (2)'!A67,'ADVANCED RESULTS (2)'!$I$11:$I$29,0))","v":"Johnsen"},{"$f":"INDEX('ADVANCED RESULTS (2)'!$C$11:$C$29,MATCH('AWARDS (2)'!A67,'ADVANCED RESULTS (2)'!$N$11:$N$29,0))","v":"Vicky"},{"$f":"INDEX('ADVANCED RESULTS (2)'!$B$11:$B$29,MATCH('AWARDS (2)'!A67,'ADVANCED RESULTS (2)'!$N$11:$N$29,0))","v":"Henderson"},{"$f":"INDEX('ADVANCED RESULTS (2)'!$C$11:$C$29,MATCH('AWARDS (2)'!A67,'ADVANCED RESULTS (2)'!$S$11:$S$29,0))","v":"Shelley"},{"$f":"INDEX('ADVANCED RESULTS (2)'!$B$11:$B$29,MATCH('AWARDS (2)'!A67,'ADVANCED RESULTS (2)'!$S$11:$S$29,0))","v":"Johnsen"},{"$f":"INDEX('ADVANCED RESULTS (2)'!$C$11:$C$29,MATCH('AWARDS (2)'!A67,'ADVANCED RESULTS (2)'!$X$11:$X$29,0))","v":"Shelley"},{"$f":"INDEX('ADVANCED RESULTS (2)'!$B$11:$B$29,MATCH('AWARDS (2)'!A67,'ADVANCED RESULTS (2)'!$X$11:$X$29,0))","v":"Johnsen"},{"$f":"INDEX('ADVANCED RESULTS (2)'!$C$11:$C$29,MATCH('AWARDS (2)'!A67,'ADVANCED RESULTS (2)'!$AE$11:$AE$29,0))","v":"Shelley"},{"$f":"INDEX('ADVANCED RESULTS (2)'!$B$11:$B$29,MATCH('AWARDS (2)'!A67,'ADVANCED RESULTS (2)'!$AE$11:$AE$29,0))","v":"Johnsen"}]
[null,{"$f":"INDEX('ADVANCED RESULTS (2)'!$D$11:$D$29,MATCH('AWARDS (2)'!A67,'ADVANCED RESULTS (2)'!$I$11:$I$29,0))","v":"Unbranded"},null,{"$f":"INDEX('ADVANCED RESULTS (2)'!$D$11:$D$29,MATCH('AWARDS (2)'!A67,'ADVANCED RESULTS (2)'!$N$11:$N$29,0))","v":"Tatanka"},{"$f":"INDEX(#REF!,MATCH('AWARDS (2)'!B68,#REF!,0))","v":{"$error":"#REF!"}},{"$f":"INDEX('ADVANCED RESULTS (2)'!$D$11:$D$29,MATCH('AWARDS (2)'!A67,'ADVANCED RESULTS (2)'!$S$11:$S$29,0))","v":"Unbranded"},{"$f":"INDEX(#REF!,MATCH('AWARDS (2)'!A68,#REF!,0))","v":{"$error":"#REF!"}},{"$f":"INDEX('ADVANCED RESULTS (2)'!$D$11:$D$29,MATCH('AWARDS (2)'!A67,'ADVANCED RESULTS (2)'!$X$11:$X$29,0))","v":"Unbranded"},{"$f":"INDEX(#REF!,MATCH('AWARDS (2)'!A68,#REF!,0))","v":{"$error":"#REF!"}},{"$f":"INDEX('ADVANCED RESULTS (2)'!$D$11:$D$29,MATCH('AWARDS (2)'!A67,'ADVANCED RESULTS (2)'!$AE$11:$AE$29,0))","v":"Unbranded"},{"$f":"INDEX(#REF!,MATCH('AWARDS (2)'!A68,#REF!,0))","v":{"$error":"#REF!"}}]
[2,{"$f":"INDEX('ADVANCED RESULTS (2)'!C$11:$C$29,MATCH('AWARDS (2)'!A69,'ADVANCED RESULTS (2)'!$I$11:$I$29,0))","v":"Vicky"},{"$f":"INDEX('ADVANCED RESULTS (2)'!$B$11:$B$29,MATCH('AWARDS (2)'!A69,'ADVANCED RESULTS (2)'!$I$11:$I$29,0))","v":"Henderson"},{"$f":"INDEX('ADVANCED RESULTS (2)'!$C$11:$C$29,MATCH('AWARDS (2)'!A69,'ADVANCED RESULTS (2)'!$N$11:$N$29,0))","v":"Shelley"},{"$f":"INDEX('ADVANCED RESULTS (2)'!$B$11:$B$29,MATCH('AWARDS (2)'!A69,'ADVANCED RESULTS (2)'!$N$11:$N$29,0))","v":"Johnsen"},{"$f":"INDEX('ADVANCED RESULTS (2)'!$C$11:$C$29,MATCH('AWARDS (2)'!A69,'ADVANCED RESULTS (2)'!$S$11:$S$29,0))","v":"Vicky"},{"$f":"INDEX('ADVANCED RESULTS (2)'!$B$11:$B$29,MATCH('AWARDS (2)'!A69,'ADVANCED RESULTS (2)'!$S$11:$S$29,0))","v":"Henderson"},{"$f":"INDEX('ADVANCED RESULTS (2)'!$C$11:$C$29,MATCH('AWARDS (2)'!A69,'ADVANCED RESULTS (2)'!$X$11:$X$29,0))","v":"Vicky"},{"$f":"INDEX('ADVANCED RESULTS (2)'!$B$11:$B$29,MATCH('AWARDS (2)'!A69,'ADVANCED RESULTS (2)'!$X$11:$X$29,0))","v":"Henderson"},{"$f":"INDEX('ADVANCED RESULTS (2)'!$C$11:$C$29,MATCH('AWARDS (2)'!A69,'ADVANCED RESULTS (2)'!$AE$11:$AE$29,0))","v":"Vicky"},{"$f":"INDEX('ADVANCED RESULTS (2)'!$B$11:$B$29,MATCH('AWARDS (2)'!A69,'ADVANCED RESULTS (2)'!$AE$11:$AE$29,0))","v":"Henderson"}]
[null,{"$f":"INDEX('ADVANCED RESULTS (2)'!$D$11:$D$29,MATCH('AWARDS (2)'!A69,'ADVANCED RESULTS (2)'!$I$11:$I$29,0))","v":"Tatanka"},null,{"$f":"INDEX('ADVANCED RESULTS (2)'!$D$11:$D$29,MATCH('AWARDS (2)'!A69,'ADVANCED RESULTS (2)'!$N$11:$N$29,0))","v":"Unbranded"},{"$f":"INDEX(#REF!,MATCH('AWARDS (2)'!B70,#REF!,0))","v":{"$error":"#REF!"}},{"$f":"INDEX('ADVANCED RESULTS (2)'!$D$11:$D$29,MATCH('AWARDS (2)'!A69,'ADVANCED RESULTS (2)'!$S$11:$S$29,0))","v":"Tatanka"},{"$f":"INDEX(#REF!,MATCH('AWARDS (2)'!A70,#REF!,0))","v":{"$error":"#REF!"}},{"$f":"INDEX('ADVANCED RESULTS (2)'!$D$11:$D$29,MATCH('AWARDS (2)'!A69,'ADVANCED RESULTS (2)'!$X$11:$X$29,0))","v":"Tatanka"},{"$f":"INDEX(#REF!,MATCH('AWARDS (2)'!A70,#REF!,0))","v":{"$error":"#REF!"}},{"$f":"INDEX('ADVANCED RESULTS (2)'!$D$11:$D$29,MATCH('AWARDS (2)'!A69,'ADVANCED RESULTS (2)'!$AE$11:$AE$29,0))","v":"Tatanka"},{"$f":"INDEX(#REF!,MATCH('AWARDS (2)'!A70,#REF!,0))","v":{"$error":"#REF!"}}]
[3,{"$f":"INDEX('ADVANCED RESULTS (2)'!C$11:$C$29,MATCH('AWARDS (2)'!A71,'ADVANCED RESULTS (2)'!$I$11:$I$29,0))","v":{"$error":"#N/A"}},{"$f":"INDEX('ADVANCED RESULTS (2)'!$B$11:$B$29,MATCH('AWARDS (2)'!A71,'ADVANCED RESULTS (2)'!$I$11:$I$29,0))","v":{"$error":"#N/A"}},{"$f":"INDEX('ADVANCED RESULTS (2)'!$C$11:$C$29,MATCH('AWARDS (2)'!A71,'ADVANCED RESULTS (2)'!$N$11:$N$29,0))","v":{"$error":"#N/A"}},{"$f":"INDEX('ADVANCED RESULTS (2)'!$B$11:$B$29,MATCH('AWARDS (2)'!A71,'ADVANCED RESULTS (2)'!$N$11:$N$29,0))","v":{"$error":"#N/A"}},{"$f":"INDEX('ADVANCED RESULTS (2)'!$C$11:$C$29,MATCH('AWARDS (2)'!A71,'ADVANCED RESULTS (2)'!$S$11:$S$29,0))","v":{"$error":"#N/A"}},{"$f":"INDEX('ADVANCED RESULTS (2)'!$B$11:$B$29,MATCH('AWARDS (2)'!A71,'ADVANCED RESULTS (2)'!$S$11:$S$29,0))","v":{"$error":"#N/A"}},{"$f":"INDEX('ADVANCED RESULTS (2)'!$C$11:$C$29,MATCH('AWARDS (2)'!A71,'ADVANCED RESULTS (2)'!$X$11:$X$29,0))","v":{"$error":"#N/A"}},{"$f":"INDEX('ADVANCED RESULTS (2)'!$B$11:$B$29,MATCH('AWARDS (2)'!A71,'ADVANCED RESULTS (2)'!$X$11:$X$29,0))","v":{"$error":"#N/A"}},{"$f":"INDEX('ADVANCED RESULTS (2)'!$C$11:$C$29,MATCH('AWARDS (2)'!A71,'ADVANCED RESULTS (2)'!$AE$11:$AE$29,0))","v":{"$error":"#N/A"}},{"$f":"INDEX('ADVANCED RESULTS (2)'!$B$11:$B$29,MATCH('AWARDS (2)'!A71,'ADVANCED RESULTS (2)'!$AE$11:$AE$29,0))","v":{"$error":"#N/A"}}]
[null,{"$f":"INDEX('ADVANCED RESULTS (2)'!$D$11:$D$29,MATCH('AWARDS (2)'!A71,'ADVANCED RESULTS (2)'!$I$11:$I$29,0))","v":{"$error":"#N/A"}},null,{"$f":"INDEX('ADVANCED RESULTS (2)'!$D$11:$D$29,MATCH('AWARDS (2)'!A71,'ADVANCED RESULTS (2)'!$N$11:$N$29,0))","v":{"$error":"#N/A"}},{"$f":"INDEX(#REF!,MATCH('AWARDS (2)'!B72,#REF!,0))","v":{"$error":"#REF!"}},{"$f":"INDEX('ADVANCED RESULTS (2)'!$D$11:$D$29,MATCH('AWARDS (2)'!A71,'ADVANCED RESULTS (2)'!$S$11:$S$29,0))","v":{"$error":"#N/A"}},{"$f":"INDEX(#REF!,MATCH('AWARDS (2)'!A72,#REF!,0))","v":{"$error":"#REF!"}},{"$f":"INDEX('ADVANCED RESULTS (2)'!$D$11:$D$29,MATCH('AWARDS (2)'!A71,'ADVANCED RESULTS (2)'!$X$11:$X$29,0))","v":{"$error":"#N/A"}},{"$f":"INDEX(#REF!,MATCH('AWARDS (2)'!A72,#REF!,0))","v":{"$error":"#REF!"}},{"$f":"INDEX('ADVANCED RESULTS (2)'!$D$11:$D$29,MATCH('AWARDS (2)'!A71,'ADVANCED RESULTS (2)'!$AE$11:$AE$29,0))","v":{"$error":"#N/A"}},{"$f":"INDEX(#REF!,MATCH('AWARDS (2)'!A72,#REF!,0))","v":{"$error":"#REF!"}}]
[4,{"$f":"INDEX('ADVANCED RESULTS (2)'!C$11:$C$29,MATCH('AWARDS (2)'!A73,'ADVANCED RESULTS (2)'!$I$11:$I$29,0))","v":{"$error":"#N/A"}},{"$f":"INDEX('ADVANCED RESULTS (2)'!$B$11:$B$29,MATCH('AWARDS (2)'!A73,'ADVANCED RESULTS (2)'!$I$11:$I$29,0))","v":{"$error":"#N/A"}},{"$f":"INDEX('ADVANCED RESULTS (2)'!$C$11:$C$29,MATCH('AWARDS (2)'!A73,'ADVANCED RESULTS (2)'!$N$11:$N$29,0))","v":{"$error":"#N/A"}},{"$f":"INDEX('ADVANCED RESULTS (2)'!$B$11:$B$29,MATCH('AWARDS (2)'!A73,'ADVANCED RESULTS (2)'!$N$11:$N$29,0))","v":{"$error":"#N/A"}},{"$f":"INDEX('ADVANCED RESULTS (2)'!$C$11:$C$29,MATCH('AWARDS (2)'!A73,'ADVANCED RESULTS (2)'!$S$11:$S$29,0))","v":{"$error":"#N/A"}},{"$f":"INDEX('ADVANCED RESULTS (2)'!$B$11:$B$29,MATCH('AWARDS (2)'!A73,'ADVANCED RESULTS (2)'!$S$11:$S$29,0))","v":{"$error":"#N/A"}},{"$f":"INDEX('ADVANCED RESULTS (2)'!$C$11:$C$29,MATCH('AWARDS (2)'!A73,'ADVANCED RESULTS (2)'!$X$11:$X$29,0))","v":{"$error":"#N/A"}},{"$f":"INDEX('ADVANCED RESULTS (2)'!$B$11:$B$29,MATCH('AWARDS (2)'!A73,'ADVANCED RESULTS (2)'!$X$11:$X$29,0))","v":{"$error":"#N/A"}},{"$f":"INDEX('ADVANCED RESULTS (2)'!$C$11:$C$29,MATCH('AWARDS (2)'!A73,'ADVANCED RESULTS (2)'!$AE$11:$AE$29,0))","v":{"$error":"#N/A"}},{"$f":"INDEX('ADVANCED RESULTS (2)'!$B$11:$B$29,MATCH('AWARDS (2)'!A73,'ADVANCED RESULTS (2)'!$AE$11:$AE$29,0))","v":{"$error":"#N/A"}}]
[null,{"$f":"INDEX('ADVANCED RESULTS (2)'!$D$11:$D$29,MATCH('AWARDS (2)'!A73,'ADVANCED RESULTS (2)'!$I$11:$I$29,0))","v":{"$error":"#N/A"}},null,{"$f":"INDEX('ADVANCED RESULTS (2)'!$D$11:$D$29,MATCH('AWARDS (2)'!A73,'ADVANCED RESULTS (2)'!$N$11:$N$29,0))","v":{"$error":"#N/A"}},{"$f":"INDEX(#REF!,MATCH('AWARDS (2)'!B74,#REF!,0))","v":{"$error":"#REF!"}},{"$f":"INDEX('ADVANCED RESULTS (2)'!$D$11:$D$29,MATCH('AWARDS (2)'!A73,'ADVANCED RESULTS (2)'!$S$11:$S$29,0))","v":{"$error":"#N/A"}},{"$f":"INDEX(#REF!,MATCH('AWARDS (2)'!A74,#REF!,0))","v":{"$error":"#REF!"}},{"$f":"INDEX('ADVANCED RESULTS (2)'!$D$11:$D$29,MATCH('AWARDS (2)'!A73,'ADVANCED RESULTS (2)'!$X$11:$X$29,0))","v":{"$error":"#N/A"}},{"$f":"INDEX(#REF!,MATCH('AWARDS (2)'!A74,#REF!,0))","v":{"$error":"#REF!"}},{"$f":"INDEX('ADVANCED RESULTS (2)'!$D$11:$D$29,MATCH('AWARDS (2)'!A73,'ADVANCED RESULTS (2)'!$AE$11:$AE$29,0))","v":{"$error":"#N/A"}},{"$f":"INDEX(#REF!,MATCH('AWARDS (2)'!A74,#REF!,0))","v":{"$error":"#REF!"}}]
[5,{"$f":"INDEX('ADVANCED RESULTS (2)'!C$11:$C$29,MATCH('AWARDS (2)'!A75,'ADVANCED RESULTS (2)'!$I$11:$I$29,0))","v":{"$error":"#N/A"}},{"$f":"INDEX('ADVANCED RESULTS (2)'!$B$11:$B$29,MATCH('AWARDS (2)'!A75,'ADVANCED RESULTS (2)'!$I$11:$I$29,0))","v":{"$error":"#N/A"}},{"$f":"INDEX('ADVANCED RESULTS (2)'!$C$11:$C$29,MATCH('AWARDS (2)'!A75,'ADVANCED RESULTS (2)'!$N$11:$N$29,0))","v":{"$error":"#N/A"}},{"$f":"INDEX('ADVANCED RESULTS (2)'!$B$11:$B$29,MATCH('AWARDS (2)'!A75,'ADVANCED RESULTS (2)'!$N$11:$N$29,0))","v":{"$error":"#N/A"}},{"$f":"INDEX('ADVANCED RESULTS (2)'!$C$11:$C$29,MATCH('AWARDS (2)'!A75,'ADVANCED RESULTS (2)'!$S$11:$S$29,0))","v":{"$error":"#N/A"}},{"$f":"INDEX('ADVANCED RESULTS (2)'!$B$11:$B$29,MATCH('AWARDS (2)'!A75,'ADVANCED RESULTS (2)'!$S$11:$S$29,0))","v":{"$error":"#N/A"}},{"$f":"INDEX('ADVANCED RESULTS (2)'!$C$11:$C$29,MATCH('AWARDS (2)'!A75,'ADVANCED RESULTS (2)'!$X$11:$X$29,0))","v":{"$error":"#N/A"}},{"$f":"INDEX('ADVANCED RESULTS (2)'!$B$11:$B$29,MATCH('AWARDS (2)'!A75,'ADVANCED RESULTS (2)'!$X$11:$X$29,0))","v":{"$error":"#N/A"}},{"$f":"INDEX('ADVANCED RESULTS (2)'!$C$11:$C$29,MATCH('AWARDS (2)'!A75,'ADVANCED RESULTS (2)'!$AE$11:$AE$29,0))","v":{"$error":"#N/A"}},{"$f":"INDEX('ADVANCED RESULTS (2)'!$B$11:$B$29,MATCH('AWARDS (2)'!A75,'ADVANCED RESULTS (2)'!$AE$11:$AE$29,0))","v":{"$error":"#N/A"}}]
[null,{"$f":"INDEX('ADVANCED RESULTS (2)'!$D$11:$D$29,MATCH('AWARDS (2)'!A75,'ADVANCED RESULTS (2)'!$I$11:$I$29,0))","v":{"$error":"#N/A"}},null,{"$f":"INDEX('ADVANCED RESULTS (2)'!$D$11:$D$29,MATCH('AWARDS (2)'!A75,'ADVANCED RESULTS (2)'!$N$11:$N$29,0))","v":{"$error":"#N/A"}},{"$f":"INDEX(#REF!,MATCH('AWARDS (2)'!B76,#REF!,0))","v":{"$error":"#REF!"}},{"$f":"INDEX('ADVANCED RESULTS (2)'!$D$11:$D$29,MATCH('AWARDS (2)'!A75,'ADVANCED RESULTS (2)'!$S$11:$S$29,0))","v":{"$error":"#N/A"}},{"$f":"INDEX(#REF!,MATCH('AWARDS (2)'!A76,#REF!,0))","v":{"$error":"#REF!"}},{"$f":"INDEX('ADVANCED RESULTS (2)'!$D$11:$D$29,MATCH('AWARDS (2)'!A75,'ADVANCED RESULTS (2)'!$X$11:$X$29,0))","v":{"$error":"#N/A"}},{"$f":"INDEX(#REF!,MATCH('AWARDS (2)'!A76,#REF!,0))","v":{"$error":"#REF!"}},{"$f":"INDEX('ADVANCED RESULTS (2)'!$D$11:$D$29,MATCH('AWARDS (2)'!A75,'ADVANCED RESULTS (2)'!$AE$11:$AE$29,0))","v":{"$error":"#N/A"}},{"$f":"INDEX(#REF!,MATCH('AWARDS (2)'!A76,#REF!,0))","v":{"$error":"#REF!"}}]
[6,{"$f":"INDEX('ADVANCED RESULTS (2)'!C$11:$C$29,MATCH('AWARDS (2)'!A77,'ADVANCED RESULTS (2)'!$I$11:$I$29,0))","v":{"$error":"#N/A"}},{"$f":"INDEX('ADVANCED RESULTS (2)'!$B$11:$B$29,MATCH('AWARDS (2)'!A77,'ADVANCED RESULTS (2)'!$I$11:$I$29,0))","v":{"$error":"#N/A"}},{"$f":"INDEX('ADVANCED RESULTS (2)'!$C$11:$C$29,MATCH('AWARDS (2)'!A77,'ADVANCED RESULTS (2)'!$N$11:$N$29,0))","v":{"$error":"#N/A"}},{"$f":"INDEX('ADVANCED RESULTS (2)'!$B$11:$B$29,MATCH('AWARDS (2)'!A77,'ADVANCED RESULTS (2)'!$N$11:$N$29,0))","v":{"$error":"#N/A"}},{"$f":"INDEX('ADVANCED RESULTS (2)'!$C$11:$C$29,MATCH('AWARDS (2)'!A77,'ADVANCED RESULTS (2)'!$S$11:$S$29,0))","v":{"$error":"#N/A"}},{"$f":"INDEX('ADVANCED RESULTS (2)'!$B$11:$B$29,MATCH('AWARDS (2)'!A77,'ADVANCED RESULTS (2)'!$S$11:$S$29,0))","v":{"$error":"#N/A"}},{"$f":"INDEX('ADVANCED RESULTS (2)'!$C$11:$C$29,MATCH('AWARDS (2)'!A77,'ADVANCED RESULTS (2)'!$X$11:$X$29,0))","v":{"$error":"#N/A"}},{"$f":"INDEX('ADVANCED RESULTS (2)'!$B$11:$B$29,MATCH('AWARDS (2)'!A77,'ADVANCED RESULTS (2)'!$X$11:$X$29,0))","v":{"$error":"#N/A"}},{"$f":"INDEX('ADVANCED RESULTS (2)'!$C$11:$C$29,MATCH('AWARDS (2)'!A77,'ADVANCED RESULTS (2)'!$AE$11:$AE$29,0))","v":{"$error":"#N/A"}},{"$f":"INDEX('ADVANCED RESULTS (2)'!$B$11:$B$29,MATCH('AWARDS (2)'!A77,'ADVANCED RESULTS (2)'!$AE$11:$AE$29,0))","v":{"$error":"#N/A"}}]
[null,{"$f":"INDEX('ADVANCED RESULTS (2)'!$D$11:$D$29,MATCH('AWARDS (2)'!A77,'ADVANCED RESULTS (2)'!$I$11:$I$29,0))","v":{"$error":"#N/A"}},null,{"$f":"INDEX('ADVANCED RESULTS (2)'!$D$11:$D$29,MATCH('AWARDS (2)'!A77,'ADVANCED RESULTS (2)'!$N$11:$N$29,0))","v":{"$error":"#N/A"}},{"$f":"INDEX(#REF!,MATCH('AWARDS (2)'!B78,#REF!,0))","v":{"$error":"#REF!"}},{"$f":"INDEX('ADVANCED RESULTS (2)'!$D$11:$D$29,MATCH('AWARDS (2)'!A77,'ADVANCED RESULTS (2)'!$S$11:$S$29,0))","v":{"$error":"#N/A"}},{"$f":"INDEX(#REF!,MATCH('AWARDS (2)'!A78,#REF!,0))","v":{"$error":"#REF!"}},{"$f":"INDEX('ADVANCED RESULTS (2)'!$D$11:$D$29,MATCH('AWARDS (2)'!A77,'ADVANCED RESULTS (2)'!$X$11:$X$29,0))","v":{"$error":"#N/A"}},{"$f":"INDEX(#REF!,MATCH('AWARDS (2)'!A78,#REF!,0))","v":{"$error":"#REF!"}},{"$f":"INDEX('ADVANCED RESULTS (2)'!$D$11:$D$29,MATCH('AWARDS (2)'!A77,'ADVANCED RESULTS (2)'!$AE$11:$AE$29,0))","v":{"$error":"#N/A"}},{"$f":"INDEX(#REF!,MATCH('AWARDS (2)'!A78,#REF!,0))","v":{"$error":"#REF!"}}]
["Advanced Reserve Champion",null,null,null,null,null,null,{"$f":"INDEX('ADVANCED RESULTS (2)'!$C$11:$C$29,MATCH(2,'ADVANCED RESULTS (2)'!$AJ$11:$AJ$29,0))","v":"Vicky"},null,{"$f":"INDEX('ADVANCED RESULTS (2)'!$B$11:$B$29,MATCH(2,'ADVANCED RESULTS (2)'!$AJ$11:$AJ$29,0))","v":"Henderson"}]
[null,null,null,null,null,null,null,{"$f":"INDEX('ADVANCED RESULTS (2)'!$D$11:$D$29,MATCH(2,'ADVANCED RESULTS (2)'!$AJ$11:$AJ$29,0))","v":"Tatanka"},null,{"$f":"INDEX(#REF!,MATCH(2,#REF!,0))","v":{"$error":"#REF!"}}]
["Advanced Champion",null,null,null,null,null,null,{"$f":"INDEX('ADVANCED RESULTS (2)'!$C$11:$C$29,MATCH(1,'ADVANCED RESULTS (2)'!$AJ$11:$AJ$29,0))","v":"Shelley"},null,{"$f":"INDEX('ADVANCED RESULTS (2)'!$B$11:$B$29,MATCH(1,'ADVANCED RESULTS (2)'!$AJ$11:$AJ$29,0))","v":"Johnsen"}]
[null,null,null,null,null,null,null,{"$f":"INDEX('ADVANCED RESULTS (2)'!$D$11:$D$29,MATCH(1,'ADVANCED RESULTS (2)'!$AJ$11:$AJ$29,0))","v":"Unbranded"},null,{"$f":"INDEX(#REF!,MATCH(1,#REF!,0))","v":{"$error":"#REF!"}}]
[]
[]
[{"$f":"'Entry Information'!H4","v":"The Horse First Farm, Brooklyn, WI"}]
[{"$f":"'Entry Information'!H5","v":"June 28-29,2014"}]
[]
[]
["OPEN","Ranch Riding",null,"Working Ranch Horse",null,"Cutting",null,"Trail",null,"Conformation"]
[1,{"$f":"INDEX('OPEN RESULTS (2)'!C$11:$C$35,MATCH('AWARDS (2)'!A90,'OPEN RESULTS (2)'!$I$11:$I$35,0))","v":"Carolyn"},{"$f":"INDEX('OPEN RESULTS (2)'!$B$11:$B$35,MATCH('AWARDS (2)'!A90,'OPEN RESULTS (2)'!$I$11:$I$35,0))","v":"Sween"},{"$f":"INDEX('OPEN RESULTS (2)'!$C$11:$C$35,MATCH('AWARDS (2)'!A90,'OPEN RESULTS (2)'!$N$11:$N$35,0))","v":"Rob"},{"$f":"INDEX('OPEN RESULTS (2)'!$B$11:$B$35,MATCH('AWARDS (2)'!A90,'OPEN RESULTS (2)'!$N$11:$N$35,0))","v":"Goodland"},{"$f":"INDEX('OPEN RESULTS (2)'!$C$11:$C$35,MATCH('AWARDS (2)'!A90,'OPEN RESULTS (2)'!$S$11:$S$35,0))","v":"Carolyn"},{"$f":"INDEX('OPEN RESULTS (2)'!$B$11:$B$35,MATCH('AWARDS (2)'!A90,'OPEN RESULTS (2)'!$S$11:$S$35,0))","v":"Sween"},{"$f":"INDEX('OPEN RESULTS (2)'!$C$11:$C$35,MATCH('AWARDS (2)'!A90,'OPEN RESULTS (2)'!$X$11:$X$35,0))","v":"Rob"},{"$f":"INDEX('OPEN RESULTS (2)'!$B$11:$B$35,MATCH('AWARDS (2)'!A90,'OPEN RESULTS (2)'!$X$11:$X$35,0))","v":"Goodland"},{"$f":"INDEX('OPEN RESULTS (2)'!$C$11:$C$35,MATCH('AWARDS (2)'!A90,'OPEN RESULTS (2)'!$AE$11:$AE$35,0))","v":"Carolyn"},{"$f":"INDEX('OPEN RESULTS (2)'!$B$11:$B$35,MATCH('AWARDS (2)'!A90,'OPEN RESULTS (2)'!$AE$11:$AE$35,0))","v":"Sween"}]
[null,{"$f":"INDEX('OPEN RESULTS (2)'!$D$11:$D$35,MATCH('AWARDS (2)'!A90,'OPEN RESULTS (2)'!$I$11:$I$35,0))","v":"AR Powderfully"},null,{"$f":"INDEX('OPEN RESULTS (2)'!$D$11:$D$35,MATCH('AWARDS (2)'!A90,'OPEN RESULTS (2)'!$N$11:$N$35,0))","v":"Royale Smooth Sailin"},{"$f":"INDEX(#REF!,MATCH('AWARDS (2)'!B91,#REF!,0))","v":{"$error":"#REF!"}},{"$f":"INDEX('OPEN RESULTS (2)'!$D$11:$D$35,MATCH('AWARDS (2)'!A90,'OPEN RESULTS (2)'!$S$11:$S$35,0))","v":"AR Powderfully"},{"$f":"INDEX(#REF!,MATCH('AWARDS (2)'!A91,#REF!,0))","v":{"$error":"#REF!"}},{"$f":"INDEX('OPEN RESULTS (2)'!$D$11:$D$35,MATCH('AWARDS (2)'!A90,'OPEN RESULTS (2)'!$X$11:$X$35,0))","v":"Royale Smooth Sailin"},{"$f":"INDEX(#REF!,MATCH('AWARDS (2)'!A91,#REF!,0))","v":{"$error":"#REF!"}},{"$f":"INDEX('OPEN RESULTS (2)'!$D$11:$D$35,MATCH('AWARDS (2)'!A90,'OPEN RESULTS (2)'!$AE$11:$AE$35,0))","v":"AR Powderfully"},{"$f":"INDEX(#REF!,MATCH('AWARDS (2)'!A91,#REF!,0))","v":{"$error":"#REF!"}}]
[2,{"$f":"INDEX('OPEN RESULTS (2)'!C$11:$C$35,MATCH('AWARDS (2)'!A92,'OPEN RESULTS (2)'!$I$11:$I$35,0))","v":"Maureen"},{"$f":"INDEX('OPEN RESULTS (2)'!$B$11:$B$35,MATCH('AWARDS (2)'!A92,'OPEN RESULTS (2)'!$I$11:$I$35,0))","v":"Dunn"},{"$f":"INDEX('OPEN RESULTS (2)'!$C$11:$C$35,MATCH('AWARDS (2)'!A92,'OPEN RESULTS (2)'!$N$11:$N$35,0))","v":"Maureen"},{"$f":"INDEX('OPEN RESULTS (2)'!$B$11:$B$35,MATCH('AWARDS (2)'!A92,'OPEN RESULTS (2)'!$N$11:$N$35,0))","v":"Dunn"},{"$f":"INDEX('OPEN RESULTS (2)'!$C$11:$C$35,MATCH('AWARDS (2)'!A92,'OPEN RESULTS (2)'!$S$11:$S$35,0))","v":"Rob"},{"$f":"INDEX('OPEN RESULTS (2)'!$B$11:$B$35,MATCH('AWARDS (2)'!A92,'OPEN RESULTS (2)'!$S$11:$S$35,0))","v":"Goodland"},{"$f":"INDEX('OPEN RESULTS (2)'!$C$11:$C$35,MATCH('AWARDS (2)'!A92,'OPEN RESULTS (2)'!$X$11:$X$35,0))","v":"Carolyn"},{"$f":"INDEX('OPEN RESULTS (2)'!$B$11:$B$35,MATCH('AWARDS (2)'!A92,'OPEN RESULTS (2)'!$X$11:$X$35,0))","v":"Sween"},{"$f":"INDEX('OPEN RESULTS (2)'!$C$11:$C$35,MATCH('AWARDS (2)'!A92,'OPEN RESULTS (2)'!$AE$11:$AE$35,0))","v":"Maureen"},{"$f":"INDEX('OPEN RESULTS (2)'!$B$11:$B$35,MATCH('AWARDS (2)'!A92,'OPEN RESULTS (2)'!$AE$11:$AE$35,0))","v":"Dunn"}]
[null,{"$f":"INDEX('OPEN RESULTS (2)'!$D$11:$D$35,MATCH('AWARDS (2)'!A92,'OPEN RESULTS (2)'!$I$11:$I$35,0))","v":"AR Sannabella Check"},null,{"$f":"INDEX('OPEN RESULTS (2)'!$D$11:$D$35,MATCH('AWARDS (2)'!A92,'OPEN RESULTS (2)'!$N$11:$N$35,0))","v":"AR Sannabella Check"},{"$f":"INDEX(#REF!,MATCH('AWARDS (2)'!B93,#REF!,0))","v":{"$error":"#REF!"}},{"$f":"INDEX('OPEN RESULTS (2)'!$D$11:$D$35,MATCH('AWARDS (2)'!A92,'OPEN RESULTS (2)'!$S$11:$S$35,0))","v":"Royale Smooth Sailin"},{"$f":"INDEX(#REF!,MATCH('AWARDS (2)'!A93,#REF!,0))","v":{"$error":"#REF!"}},{"$f":"INDEX('OPEN RESULTS (2)'!$D$11:$D$35,MATCH('AWARDS (2)'!A92,'OPEN RESULTS (2)'!$X$11:$X$35,0))","v":"AR Powderfully"},{"$f":"INDEX(#REF!,MATCH('AWARDS (2)'!A93,#REF!,0))","v":{"$error":"#REF!"}},{"$f":"INDEX('OPEN RESULTS (2)'!$D$11:$D$35,MATCH('AWARDS (2)'!A92,'OPEN RESULTS (2)'!$AE$11:$AE$35,0))","v":"AR Sannabella Check"},{"$f":"INDEX(#REF!,MATCH('AWARDS (2)'!A93,#REF!,0))","v":{"$error":"#REF!"}}]
[3,{"$f":"INDEX('OPEN RESULTS (2)'!C$11:$C$35,MATCH('AWARDS (2)'!A94,'OPEN RESULTS (2)'!$I$11:$I$35,0))","v":"Rob"},{"$f":"INDEX('OPEN RESULTS (2)'!$B$11:$B$35,MATCH('AWARDS (2)'!A94,'OPEN RESULTS (2)'!$I$11:$I$35,0))","v":"Goodland"},{"$f":"INDEX('OPEN RESULTS (2)'!$C$11:$C$35,MATCH('AWARDS (2)'!A94,'OPEN RESULTS (2)'!$N$11:$N$35,0))","v":"Carolyn"},{"$f":"INDEX('OPEN RESULTS (2)'!$B$11:$B$35,MATCH('AWARDS (2)'!A94,'OPEN RESULTS (2)'!$N$11:$N$35,0))","v":"Sween"},{"$f":"INDEX('OPEN RESULTS (2)'!$C$11:$C$35,MATCH('AWARDS (2)'!A94,'OPEN RESULTS (2)'!$S$11:$S$35,0))","v":"Maureen"},{"$f":"INDEX('OPEN RESULTS (2)'!$B$11:$B$35,MATCH('AWARDS (2)'!A94,'OPEN RESULTS (2)'!$S$11:$S$35,0))","v":"Dunn"},{"$f":"INDEX('OPEN RESULTS (2)'!$C$11:$C$35,MATCH('AWARDS (2)'!A94,'OPEN RESULTS (2)'!$X$11:$X$35,0))","v":"Maureen"},{"$f":"INDEX('OPEN RESULTS (2)'!$B$11:$B$35,MATCH('AWARDS (2)'!A94,'OPEN RESULTS (2)'!$X$11:$X$35,0))","v":"Dunn"},{"$f":"INDEX('OPEN RESULTS (2)'!$C$11:$C$35,MATCH('AWARDS (2)'!A94,'OPEN RESULTS (2)'!$AE$11:$AE$35,0))","v":"Rob"},{"$f":"INDEX('OPEN RESULTS (2)'!$B$11:$B$35,MATCH('AWARDS (2)'!A94,'OPEN RESULTS (2)'!$AE$11:$AE$35,0))","v":"Goodland"}]
[null,{"$f":"INDEX('OPEN RESULTS (2)'!$D$11:$D$35,MATCH('AWARDS (2)'!A94,'OPEN RESULTS (2)'!$I$11:$I$35,0))","v":"Royale Smooth Sailin"},null,{"$f":"INDEX('OPEN RESULTS (2)'!$D$11:$D$35,MATCH('AWARDS (2)'!A94,'OPEN RESULTS (2)'!$N$11:$N$35,0))","v":"AR Powderfully"},{"$f":"INDEX(#REF!,MATCH('AWARDS (2)'!B95,#REF!,0))","v":{"$error":"#REF!"}},{"$f":"INDEX('OPEN RESULTS (2)'!$D$11:$D$35,MATCH('AWARDS (2)'!A94,'OPEN RESULTS (2)'!$S$11:$S$35,0))","v":"AR Sannabella Check"},{"$f":"INDEX(#REF!,MATCH('AWARDS (2)'!A95,#REF!,0))","v":{"$error":"#REF!"}},{"$f":"INDEX('OPEN RESULTS (2)'!$D$11:$D$35,MATCH('AWARDS (2)'!A94,'OPEN RESULTS (2)'!$X$11:$X$35,0))","v":"AR Sannabella Check"},{"$f":"INDEX(#REF!,MATCH('AWARDS (2)'!A95,#REF!,0))","v":{"$error":"#REF!"}},{"$f":"INDEX('OPEN RESULTS (2)'!$D$11:$D$35,MATCH('AWARDS (2)'!A94,'OPEN RESULTS (2)'!$AE$11:$AE$35,0))","v":"Royale Smooth Sailin"},{"$f":"INDEX(#REF!,MATCH('AWARDS (2)'!A95,#REF!,0))","v":{"$error":"#REF!"}}]
[4,{"$f":"INDEX('OPEN RESULTS (2)'!C$11:$C$35,MATCH('AWARDS (2)'!A96,'OPEN RESULTS (2)'!$I$11:$I$35,0))","v":{"$error":"#N/A"}},{"$f":"INDEX('OPEN RESULTS (2)'!$B$11:$B$35,MATCH('AWARDS (2)'!A96,'OPEN RESULTS (2)'!$I$11:$I$35,0))","v":{"$error":"#N/A"}},{"$f":"INDEX('OPEN RESULTS (2)'!$C$11:$C$35,MATCH('AWARDS (2)'!A96,'OPEN RESULTS (2)'!$N$11:$N$35,0))","v":{"$error":"#N/A"}},{"$f":"INDEX('OPEN RESULTS (2)'!$B$11:$B$35,MATCH('AWARDS (2)'!A96,'OPEN RESULTS (2)'!$N$11:$N$35,0))","v":{"$error":"#N/A"}},{"$f":"INDEX('OPEN RESULTS (2)'!$C$11:$C$35,MATCH('AWARDS (2)'!A96,'OPEN RESULTS (2)'!$S$11:$S$35,0))","v":{"$error":"#N/A"}},{"$f":"INDEX('OPEN RESULTS (2)'!$B$11:$B$35,MATCH('AWARDS (2)'!A96,'OPEN RESULTS (2)'!$S$11:$S$35,0))","v":{"$error":"#N/A"}},{"$f":"INDEX('OPEN RESULTS (2)'!$C$11:$C$35,MATCH('AWARDS (2)'!A96,'OPEN RESULTS (2)'!$X$11:$X$35,0))","v":{"$error":"#N/A"}},{"$f":"INDEX('OPEN RESULTS (2)'!$B$11:$B$35,MATCH('AWARDS (2)'!A96,'OPEN RESULTS (2)'!$X$11:$X$35,0))","v":{"$error":"#N/A"}},{"$f":"INDEX('OPEN RESULTS (2)'!$C$11:$C$35,MATCH('AWARDS (2)'!A96,'OPEN RESULTS (2)'!$AE$11:$AE$35,0))","v":{"$error":"#N/A"}},{"$f":"INDEX('OPEN RESULTS (2)'!$B$11:$B$35,MATCH('AWARDS (2)'!A96,'OPEN RESULTS (2)'!$AE$11:$AE$35,0))","v":{"$error":"#N/A"}}]
[null,{"$f":"INDEX('OPEN RESULTS (2)'!$D$11:$D$35,MATCH('AWARDS (2)'!A96,'OPEN RESULTS (2)'!$I$11:$I$35,0))","v":{"$error":"#N/A"}},null,{"$f":"INDEX('OPEN RESULTS (2)'!$D$11:$D$35,MATCH('AWARDS (2)'!A96,'OPEN RESULTS (2)'!$N$11:$N$35,0))","v":{"$error":"#N/A"}},{"$f":"INDEX(#REF!,MATCH('AWARDS (2)'!B97,#REF!,0))","v":{"$error":"#REF!"}},{"$f":"INDEX('OPEN RESULTS (2)'!$D$11:$D$35,MATCH('AWARDS (2)'!A96,'OPEN RESULTS (2)'!$S$11:$S$35,0))","v":{"$error":"#N/A"}},{"$f":"INDEX(#REF!,MATCH('AWARDS (2)'!A97,#REF!,0))","v":{"$error":"#REF!"}},{"$f":"INDEX('OPEN RESULTS (2)'!$D$11:$D$35,MATCH('AWARDS (2)'!A96,'OPEN RESULTS (2)'!$X$11:$X$35,0))","v":{"$error":"#N/A"}},{"$f":"INDEX(#REF!,MATCH('AWARDS (2)'!A97,#REF!,0))","v":{"$error":"#REF!"}},{"$f":"INDEX('OPEN RESULTS (2)'!$D$11:$D$35,MATCH('AWARDS (2)'!A96,'OPEN RESULTS (2)'!$AE$11:$AE$35,0))","v":{"$error":"#N/A"}},{"$f":"INDEX(#REF!,MATCH('AWARDS (2)'!A97,#REF!,0))","v":{"$error":"#REF!"}}]
[5,{"$f":"INDEX('OPEN RESULTS (2)'!C$11:$C$35,MATCH('AWARDS (2)'!A98,'OPEN RESULTS (2)'!$I$11:$I$35,0))","v":{"$error":"#N/A"}},{"$f":"INDEX('OPEN RESULTS (2)'!$B$11:$B$35,MATCH('AWARDS (2)'!A98,'OPEN RESULTS (2)'!$I$11:$I$35,0))","v":{"$error":"#N/A"}},{"$f":"INDEX('OPEN RESULTS (2)'!$C$11:$C$35,MATCH('AWARDS (2)'!A98,'OPEN RESULTS (2)'!$N$11:$N$35,0))","v":{"$error":"#N/A"}},{"$f":"INDEX('OPEN RESULTS (2)'!$B$11:$B$35,MATCH('AWARDS (2)'!A98,'OPEN RESULTS (2)'!$N$11:$N$35,0))","v":{"$error":"#N/A"}},{"$f":"INDEX('OPEN RESULTS (2)'!$C$11:$C$35,MATCH('AWARDS (2)'!A98,'OPEN RESULTS (2)'!$S$11:$S$35,0))","v":{"$error":"#N/A"}},{"$f":"INDEX('OPEN RESULTS (2)'!$B$11:$B$35,MATCH('AWARDS (2)'!A98,'OPEN RESULTS (2)'!$S$11:$S$35,0))","v":{"$error":"#N/A"}},{"$f":"INDEX('OPEN RESULTS (2)'!$C$11:$C$35,MATCH('AWARDS (2)'!A98,'OPEN RESULTS (2)'!$X$11:$X$35,0))","v":{"$error":"#N/A"}},{"$f":"INDEX('OPEN RESULTS (2)'!$B$11:$B$35,MATCH('AWARDS (2)'!A98,'OPEN RESULTS (2)'!$X$11:$X$35,0))","v":{"$error":"#N/A"}},{"$f":"INDEX('OPEN RESULTS (2)'!$C$11:$C$35,MATCH('AWARDS (2)'!A98,'OPEN RESULTS (2)'!$AE$11:$AE$35,0))","v":{"$error":"#N/A"}},{"$f":"INDEX('OPEN RESULTS (2)'!$B$11:$B$35,MATCH('AWARDS (2)'!A98,'OPEN RESULTS (2)'!$AE$11:$AE$35,0))","v":{"$error":"#N/A"}}]
[null,{"$f":"INDEX('OPEN RESULTS (2)'!$D$11:$D$35,MATCH('AWARDS (2)'!A98,'OPEN RESULTS (2)'!$I$11:$I$35,0))","v":{"$error":"#N/A"}},null,{"$f":"INDEX('OPEN RESULTS (2)'!$D$11:$D$35,MATCH('AWARDS (2)'!A98,'OPEN RESULTS (2)'!$N$11:$N$35,0))","v":{"$error":"#N/A"}},{"$f":"INDEX(#REF!,MATCH('AWARDS (2)'!B99,#REF!,0))","v":{"$error":"#REF!"}},{"$f":"INDEX('OPEN RESULTS (2)'!$D$11:$D$35,MATCH('AWARDS (2)'!A98,'OPEN RESULTS (2)'!$S$11:$S$35,0))","v":{"$error":"#N/A"}},{"$f":"INDEX(#REF!,MATCH('AWARDS (2)'!A99,#REF!,0))","v":{"$error":"#REF!"}},{"$f":"INDEX('OPEN RESULTS (2)'!$D$11:$D$35,MATCH('AWARDS (2)'!A98,'OPEN RESULTS (2)'!$X$11:$X$35,0))","v":{"$error":"#N/A"}},{"$f":"INDEX(#REF!,MATCH('AWARDS (2)'!A99,#REF!,0))","v":{"$error":"#REF!"}},{"$f":"INDEX('OPEN RESULTS (2)'!$D$11:$D$35,MATCH('AWARDS (2)'!A98,'OPEN RESULTS (2)'!$AE$11:$AE$35,0))","v":{"$error":"#N/A"}},{"$f":"INDEX(#REF!,MATCH('AWARDS (2)'!A99,#REF!,0))","v":{"$error":"#REF!"}}]
[6,{"$f":"INDEX('OPEN RESULTS (2)'!C$11:$C$35,MATCH('AWARDS (2)'!A100,'OPEN RESULTS (2)'!$I$11:$I$35,0))","v":{"$error":"#N/A"}},{"$f":"INDEX('OPEN RESULTS (2)'!$B$11:$B$35,MATCH('AWARDS (2)'!A100,'OPEN RESULTS (2)'!$I$11:$I$35,0))","v":{"$error":"#N/A"}},{"$f":"INDEX('OPEN RESULTS (2)'!$C$11:$C$35,MATCH('AWARDS (2)'!A100,'OPEN RESULTS (2)'!$N$11:$N$35,0))","v":{"$error":"#N/A"}},{"$f":"INDEX('OPEN RESULTS (2)'!$B$11:$B$35,MATCH('AWARDS (2)'!A100,'OPEN RESULTS (2)'!$N$11:$N$35,0))","v":{"$error":"#N/A"}},{"$f":"INDEX('OPEN RESULTS (2)'!$C$11:$C$35,MATCH('AWARDS (2)'!A100,'OPEN RESULTS (2)'!$S$11:$S$35,0))","v":{"$error":"#N/A"}},{"$f":"INDEX('OPEN RESULTS (2)'!$B$11:$B$35,MATCH('AWARDS (2)'!A100,'OPEN RESULTS (2)'!$S$11:$S$35,0))","v":{"$error":"#N/A"}},{"$f":"INDEX('OPEN RESULTS (2)'!$C$11:$C$35,MATCH('AWARDS (2)'!A100,'OPEN RESULTS (2)'!$X$11:$X$35,0))","v":{"$error":"#N/A"}},{"$f":"INDEX('OPEN RESULTS (2)'!$B$11:$B$35,MATCH('AWARDS (2)'!A100,'OPEN RESULTS (2)'!$X$11:$X$35,0))","v":{"$error":"#N/A"}},{"$f":"INDEX('OPEN RESULTS (2)'!$C$11:$C$35,MATCH('AWARDS (2)'!A100,'OPEN RESULTS (2)'!$AE$11:$AE$35,0))","v":{"$error":"#N/A"}},{"$f":"INDEX('OPEN RESULTS (2)'!$B$11:$B$35,MATCH('AWARDS (2)'!A100,'OPEN RESULTS (2)'!$AE$11:$AE$35,0))","v":{"$error":"#N/A"}}]
[null,{"$f":"INDEX('OPEN RESULTS (2)'!$D$11:$D$35,MATCH('AWARDS (2)'!A100,'OPEN RESULTS (2)'!$I$11:$I$35,0))","v":{"$error":"#N/A"}},null,{"$f":"INDEX('OPEN RESULTS (2)'!$D$11:$D$35,MATCH('AWARDS (2)'!A100,'OPEN RESULTS (2)'!$N$11:$N$35,0))","v":{"$error":"#N/A"}},{"$f":"INDEX(#REF!,MATCH('AWARDS (2)'!B101,#REF!,0))","v":{"$error":"#REF!"}},{"$f":"INDEX('OPEN RESULTS (2)'!$D$11:$D$35,MATCH('AWARDS (2)'!A100,'OPEN RESULTS (2)'!$S$11:$S$35,0))","v":{"$error":"#N/A"}},{"$f":"INDEX(#REF!,MATCH('AWARDS (2)'!A101,#REF!,0))","v":{"$error":"#REF!"}},{"$f":"INDEX('OPEN RESULTS (2)'!$D$11:$D$35,MATCH('AWARDS (2)'!A100,'OPEN RESULTS (2)'!$X$11:$X$35,0))","v":{"$error":"#N/A"}},{"$f":"INDEX(#REF!,MATCH('AWARDS (2)'!A101,#REF!,0))","v":{"$error":"#REF!"}},{"$f":"INDEX('OPEN RESULTS (2)'!$D$11:$D$35,MATCH('AWARDS (2)'!A100,'OPEN RESULTS (2)'!$AE$11:$AE$35,0))","v":{"$error":"#N/A"}},{"$f":"INDEX(#REF!,MATCH('AWARDS (2)'!A101,#REF!,0))","v":{"$error":"#REF!"}}]
["Open Reserve Champion",null,null,null,null,null,null,{"$f":"INDEX('OPEN RESULTS (2)'!$C$11:$C$35,MATCH(2,'OPEN RESULTS (2)'!$AJ$11:$AJ$35,0))","v":"Rob"},null,{"$f":"INDEX('OPEN RESULTS (2)'!$B$11:$B$35,MATCH(2,'OPEN RESULTS (2)'!$AJ$11:$AJ$35,0))","v":"Goodland"}]
[null,null,null,null,null,null,null,{"$f":"INDEX('OPEN RESULTS (2)'!$D$11:$D$35,MATCH(2,'OPEN RESULTS (2)'!$AJ$11:$AJ$35,0))","v":"Royale Smooth Sailin"},null,{"$f":"INDEX(#REF!,MATCH(2,#REF!,0))","v":{"$error":"#REF!"}}]
["Open Champion",null,null,null,null,null,null,{"$f":"INDEX('OPEN RESULTS (2)'!$C$11:$C$35,MATCH(1,'OPEN RESULTS (2)'!$AJ$11:$AJ$35,0))","v":"Carolyn"},null,{"$f":"INDEX('OPEN RESULTS (2)'!$B$11:$B$35,MATCH(1,'OPEN RESULTS (2)'!$AJ$11:$AJ$35,0))","v":"Sween"}]
[null,null,null,null,null,null,null,{"$f":"INDEX('OPEN RESULTS (2)'!$D$11:$D$35,MATCH(1,'OPEN RESULTS (2)'!$AJ$11:$AJ$35,0))","v":"AR Powderfully"},null,{"$f":"INDEX(#REF!,MATCH(1,#REF!,0))","v":{"$error":"#REF!"}}]
[]
[]
["YOUTH","Ranch Riding",null,"Working Ranch Horse",null,"Cutting",null,"Trail",null,"Conformation"]
[1,{"$f":"INDEX('YOUTH RESULTS (2)'!C$11:$C$33,MATCH('AWARDS (2)'!A109,'YOUTH RESULTS (2)'!$I$11:$I$33,0))","v":{"$error":"#N/A"}},{"$f":"INDEX('YOUTH RESULTS (2)'!$B$11:$B$33,MATCH('AWARDS (2)'!A109,'YOUTH RESULTS (2)'!$I$11:$I$33,0))","v":{"$error":"#N/A"}},{"$f":"INDEX('YOUTH RESULTS (2)'!$C$11:$C$33,MATCH('AWARDS (2)'!A109,'YOUTH RESULTS (2)'!$N$11:$N$33,0))","v":{"$error":"#N/A"}},{"$f":"INDEX('YOUTH RESULTS (2)'!$B$11:$B$33,MATCH('AWARDS (2)'!A109,'YOUTH RESULTS (2)'!$N$11:$N$33,0))","v":{"$error":"#N/A"}},{"$f":"INDEX('YOUTH RESULTS (2)'!$C$11:$C$33,MATCH('AWARDS (2)'!A109,'YOUTH RESULTS (2)'!$S$11:$S$33,0))","v":{"$error":"#N/A"}},{"$f":"INDEX('YOUTH RESULTS (2)'!$B$11:$B$33,MATCH('AWARDS (2)'!A109,'YOUTH RESULTS (2)'!$S$11:$S$33,0))","v":{"$error":"#N/A"}},{"$f":"INDEX('YOUTH RESULTS (2)'!$C$11:$C$33,MATCH('AWARDS (2)'!A109,'YOUTH RESULTS (2)'!$X$11:$X$33,0))","v":{"$error":"#N/A"}},{"$f":"INDEX('YOUTH RESULTS (2)'!$B$11:$B$33,MATCH('AWARDS (2)'!A109,'YOUTH RESULTS (2)'!$X$11:$X$33,0))","v":{"$error":"#N/A"}},{"$f":"INDEX('YOUTH RESULTS (2)'!$C$11:$C$33,MATCH('AWARDS (2)'!A109,'YOUTH RESULTS (2)'!$AE$11:$AE$33,0))","v":{"$error":"#N/A"}},{"$f":"INDEX('YOUTH RESULTS (2)'!$B$11:$B$33,MATCH('AWARDS (2)'!A109,'YOUTH RESULTS (2)'!$AE$11:$AE$33,0))","v":{"$error":"#N/A"}}]
[null,{"$f":"INDEX('YOUTH RESULTS (2)'!$D$11:$D$33,MATCH('AWARDS (2)'!A109,'YOUTH RESULTS (2)'!$I$11:$I$33,0))","v":{"$error":"#N/A"}},null,{"$f":"INDEX('YOUTH RESULTS (2)'!$D$11:$D$33,MATCH('AWARDS (2)'!A109,'YOUTH RESULTS (2)'!$N$11:$N$33,0))","v":{"$error":"#N/A"}},{"$f":"INDEX(#REF!,MATCH('AWARDS (2)'!B110,#REF!,0))","v":{"$error":"#REF!"}},{"$f":"INDEX('YOUTH RESULTS (2)'!$D$11:$D$33,MATCH('AWARDS (2)'!A109,'YOUTH RESULTS (2)'!$S$11:$S$33,0))","v":{"$error":"#N/A"}},{"$f":"INDEX(#REF!,MATCH('AWARDS (2)'!A110,#REF!,0))","v":{"$error":"#REF!"}},{"$f":"INDEX('YOUTH RESULTS (2)'!$D$11:$D$33,MATCH('AWARDS (2)'!A109,'YOUTH RESULTS (2)'!$X$11:$X$33,0))","v":{"$error":"#N/A"}},{"$f":"INDEX(#REF!,MATCH('AWARDS (2)'!A110,#REF!,0))","v":{"$error":"#REF!"}},{"$f":"INDEX('YOUTH RESULTS (2)'!$D$11:$D$33,MATCH('AWARDS (2)'!A109,'YOUTH RESULTS (2)'!$AE$11:$AE$33,0))","v":{"$error":"#N/A"}},{"$f":"INDEX(#REF!,MATCH('AWARDS (2)'!A110,#REF!,0))","v":{"$error":"#REF!"}}]
[2,{"$f":"INDEX('YOUTH RESULTS (2)'!C$11:$C$33,MATCH('AWARDS (2)'!A111,'YOUTH RESULTS (2)'!$I$11:$I$33,0))","v":{"$error":"#N/A"}},{"$f":"INDEX('YOUTH RESULTS (2)'!$B$11:$B$33,MATCH('AWARDS (2)'!A111,'YOUTH RESULTS (2)'!$I$11:$I$33,0))","v":{"$error":"#N/A"}},{"$f":"INDEX('YOUTH RESULTS (2)'!$C$11:$C$33,MATCH('AWARDS (2)'!A111,'YOUTH RESULTS (2)'!$N$11:$N$33,0))","v":{"$error":"#N/A"}},{"$f":"INDEX('YOUTH RESULTS (2)'!$B$11:$B$33,MATCH('AWARDS (2)'!A111,'YOUTH RESULTS (2)'!$N$11:$N$33,0))","v":{"$error":"#N/A"}},{"$f":"INDEX('YOUTH RESULTS (2)'!$C$11:$C$33,MATCH('AWARDS (2)'!A111,'YOUTH RESULTS (2)'!$S$11:$S$33,0))","v":{"$error":"#N/A"}},{"$f":"INDEX('YOUTH RESULTS (2)'!$B$11:$B$33,MATCH('AWARDS (2)'!A111,'YOUTH RESULTS (2)'!$S$11:$S$33,0))","v":{"$error":"#N/A"}},{"$f":"INDEX('YOUTH RESULTS (2)'!$C$11:$C$33,MATCH('AWARDS (2)'!A111,'YOUTH RESULTS (2)'!$X$11:$X$33,0))","v":{"$error":"#N/A"}},{"$f":"INDEX('YOUTH RESULTS (2)'!$B$11:$B$33,MATCH('AWARDS (2)'!A111,'YOUTH RESULTS (2)'!$X$11:$X$33,0))","v":{"$error":"#N/A"}},{"$f":"INDEX('YOUTH RESULTS (2)'!$C$11:$C$33,MATCH('AWARDS (2)'!A111,'YOUTH RESULTS (2)'!$AE$11:$AE$33,0))","v":{"$error":"#N/A"}},{"$f":"INDEX('YOUTH RESULTS (2)'!$B$11:$B$33,MATCH('AWARDS (2)'!A111,'YOUTH RESULTS (2)'!$AE$11:$AE$33,0))","v":{"$error":"#N/A"}}]
[null,{"$f":"INDEX('YOUTH RESULTS (2)'!$D$11:$D$33,MATCH('AWARDS (2)'!A111,'YOUTH RESULTS (2)'!$I$11:$I$33,0))","v":{"$error":"#N/A"}},null,{"$f":"INDEX('YOUTH RESULTS (2)'!$D$11:$D$33,MATCH('AWARDS (2)'!A111,'YOUTH RESULTS (2)'!$N$11:$N$33,0))","v":{"$error":"#N/A"}},{"$f":"INDEX(#REF!,MATCH('AWARDS (2)'!B112,#REF!,0))","v":{"$error":"#REF!"}},{"$f":"INDEX('YOUTH RESULTS (2)'!$D$11:$D$33,MATCH('AWARDS (2)'!A111,'YOUTH RESULTS (2)'!$S$11:$S$33,0))","v":{"$error":"#N/A"}},{"$f":"INDEX(#REF!,MATCH('AWARDS (2)'!A112,#REF!,0))","v":{"$error":"#REF!"}},{"$f":"INDEX('YOUTH RESULTS (2)'!$D$11:$D$33,MATCH('AWARDS (2)'!A111,'YOUTH RESULTS (2)'!$X$11:$X$33,0))","v":{"$error":"#N/A"}},{"$f":"INDEX(#REF!,MATCH('AWARDS (2)'!A112,#REF!,0))","v":{"$error":"#REF!"}},{"$f":"INDEX('YOUTH RESULTS (2)'!$D$11:$D$33,MATCH('AWARDS (2)'!A111,'YOUTH RESULTS (2)'!$AE$11:$AE$33,0))","v":{"$error":"#N/A"}},{"$f":"INDEX(#REF!,MATCH('AWARDS (2)'!A112,#REF!,0))","v":{"$error":"#REF!"}}]
[3,{"$f":"INDEX('YOUTH RESULTS (2)'!C$11:$C$33,MATCH('AWARDS (2)'!A113,'YOUTH RESULTS (2)'!$I$11:$I$33,0))","v":{"$error":"#N/A"}},{"$f":"INDEX('YOUTH RESULTS (2)'!$B$11:$B$33,MATCH('AWARDS (2)'!A113,'YOUTH RESULTS (2)'!$I$11:$I$33,0))","v":{"$error":"#N/A"}},{"$f":"INDEX('YOUTH RESULTS (2)'!$C$11:$C$33,MATCH('AWARDS (2)'!A113,'YOUTH RESULTS (2)'!$N$11:$N$33,0))","v":{"$error":"#N/A"}},{"$f":"INDEX('YOUTH RESULTS (2)'!$B$11:$B$33,MATCH('AWARDS (2)'!A113,'YOUTH RESULTS (2)'!$N$11:$N$33,0))","v":{"$error":"#N/A"}},{"$f":"INDEX('YOUTH RESULTS (2)'!$C$11:$C$33,MATCH('AWARDS (2)'!A113,'YOUTH RESULTS (2)'!$S$11:$S$33,0))","v":{"$error":"#N/A"}},{"$f":"INDEX('YOUTH RESULTS (2)'!$B$11:$B$33,MATCH('AWARDS (2)'!A113,'YOUTH RESULTS (2)'!$S$11:$S$33,0))","v":{"$error":"#N/A"}},{"$f":"INDEX('YOUTH RESULTS (2)'!$C$11:$C$33,MATCH('AWARDS (2)'!A113,'YOUTH RESULTS (2)'!$X$11:$X$33,0))","v":{"$error":"#N/A"}},{"$f":"INDEX('YOUTH RESULTS (2)'!$B$11:$B$33,MATCH('AWARDS (2)'!A113,'YOUTH RESULTS (2)'!$X$11:$X$33,0))","v":{"$error":"#N/A"}},{"$f":"INDEX('YOUTH RESULTS (2)'!$C$11:$C$33,MATCH('AWARDS (2)'!A113,'YOUTH RESULTS (2)'!$AE$11:$AE$33,0))","v":{"$error":"#N/A"}},{"$f":"INDEX('YOUTH RESULTS (2)'!$B$11:$B$33,MATCH('AWARDS (2)'!A113,'YOUTH RESULTS (2)'!$AE$11:$AE$33,0))","v":{"$error":"#N/A"}}]
[null,{"$f":"INDEX('YOUTH RESULTS (2)'!$D$11:$D$33,MATCH('AWARDS (2)'!A113,'YOUTH RESULTS (2)'!$I$11:$I$33,0))","v":{"$error":"#N/A"}},null,{"$f":"INDEX('YOUTH RESULTS (2)'!$D$11:$D$33,MATCH('AWARDS (2)'!A113,'YOUTH RESULTS (2)'!$N$11:$N$33,0))","v":{"$error":"#N/A"}},{"$f":"INDEX(#REF!,MATCH('AWARDS (2)'!B114,#REF!,0))","v":{"$error":"#REF!"}},{"$f":"INDEX('YOUTH RESULTS (2)'!$D$11:$D$33,MATCH('AWARDS (2)'!A113,'YOUTH RESULTS (2)'!$S$11:$S$33,0))","v":{"$error":"#N/A"}},{"$f":"INDEX(#REF!,MATCH('AWARDS (2)'!A114,#REF!,0))","v":{"$error":"#REF!"}},{"$f":"INDEX('YOUTH RESULTS (2)'!$D$11:$D$33,MATCH('AWARDS (2)'!A113,'YOUTH RESULTS (2)'!$X$11:$X$33,0))","v":{"$error":"#N/A"}},{"$f":"INDEX(#REF!,MATCH('AWARDS (2)'!A114,#REF!,0))","v":{"$error":"#REF!"}},{"$f":"INDEX('YOUTH RESULTS (2)'!$D$11:$D$33,MATCH('AWARDS (2)'!A113,'YOUTH RESULTS (2)'!$AE$11:$AE$33,0))","v":{"$error":"#N/A"}},{"$f":"INDEX(#REF!,MATCH('AWARDS (2)'!A114,#REF!,0))","v":{"$error":"#REF!"}}]
[4,{"$f":"INDEX('YOUTH RESULTS (2)'!C$11:$C$33,MATCH('AWARDS (2)'!A115,'YOUTH RESULTS (2)'!$I$11:$I$33,0))","v":{"$error":"#N/A"}},{"$f":"INDEX('YOUTH RESULTS (2)'!$B$11:$B$33,MATCH('AWARDS (2)'!A115,'YOUTH RESULTS (2)'!$I$11:$I$33,0))","v":{"$error":"#N/A"}},{"$f":"INDEX('YOUTH RESULTS (2)'!$C$11:$C$33,MATCH('AWARDS (2)'!A115,'YOUTH RESULTS (2)'!$N$11:$N$33,0))","v":{"$error":"#N/A"}},{"$f":"INDEX('YOUTH RESULTS (2)'!$B$11:$B$33,MATCH('AWARDS (2)'!A115,'YOUTH RESULTS (2)'!$N$11:$N$33,0))","v":{"$error":"#N/A"}},{"$f":"INDEX('YOUTH RESULTS (2)'!$C$11:$C$33,MATCH('AWARDS (2)'!A115,'YOUTH RESULTS (2)'!$S$11:$S$33,0))","v":{"$error":"#N/A"}},{"$f":"INDEX('YOUTH RESULTS (2)'!$B$11:$B$33,MATCH('AWARDS (2)'!A115,'YOUTH RESULTS (2)'!$S$11:$S$33,0))","v":{"$error":"#N/A"}},{"$f":"INDEX('YOUTH RESULTS (2)'!$C$11:$C$33,MATCH('AWARDS (2)'!A115,'YOUTH RESULTS (2)'!$X$11:$X$33,0))","v":{"$error":"#N/A"}},{"$f":"INDEX('YOUTH RESULTS (2)'!$B$11:$B$33,MATCH('AWARDS (2)'!A115,'YOUTH RESULTS (2)'!$X$11:$X$33,0))","v":{"$error":"#N/A"}},{"$f":"INDEX('YOUTH RESULTS (2)'!$C$11:$C$33,MATCH('AWARDS (2)'!A115,'YOUTH RESULTS (2)'!$AE$11:$AE$33,0))","v":{"$error":"#N/A"}},{"$f":"INDEX('YOUTH RESULTS (2)'!$B$11:$B$33,MATCH('AWARDS (2)'!A115,'YOUTH RESULTS (2)'!$AE$11:$AE$33,0))","v":{"$error":"#N/A"}}]
[null,{"$f":"INDEX('YOUTH RESULTS (2)'!$D$11:$D$33,MATCH('AWARDS (2)'!A115,'YOUTH RESULTS (2)'!$I$11:$I$33,0))","v":{"$error":"#N/A"}},null,{"$f":"INDEX('YOUTH RESULTS (2)'!$D$11:$D$33,MATCH('AWARDS (2)'!A115,'YOUTH RESULTS (2)'!$N$11:$N$33,0))","v":{"$error":"#N/A"}},{"$f":"INDEX(#REF!,MATCH('AWARDS (2)'!B116,#REF!,0))","v":{"$error":"#REF!"}},{"$f":"INDEX('YOUTH RESULTS (2)'!$D$11:$D$33,MATCH('AWARDS (2)'!A115,'YOUTH RESULTS (2)'!$S$11:$S$33,0))","v":{"$error":"#N/A"}},{"$f":"INDEX(#REF!,MATCH('AWARDS (2)'!A116,#REF!,0))","v":{"$error":"#REF!"}},{"$f":"INDEX('YOUTH RESULTS (2)'!$D$11:$D$33,MATCH('AWARDS (2)'!A115,'YOUTH RESULTS (2)'!$X$11:$X$33,0))","v":{"$error":"#N/A"}},{"$f":"INDEX(#REF!,MATCH('AWARDS (2)'!A116,#REF!,0))","v":{"$error":"#REF!"}},{"$f":"INDEX('YOUTH RESULTS (2)'!$D$11:$D$33,MATCH('AWARDS (2)'!A115,'YOUTH RESULTS (2)'!$AE$11:$AE$33,0))","v":{"$error":"#N/A"}},{"$f":"INDEX(#REF!,MATCH('AWARDS (2)'!A116,#REF!,0))","v":{"$error":"#REF!"}}]
[5,{"$f":"INDEX('YOUTH RESULTS (2)'!C$11:$C$33,MATCH('AWARDS (2)'!A117,'YOUTH RESULTS (2)'!$I$11:$I$33,0))","v":{"$error":"#N/A"}},{"$f":"INDEX('YOUTH RESULTS (2)'!$B$11:$B$33,MATCH('AWARDS (2)'!A117,'YOUTH RESULTS (2)'!$I$11:$I$33,0))","v":{"$error":"#N/A"}},{"$f":"INDEX('YOUTH RESULTS (2)'!$C$11:$C$33,MATCH('AWARDS (2)'!A117,'YOUTH RESULTS (2)'!$N$11:$N$33,0))","v":{"$error":"#N/A"}},{"$f":"INDEX('YOUTH RESULTS (2)'!$B$11:$B$33,MATCH('AWARDS (2)'!A117,'YOUTH RESULTS (2)'!$N$11:$N$33,0))","v":{"$error":"#N/A"}},{"$f":"INDEX('YOUTH RESULTS (2)'!$C$11:$C$33,MATCH('AWARDS (2)'!A117,'YOUTH RESULTS (2)'!$S$11:$S$33,0))","v":{"$error":"#N/A"}},{"$f":"INDEX('YOUTH RESULTS (2)'!$B$11:$B$33,MATCH('AWARDS (2)'!A117,'YOUTH RESULTS (2)'!$S$11:$S$33,0))","v":{"$error":"#N/A"}},{"$f":"INDEX('YOUTH RESULTS (2)'!$C$11:$C$33,MATCH('AWARDS (2)'!A117,'YOUTH RESULTS (2)'!$X$11:$X$33,0))","v":{"$error":"#N/A"}},{"$f":"INDEX('YOUTH RESULTS (2)'!$B$11:$B$33,MATCH('AWARDS (2)'!A117,'YOUTH RESULTS (2)'!$X$11:$X$33,0))","v":{"$error":"#N/A"}},{"$f":"INDEX('YOUTH RESULTS (2)'!$C$11:$C$33,MATCH('AWARDS (2)'!A117,'YOUTH RESULTS (2)'!$AE$11:$AE$33,0))","v":{"$error":"#N/A"}},{"$f":"INDEX('YOUTH RESULTS (2)'!$B$11:$B$33,MATCH('AWARDS (2)'!A117,'YOUTH RESULTS (2)'!$AE$11:$AE$33,0))","v":{"$error":"#N/A"}}]
[null,{"$f":"INDEX('YOUTH RESULTS (2)'!$D$11:$D$33,MATCH('AWARDS (2)'!A117,'YOUTH RESULTS (2)'!$I$11:$I$33,0))","v":{"$error":"#N/A"}},null,{"$f":"INDEX('YOUTH RESULTS (2)'!$D$11:$D$33,MATCH('AWARDS (2)'!A117,'YOUTH RESULTS (2)'!$N$11:$N$33,0))","v":{"$error":"#N/A"}},{"$f":"INDEX(#REF!,MATCH('AWARDS (2)'!B118,#REF!,0))","v":{"$error":"#REF!"}},{"$f":"INDEX('YOUTH RESULTS (2)'!$D$11:$D$33,MATCH('AWARDS (2)'!A117,'YOUTH RESULTS (2)'!$S$11:$S$33,0))","v":{"$error":"#N/A"}},{"$f":"INDEX(#REF!,MATCH('AWARDS (2)'!A118,#REF!,0))","v":{"$error":"#REF!"}},{"$f":"INDEX('YOUTH RESULTS (2)'!$D$11:$D$33,MATCH('AWARDS (2)'!A117,'YOUTH RESULTS (2)'!$X$11:$X$33,0))","v":{"$error":"#N/A"}},{"$f":"INDEX(#REF!,MATCH('AWARDS (2)'!A118,#REF!,0))","v":{"$error":"#REF!"}},{"$f":"INDEX('YOUTH RESULTS (2)'!$D$11:$D$33,MATCH('AWARDS (2)'!A117,'YOUTH RESULTS (2)'!$AE$11:$AE$33,0))","v":{"$error":"#N/A"}},{"$f":"INDEX(#REF!,MATCH('AWARDS (2)'!A118,#REF!,0))","v":{"$error":"#REF!"}}]
[6,{"$f":"INDEX('YOUTH RESULTS (2)'!C$11:$C$33,MATCH('AWARDS (2)'!A119,'YOUTH RESULTS (2)'!$I$11:$I$33,0))","v":{"$error":"#N/A"}},{"$f":"INDEX('YOUTH RESULTS (2)'!$B$11:$B$33,MATCH('AWARDS (2)'!A119,'YOUTH RESULTS (2)'!$I$11:$I$33,0))","v":{"$error":"#N/A"}},{"$f":"INDEX('YOUTH RESULTS (2)'!$C$11:$C$33,MATCH('AWARDS (2)'!A119,'YOUTH RESULTS (2)'!$N$11:$N$33,0))","v":{"$error":"#N/A"}},{"$f":"INDEX('YOUTH RESULTS (2)'!$B$11:$B$33,MATCH('AWARDS (2)'!A119,'YOUTH RESULTS (2)'!$N$11:$N$33,0))","v":{"$error":"#N/A"}},{"$f":"INDEX('YOUTH RESULTS (2)'!$C$11:$C$33,MATCH('AWARDS (2)'!A119,'YOUTH RESULTS (2)'!$S$11:$S$33,0))","v":{"$error":"#N/A"}},{"$f":"INDEX('YOUTH RESULTS (2)'!$B$11:$B$33,MATCH('AWARDS (2)'!A119,'YOUTH RESULTS (2)'!$S$11:$S$33,0))","v":{"$error":"#N/A"}},{"$f":"INDEX('YOUTH RESULTS (2)'!$C$11:$C$33,MATCH('AWARDS (2)'!A119,'YOUTH RESULTS (2)'!$X$11:$X$33,0))","v":{"$error":"#N/A"}},{"$f":"INDEX('YOUTH RESULTS (2)'!$B$11:$B$33,MATCH('AWARDS (2)'!A119,'YOUTH RESULTS (2)'!$X$11:$X$33,0))","v":{"$error":"#N/A"}},{"$f":"INDEX('YOUTH RESULTS (2)'!$C$11:$C$33,MATCH('AWARDS (2)'!A119,'YOUTH RESULTS (2)'!$AE$11:$AE$33,0))","v":{"$error":"#N/A"}},{"$f":"INDEX('YOUTH RESULTS (2)'!$B$11:$B$33,MATCH('AWARDS (2)'!A119,'YOUTH RESULTS (2)'!$AE$11:$AE$33,0))","v":{"$error":"#N/A"}}]
[null,{"$f":"INDEX('YOUTH RESULTS (2)'!$D$11:$D$33,MATCH('AWARDS (2)'!A119,'YOUTH RESULTS (2)'!$I$11:$I$33,0))","v":{"$error":"#N/A"}},null,{"$f":"INDEX('YOUTH RESULTS (2)'!$D$11:$D$33,MATCH('AWARDS (2)'!A119,'YOUTH RESULTS (2)'!$N$11:$N$33,0))","v":{"$error":"#N/A"}},{"$f":"INDEX(#REF!,MATCH('AWARDS (2)'!B120,#REF!,0))","v":{"$error":"#REF!"}},{"$f":"INDEX('YOUTH RESULTS (2)'!$D$11:$D$33,MATCH('AWARDS (2)'!A119,'YOUTH RESULTS (2)'!$S$11:$S$33,0))","v":{"$error":"#N/A"}},{"$f":"INDEX(#REF!,MATCH('AWARDS (2)'!A120,#REF!,0))","v":{"$error":"#REF!"}},{"$f":"INDEX('YOUTH RESULTS (2)'!$D$11:$D$33,MATCH('AWARDS (2)'!A119,'YOUTH RESULTS (2)'!$X$11:$X$33,0))","v":{"$error":"#N/A"}},{"$f":"INDEX(#REF!,MATCH('AWARDS (2)'!A120,#REF!,0))","v":{"$error":"#REF!"}},{"$f":"INDEX('YOUTH RESULTS (2)'!$D$11:$D$33,MATCH('AWARDS (2)'!A119,'YOUTH RESULTS (2)'!$AE$11:$AE$33,0))","v":{"$error":"#N/A"}},{"$f":"INDEX(#REF!,MATCH('AWARDS (2)'!A120,#REF!,0))","v":{"$error":"#REF!"}}]
["Youth Reserve Champion",null,null,null,null,null,null,{"$f":"INDEX('YOUTH RESULTS (2)'!$C$11:$C$33,MATCH(2,'YOUTH RESULTS (2)'!$AJ$11:$AJ$33,0))","v":{"$error":"#N/A"}},null,{"$f":"INDEX('YOUTH RESULTS (2)'!$B$11:$B$33,MATCH(2,'YOUTH RESULTS (2)'!$AJ$11:$AJ$33,0))","v":{"$error":"#N/A"}}]
[null,null,null,null,null,null,null,{"$f":"INDEX('YOUTH RESULTS (2)'!$D$11:$D$33,MATCH(2,'YOUTH RESULTS (2)'!$AJ$11:$AJ$33,0))","v":{"$error":"#N/A"}},null,{"$f":"INDEX(#REF!,MATCH(2,#REF!,0))","v":{"$error":"#REF!"}}]
["Youth Champion",null,null,null,null,null,null,{"$f":"INDEX('YOUTH RESULTS (2)'!$C$11:$C$33,MATCH(1,'YOUTH RESULTS (2)'!$AJ$11:$AJ$33,0))","v":{"$error":"#N/A"}},null,{"$f":"INDEX('YOUTH RESULTS (2)'!$B$11:$B$33,MATCH(1,'YOUTH RESULTS (2)'!$AJ$11:$AJ$33,0))","v":{"$error":"#N/A"}}]
[null,null,null,null,null,null,null,{"$f":"INDEX('YOUTH RESULTS (2)'!$D$11:$D$33,MATCH(1,'YOUTH RESULTS (2)'!$AJ$11:$AJ$33,0))","v":{"$error":"#N/A"}},null,{"$f":"INDEX(#REF!,MATCH(1,#REF!,0))","v":{"$error":"#REF!"}}]

{"sheet":"Novice 1","index":10,"n_rows":34,"n_cols":28,"rows_kept":34,"cut":false,"hidden":false,"merged":[[25,0,25,3],[27,0,27,3],[29,0,29,3],[30,0,30,2],[9,2,9,3],[10,2,10,3],[11,2,11,3],[12,2,12,3],[13,2,13,3],[14,2,14,3],[23,0,24,0],[23,1,24,1],[15,2,15,3],[16,2,16,3],[17,2,17,3],[18,2,18,3],[19,2,19,3],[20,2,20,3],[21,2,21,3],[22,2,22,3],[7,6,7,9],[8,8,8,9],[8,2,8,3],[7,0,7,3],[30,6,30,8],[9,8,10,9],[11,8,12,9],[20,6,20,8],[25,6,25,8],[26,6,26,9],[15,8,15,9],[16,8,16,9],[29,6,29,9],[13,8,14,9],[21,6,21,9],[27,6,27,9],[7,12,7,15],[8,14,8,15],[10,14,10,15],[11,14,11,15],[12,14,12,15],[30,12,30,14],[9,12,9,15],[13,12,13,15],[18,12,18,15],[25,12,25,15],[22,12,23,13],[22,14,23,14],[22,15,23,15],[20,14,20,15],[21,14,21,15],[14,14,14,15],[15,14,15,15],[16,14,16,15],[17,14,17,15],[19,14,19,15],[27,12,29,15],[7,18,7,21],[8,20,8,21],[9,20,9,21],[10,20,10,21],[11,20,11,21],[7,24,7,27],[31,24,31,26],[19,18,20,19],[19,20,20,20],[19,21,20,21],[21,18,21,21],[27,18,29,21],[30,18,30,20],[23,18,25,21],[16,20,16,21],[17,20,17,21],[18,20,18,21],[12,20,12,21],[13,20,13,21],[14,20,14,21],[15,20,15,21]]}
["RIDERS SCORE WORK SHEET"]
[]
["Back Number:",{"$f":"'Entry Information'!B11","v":83},null,null,null,null,"Back Number:",{"$f":"'Entry Information'!B11","v":83},null,null,null,null,"Back Number:",{"$f":"'Entry Information'!B11","v":83},null,null,null,null,"Back Number:",{"$f":"'Entry Information'!B11","v":83},null,null,null,null,"Back Number:",{"$f":"'Entry Information'!B11","v":83}]
["Name:",{"$f":"'Entry Information'!I11","v":"Codi"},{"$f":"'Entry Information'!H11","v":"Christianson"},null,null,null,"Name:",{"$f":"'Entry Information'!I11","v":"Codi"},{"$f":"'Entry Information'!H11","v":"Christianson"},null,null,null,"Name:",{"$f":"'Entry Information'!I11","v":"Codi"},{"$f":"'Entry Information'!H11","v":"Christianson"},null,null,null,"Name:",{"$f":"'Entry Information'!I11","v":"Codi"},{"$f":"'Entry Information'!H11","v":"Christianson"},null,null,null,"Name:",{"$f":"'Entry Information'!I11","v":"Codi"},{"$f":"'Entry Information'!H11","v":"Christianson"}]
["Horse Name:",{"$f":"'Entry Information'!J11","v":"Miss Makin Shine"},null,null,null,null,"Horse Name:",{"$f":"'Entry Information'!J11","v":"Miss Makin Shine"},null,null,null,null,"Horse Name:",{"$f":"'Entry Information'!J11","v":"Miss Makin Shine"},null,null,null,null,"Horse Name:",{"$f":"'Entry Information'!J11","v":"Miss Makin Shine"},null,null,null,null,"Horse Name:",{"$f":"'Entry Information'!J11","v":"Miss Makin Shine"}]
[]
["Check box when entering Ranch Riding scores",null,null,"x",null,null,"Check box when entering Working Ranch Horse scores",null,null,"x",null,null,"Check box when entering Ranch Cutting scores",null,null,"x",null,null,"Check box when entering Ranch Trail scores",null,null,"x",null,null,"Check box when entering Conformation scores",null,null,"x"]
["Ranch Riding",null,null,null,null,null,"Working Ranch Horse",null,null,null,null,null,"Ranch Cutting",null,null,null,null,null,"Ranch Trail",null,null,null,null,null,"Ranch Conformation"]
["Maneuver","Judge's Score +/-","Penalty Points",null,null,null,"Maneuver","Judge's Score +/-","Penalty Points",null,null,null,"Maneuver","Judge's Score +/-","Penalty Points",null,null,null,"Maneuver","Judge's Score +/-","Penalty Points",null,null,null,"Front Legs, Feet",null,null,-1]
[1,-1,null,null,null,null,1,-1,-0.5,null,null,null,"Herd Work",null,null,null,null,null,1,1,null,null,null,null,"Chest, Pectoral V",null,null,0]
[2,0,null,null,null,null,2,-2,null,null,null,null,1,-1,-1,null,null,null,2,2,null,null,null,null,"Head",null,null,-1]
[3,-1,null,null,null,null,3,-1,-2,null,null,null,2,-1,null,null,null,null,3,2,null,null,null,null,"Neck & Throat Latch",null,null,1]
[4,2,null,null,null,null,4,0,null,null,null,null,3,0,null,null,null,null,4,2,null,null,null,null,"Shoulders & Withers",null,null,1]
[5,1,null,null,null,null,5,-1,null,null,null,null,"Cutting",null,null,null,null,null,5,1,null,null,null,null,"Heart Girth & Barrel",null,null,0]
[6,1,null,null,null,null,6,-1,null,null,null,null,1,0,null,null,null,null,6,-2,-1,null,null,null,"Back & Loin",null,null,-1]
[7,0,null,null,null,null,7,-1,null,null,null,null,2,-2,null,null,null,null,7,0,null,null,null,null,"Hip & Croup",null,null,-1]
[8,-1,null,null,null,null,8,-1,null,null,null,null,3,-3,null,null,null,null,8,-2,-5,null,null,null,"Stife & Gaskin",null,null,0]
[9,-1,null,null,null,null,null,null,"Total Penalty Pts",{"$f":"SUM(I10:J17)","v":-2.5},null,null,4,-2,null,null,null,null,9,0,null,null,null,null,"Hock, Hind Legs, Feet",null,null,-1]
[10,-2,null,null,null,null,"56 +/- Judge Score",{"$f":"SUM(H10:H17)","v":-8},"Divided by 2",{"$f":"SUM((56+H19)/2)","v":24},null,null,"Penning",null,null,null,null,null,10,1,null,null,null,null,"Overall Muscling",null,null,-1]
[11,-3,null,null,null,null,"Maneuver Score",{"$f":"J19","v":24},"Less Penalty Pts",{"$f":"J18","v":-2.5},null,null,1,1,null,null,null,null,null,null,"Major Penalties",null,null,null,"Tracking","Lame: enter an \"x\"",null,-1]
[12,0,-3,null,null,null,"REINING SCORE",null,null,{"$f":"SUM(H20+J20)","v":21.5},null,null,2,0,null,null,null,null,null,null,null,null,null,null,"Balance 1",null,null,-2]
[13,-2,null,null,null,null,"NOVICE BOXING",null,null,null,null,null,3,-3,-5,null,null,null,null,null,null,null,null,null,"Balance 2",null,null,-2]
[14,-1,null,null,null,null,1,-2,"Penalty Points",-4,null,null,null,null,"Major Penalties",null,null,null,"Maneuver Total",{"$f":"SUM(T10:T19)","v":5},"Penalty Total",{"$f":"SUM(SUM(U10:V19)+V20)","v":-6},null,null,"Balance 3",null,null,-2]
["Maneuver Total",{"$f":"SUM(B10:B23)","v":-8},"Major Penalties",null,null,null,"7 +/- Judge Score",{"$f":"SUM(7+H23)","v":5},"Total Penalty Pts",{"$f":"J23","v":-4},null,null,null,null,null,null,null,null,null,null,null,null,null,null,"Fitness & Condition",null,null,1]
[null,null,"Penalty Total",{"$f":"SUM(C10:D24)","v":-3},null,null,"Maneuver Score",{"$f":"H24","v":5},"Less Penalty Pts",{"$f":"J24","v":-4},null,null,"Maneuver Total",{"$f":"SUM(N10:N22)","v":-11},"Penalty Total",{"$f":"SUM(O11+O12+O13+O15+O16+O17+O18+O20+O21+O22+P23)","v":-6},null,null,null,null,null,null,null,null,"Participant Showmanship",null,null,-2]
[null,null,null,null,null,null,"CATTLE SCORE",null,null,{"$f":"SUM(H25+J25)","v":1},null,null,null,null,null,null,null,null,null,null,null,null,null,null,"Horse Showmanship",null,null,0]
["100 +/-Maneuver",{"$f":"B24","v":-8},"x .70 =",{"$f":"SUM((100+B27)*0.7)","v":64.399999999999991},null,null,null,null,null,null,null,null,"70 +/-Maneuver",{"$f":"N25","v":-11},"Less Penalty Total",{"$f":"P25","v":-6},null,null,"70 +/-Maneuver",{"$f":"T23","v":5},"Less Penalty Total",{"$f":"V23","v":-6},null,null,"Form & Showmanship Judges Score",null,"Total (1)",{"$f":"SUM(AB9:AB26)","v":-12}]
[null,null,null,null,null,null,null,null,null,null,null,null,null,null,null,null,null,null,null,null,null,null,null,null,{"$f":"SUM(AB27*0.33+42)","v":38.04},{"$f":"IF(AA20=\"x\",-10,0)","v":0},"Judge Score (2)",{"$f":"SUM(Y28+Z28)","v":38.04}]
["Maneuver Score =",{"$f":"D27","v":64.399999999999991},"Less Penalty Total",{"$f":"D25","v":-3},null,null,"Reining Score",{"$f":"J21","v":21.5},"Plus Cattle Score",{"$f":"J26","v":1},null,null,null,null,null,null,null,null,null,null,null,null,null,null,"Ranch Cutting",{"$f":"IF(P31=\"\",0,P31)","v":53},"Ranch Rding",{"$f":"IF(D31=\"\",0,D31)","v":61.399999999999991}]
[null,null,null,null,null,null,null,null,null,null,null,null,null,null,null,null,null,null,null,null,null,null,null,null,"Working Ranch Horse",{"$f":"IF(J31=\"\",0,J31)","v":22.5},"Ranch Trail",{"$f":"IF(V31=\"\",0,V31)","v":69}]
["TOTAL SCORE",null,null,{"$f":"IF(D7=\"\",\"\",IF(B29+D29<0,0,B29+D29))","v":61.399999999999991},null,null,"TOTAL SCORE",null,null,{"$f":"IF(J7=\"\",\"\",IF(H29+J29<0,0,H29+J29))","v":22.5},null,null,"TOTAL SCORE",null,null,{"$f":"IF(P7=\"\",\"\",IF(70+N27+P27<0,0,70+N27+P27))","v":53},null,null,"TOTAL SCORE",null,null,{"$f":"IF(V7=\"\",\"\",IF(70+T27+V27<0,0,70+T27+V27))","v":69},null,null,"Function Total (3)",{"$f":"SUM(Z29+AB29+Z30+AB30)","v":205.89999999999998},"Function Score (4)",{"$f":"Z31*0.1","v":20.59}]
[null,null,null,null,null,null,null,null,null,null,null,null,null,null,null,null,null,null,null,null,null,null,null,null,"Judge Score (2) + Function Score (4) = CONFORMATION SCORE",null,null,{"$f":"IF(AB7=\"\",\"\",IF(AB28+AB31<0,0,AB28+AB31))","v":58.629999999999995}]
[null,null,"Return to Entry Page",null,null,null,null,null,"Return to Entry Page",null,null,null,null,null,"Return to Entry Page",null,null,null,null,null,"Return to Entry Page"]
[null,null,null,null,null,null,null,null,null,null,null,null,null,null,null,null,null,null,null,null,null,null,null,null,null,null,"Return to Entry Page"]

{"sheet":"Novice 2","index":11,"n_rows":34,"n_cols":28,"rows_kept":34,"cut":false,"hidden":false,"merged":[[31,24,31,26],[30,0,30,2],[30,6,30,8],[30,12,30,14],[30,18,30,20],[26,6,26,9],[27,0,27,3],[27,6,27,9],[27,12,29,15],[27,18,29,21],[29,0,29,3],[29,6,29,9],[23,0,24,0],[23,1,24,1],[23,18,25,21],[25,0,25,3],[25,6,25,8],[25,12,25,15],[21,18,21,21],[18,2,18,3],[18,12,18,15],[18,20,18,21],[19,2,19,3],[19,14,19,15],[19,18,20,19],[19,20,20,20],[19,21,20,21],[20,2,20,3],[20,6,20,8],[20,14,20,15],[22,2,22,3],[22,12,23,13],[22,14,23,14],[22,15,23,15],[15,2,15,3],[15,8,15,9],[15,14,15,15],[17,2,17,3],[17,14,17,15],[21,2,21,3],[21,6,21,9],[21,14,21,15],[10,14,10,15],[10,20,10,21],[17,20,17,21],[13,2,13,3],[13,8,14,9],[13,12,13,15],[13,20,13,21],[14,2,14,3],[14,14,14,15],[14,20,14,21],[15,20,15,21],[16,2,16,3],[16,8,16,9],[16,14,16,15],[16,20,16,21],[8,2,8,3],[8,8,8,9],[8,14,8,15],[8,20,8,21],[11,2,11,3],[11,8,12,9],[11,14,11,15],[11,20,11,21],[12,2,12,3],[12,14,12,15],[12,20,12,21],[9,2,9,3],[9,8,10,9],[9,12,9,15],[9,20,9,21],[10,2,10,3],[7,24,7,27],[7,0,7,3],[7,6,7,9],[7,12,7,15],[7,18,7,21]]}
["RIDERS SCORE WORK SHEET"]
[]
["Back Number:",{"$f":"'Entry Information'!B12","v":82},null,null,null,null,"Back Number:",{"$f":"'Entry Information'!B12","v":82},null,null,null,null,"Back Number:",{"$f":"'Entry Information'!B12","v":82},null,null,null,null,"Back Number:",{"$f":"'Entry Information'!B12","v":82},null,null,null,null,"Back Number:",{"$f":"'Entry Information'!B12","v":82}]
["Name:",{"$f":"'Entry Information'!I12","v":"Dale"},{"$f":"'Entry Information'!H12","v":"Grove"},null,null,null,"Name:",{"$f":"'Entry Information'!I12","v":"Dale"},{"$f":"'Entry Information'!H12","v":"Grove"},null,null,null,"Name:",{"$f":"'Entry Information'!I12","v":"Dale"},{"$f":"'Entry Information'!H12","v":"Grove"},null,null,null,"Name:",{"$f":"'Entry Information'!I12","v":"Dale"},{"$f":"'Entry Information'!H12","v":"Grove"},null,null,null,"Name:",{"$f":"'Entry Information'!I12","v":"Dale"},{"$f":"'Entry Information'!H12","v":"Grove"}]
["Horse Name:",{"$f":"'Entry Information'!J12","v":"Woody B Stylin"},null,null,null,null,"Horse Name:",{"$f":"'Entry Information'!J12","v":"Woody B Stylin"},null,null,null,null,"Horse Name:",{"$f":"'Entry Information'!J12","v":"Woody B Stylin"},null,null,null,null,"Horse Name:",{"$f":"'Entry Information'!J12","v":"Woody B Stylin"},null,null,null,null,"Horse Name:",{"$f":"'Entry Information'!J12","v":"Woody B Stylin"}]
[]
["Check box when entering Ranch Riding scores",null,null,"x",null,null,"Check box when entering Working Ranch Horse scores",null,null,"x",null,null,"Check box when entering Ranch Cutting scores",null,null,"x",null,null,"Check box when entering Ranch Trail scores",null,null,"x",null,null,"Check box when entering Conformation scores",null,null,"x"]
["Ranch Riding",null,null,null,null,null,"Working Ranch Horse",null,null,null,null,null,"Ranch Cutting",null,null,null,null,null,"Ranch Trail",null,null,null,null,null,"Ranch Conformation"]
["Maneuver","Judge's Score +/-","Penalty Points",null,null,null,"Maneuver","Judge's Score +/-","Penalty Points",null,null,null,"Maneuver","Judge's Score +/-","Penalty Points",null,null,null,"Maneuver","Judge's Score +/-","Penalty Points",null,null,null,"Front Legs, Feet",null,null,-1]
[1,1,null,null,null,null,1,-1,-1,null,null,null,"Herd Work",null,null,null,null,null,1,0,null,null,null,null,"Chest, Pectoral V",null,null,-1]
[2,1,null,null,null,null,2,0,null,null,null,null,1,0,null,null,null,null,2,2,-1.5,null,null,null,"Head",null,null,0]
[3,-1,null,null,null,null,3,-1,-4,null,null,null,2,0,null,null,null,null,3,0,null,null,null,null,"Neck & Throat Latch",null,null,1]
[4,1,null,null,null,null,4,0,null,null,null,null,3,1,null,null,null,null,4,0,null,null,null,null,"Shoulders & Withers",null,null,0]
[5,2,null,null,null,null,5,0,null,null,null,null,"Cutting",null,null,null,null,null,5,2,null,null,null,null,"Heart Girth & Barrel",null,null,0]
[6,-2,null,null,null,null,6,0,null,null,null,null,1,0,null,null,null,null,6,1,-2,null,null,null,"Back & Loin",null,null,1]
[7,-3,-3,null,null,null,7,-1,null,null,null,null,2,2,null,null,null,null,7,-1,null,null,null,null,"Hip & Croup",null,null,0]
[8,-1,null,null,null,null,8,-2,null,null,null,null,3,3,null,null,null,null,8,2,null,null,null,null,"Stife & Gaskin",null,null,1]
[9,-1,null,null,null,null,null,null,"Total Penalty Pts",{"$f":"SUM(I10:J17)","v":-5},null,null,4,2,null,null,null,null,9,1,null,null,null,null,"Hock, Hind Legs, Feet",null,null,0]
[10,2,null,null,null,null,"56 +/- Judge Score",{"$f":"SUM(H10:H17)","v":-5},"Divided by 2",{"$f":"SUM((56+H19)/2)","v":25.5},null,null,"Penning",null,null,null,null,null,10,2,null,null,null,null,"Overall Muscling",null,null,1]
[11,2,null,null,null,null,"Maneuver Score",{"$f":"J19","v":25.5},"Less Penalty Pts",{"$f":"J18","v":-5},null,null,1,1,null,null,null,null,null,null,"Major Penalties",null,null,null,"Tracking","Lame: enter an \"x\"",null,-1]
[12,-3,-3,null,null,null,"REINING SCORE",null,null,{"$f":"SUM(H20+J20)","v":20.5},null,null,2,2,null,null,null,null,null,null,null,null,null,null,"Balance 1",null,null,1]
[13,0,null,null,null,null,"NOVICE BOXING",null,null,null,null,null,3,2,null,null,null,null,null,null,null,null,null,null,"Balance 2",null,null,1]
[14,0,null,null,null,null,1,-1,"Penalty Points",null,null,null,null,null,"Major Penalties",null,null,null,"Maneuver Total",{"$f":"SUM(T10:T19)","v":9},"Penalty Total",{"$f":"SUM(SUM(U10:V19)+V20)","v":-3.5},null,null,"Balance 3",null,null,1]
["Maneuver Total",{"$f":"SUM(B10:B23)","v":-2},"Major Penalties",null,null,null,"7 +/- Judge Score",{"$f":"SUM(7+H23)","v":6},"Total Penalty Pts",{"$f":"J23","v":0},null,null,null,null,null,null,null,null,null,null,null,null,null,null,"Fitness & Condition",null,null,1]
[null,null,"Penalty Total",{"$f":"SUM(C10:D24)","v":-6},null,null,"Maneuver Score",{"$f":"H24","v":6},"Less Penalty Pts",{"$f":"J24","v":0},null,null,"Maneuver Total",{"$f":"SUM(N10:N22)","v":13},"Penalty Total",{"$f":"SUM(O11+O12+O13+O15+O16+O17+O18+O20+O21+O22+P23)","v":0},null,null,null,null,null,null,null,null,"Participant Showmanship",null,null,-2]
[null,null,null,null,null,null,"CATTLE SCORE",null,null,{"$f":"SUM(H25+J25)","v":6},null,null,null,null,null,null,null,null,null,null,null,null,null,null,"Horse Showmanship",null,null,0]
["100 +/-Maneuver",{"$f":"B24","v":-2},"x .70 =",{"$f":"SUM((100+B27)*0.7)","v":68.599999999999994},null,null,null,null,null,null,null,null,"70 +/-Maneuver",{"$f":"N25","v":13},"Less Penalty Total",{"$f":"P25","v":0},null,null,"70 +/-Maneuver",{"$f":"T23","v":9},"Less Penalty Total",{"$f":"V23","v":-3.5},null,null,"Form & Showmanship Judges Score",null,"Total (1)",{"$f":"SUM(AB9:AB26)","v":3}]
[null,null,null,null,null,null,null,null,null,null,null,null,null,null,null,null,null,null,null,null,null,null,null,null,{"$f":"SUM(AB27*0.33+42)","v":42.99},{"$f":"IF(AA20=\"x\",-10,0)","v":0},"Judge Score (2)",{"$f":"SUM(Y28+Z28)","v":42.99}]
["Maneuver Score =",{"$f":"D27","v":68.599999999999994},"Less Penalty Total",{"$f":"D25","v":-6},null,null,"Reining Score",{"$f":"J21","v":20.5},"Plus Cattle Score",{"$f":"J26","v":6},null,null,null,null,null,null,null,null,null,null,null,null,null,null,"Ranch Cutting",{"$f":"IF(P31=\"\",0,P31)","v":83},"Ranch Rding",{"$f":"IF(D31=\"\",0,D31)","v":62.599999999999994}]
[null,null,null,null,null,null,null,null,null,null,null,null,null,null,null,null,null,null,null,null,null,null,null,null,"Working Ranch Horse",{"$f":"IF(J31=\"\",0,J31)","v":26.5},"Ranch Trail",{"$f":"IF(V31=\"\",0,V31)","v":75.5}]
["TOTAL SCORE",null,null,{"$f":"IF(D7=\"\",\"\",IF(B29+D29<0,0,B29+D29))","v":62.599999999999994},null,null,"TOTAL SCORE",null,null,{"$f":"IF(J7=\"\",\"\",IF(H29+J29<0,0,H29+J29))","v":26.5},null,null,"TOTAL SCORE",null,null,{"$f":"IF(P7=\"\",\"\",IF(70+N27+P27<0,0,70+N27+P27))","v":83},null,null,"TOTAL SCORE",null,null,{"$f":"IF(V7=\"\",\"\",IF(70+T27+V27<0,0,70+T27+V27))","v":75.5},null,null,"Function Total (3)",{"$f":"SUM(Z29+AB29+Z30+AB30)","v":247.6},"Function Score (4)",{"$f":"Z31*0.1","v":24.76}]
[null,null,null,null,null,null,null,null,null,null,null,null,null,null,null,null,null,null,null,null,null,null,null,null,"Judge Score (2) + Function Score (4) = CONFORMATION SCORE",null,null,{"$f":"IF(AB7=\"\",\"\",IF(AB28+AB31<0,0,AB28+AB31))","v":67.75}]
[null,null,"Return to Entry Page",null,null,null,null,null,"Return to Entry Page",null,null,null,null,null,"Return to Entry Page",null,null,null,null,null,"Return to Entry Page"]
[null,null,null,null,null,null,null,null,null,null,null,null,null,null,null,null,null,null,null,null,null,null,null,null,null,null,"Return to Entry Page"]

{"sheet":"Novice 3","index":12,"n_rows":34,"n_cols":28,"rows_kept":34,"cut":false,"hidden":false,"merged":[[31,24,31,26],[30,0,30,2],[30,6,30,8],[30,12,30,14],[30,18,30,20],[26,6,26,9],[27,0,27,3],[27,6,27,9],[27,12,29,15],[27,18,29,21],[29,0,29,3],[29,6,29,9],[23,0,24,0],[23,1,24,1],[23,18,25,21],[25,0,25,3],[25,6,25,8],[25,12,25,15],[21,18,21,21],[18,2,18,3],[18,12,18,15],[18,20,18,21],[19,2,19,3],[19,14,19,15],[19,18,20,19],[19,20,20,20],[19,21,20,21],[20,2,20,3],[20,6,20,8],[20,14,20,15],[22,2,22,3],[22,12,23,13],[22,14,23,14],[22,15,23,15],[15,2,15,3],[15,8,15,9],[15,14,15,15],[17,2,17,3],[17,14,17,15],[21,2,21,3],[21,6,21,9],[21,14,21,15],[17,20,17,21],[13,2,13,3],[13,8,14,9],[13,12,13,15],[13,20,13,21],[14,2,14,3],[14,14,14,15],[14,20,14,21],[15,20,15,21],[16,2,16,3],[16,8,16,9],[16,14,16,15],[16,20,16,21],[7,24,7,27],[11,2,11,3],[11,8,12,9],[11,14,11,15],[11,20,11,21],[12,2,12,3],[12,14,12,15],[12,20,12,21],[9,2,9,3],[9,8,10,9],[9,12,9,15],[9,20,9,21],[10,2,10,3],[10,14,10,15],[10,20,10,21],[8,2,8,3],[8,8,8,9],[8,14,8,15],[8,20,8,21],[7,0,7,3],[7,6,7,9],[7,12,7,15],[7,18,7,21]]}
["RIDERS SCORE WORK SHEET"]
[]
["Back Number:",{"$f":"'Entry Information'!B13","v":75},null,null,null,null,"Back Number:",{"$f":"'Entry Information'!B13","v":75},null,null,null,null,"Back Number:",{"$f":"'Entry Information'!B13","v":75},null,null,null,null,"Back Number:",{"$f":"'Entry Information'!B13","v":75},null,null,null,null,"Back Number:",{"$f":"'Entry Information'!B13","v":75}]
["Name:",{"$f":"'Entry Information'!I13","v":"Roxanne"},{"$f":"'Entry Information'!H13","v":"Burton"},null,null,null,"Name:",{"$f":"'Entry Information'!I13","v":"Roxanne"},{"$f":"'Entry Information'!H13","v":"Burton"},null,null,null,"Name:",{"$f":"'Entry Information'!I13","v":"Roxanne"},{"$f":"'Entry Information'!H13","v":"Burton"},null,null,null,"Name:",{"$f":"'Entry Information'!I13","v":"Roxanne"},{"$f":"'Entry Information'!H13","v":"Burton"},null,null,null,"Name:",{"$f":"'Entry Information'!I13","v":"Roxanne"},{"$f":"'Entry Information'!H13","v":"Burton"}]
["Horse Name:",{"$f":"'Entry Information'!J13","v":"Miss Smart Gun RG"},null,null,null,null,"Horse Name:",{"$f":"'Entry Information'!J13","v":"Miss Smart Gun RG"},null,null,null,null,"Horse Name:",{"$f":"'Entry Information'!J13","v":"Miss Smart Gun RG"},null,null,null,null,"Horse Name:",{"$f":"'Entry Information'!J13","v":"Miss Smart Gun RG"},null,null,null,null,"Horse Name:",{"$f":"'Entry Information'!J13","v":"Miss Smart Gun RG"}]
[]
["Check box when entering Ranch Riding scores",null,null,"x",null,null,"Check box when entering Working Ranch Horse scores",null,null,"x",null,null,"Check box when entering Ranch Cutting scores",null,null,"x",null,null,"Check box when entering Ranch Trail scores",null,null,"x",null,null,"Check box when entering Conformation scores",null,null,"x"]
["Ranch Riding",null,null,null,null,null,"Working Ranch Horse",null,null,null,null,null,"Ranch Cutting",null,null,null,null,null,"Ranch Trail",null,null,null,null,null,"Ranch Conformation"]
["Maneuver","Judge's Score +/-","Penalty Points",null,null,null,"Maneuver","Judge's Score +/-","Penalty Points",null,null,null,"Maneuver","Judge's Score +/-","Penalty Points",null,null,null,"Maneuver","Judge's Score +/-","Penalty Points",null,null,null,"Front Legs, Feet",null,null,1]
[1,0,null,null,null,null,1,0,-0.5,null,null,null,"Herd Work",null,null,null,null,null,1,1,null,null,null,null,"Chest, Pectoral V",null,null,1]
[2,1,null,null,null,null,2,0,null,null,null,null,1,0,-1,null,null,null,2,0,null,null,null,null,"Head",null,null,1]
[3,0,null,null,null,null,3,-1,-4,null,null,null,2,0,null,null,null,null,3,2,null,null,null,null,"Neck & Throat Latch",null,null,1]
[4,0,null,null,null,null,4,0,null,null,null,null,3,0,null,null,null,null,4,2,null,null,null,null,"Shoulders & Withers",null,null,0]
[5,2,null,null,null,null,5,0,null,null,null,null,"Cutting",null,null,null,null,null,5,1,null,null,null,null,"Heart Girth & Barrel",null,null,-1]
[6,1,null,null,null,null,6,0,null,null,null,null,1,0,null,null,null,null,6,2,-1,null,null,null,"Back & Loin",null,null,-1]
[7,1,null,null,null,null,7,-1,null,null,null,null,2,-1,-5,null,null,null,7,1,null,null,null,null,"Hip & Croup",null,null,0]
[8,0,null,null,null,null,8,-1,null,null,null,null,3,2,null,null,null,null,8,2,null,null,null,null,"Stife & Gaskin",null,null,1]
[9,-1,-1,null,null,null,null,null,"Total Penalty Pts",{"$f":"SUM(I10:J17)","v":-4.5},null,null,4,-1,null,null,null,null,9,0,null,null,null,null,"Hock, Hind Legs, Feet",null,null,-1]
[10,2,null,null,null,null,"56 +/- Judge Score",{"$f":"SUM(H10:H17)","v":-3},"Divided by 2",{"$f":"SUM((56+H19)/2)","v":26.5},null,null,"Penning",null,null,null,null,null,10,0,null,null,null,null,"Overall Muscling",null,null,0]
[11,2,null,null,null,null,"Maneuver Score",{"$f":"J19","v":26.5},"Less Penalty Pts",{"$f":"J18","v":-4.5},null,null,1,-3,null,null,null,null,null,null,"Major Penalties",null,null,null,"Tracking","Lame: enter an \"x\"",null,0]
[12,1,null,null,null,null,"REINING SCORE",null,null,{"$f":"SUM(H20+J20)","v":22},null,null,2,2,null,null,null,null,null,null,null,null,null,null,"Balance 1",null,null,1]
[13,0,null,null,null,null,"NOVICE BOXING",null,null,null,null,null,3,-3,-5,null,null,null,null,null,null,null,null,null,"Balance 2",null,null,1]
[14,1,null,null,null,null,1,-1,"Penalty Points",null,null,null,null,null,"Major Penalties",null,null,null,"Maneuver Total",{"$f":"SUM(T10:T19)","v":11},"Penalty Total",{"$f":"SUM(SUM(U10:V19)+V20)","v":-1},null,null,"Balance 3",null,null,1]
["Maneuver Total",{"$f":"SUM(B10:B23)","v":10},"Major Penalties",null,null,null,"7 +/- Judge Score",{"$f":"SUM(7+H23)","v":6},"Total Penalty Pts",{"$f":"J23","v":0},null,null,null,null,null,null,null,null,null,null,null,null,null,null,"Fitness & Condition",null,null,1]
[null,null,"Penalty Total",{"$f":"SUM(C10:D24)","v":-1},null,null,"Maneuver Score",{"$f":"H24","v":6},"Less Penalty Pts",{"$f":"J24","v":0},null,null,"Maneuver Total",{"$f":"SUM(N10:N22)","v":-4},"Penalty Total",{"$f":"SUM(O11+O12+O13+O15+O16+O17+O18+O20+O21+O22+P23)","v":-11},null,null,null,null,null,null,null,null,"Participant Showmanship",null,null,1]
[null,null,null,null,null,null,"CATTLE SCORE",null,null,{"$f":"SUM(H25+J25)","v":6},null,null,null,null,null,null,null,null,null,null,null,null,null,null,"Horse Showmanship",null,null,1]
["100 +/-Maneuver",{"$f":"B24","v":10},"x .70 =",{"$f":"SUM((100+B27)*0.7)","v":77},null,null,null,null,null,null,null,null,"70 +/-Maneuver",{"$f":"N25","v":-4},"Less Penalty Total",{"$f":"P25","v":-11},null,null,"70 +/-Maneuver",{"$f":"T23","v":11},"Less Penalty Total",{"$f":"V23","v":-1},null,null,"Form & Showmanship Judges Score",null,"Total (1)",{"$f":"SUM(AB9:AB26)","v":8}]
[null,null,null,null,null,null,null,null,null,null,null,null,null,null,null,null,null,null,null,null,null,null,null,null,{"$f":"SUM(AB27*0.33+42)","v":44.64},{"$f":"IF(AA20=\"x\",-10,0)","v":0},"Judge Score (2)",{"$f":"SUM(Y28+Z28)","v":44.64}]
["Maneuver Score =",{"$f":"D27","v":77},"Less Penalty Total",{"$f":"D25","v":-1},null,null,"Reining Score",{"$f":"J21","v":22},"Plus Cattle Score",{"$f":"J26","v":6},null,null,null,null,null,null,null,null,null,null,null,null,null,null,"Ranch Cutting",{"$f":"IF(P31=\"\",0,P31)","v":55},"Ranch Rding",{"$f":"IF(D31=\"\",0,D31)","v":76}]
[null,null,null,null,null,null,null,null,null,null,null,null,null,null,null,null,null,null,null,null,null,null,null,null,"Working Ranch Horse",{"$f":"IF(J31=\"\",0,J31)","v":28},"Ranch Trail",{"$f":"IF(V31=\"\",0,V31)","v":80}]
["TOTAL SCORE",null,null,{"$f":"IF(D7=\"\",\"\",IF(B29+D29<0,0,B29+D29))","v":76},null,null,"TOTAL SCORE",null,null,{"$f":"IF(J7=\"\",\"\",IF(H29+J29<0,0,H29+J29))","v":28},null,null,"TOTAL SCORE",null,null,{"$f":"IF(P7=\"\",\"\",IF(70+N27+P27<0,0,70+N27+P27))","v":55},null,null,"TOTAL SCORE",null,null,{"$f":"IF(V7=\"\",\"\",IF(70+T27+V27<0,0,70+T27+V27))","v":80},null,null,"Function Total (3)",{"$f":"SUM(Z29+AB29+Z30+AB30)","v":239},"Function Score (4)",{"$f":"Z31*0.1","v":23.900000000000002}]
[null,null,null,null,null,null,null,null,null,null,null,null,null,null,null,null,null,null,null,null,null,null,null,null,"Judge Score (2) + Function Score (4) = CONFORMATION SCORE",null,null,{"$f":"IF(AB7=\"\",\"\",IF(AB28+AB31<0,0,AB28+AB31))","v":68.540000000000006}]
[null,null,"Return to Entry Page",null,null,null,null,null,"Return to Entry Page",null,null,null,null,null,"Return to Entry Page",null,null,null,null,null,"Return to Entry Page"]
[null,null,null,null,null,null,null,null,null,null,null,null,null,null,null,null,null,null,null,null,null,null,null,null,null,null,"Return to Entry Page"]

{"sheet":"Novice 4","index":13,"n_rows":34,"n_cols":28,"rows_kept":34,"cut":false,"hidden":false,"merged":[[31,24,31,26],[30,0,30,2],[30,6,30,8],[30,12,30,14],[30,18,30,20],[26,6,26,9],[27,0,27,3],[27,6,27,9],[27,12,29,15],[27,18,29,21],[29,0,29,3],[29,6,29,9],[23,0,24,0],[23,1,24,1],[23,18,25,21],[25,0,25,3],[25,6,25,8],[25,12,25,15],[21,18,21,21],[18,2,18,3],[18,12,18,15],[18,20,18,21],[19,2,19,3],[19,14,19,15],[19,18,20,19],[19,20,20,20],[19,21,20,21],[20,2,20,3],[20,6,20,8],[20,14,20,15],[22,2,22,3],[22,12,23,13],[22,14,23,14],[22,15,23,15],[15,2,15,3],[15,8,15,9],[15,14,15,15],[17,2,17,3],[17,14,17,15],[21,2,21,3],[21,6,21,9],[21,14,21,15],[17,20,17,21],[13,2,13,3],[13,8,14,9],[13,12,13,15],[13,20,13,21],[14,2,14,3],[14,14,14,15],[14,20,14,21],[15,20,15,21],[16,2,16,3],[16,8,16,9],[16,14,16,15],[16,20,16,21],[7,24,7,27],[11,2,11,3],[11,8,12,9],[11,14,11,15],[11,20,11,21],[12,2,12,3],[12,14,12,15],[12,20,12,21],[9,2,9,3],[9,8,10,9],[9,12,9,15],[9,20,9,21],[10,2,10,3],[10,14,10,15],[10,20,10,21],[8,2,8,3],[8,8,8,9],[8,14,8,15],[8,20,8,21],[7,0,7,3],[7,6,7,9],[7,12,7,15],[7,18,7,21]]}
["RIDERS SCORE WORK SHEET"]
[]
["Back Number:",{"$f":"'Entry Information'!B14","v":87},null,null,null,null,"Back Number:",{"$f":"'Entry Information'!B14","v":87},null,null,null,null,"Back Number:",{"$f":"'Entry Information'!B14","v":87},null,null,null,null,"Back Number:",{"$f":"'Entry Information'!B14","v":87},null,null,null,null,"Back Number:",{"$f":"'Entry Information'!B14","v":87}]
["Name:",{"$f":"'Entry Information'!I14","v":"Kelly"},{"$f":"'Entry Information'!H14","v":"Messera"},null,null,null,"Name:",{"$f":"'Entry Information'!I14","v":"Kelly"},{"$f":"'Entry Information'!H14","v":"Messera"},null,null,null,"Name:",{"$f":"'Entry Information'!I14","v":"Kelly"},{"$f":"'Entry Information'!H14","v":"Messera"},null,null,null,"Name:",{"$f":"'Entry Information'!I14","v":"Kelly"},{"$f":"'Entry Information'!H14","v":"Messera"},null,null,null,"Name:",{"$f":"'Entry Information'!I14","v":"Kelly"},{"$f":"'Entry Information'!H14","v":"Messera"}]
["Horse Name:",{"$f":"'Entry Information'!J14","v":"Magic Dance Man"},null,null,null,null,"Horse Name:",{"$f":"'Entry Information'!J14","v":"Magic Dance Man"},null,null,null,null,"Horse Name:",{"$f":"'Entry Information'!J14","v":"Magic Dance Man"},null,null,null,null,"Horse Name:",{"$f":"'Entry Information'!J14","v":"Magic Dance Man"},null,null,null,null,"Horse Name:",{"$f":"'Entry Information'!J14","v":"Magic Dance Man"}]
[]
["Check box when entering Ranch Riding scores",null,null,"x",null,null,"Check box when entering Working Ranch Horse scores",null,null,"x",null,null,"Check box when entering Ranch Cutting scores",null,null,"x",null,null,"Check box when entering Ranch Trail scores",null,null,"x",null,null,"Check box when entering Conformation scores",null,null,"x"]
["Ranch Riding",null,null,null,null,null,"Working Ranch Horse",null,null,null,null,null,"Ranch Cutting",null,null,null,null,null,"Ranch Trail",null,null,null,null,null,"Ranch Conformation"]
["Maneuver","Judge's Score +/-","Penalty Points",null,null,null,"Maneuver","Judge's Score +/-","Penalty Points",null,null,null,"Maneuver","Judge's Score +/-","Penalty Points",null,null,null,"Maneuver","Judge's Score +/-","Penalty Points",null,null,null,"Front Legs, Feet",null,null,-1]
[1,0,null,null,null,null,1,-1,null,null,null,null,"Herd Work",null,null,null,null,null,1,1,null,null,null,null,"Chest, Pectoral V",null,null,1]
[2,1,null,null,null,null,2,-1,null,null,null,null,1,1,null,null,null,null,2,2,null,null,null,null,"Head",null,null,2]
[3,0,null,null,null,null,3,0,-4,null,null,null,2,0,null,null,null,null,3,2,null,null,null,null,"Neck & Throat Latch",null,null,2]
[4,1,null,null,null,null,4,0,null,null,null,null,3,-2,null,null,null,null,4,2,null,null,null,null,"Shoulders & Withers",null,null,1]
[5,2,null,null,null,null,5,0,null,null,null,null,"Cutting",null,null,null,null,null,5,3,null,null,null,null,"Heart Girth & Barrel",null,null,-1]
[6,2,null,null,null,null,6,-1,null,null,null,null,1,0,null,null,null,null,6,2,null,null,null,null,"Back & Loin",null,null,0]
[7,1,null,null,null,null,7,0,null,null,null,null,2,-1,null,null,null,null,7,2,null,null,null,null,"Hip & Croup",null,null,0]
[8,-1,null,null,null,null,8,-2,null,null,null,null,3,-1,null,null,null,null,8,1,null,null,null,null,"Stife & Gaskin",null,null,0]
[9,1,null,null,null,null,null,null,"Total Penalty Pts",{"$f":"SUM(I10:J17)","v":-4},null,null,4,-1,null,null,null,null,9,-2,null,null,null,null,"Hock, Hind Legs, Feet",null,null,0]
[10,2,null,null,null,null,"56 +/- Judge Score",{"$f":"SUM(H10:H17)","v":-5},"Divided by 2",{"$f":"SUM((56+H19)/2)","v":25.5},null,null,"Penning",null,null,null,null,null,10,2,null,null,null,null,"Overall Muscling",null,null,1]
[11,1,null,null,null,null,"Maneuver Score",{"$f":"J19","v":25.5},"Less Penalty Pts",{"$f":"J18","v":-4},null,null,1,2,null,null,null,null,null,null,"Major Penalties",null,null,null,"Tracking","Lame: enter an \"x\"",null,0]
[12,2,null,null,null,null,"REINING SCORE",null,null,{"$f":"SUM(H20+J20)","v":21.5},null,null,2,1,null,null,null,null,null,null,null,null,null,null,"Balance 1",null,null,1]
[13,-1,null,null,null,null,"NOVICE BOXING",null,null,null,null,null,3,1,null,null,null,null,null,null,null,null,null,null,"Balance 2",null,null,1]
[14,0,null,null,null,null,1,1,"Penalty Points",null,null,null,null,null,"Major Penalties",null,null,null,"Maneuver Total",{"$f":"SUM(T10:T19)","v":15},"Penalty Total",{"$f":"SUM(SUM(U10:V19)+V20)","v":0},null,null,"Balance 3",null,null,1]
["Maneuver Total",{"$f":"SUM(B10:B23)","v":11},"Major Penalties",null,null,null,"7 +/- Judge Score",{"$f":"SUM(7+H23)","v":8},"Total Penalty Pts",{"$f":"J23","v":0},null,null,null,null,null,null,null,null,null,null,null,null,null,null,"Fitness & Condition",null,null,1]
[null,null,"Penalty Total",{"$f":"SUM(C10:D24)","v":0},null,null,"Maneuver Score",{"$f":"H24","v":8},"Less Penalty Pts",{"$f":"J24","v":0},null,null,"Maneuver Total",{"$f":"SUM(N10:N22)","v":0},"Penalty Total",{"$f":"SUM(O11+O12+O13+O15+O16+O17+O18+O20+O21+O22+P23)","v":0},null,null,null,null,null,null,null,null,"Participant Showmanship",null,null,1]
[null,null,null,null,null,null,"CATTLE SCORE",null,null,{"$f":"SUM(H25+J25)","v":8},null,null,null,null,null,null,null,null,null,null,null,null,null,null,"Horse Showmanship",null,null,1]
["100 +/-Maneuver",{"$f":"B24","v":11},"x .70 =",{"$f":"SUM((100+B27)*0.7)","v":77.699999999999989},null,null,null,null,null,null,null,null,"70 +/-Maneuver",{"$f":"N25","v":0},"Less Penalty Total",{"$f":"P25","v":0},null,null,"70 +/-Maneuver",{"$f":"T23","v":15},"Less Penalty Total",{"$f":"V23","v":0},null,null,"Form & Showmanship Judges Score",null,"Total (1)",{"$f":"SUM(AB9:AB26)","v":11}]
[null,null,null,null,null,null,null,null,null,null,null,null,null,null,null,null,null,null,null,null,null,null,null,null,{"$f":"SUM(AB27*0.33+42)","v":45.63},{"$f":"IF(AA20=\"x\",-10,0)","v":0},"Judge Score (2)",{"$f":"SUM(Y28+Z28)","v":45.63}]
["Maneuver Score =",{"$f":"D27","v":77.699999999999989},"Less Penalty Total",{"$f":"D25","v":0},null,null,"Reining Score",{"$f":"J21","v":21.5},"Plus Cattle Score",{"$f":"J26","v":8},null,null,null,null,null,null,null,null,null,null,null,null,null,null,"Ranch Cutting",{"$f":"IF(P31=\"\",0,P31)","v":70},"Ranch Rding",{"$f":"IF(D31=\"\",0,D31)","v":77.699999999999989}]
[null,null,null,null,null,null,null,null,null,null,null,null,null,null,null,null,null,null,null,null,null,null,null,null,"Working Ranch Horse",{"$f":"IF(J31=\"\",0,J31)","v":29.5},"Ranch Trail",{"$f":"IF(V31=\"\",0,V31)","v":85}]
["TOTAL SCORE",null,null,{"$f":"IF(D7=\"\",\"\",IF(B29+D29<0,0,B29+D29))","v":77.699999999999989},null,null,"TOTAL SCORE",null,null,{"$f":"IF(J7=\"\",\"\",IF(H29+J29<0,0,H29+J29))","v":29.5},null,null,"TOTAL SCORE",null,null,{"$f":"IF(P7=\"\",\"\",IF(70+N27+P27<0,0,70+N27+P27))","v":70},null,null,"TOTAL SCORE",null,null,{"$f":"IF(V7=\"\",\"\",IF(70+T27+V27<0,0,70+T27+V27))","v":85},null,null,"Function Total (3)",{"$f":"SUM(Z29+AB29+Z30+AB30)","v":262.2},"Function Score (4)",{"$f":"Z31*0.1","v":26.22}]
[null,null,null,null,null,null,null,null,null,null,null,null,null,null,null,null,null,null,null,null,null,null,null,null,"Judge Score (2) + Function Score (4) = CONFORMATION SCORE",null,null,{"$f":"IF(AB7=\"\",\"\",IF(AB28+AB31<0,0,AB28+AB31))","v":71.849999999999994}]
[null,null,"Return to Entry Page",null,null,null,null,null,"Return to Entry Page",null,null,null,null,null,"Return to Entry Page",null,null,null,null,null,"Return to Entry Page"]
[null,null,null,null,null,null,null,null,null,null,null,null,null,null,null,null,null,null,null,null,null,null,null,null,null,null,"Return to Entry Page"]

{"sheet":"Novice 5","index":14,"n_rows":34,"n_cols":28,"rows_kept":34,"cut":false,"hidden":false,"merged":[[31,24,31,26],[30,0,30,2],[30,6,30,8],[30,12,30,14],[30,18,30,20],[26,6,26,9],[27,0,27,3],[27,6,27,9],[27,12,29,15],[27,18,29,21],[29,0,29,3],[29,6,29,9],[23,0,24,0],[23,1,24,1],[23,18,25,21],[25,0,25,3],[25,6,25,8],[25,12,25,15],[21,18,21,21],[18,2,18,3],[18,12,18,15],[18,20,18,21],[19,2,19,3],[19,14,19,15],[19,18,20,19],[19,20,20,20],[19,21,20,21],[20,2,20,3],[20,6,20,8],[20,14,20,15],[22,2,22,3],[22,12,23,13],[22,14,23,14],[22,15,23,15],[15,2,15,3],[15,8,15,9],[15,14,15,15],[17,2,17,3],[17,14,17,15],[21,2,21,3],[21,6,21,9],[21,14,21,15],[17,20,17,21],[13,2,13,3],[13,8,14,9],[13,12,13,15],[13,20,13,21],[14,2,14,3],[14,14,14,15],[14,20,14,21],[15,20,15,21],[16,2,16,3],[16,8,16,9],[16,14,16,15],[16,20,16,21],[7,24,7,27],[11,2,11,3],[11,8,12,9],[11,14,11,15],[11,20,11,21],[12,2,12,3],[12,14,12,15],[12,20,12,21],[9,2,9,3],[9,8,10,9],[9,12,9,15],[9,20,9,21],[10,2,10,3],[10,14,10,15],[10,20,10,21],[8,2,8,3],[8,8,8,9],[8,14,8,15],[8,20,8,21],[7,0,7,3],[7,6,7,9],[7,12,7,15],[7,18,7,21]]}
["RIDERS SCORE WORK SHEET"]
[]
["Back Number:",{"$f":"'Entry Information'!B15","v":72},null,null,null,null,"Back Number:",{"$f":"'Entry Information'!B15","v":72},null,null,null,null,"Back Number:",{"$f":"'Entry Information'!B15","v":72},null,null,null,null,"Back Number:",{"$f":"'Entry Information'!B15","v":72},null,null,null,null,"Back Number:",{"$f":"'Entry Information'!B15","v":72}]
["Name:",{"$f":"'Entry Information'!I15","v":"Sue"},{"$f":"'Entry Information'!H15","v":"Eisenman"},null,null,null,"Name:",{"$f":"'Entry Information'!I15","v":"Sue"},{"$f":"'Entry Information'!H15","v":"Eisenman"},null,null,null,"Name:",{"$f":"'Entry Information'!I15","v":"Sue"},{"$f":"'Entry Information'!H15","v":"Eisenman"},null,null,null,"Name:",{"$f":"'Entry Information'!I15","v":"Sue"},{"$f":"'Entry Information'!H15","v":"Eisenman"},null,null,null,"Name:",{"$f":"'Entry Information'!I15","v":"Sue"},{"$f":"'Entry Information'!H15","v":"Eisenman"}]
["Horse Name:",{"$f":"'Entry Information'!J15","v":"DLB Smart Blue Bars"},null,null,null,null,"Horse Name:",{"$f":"'Entry Information'!J15","v":"DLB Smart Blue Bars"},null,null,null,null,"Horse Name:",{"$f":"'Entry Information'!J15","v":"DLB Smart Blue Bars"},null,null,null,null,"Horse Name:",{"$f":"'Entry Information'!J15","v":"DLB Smart Blue Bars"},null,null,null,null,"Horse Name:",{"$f":"'Entry Information'!J15","v":"DLB Smart Blue Bars"}]
[]
["Check box when entering Ranch Riding scores",null,null,"x",null,null,"Check box when entering Working Ranch Horse scores",null,null,"x",null,null,"Check box when entering Ranch Cutting scores",null,null,"x",null,null,"Check box when entering Ranch Trail scores",null,null,"x",null,null,"Check box when entering Conformation scores",null,null,"x"]
["Ranch Riding",null,null,null,null,null,"Working Ranch Horse",null,null,null,null,null,"Ranch Cutting",null,null,null,null,null,"Ranch Trail",null,null,null,null,null,"Ranch Conformation"]
["Maneuver","Judge's Score +/-","Penalty Points",null,null,null,"Maneuver","Judge's Score +/-","Penalty Points",null,null,null,"Maneuver","Judge's Score +/-","Penalty Points",null,null,null,"Maneuver","Judge's Score +/-","Penalty Points",null,null,null,"Front Legs, Feet",null,null,-1]
[1,0,null,null,null,null,1,-1,-0.5,null,null,null,"Herd Work",null,null,null,null,null,1,0,null,null,null,null,"Chest, Pectoral V",null,null,1]
[2,0,null,null,null,null,2,0,null,null,null,null,1,0,-2,null,null,null,2,2,-1,null,null,null,"Head",null,null,0]
[3,0,null,null,null,null,3,-1,-4,null,null,null,2,0,-6,null,null,null,3,0,null,null,null,null,"Neck & Throat Latch",null,null,1]
[4,2,null,null,null,null,4,-1,null,null,null,null,3,-1,-3,null,null,null,4,1,-5,null,null,null,"Shoulders & Withers",null,null,1]
[5,2,null,null,null,null,5,-1,null,null,null,null,"Cutting",null,null,null,null,null,5,2,null,null,null,null,"Heart Girth & Barrel",null,null,0]
[6,2,null,null,null,null,6,0,null,null,null,null,1,0,null,null,null,null,6,1,null,null,null,null,"Back & Loin",null,null,1]
[7,0,null,null,null,null,7,1,null,null,null,null,2,-1,-15,null,null,null,7,1,null,null,null,null,"Hip & Croup",null,null,0]
[8,1,null,null,null,null,8,-1,null,null,null,null,3,-3,null,null,null,null,8,2,null,null,null,null,"Stife & Gaskin",null,null,1]
[9,1,null,null,null,null,null,null,"Total Penalty Pts",{"$f":"SUM(I10:J17)","v":-4.5},null,null,4,-2,-5,null,null,null,9,0,null,null,null,null,"Hock, Hind Legs, Feet",null,null,-1]
[10,1,null,null,null,null,"56 +/- Judge Score",{"$f":"SUM(H10:H17)","v":-4},"Divided by 2",{"$f":"SUM((56+H19)/2)","v":26},null,null,"Penning",null,null,null,null,null,10,-1,null,null,null,null,"Overall Muscling",null,null,0]
[11,2,null,null,null,null,"Maneuver Score",{"$f":"J19","v":26},"Less Penalty Pts",{"$f":"J18","v":-4.5},null,null,1,-3,null,null,null,null,null,null,"Major Penalties",null,null,null,"Tracking","Lame: enter an \"x\"",null,-1]
[12,1,null,null,null,null,"REINING SCORE",null,null,{"$f":"SUM(H20+J20)","v":21.5},null,null,2,-3,null,null,null,null,null,null,null,null,null,null,"Balance 1",null,null,1]
[13,0,null,null,null,null,"NOVICE BOXING",null,null,null,null,null,3,-3,-5,null,null,null,null,null,null,null,null,null,"Balance 2",null,null,1]
[14,0,null,null,null,null,1,-1,"Penalty Points",-2,null,null,null,null,"Major Penalties",null,null,null,"Maneuver Total",{"$f":"SUM(T10:T19)","v":8},"Penalty Total",{"$f":"SUM(SUM(U10:V19)+V20)","v":-6},null,null,"Balance 3",null,null,1]
["Maneuver Total",{"$f":"SUM(B10:B23)","v":12},"Major Penalties",null,null,null,"7 +/- Judge Score",{"$f":"SUM(7+H23)","v":6},"Total Penalty Pts",{"$f":"J23","v":-2},null,null,null,null,null,null,null,null,null,null,null,null,null,null,"Fitness & Condition",null,null,1]
[null,null,"Penalty Total",{"$f":"SUM(C10:D24)","v":0},null,null,"Maneuver Score",{"$f":"H24","v":6},"Less Penalty Pts",{"$f":"J24","v":-2},null,null,"Maneuver Total",{"$f":"SUM(N10:N22)","v":-16},"Penalty Total",{"$f":"SUM(O11+O12+O13+O15+O16+O17+O18+O20+O21+O22+P23)","v":-36},null,null,null,null,null,null,null,null,"Participant Showmanship",null,null,0]
[null,null,null,null,null,null,"CATTLE SCORE",null,null,{"$f":"SUM(H25+J25)","v":4},null,null,null,null,null,null,null,null,null,null,null,null,null,null,"Horse Showmanship",null,null,0]
["100 +/-Maneuver",{"$f":"B24","v":12},"x .70 =",{"$f":"SUM((100+B27)*0.7)","v":78.399999999999991},null,null,null,null,null,null,null,null,"70 +/-Maneuver",{"$f":"N25","v":-16},"Less Penalty Total",{"$f":"P25","v":-36},null,null,"70 +/-Maneuver",{"$f":"T23","v":8},"Less Penalty Total",{"$f":"V23","v":-6},null,null,"Form & Showmanship Judges Score",null,"Total (1)",{"$f":"SUM(AB9:AB26)","v":6}]
[null,null,null,null,null,null,null,null,null,null,null,null,null,null,null,null,null,null,null,null,null,null,null,null,{"$f":"SUM(AB27*0.33+42)","v":43.98},{"$f":"IF(AA20=\"x\",-10,0)","v":0},"Judge Score (2)",{"$f":"SUM(Y28+Z28)","v":43.98}]
["Maneuver Score =",{"$f":"D27","v":78.399999999999991},"Less Penalty Total",{"$f":"D25","v":0},null,null,"Reining Score",{"$f":"J21","v":21.5},"Plus Cattle Score",{"$f":"J26","v":4},null,null,null,null,null,null,null,null,null,null,null,null,null,null,"Ranch Cutting",{"$f":"IF(P31=\"\",0,P31)","v":18},"Ranch Rding",{"$f":"IF(D31=\"\",0,D31)","v":78.399999999999991}]
[null,null,null,null,null,null,null,null,null,null,null,null,null,null,null,null,null,null,null,null,null,null,null,null,"Working Ranch Horse",{"$f":"IF(J31=\"\",0,J31)","v":25.5},"Ranch Trail",{"$f":"IF(V31=\"\",0,V31)","v":72}]
["TOTAL SCORE",null,null,{"$f":"IF(D7=\"\",\"\",IF(B29+D29<0,0,B29+D29))","v":78.399999999999991},null,null,"TOTAL SCORE",null,null,{"$f":"IF(J7=\"\",\"\",IF(H29+J29<0,0,H29+J29))","v":25.5},null,null,"TOTAL SCORE",null,null,{"$f":"IF(P7=\"\",\"\",IF(70+N27+P27<0,0,70+N27+P27))","v":18},null,null,"TOTAL SCORE",null,null,{"$f":"IF(V7=\"\",\"\",IF(70+T27+V27<0,0,70+T27+V27))","v":72},null,null,"Function Total (3)",{"$f":"SUM(Z29+AB29+Z30+AB30)","v":193.89999999999998},"Function Score (4)",{"$f":"Z31*0.1","v":19.39}]
[null,null,null,null,null,null,null,null,null,null,null,null,null,null,null,null,null,null,null,null,null,null,null,null,"Judge Score (2) + Function Score (4) = CONFORMATION SCORE",null,null,{"$f":"IF(AB7=\"\",\"\",IF(AB28+AB31<0,0,AB28+AB31))","v":63.37}]
[null,null,"Return to Entry Page",null,null,null,null,null,"Return to Entry Page",null,null,null,null,null,"Return to Entry Page",null,null,null,null,null,"Return to Entry Page"]
[null,null,null,null,null,null,null,null,null,null,null,null,null,null,null,null,null,null,null,null,null,null,null,null,null,null,"Return to Entry Page"]

{"sheet":"Novice 6","index":15,"n_rows":34,"n_cols":28,"rows_kept":34,"cut":false,"hidden":false,"merged":[[31,24,31,26],[30,0,30,2],[30,6,30,8],[30,12,30,14],[30,18,30,20],[26,6,26,9],[27,0,27,3],[27,6,27,9],[27,12,29,15],[27,18,29,21],[29,0,29,3],[29,6,29,9],[23,0,24,0],[23,1,24,1],[23,18,25,21],[25,0,25,3],[25,6,25,8],[25,12,25,15],[21,18,21,21],[18,2,18,3],[18,12,18,15],[18,20,18,21],[19,2,19,3],[19,14,19,15],[19,18,20,19],[19,20,20,20],[19,21,20,21],[20,2,20,3],[20,6,20,8],[20,14,20,15],[22,2,22,3],[22,12,23,13],[22,14,23,14],[22,15,23,15],[15,2,15,3],[15,8,15,9],[15,14,15,15],[17,2,17,3],[17,14,17,15],[21,2,21,3],[21,6,21,9],[21,14,21,15],[17,20,17,21],[13,2,13,3],[13,8,14,9],[13,12,13,15],[13,20,13,21],[14,2,14,3],[14,14,14,15],[14,20,14,21],[15,20,15,21],[16,2,16,3],[16,8,16,9],[16,14,16,15],[16,20,16,21],[7,24,7,27],[11,2,11,3],[11,8,12,9],[11,14,11,15],[11,20,11,21],[12,2,12,3],[12,14,12,15],[12,20,12,21],[9,2,9,3],[9,8,10,9],[9,12,9,15],[9,20,9,21],[10,2,10,3],[10,14,10,15],[10,20,10,21],[8,2,8,3],[8,8,8,9],[8,14,8,15],[8,20,8,21],[7,0,7,3],[7,6,7,9],[7,12,7,15],[7,18,7,21]]}
["RIDERS SCORE WORK SHEET"]
[]
["Back Number:",{"$f":"'Entry Information'!B16","v":0},null,null,null,null,"Back Number:",{"$f":"'Entry Information'!B16","v":0},null,null,null,null,"Back Number:",{"$f":"'Entry Information'!B16","v":0},null,null,null,null,"Back Number:",{"$f":"'Entry Information'!B16","v":0},null,null,null,null,"Back Number:",{"$f":"'Entry Information'!B16","v":0}]
["Name:",{"$f":"'Entry Information'!I16","v":0},{"$f":"'Entry Information'!H16","v":0},null,null,null,"Name:",{"$f":"'Entry Information'!I16","v":0},{"$f":"'Entry Information'!H16","v":0},null,null,null,"Name:",{"$f":"'Entry Information'!I16","v":0},{"$f":"'Entry Information'!H16","v":0},null,null,null,"Name:",{"$f":"'Entry Information'!I16","v":0},{"$f":"'Entry Information'!H16","v":0},null,null,null,"Name:",{"$f":"'Entry Information'!I16","v":0},{"$f":"'Entry Information'!H16","v":0}]
["Horse Name:",{"$f":"'Entry Information'!J16","v":0},null,null,null,null,"Horse Name:",{"$f":"'Entry Information'!J16","v":0},null,null,null,null,"Horse Name:",{"$f":"'Entry Information'!J16","v":0},null,null,null,null,"Horse Name:",{"$f":"'Entry Information'!J16","v":0},null,null,null,null,"Horse Name:",{"$f":"'Entry Information'!J16","v":0}]
[]
["Check box when entering Ranch Riding scores",null,null,null,null,null,"Check box when entering Working Ranch Horse scores",null,null,null,null,null,"Check box when entering Ranch Cutting scores",null,null,null,null,null,"Check box when entering Ranch Trail scores",null,null,null,null,null,"Check box when entering Conformation scores"]
["Ranch Riding",null,null,null,null,null,"Working Ranch Horse",null,null,null,null,null,"Ranch Cutting",null,null,null,null,null,"Ranch Trail",null,null,null,null,null,"Ranch Conformation"]
["Maneuver","Judge's Score +/-","Penalty Points",null,null,null,"Maneuver","Judge's Score +/-","Penalty Points",null,null,null,"Maneuver","Judge's Score +/-","Penalty Points",null,null,null,"Maneuver","Judge's Score +/-","Penalty Points",null,null,null,"Front Legs, Feet",null,null,-1]
[1,1,null,null,null,null,1,null,null,null,null,null,"Herd Work",null,null,null,null,null,1,null,null,null,null,null,"Chest, Pectoral V",null,null,1]
[2,1,null,null,null,null,2,null,null,null,null,null,1,1,null,null,null,null,2,null,null,null,null,null,"Head",null,null,0]
[3,1,null,null,null,null,3,null,null,null,null,null,2,1,null,null,null,null,3,null,null,null,null,null,"Neck & Throat Latch",null,null,1]
[4,2,null,null,null,null,4,null,null,null,null,null,3,1,null,null,null,null,4,null,null,null,null,null,"Shoulders & Withers",null,null,0]
[5,2,null,null,null,null,5,null,null,null,null,null,"Cutting",null,null,null,null,null,5,null,null,null,null,null,"Heart Girth & Barrel",null,null,0]
[6,-3,-3,null,null,null,6,null,null,null,null,null,1,0,null,null,null,null,6,null,null,null,null,null,"Back & Loin",null,null,-2]
[7,0,null,null,null,null,7,null,null,null,null,null,2,1,null,null,null,null,7,null,null,null,null,null,"Hip & Croup",null,null,1]
[8,1,null,null,null,null,8,null,null,null,null,null,3,2,null,null,null,null,8,null,null,null,null,null,"Stife & Gaskin",null,null,0]
[9,-1,-1,null,null,null,null,null,"Total Penalty Pts",{"$f":"SUM(I10:J17)","v":0},null,null,4,1,null,null,null,null,9,null,null,null,null,null,"Hock, Hind Legs, Feet",null,null,0]
[10,2,null,null,null,null,"56 +/- Judge Score",{"$f":"SUM(H10:H17)","v":0},"Divided by 2",{"$f":"SUM((56+H19)/2)","v":28},null,null,"Penning",null,null,null,null,null,10,null,null,null,null,null,"Overall Muscling",null,null,0]
[11,0,null,null,null,null,"Maneuver Score",{"$f":"J19","v":28},"Less Penalty Pts",{"$f":"J18","v":0},null,null,1,3,null,null,null,null,null,null,"Major Penalties",null,null,null,"Tracking","Lame: enter an \"x\"",null,-1]
[12,0,null,null,null,null,"REINING SCORE",null,null,{"$f":"SUM(H20+J20)","v":28},null,null,2,2,null,null,null,null,null,null,null,null,null,null,"Balance 1",null,null,0]
[13,0,null,null,null,null,"NOVICE BOXING",null,null,null,null,null,3,2,null,null,null,null,null,null,null,null,null,null,"Balance 2",null,null,0]
[14,1,null,null,null,null,1,null,"Penalty Points",null,null,null,null,null,"Major Penalties",null,null,null,"Maneuver Total",{"$f":"SUM(T10:T19)","v":0},"Penalty Total",{"$f":"SUM(SUM(U10:V19)+V20)","v":0},null,null,"Balance 3",null,null,0]
["Maneuver Total",{"$f":"SUM(B10:B23)","v":7},"Major Penalties",-10,null,null,"7 +/- Judge Score",{"$f":"SUM(7+H23)","v":7},"Total Penalty Pts",{"$f":"J23","v":0},null,null,null,null,null,null,null,null,null,null,null,null,null,null,"Fitness & Condition",null,null,1]
[null,null,"Penalty Total",{"$f":"SUM(C10:D24)","v":-14},null,null,"Maneuver Score",{"$f":"H24","v":7},"Less Penalty Pts",{"$f":"J24","v":0},null,null,"Maneuver Total",{"$f":"SUM(N10:N22)","v":14},"Penalty Total",{"$f":"SUM(O11+O12+O13+O15+O16+O17+O18+O20+O21+O22+P23)","v":0},null,null,null,null,null,null,null,null,"Participant Showmanship",null,null,-2]
[null,null,null,null,null,null,"CATTLE SCORE",null,null,{"$f":"SUM(H25+J25)","v":7},null,null,null,null,null,null,null,null,null,null,null,null,null,null,"Horse Showmanship",null,null,0]
["100 +/-Maneuver",{"$f":"B24","v":7},"x .70 =",{"$f":"SUM((100+B27)*0.7)","v":74.899999999999991},null,null,null,null,null,null,null,null,"70 +/-Maneuver",{"$f":"N25","v":14},"Less Penalty Total",{"$f":"P25","v":0},null,null,"70 +/-Maneuver",{"$f":"T23","v":0},"Less Penalty Total",{"$f":"V23","v":0},null,null,"Form & Showmanship Judges Score",null,"Total (1)",{"$f":"SUM(AB9:AB26)","v":-2}]
[null,null,null,null,null,null,null,null,null,null,null,null,null,null,null,null,null,null,null,null,null,null,null,null,{"$f":"SUM(AB27*0.33+42)","v":41.34},{"$f":"IF(AA20=\"x\",-10,0)","v":0},"Judge Score (2)",{"$f":"SUM(Y28+Z28)","v":41.34}]
["Maneuver Score =",{"$f":"D27","v":74.899999999999991},"Less Penalty Total",{"$f":"D25","v":-14},null,null,"Reining Score",{"$f":"J21","v":28},"Plus Cattle Score",{"$f":"J26","v":7},null,null,null,null,null,null,null,null,null,null,null,null,null,null,"Ranch Cutting",{"$f":"IF(P31=\"\",0,P31)","v":0},"Ranch Rding",{"$f":"IF(D31=\"\",0,D31)","v":0}]
[null,null,null,null,null,null,null,null,null,null,null,null,null,null,null,null,null,null,null,null,null,null,null,null,"Working Ranch Horse",{"$f":"IF(J31=\"\",0,J31)","v":0},"Ranch Trail",{"$f":"IF(V31=\"\",0,V31)","v":0}]
["TOTAL SCORE",null,null,{"$f":"IF(D7=\"\",\"\",IF(B29+D29<0,0,B29+D29))","v":""},null,null,"TOTAL SCORE",null,null,{"$f":"IF(J7=\"\",\"\",IF(H29+J29<0,0,H29+J29))","v":""},null,null,"TOTAL SCORE",null,null,{"$f":"IF(P7=\"\",\"\",IF(70+N27+P27<0,0,70+N27+P27))","v":""},null,null,"TOTAL SCORE",null,null,{"$f":"IF(V7=\"\",\"\",IF(70+T27+V27<0,0,70+T27+V27))","v":""},null,null,"Function Total (3)",{"$f":"SUM(Z29+AB29+Z30+AB30)","v":0},"Function Score (4)",{"$f":"Z31*0.1","v":0}]
[null,null,null,null,null,null,null,null,null,null,null,null,null,null,null,null,null,null,null,null,null,null,null,null,"Judge Score (2) + Function Score (4) = CONFORMATION SCORE",null,null,{"$f":"IF(AB7=\"\",\"\",IF(AB28+AB31<0,0,AB28+AB31))","v":""}]
[null,null,"Return to Entry Page",null,null,null,null,null,"Return to Entry Page",null,null,null,null,null,"Return to Entry Page",null,null,null,null,null,"Return to Entry Page"]
[null,null,null,null,null,null,null,null,null,null,null,null,null,null,null,null,null,null,null,null,null,null,null,null,null,null,"Return to Entry Page"]

{"sheet":"Novice 7","index":16,"n_rows":34,"n_cols":28,"rows_kept":34,"cut":false,"hidden":false,"merged":[[31,24,31,26],[30,0,30,2],[30,6,30,8],[30,12,30,14],[30,18,30,20],[26,6,26,9],[27,0,27,3],[27,6,27,9],[27,12,29,15],[27,18,29,21],[29,0,29,3],[29,6,29,9],[23,0,24,0],[23,1,24,1],[23,18,25,21],[25,0,25,3],[25,6,25,8],[25,12,25,15],[21,18,21,21],[18,2,18,3],[18,12,18,15],[18,20,18,21],[19,2,19,3],[19,14,19,15],[19,18,20,19],[19,20,20,20],[19,21,20,21],[20,2,20,3],[20,6,20,8],[20,14,20,15],[22,2,22,3],[22,12,23,13],[22,14,23,14],[22,15,23,15],[15,2,15,3],[15,8,15,9],[15,14,15,15],[17,2,17,3],[17,14,17,15],[21,2,21,3],[21,6,21,9],[21,14,21,15],[17,20,17,21],[13,2,13,3],[13,8,14,9],[13,12,13,15],[13,20,13,21],[14,2,14,3],[14,14,14,15],[14,20,14,21],[15,20,15,21],[16,2,16,3],[16,8,16,9],[16,14,16,15],[16,20,16,21],[7,24,7,27],[11,2,11,3],[11,8,12,9],[11,14,11,15],[11,20,11,21],[12,2,12,3],[12,14,12,15],[12,20,12,21],[9,2,9,3],[9,8,10,9],[9,12,9,15],[9,20,9,21],[10,2,10,3],[10,14,10,15],[10,20,10,21],[8,2,8,3],[8,8,8,9],[8,14,8,15],[8,20,8,21],[7,0,7,3],[7,6,7,9],[7,12,7,15],[7,18,7,21]]}
["RIDERS SCORE WORK SHEET"]
[]
["Back Number:",{"$f":"'Entry Information'!B17","v":44},null,null,null,null,"Back Number:",{"$f":"'Entry Information'!B17","v":44},null,null,null,null,"Back Number:",{"$f":"'Entry Information'!B17","v":44},null,null,null,null,"Back Number:",{"$f":"'Entry Information'!B17","v":44},null,null,null,null,"Back Number:",{"$f":"'Entry Information'!B17","v":44}]
["Name:",{"$f":"'Entry Information'!I17","v":"Roger"},{"$f":"'Entry Information'!H17","v":"Knapp"},null,null,null,"Name:",{"$f":"'Entry Information'!I17","v":"Roger"},{"$f":"'Entry Information'!H17","v":"Knapp"},null,null,null,"Name:",{"$f":"'Entry Information'!I17","v":"Roger"},{"$f":"'Entry Information'!H17","v":"Knapp"},null,null,null,"Name:",{"$f":"'Entry Information'!I17","v":"Roger"},{"$f":"'Entry Information'!H17","v":"Knapp"},null,null,null,"Name:",{"$f":"'Entry Information'!I17","v":"Roger"},{"$f":"'Entry Information'!H17","v":"Knapp"}]
["Horse Name:",{"$f":"'Entry Information'!J17","v":"Easy Rocket Doc"},null,null,null,null,"Horse Name:",{"$f":"'Entry Information'!J17","v":"Easy Rocket Doc"},null,null,null,null,"Horse Name:",{"$f":"'Entry Information'!J17","v":"Easy Rocket Doc"},null,null,null,null,"Horse Name:",{"$f":"'Entry Information'!J17","v":"Easy Rocket Doc"},null,null,null,null,"Horse Name:",{"$f":"'Entry Information'!J17","v":"Easy Rocket Doc"}]
[]
["Check box when entering Ranch Riding scores",null,null,"x",null,null,"Check box when entering Working Ranch Horse scores",null,null,"x",null,null,"Check box when entering Ranch Cutting scores",null,null,"x",null,null,"Check box when entering Ranch Trail scores",null,null,"x",null,null,"Check box when entering Conformation scores",null,null,"x"]
["Ranch Riding",null,null,null,null,null,"Working Ranch Horse",null,null,null,null,null,"Ranch Cutting",null,null,null,null,null,"Ranch Trail",null,null,null,null,null,"Ranch Conformation"]
["Maneuver","Judge's Score +/-","Penalty Points",null,null,null,"Maneuver","Judge's Score +/-","Penalty Points",null,null,null,"Maneuver","Judge's Score +/-","Penalty Points",null,null,null,"Maneuver","Judge's Score +/-","Penalty Points",null,null,null,"Front Legs, Feet",null,null,0]
[1,1,null,null,null,null,1,2,null,null,null,null,"Herd Work",null,null,null,null,null,1,2,null,null,null,null,"Chest, Pectoral V",null,null,1]
[2,0,null,null,null,null,2,1,null,null,null,null,1,0,-2,null,null,null,2,2,-1.5,null,null,null,"Head",null,null,1]
[3,1,null,null,null,null,3,0,null,null,null,null,2,0,null,null,null,null,3,-1,null,null,null,null,"Neck & Throat Latch",null,null,2]
[4,-2,null,null,null,null,4,0,null,null,null,null,3,-2,-3,null,null,null,4,2,-1.5,null,null,null,"Shoulders & Withers",null,null,2]
[5,2,null,null,null,null,5,0,-2,null,null,null,"Cutting",null,null,null,null,null,5,0,null,null,null,null,"Heart Girth & Barrel",null,null,2]
[6,0,null,null,null,null,6,2,null,null,null,null,1,1,null,null,null,null,6,2,null,null,null,null,"Back & Loin",null,null,0]
[7,0,-3,null,null,null,7,1,null,null,null,null,2,-2,-10,null,null,null,7,2,null,null,null,null,"Hip & Croup",null,null,0]
[8,0,null,null,null,null,8,-1,-0.5,null,null,null,3,-3,null,null,null,null,8,1,null,null,null,null,"Stife & Gaskin",null,null,1]
[9,-1,null,null,null,null,null,null,"Total Penalty Pts",{"$f":"SUM(I10:J17)","v":-2.5},null,null,4,-2,null,null,null,null,9,1,-0.5,null,null,null,"Hock, Hind Legs, Feet",null,null,0]
[10,0,null,null,null,null,"56 +/- Judge Score",{"$f":"SUM(H10:H17)","v":5},"Divided by 2",{"$f":"SUM((56+H19)/2)","v":30.5},null,null,"Penning",null,null,null,null,null,10,-1,-2,null,null,null,"Overall Muscling",null,null,1]
[11,-1,null,null,null,null,"Maneuver Score",{"$f":"J19","v":30.5},"Less Penalty Pts",{"$f":"J18","v":-2.5},null,null,1,-3,null,null,null,null,null,null,"Major Penalties",null,null,null,"Tracking","Lame: enter an \"x\"",null,-1]
[12,0,null,null,null,null,"REINING SCORE",null,null,{"$f":"SUM(H20+J20)","v":28},null,null,2,0,-5,null,null,null,null,null,null,null,null,null,"Balance 1",null,null,0]
[13,-1,null,null,null,null,"NOVICE BOXING",null,null,null,null,null,3,-3,null,null,null,null,null,null,null,null,null,null,"Balance 2",null,null,0]
[14,0,null,null,null,null,1,2,"Penalty Points",null,null,null,null,null,"Major Penalties",null,null,null,"Maneuver Total",{"$f":"SUM(T10:T19)","v":10},"Penalty Total",{"$f":"SUM(SUM(U10:V19)+V20)","v":-5.5},null,null,"Balance 3",null,null,0]
["Maneuver Total",{"$f":"SUM(B10:B23)","v":-1},"Major Penalties",-10,null,null,"7 +/- Judge Score",{"$f":"SUM(7+H23)","v":9},"Total Penalty Pts",{"$f":"J23","v":0},null,null,null,null,null,null,null,null,null,null,null,null,null,null,"Fitness & Condition",null,null,1]
[null,null,"Penalty Total",{"$f":"SUM(C10:D24)","v":-13},null,null,"Maneuver Score",{"$f":"H24","v":9},"Less Penalty Pts",{"$f":"J24","v":0},null,null,"Maneuver Total",{"$f":"SUM(N10:N22)","v":-14},"Penalty Total",{"$f":"SUM(O11+O12+O13+O15+O16+O17+O18+O20+O21+O22+P23)","v":-20},null,null,null,null,null,null,null,null,"Participant Showmanship",null,null,-2]
[null,null,null,null,null,null,"CATTLE SCORE",null,null,{"$f":"SUM(H25+J25)","v":9},null,null,null,null,null,null,null,null,null,null,null,null,null,null,"Horse Showmanship",null,null,0]
["100 +/-Maneuver",{"$f":"B24","v":-1},"x .70 =",{"$f":"SUM((100+B27)*0.7)","v":69.3},null,null,null,null,null,null,null,null,"70 +/-Maneuver",{"$f":"N25","v":-14},"Less Penalty Total",{"$f":"P25","v":-20},null,null,"70 +/-Maneuver",{"$f":"T23","v":10},"Less Penalty Total",{"$f":"V23","v":-5.5},null,null,"Form & Showmanship Judges Score",null,"Total (1)",{"$f":"SUM(AB9:AB26)","v":8}]
[null,null,null,null,null,null,null,null,null,null,null,null,null,null,null,null,null,null,null,null,null,null,null,null,{"$f":"SUM(AB27*0.33+42)","v":44.64},{"$f":"IF(AA20=\"x\",-10,0)","v":0},"Judge Score (2)",{"$f":"SUM(Y28+Z28)","v":44.64}]
["Maneuver Score =",{"$f":"D27","v":69.3},"Less Penalty Total",{"$f":"D25","v":-13},null,null,"Reining Score",{"$f":"J21","v":28},"Plus Cattle Score",{"$f":"J26","v":9},null,null,null,null,null,null,null,null,null,null,null,null,null,null,"Ranch Cutting",{"$f":"IF(P31=\"\",0,P31)","v":36},"Ranch Rding",{"$f":"IF(D31=\"\",0,D31)","v":56.3}]
[null,null,null,null,null,null,null,null,null,null,null,null,null,null,null,null,null,null,null,null,null,null,null,null,"Working Ranch Horse",{"$f":"IF(J31=\"\",0,J31)","v":37},"Ranch Trail",{"$f":"IF(V31=\"\",0,V31)","v":74.5}]
["TOTAL SCORE",null,null,{"$f":"IF(D7=\"\",\"\",IF(B29+D29<0,0,B29+D29))","v":56.3},null,null,"TOTAL SCORE",null,null,{"$f":"IF(J7=\"\",\"\",IF(H29+J29<0,0,H29+J29))","v":37},null,null,"TOTAL SCORE",null,null,{"$f":"IF(P7=\"\",\"\",IF(70+N27+P27<0,0,70+N27+P27))","v":36},null,null,"TOTAL SCORE",null,null,{"$f":"IF(V7=\"\",\"\",IF(70+T27+V27<0,0,70+T27+V27))","v":74.5},null,null,"Function Total (3)",{"$f":"SUM(Z29+AB29+Z30+AB30)","v":203.8},"Function Score (4)",{"$f":"Z31*0.1","v":20.380000000000003}]
[null,null,null,null,null,null,null,null,null,null,null,null,null,null,null,null,null,null,null,null,null,null,null,null,"Judge Score (2) + Function Score (4) = CONFORMATION SCORE",null,null,{"$f":"IF(AB7=\"\",\"\",IF(AB28+AB31<0,0,AB28+AB31))","v":65.02000000000001}]
[null,null,"Return to Entry Page",null,null,null,null,null,"Return to Entry Page",null,null,null,null,null,"Return to Entry Page",null,null,null,null,null,"Return to Entry Page"]
[null,null,null,null,null,null,null,null,null,null,null,null,null,null,null,null,null,null,null,null,null,null,null,null,null,null,"Return to Entry Page"]

{"sheet":"Novice 8","index":17,"n_rows":34,"n_cols":28,"rows_kept":34,"cut":false,"hidden":false,"merged":[[31,24,31,26],[30,0,30,2],[30,6,30,8],[30,12,30,14],[30,18,30,20],[26,6,26,9],[27,0,27,3],[27,6,27,9],[27,12,29,15],[27,18,29,21],[29,0,29,3],[29,6,29,9],[23,0,24,0],[23,1,24,1],[23,18,25,21],[25,0,25,3],[25,6,25,8],[25,12,25,15],[21,18,21,21],[18,2,18,3],[18,12,18,15],[18,20,18,21],[19,2,19,3],[19,14,19,15],[19,18,20,19],[19,20,20,20],[19,21,20,21],[20,2,20,3],[20,6,20,8],[20,14,20,15],[22,2,22,3],[22,12,23,13],[22,14,23,14],[22,15,23,15],[15,2,15,3],[15,8,15,9],[15,14,15,15],[17,2,17,3],[17,14,17,15],[21,2,21,3],[21,6,21,9],[21,14,21,15],[17,20,17,21],[13,2,13,3],[13,8,14,9],[13,12,13,15],[13,20,13,21],[14,2,14,3],[14,14,14,15],[14,20,14,21],[15,20,15,21],[16,2,16,3],[16,8,16,9],[16,14,16,15],[16,20,16,21],[7,24,7,27],[11,2,11,3],[11,8,12,9],[11,14,11,15],[11,20,11,21],[12,2,12,3],[12,14,12,15],[12,20,12,21],[9,2,9,3],[9,8,10,9],[9,12,9,15],[9,20,9,21],[10,2,10,3],[10,14,10,15],[10,20,10,21],[8,2,8,3],[8,8,8,9],[8,14,8,15],[8,20,8,21],[7,0,7,3],[7,6,7,9],[7,12,7,15],[7,18,7,21]]}
["RIDERS SCORE WORK SHEET"]
[]
["Back Number:",{"$f":"'Entry Information'!B18","v":47},null,null,null,null,"Back Number:",{"$f":"'Entry Information'!B18","v":47},null,null,null,null,"Back Number:",{"$f":"'Entry Information'!B18","v":47},null,null,null,null,"Back Number:",{"$f":"'Entry Information'!B18","v":47},null,null,null,null,"Back Number:",{"$f":"'Entry Information'!B18","v":47}]
["Name:",{"$f":"'Entry Information'!I18","v":"Matthew"},{"$f":"'Entry Information'!H18","v":"Heinz"},null,null,null,"Name:",{"$f":"'Entry Information'!I18","v":"Matthew"},{"$f":"'Entry Information'!H18","v":"Heinz"},null,null,null,"Name:",{"$f":"'Entry Information'!I18","v":"Matthew"},{"$f":"'Entry Information'!H18","v":"Heinz"},null,null,null,"Name:",{"$f":"'Entry Information'!I18","v":"Matthew"},{"$f":"'Entry Information'!H18","v":"Heinz"},null,null,null,"Name:",{"$f":"'Entry Information'!I18","v":"Matthew"},{"$f":"'Entry Information'!H18","v":"Heinz"}]
["Horse Name:",{"$f":"'Entry Information'!J18","v":"Sun Dee Fox"},null,null,null,null,"Horse Name:",{"$f":"'Entry Information'!J18","v":"Sun Dee Fox"},null,null,null,null,"Horse Name:",{"$f":"'Entry Information'!J18","v":"Sun Dee Fox"},null,null,null,null,"Horse Name:",{"$f":"'Entry Information'!J18","v":"Sun Dee Fox"},null,null,null,null,"Horse Name:",{"$f":"'Entry Information'!J18","v":"Sun Dee Fox"}]
[]
["Check box when entering Ranch Riding scores",null,null,"x",null,null,"Check box when entering Working Ranch Horse scores",null,null,"x",null,null,"Check box when entering Ranch Cutting scores",null,null,"x",null,null,"Check box when entering Ranch Trail scores",null,null,"x",null,null,"Check box when entering Conformation scores",null,null,"x"]
["Ranch Riding",null,null,null,null,null,"Working Ranch Horse",null,null,null,null,null,"Ranch Cutting",null,null,null,null,null,"Ranch Trail",null,null,null,null,null,"Ranch Conformation"]
["Maneuver","Judge's Score +/-","Penalty Points",null,null,null,"Maneuver","Judge's Score +/-","Penalty Points",null,null,null,"Maneuver","Judge's Score +/-","Penalty Points",null,null,null,"Maneuver","Judge's Score +/-","Penalty Points",null,null,null,"Front Legs, Feet",null,null,-1]
[1,0,null,null,null,null,1,-1,-1.5,null,null,null,"Herd Work",null,null,null,null,null,1,1,null,null,null,null,"Chest, Pectoral V",null,null,0]
[2,0,null,null,null,null,2,-1,null,null,null,null,1,0,-1,null,null,null,2,2,-0.5,null,null,null,"Head",null,null,0]
[3,0,null,null,null,null,3,0,-2,null,null,null,2,-1,null,null,null,null,3,1,null,null,null,null,"Neck & Throat Latch",null,null,1]
[4,0,null,null,null,null,4,0,null,null,null,null,3,0,null,null,null,null,4,-1,null,null,null,null,"Shoulders & Withers",null,null,0]
[5,-2,null,null,null,null,5,0,null,null,null,null,"Cutting",null,null,null,null,null,5,0,null,null,null,null,"Heart Girth & Barrel",null,null,0]
[6,0,null,null,null,null,6,-3,null,null,null,null,1,0,-5,null,null,null,6,0,-2,null,null,null,"Back & Loin",null,null,-1]
[7,1,null,null,null,null,7,0,null,null,null,null,2,-1,null,null,null,null,7,0,null,null,null,null,"Hip & Croup",null,null,0]
[8,-1,-3,null,null,null,8,0,null,null,null,null,3,1,-5,null,null,null,8,-1,null,null,null,null,"Stife & Gaskin",null,null,-1]
[9,0,null,null,null,null,null,null,"Total Penalty Pts",{"$f":"SUM(I10:J17)","v":-3.5},null,null,4,-1,null,null,null,null,9,-1,null,null,null,null,"Hock, Hind Legs, Feet",null,null,-3]
[10,0,null,null,null,null,"56 +/- Judge Score",{"$f":"SUM(H10:H17)","v":-5},"Divided by 2",{"$f":"SUM((56+H19)/2)","v":25.5},null,null,"Penning",null,null,null,null,null,10,1,null,null,null,null,"Overall Muscling",null,null,-1]
[11,1,null,null,null,null,"Maneuver Score",{"$f":"J19","v":25.5},"Less Penalty Pts",{"$f":"J18","v":-3.5},null,null,1,-3,null,null,null,null,null,null,"Major Penalties",null,null,null,"Tracking","Lame: enter an \"x\"",null,-2]
[12,1,null,null,null,null,"REINING SCORE",null,null,{"$f":"SUM(H20+J20)","v":22},null,null,2,-3,null,null,null,null,null,null,null,null,null,null,"Balance 1",null,null,-2]
[13,1,null,null,null,null,"NOVICE BOXING",null,null,null,null,null,3,-3,null,null,null,null,null,null,null,null,null,null,"Balance 2",null,null,-2]
[14,1,null,null,null,null,1,-3,"Penalty Points",-4,null,null,null,null,"Major Penalties",null,null,null,"Maneuver Total",{"$f":"SUM(T10:T19)","v":2},"Penalty Total",{"$f":"SUM(SUM(U10:V19)+V20)","v":-2.5},null,null,"Balance 3",null,null,-2]
["Maneuver Total",{"$f":"SUM(B10:B23)","v":2},"Major Penalties",null,null,null,"7 +/- Judge Score",{"$f":"SUM(7+H23)","v":4},"Total Penalty Pts",{"$f":"J23","v":-4},null,null,null,null,null,null,null,null,null,null,null,null,null,null,"Fitness & Condition",null,null,1]
[null,null,"Penalty Total",{"$f":"SUM(C10:D24)","v":-3},null,null,"Maneuver Score",{"$f":"H24","v":4},"Less Penalty Pts",{"$f":"J24","v":-4},null,null,"Maneuver Total",{"$f":"SUM(N10:N22)","v":-11},"Penalty Total",{"$f":"SUM(O11+O12+O13+O15+O16+O17+O18+O20+O21+O22+P23)","v":-11},null,null,null,null,null,null,null,null,"Participant Showmanship",null,null,1]
[null,null,null,null,null,null,"CATTLE SCORE",null,null,{"$f":"SUM(H25+J25)","v":0},null,null,null,null,null,null,null,null,null,null,null,null,null,null,"Horse Showmanship",null,null,1]
["100 +/-Maneuver",{"$f":"B24","v":2},"x .70 =",{"$f":"SUM((100+B27)*0.7)","v":71.399999999999991},null,null,null,null,null,null,null,null,"70 +/-Maneuver",{"$f":"N25","v":-11},"Less Penalty Total",{"$f":"P25","v":-11},null,null,"70 +/-Maneuver",{"$f":"T23","v":2},"Less Penalty Total",{"$f":"V23","v":-2.5},null,null,"Form & Showmanship Judges Score",null,"Total (1)",{"$f":"SUM(AB9:AB26)","v":-11}]
[null,null,null,null,null,null,null,null,null,null,null,null,null,null,null,null,null,null,null,null,null,null,null,null,{"$f":"SUM(AB27*0.33+42)","v":38.369999999999997},{"$f":"IF(AA20=\"x\",-10,0)","v":0},"Judge Score (2)",{"$f":"SUM(Y28+Z28)","v":38.369999999999997}]
["Maneuver Score =",{"$f":"D27","v":71.399999999999991},"Less Penalty Total",{"$f":"D25","v":-3},null,null,"Reining Score",{"$f":"J21","v":22},"Plus Cattle Score",{"$f":"J26","v":0},null,null,null,null,null,null,null,null,null,null,null,null,null,null,"Ranch Cutting",{"$f":"IF(P31=\"\",0,P31)","v":48},"Ranch Rding",{"$f":"IF(D31=\"\",0,D31)","v":68.399999999999991}]
[null,null,null,null,null,null,null,null,null,null,null,null,null,null,null,null,null,null,null,null,null,null,null,null,"Working Ranch Horse",{"$f":"IF(J31=\"\",0,J31)","v":22},"Ranch Trail",{"$f":"IF(V31=\"\",0,V31)","v":69.5}]
["TOTAL SCORE",null,null,{"$f":"IF(D7=\"\",\"\",IF(B29+D29<0,0,B29+D29))","v":68.399999999999991},null,null,"TOTAL SCORE",null,null,{"$f":"IF(J7=\"\",\"\",IF(H29+J29<0,0,H29+J29))","v":22},null,null,"TOTAL SCORE",null,null,{"$f":"IF(P7=\"\",\"\",IF(70+N27+P27<0,0,70+N27+P27))","v":48},null,null,"TOTAL SCORE",null,null,{"$f":"IF(V7=\"\",\"\",IF(70+T27+V27<0,0,70+T27+V27))","v":69.5},null,null,"Function Total (3)",{"$f":"SUM(Z29+AB29+Z30+AB30)","v":207.89999999999998},"Function Score (4)",{"$f":"Z31*0.1","v":20.79}]
[null,null,null,null,null,null,null,null,null,null,null,null,null,null,null,null,null,null,null,null,null,null,null,null,"Judge Score (2) + Function Score (4) = CONFORMATION SCORE",null,null,{"$f":"IF(AB7=\"\",\"\",IF(AB28+AB31<0,0,AB28+AB31))","v":59.16}]
[null,null,"Return to Entry Page",null,null,null,null,null,"Return to Entry Page",null,null,null,null,null,"Return to Entry Page",null,null,null,null,null,"Return to Entry Page"]
[null,null,null,null,null,null,null,null,null,null,null,null,null,null,null,null,null,null,null,null,null,null,null,null,null,null,"Return to Entry Page"]

{"sheet":"Novice 9","index":18,"n_rows":34,"n_cols":28,"rows_kept":34,"cut":false,"hidden":false,"merged":[[31,24,31,26],[30,0,30,2],[30,6,30,8],[30,12,30,14],[30,18,30,20],[26,6,26,9],[27,0,27,3],[27,6,27,9],[27,12,29,15],[27,18,29,21],[29,0,29,3],[29,6,29,9],[23,0,24,0],[23,1,24,1],[23,18,25,21],[25,0,25,3],[25,6,25,8],[25,12,25,15],[21,18,21,21],[18,2,18,3],[18,12,18,15],[18,20,18,21],[19,2,19,3],[19,14,19,15],[19,18,20,19],[19,20,20,20],[19,21,20,21],[20,2,20,3],[20,6,20,8],[20,14,20,15],[22,2,22,3],[22,12,23,13],[22,14,23,14],[22,15,23,15],[15,2,15,3],[15,8,15,9],[15,14,15,15],[17,2,17,3],[17,14,17,15],[21,2,21,3],[21,6,21,9],[21,14,21,15],[17,20,17,21],[13,2,13,3],[13,8,14,9],[13,12,13,15],[13,20,13,21],[14,2,14,3],[14,14,14,15],[14,20,14,21],[15,20,15,21],[16,2,16,3],[16,8,16,9],[16,14,16,15],[16,20,16,21],[7,24,7,27],[11,2,11,3],[11,8,12,9],[11,14,11,15],[11,20,11,21],[12,2,12,3],[12,14,12,15],[12,20,12,21],[9,2,9,3],[9,8,10,9],[9,12,9,15],[9,20,9,21],[10,2,10,3],[10,14,10,15],[10,20,10,21],[8,2,8,3],[8,8,8,9],[8,14,8,15],[8,20,8,21],[7,0,7,3],[7,6,7,9],[7,12,7,15],[7,18,7,21]]}
["RIDERS SCORE WORK SHEET"]
[]
["Back Number:",{"$f":"'Entry Information'!B19","v":49},null,null,null,null,"Back Number:",{"$f":"'Entry Information'!B19","v":49},null,null,null,null,"Back Number:",{"$f":"'Entry Information'!B19","v":49},null,null,null,null,"Back Number:",{"$f":"'Entry Information'!B19","v":49},null,null,null,null,"Back Number:",{"$f":"'Entry Information'!B19","v":49}]
["Name:",{"$f":"'Entry Information'!I19","v":"Sandra"},{"$f":"'Entry Information'!H19","v":"Hoppe"},null,null,null,"Name:",{"$f":"'Entry Information'!I19","v":"Sandra"},{"$f":"'Entry Information'!H19","v":"Hoppe"},null,null,null,"Name:",{"$f":"'Entry Information'!I19","v":"Sandra"},{"$f":"'Entry Information'!H19","v":"Hoppe"},null,null,null,"Name:",{"$f":"'Entry Information'!I19","v":"Sandra"},{"$f":"'Entry Information'!H19","v":"Hoppe"},null,null,null,"Name:",{"$f":"'Entry Information'!I19","v":"Sandra"},{"$f":"'Entry Information'!H19","v":"Hoppe"}]
["Horse Name:",{"$f":"'Entry Information'!J19","v":"B Cruzin Along"},null,null,null,null,"Horse Name:",{"$f":"'Entry Information'!J19","v":"B Cruzin Along"},null,null,null,null,"Horse Name:",{"$f":"'Entry Information'!J19","v":"B Cruzin Along"},null,null,null,null,"Horse Name:",{"$f":"'Entry Information'!J19","v":"B Cruzin Along"},null,null,null,null,"Horse Name:",{"$f":"'Entry Information'!J19","v":"B Cruzin Along"}]
[]
["Check box when entering Ranch Riding scores",null,null,"x",null,null,"Check box when entering Working Ranch Horse scores",null,null,"x",null,null,"Check box when entering Ranch Cutting scores",null,null,"x",null,null,"Check box when entering Ranch Trail scores",null,null,"x",null,null,"Check box when entering Conformation scores",null,null,"x"]
["Ranch Riding",null,null,null,null,null,"Working Ranch Horse",null,null,null,null,null,"Ranch Cutting",null,null,null,null,null,"Ranch Trail",null,null,null,null,null,"Ranch Conformation"]
["Maneuver","Judge's Score +/-","Penalty Points",null,null,null,"Maneuver","Judge's Score +/-","Penalty Points",null,null,null,"Maneuver","Judge's Score +/-","Penalty Points",null,null,null,"Maneuver","Judge's Score +/-","Penalty Points",null,null,null,"Front Legs, Feet",null,null,-1]
[1,0,null,null,null,null,1,-1,-1.5,null,null,null,"Herd Work",null,null,null,null,null,1,1,null,null,null,null,"Chest, Pectoral V",null,null,-1]
[2,0,null,null,null,null,2,0,null,null,null,null,1,1,null,null,null,null,2,2,null,null,null,null,"Head",null,null,2]
[3,0,null,null,null,null,3,-2,-4,null,null,null,2,0,null,null,null,null,3,2,null,null,null,null,"Neck & Throat Latch",null,null,0]
[4,-1,-1,null,null,null,4,0,null,null,null,null,3,-3,null,null,null,null,4,2,null,null,null,null,"Shoulders & Withers",null,null,-1]
[5,2,null,null,null,null,5,-3,null,null,null,null,"Cutting",null,null,null,null,null,5,0,null,null,null,null,"Heart Girth & Barrel",null,null,-1]
[6,0,null,null,null,null,6,-1,null,null,null,null,1,0,null,null,null,null,6,2,null,null,null,null,"Back & Loin",null,null,-3]
[7,1,null,null,null,null,7,-1,null,null,null,null,2,-3,null,null,null,null,7,-1,-5,null,null,null,"Hip & Croup",null,null,-2]
[8,-1,null,null,null,null,8,-1,null,null,null,null,3,-3,null,null,null,null,8,-3,null,null,null,null,"Stife & Gaskin",null,null,0]
[9,0,-1,null,null,null,null,null,"Total Penalty Pts",{"$f":"SUM(I10:J17)","v":-5.5},null,null,4,-2,null,null,null,null,9,-3,null,null,null,null,"Hock, Hind Legs, Feet",null,null,-1]
[10,2,null,null,null,null,"56 +/- Judge Score",{"$f":"SUM(H10:H17)","v":-9},"Divided by 2",{"$f":"SUM((56+H19)/2)","v":23.5},null,null,"Penning",null,null,null,null,null,10,1,null,null,null,null,"Overall Muscling",null,null,-1]
[11,0,null,null,null,null,"Maneuver Score",{"$f":"J19","v":23.5},"Less Penalty Pts",{"$f":"J18","v":-5.5},null,null,1,-1,-5,null,null,null,null,null,"Major Penalties",-10,null,null,"Tracking","Lame: enter an \"x\"",null,0]
[12,-1,null,null,null,null,"REINING SCORE",null,null,{"$f":"SUM(H20+J20)","v":18},null,null,2,-3,null,null,null,null,null,null,null,null,null,null,"Balance 1",null,null,-3]
[13,-1,null,null,null,null,"NOVICE BOXING",null,null,null,null,null,3,1,null,null,null,null,null,null,null,null,null,null,"Balance 2",null,null,-3]
[14,0,null,null,null,null,1,-1,"Penalty Points",-1,null,null,null,null,"Major Penalties",null,null,null,"Maneuver Total",{"$f":"SUM(T10:T19)","v":3},"Penalty Total",{"$f":"SUM(SUM(U10:V19)+V20)","v":-15},null,null,"Balance 3",null,null,-3]
["Maneuver Total",{"$f":"SUM(B10:B23)","v":1},"Major Penalties",-10,null,null,"7 +/- Judge Score",{"$f":"SUM(7+H23)","v":6},"Total Penalty Pts",{"$f":"J23","v":-1},null,null,null,null,null,null,null,null,null,null,null,null,null,null,"Fitness & Condition",null,null,1]
[null,null,"Penalty Total",{"$f":"SUM(C10:D24)","v":-12},null,null,"Maneuver Score",{"$f":"H24","v":6},"Less Penalty Pts",{"$f":"J24","v":-1},null,null,"Maneuver Total",{"$f":"SUM(N10:N22)","v":-13},"Penalty Total",{"$f":"SUM(O11+O12+O13+O15+O16+O17+O18+O20+O21+O22+P23)","v":-5},null,null,null,null,null,null,null,null,"Participant Showmanship",null,null,-2]
[null,null,null,null,null,null,"CATTLE SCORE",null,null,{"$f":"SUM(H25+J25)","v":5},null,null,null,null,null,null,null,null,null,null,null,null,null,null,"Horse Showmanship",null,null,0]
["100 +/-Maneuver",{"$f":"B24","v":1},"x .70 =",{"$f":"SUM((100+B27)*0.7)","v":70.699999999999989},null,null,null,null,null,null,null,null,"70 +/-Maneuver",{"$f":"N25","v":-13},"Less Penalty Total",{"$f":"P25","v":-5},null,null,"70 +/-Maneuver",{"$f":"T23","v":3},"Less Penalty Total",{"$f":"V23","v":-15},null,null,"Form & Showmanship Judges Score",null,"Total (1)",{"$f":"SUM(AB9:AB26)","v":-19}]
[null,null,null,null,null,null,null,null,null,null,null,null,null,null,null,null,null,null,null,null,null,null,null,null,{"$f":"SUM(AB27*0.33+42)","v":35.729999999999997},{"$f":"IF(AA20=\"x\",-10,0)","v":0},"Judge Score (2)",{"$f":"SUM(Y28+Z28)","v":35.729999999999997}]
["Maneuver Score =",{"$f":"D27","v":70.699999999999989},"Less Penalty Total",{"$f":"D25","v":-12},null,null,"Reining Score",{"$f":"J21","v":18},"Plus Cattle Score",{"$f":"J26","v":5},null,null,null,null,null,null,null,null,null,null,null,null,null,null,"Ranch Cutting",{"$f":"IF(P31=\"\",0,P31)","v":52},"Ranch Rding",{"$f":"IF(D31=\"\",0,D31)","v":58.699999999999989}]
[null,null,null,null,null,null,null,null,null,null,null,null,null,null,null,null,null,null,null,null,null,null,null,null,"Working Ranch Horse",{"$f":"IF(J31=\"\",0,J31)","v":23},"Ranch Trail",{"$f":"IF(V31=\"\",0,V31)","v":58}]
["TOTAL SCORE",null,null,{"$f":"IF(D7=\"\",\"\",IF(B29+D29<0,0,B29+D29))","v":58.699999999999989},null,null,"TOTAL SCORE",null,null,{"$f":"IF(J7=\"\",\"\",IF(H29+J29<0,0,H29+J29))","v":23},null,null,"TOTAL SCORE",null,null,{"$f":"IF(P7=\"\",\"\",IF(70+N27+P27<0,0,70+N27+P27))","v":52},null,null,"TOTAL SCORE",null,null,{"$f":"IF(V7=\"\",\"\",IF(70+T27+V27<0,0,70+T27+V27))","v":58},null,null,"Function Total (3)",{"$f":"SUM(Z29+AB29+Z30+AB30)","v":191.7},"Function Score (4)",{"$f":"Z31*0.1","v":19.169999999999998}]
[null,null,null,null,null,null,null,null,null,null,null,null,null,null,null,null,null,null,null,null,null,null,null,null,"Judge Score (2) + Function Score (4) = CONFORMATION SCORE",null,null,{"$f":"IF(AB7=\"\",\"\",IF(AB28+AB31<0,0,AB28+AB31))","v":54.899999999999991}]
[null,null,"Return to Entry Page",null,null,null,null,null,"Return to Entry Page",null,null,null,null,null,"Return to Entry Page",null,null,null,null,null,"Return to Entry Page"]
[null,null,null,null,null,null,null,null,null,null,null,null,null,null,null,null,null,null,null,null,null,null,null,null,null,null,"Return to Entry Page"]

{"sheet":"Novice 10","index":19,"n_rows":34,"n_cols":28,"rows_kept":34,"cut":false,"hidden":false,"merged":[[31,24,31,26],[30,0,30,2],[30,6,30,8],[30,12,30,14],[30,18,30,20],[26,6,26,9],[27,0,27,3],[27,6,27,9],[27,12,29,15],[27,18,29,21],[29,0,29,3],[29,6,29,9],[23,0,24,0],[23,1,24,1],[23,18,25,21],[25,0,25,3],[25,6,25,8],[25,12,25,15],[21,18,21,21],[18,2,18,3],[18,12,18,15],[18,20,18,21],[19,2,19,3],[19,14,19,15],[19,18,20,19],[19,20,20,20],[19,21,20,21],[20,2,20,3],[20,6,20,8],[20,14,20,15],[22,2,22,3],[22,12,23,13],[22,14,23,14],[22,15,23,15],[15,2,15,3],[15,8,15,9],[15,14,15,15],[17,2,17,3],[17,14,17,15],[21,2,21,3],[21,6,21,9],[21,14,21,15],[17,20,17,21],[13,2,13,3],[13,8,14,9],[13,12,13,15],[13,20,13,21],[14,2,14,3],[14,14,14,15],[14,20,14,21],[15,20,15,21],[16,2,16,3],[16,8,16,9],[16,14,16,15],[16,20,16,21],[7,24,7,27],[11,2,11,3],[11,8,12,9],[11,14,11,15],[11,20,11,21],[12,2,12,3],[12,14,12,15],[12,20,12,21],[9,2,9,3],[9,8,10,9],[9,12,9,15],[9,20,9,21],[10,2,10,3],[10,14,10,15],[10,20,10,21],[8,2,8,3],[8,8,8,9],[8,14,8,15],[8,20,8,21],[7,0,7,3],[7,6,7,9],[7,12,7,15],[7,18,7,21]]}
["RIDERS SCORE WORK SHEET"]
[]
["Back Number:",{"$f":"'Entry Information'!B20","v":51},null,null,null,null,"Back Number:",{"$f":"'Entry Information'!B20","v":51},null,null,null,null,"Back Number:",{"$f":"'Entry Information'!B20","v":51},null,null,null,null,"Back Number:",{"$f":"'Entry Information'!B20","v":51},null,null,null,null,"Back Number:",{"$f":"'Entry Information'!B20","v":51}]
["Name:",{"$f":"'Entry Information'!I20","v":"Tracy"},{"$f":"'Entry Information'!H20","v":"Gilbert"},null,null,null,"Name:",{"$f":"'Entry Information'!I20","v":"Tracy"},{"$f":"'Entry Information'!H20","v":"Gilbert"},null,null,null,"Name:",{"$f":"'Entry Information'!I20","v":"Tracy"},{"$f":"'Entry Information'!H20","v":"Gilbert"},null,null,null,"Name:",{"$f":"'Entry Information'!I20","v":"Tracy"},{"$f":"'Entry Information'!H20","v":"Gilbert"},null,null,null,"Name:",{"$f":"'Entry Information'!I20","v":"Tracy"},{"$f":"'Entry Information'!H20","v":"Gilbert"}]
["Horse Name:",{"$f":"'Entry Information'!J20","v":"Bud's Diablo Star"},null,null,null,null,"Horse Name:",{"$f":"'Entry Information'!J20","v":"Bud's Diablo Star"},null,null,null,null,"Horse Name:",{"$f":"'Entry Information'!J20","v":"Bud's Diablo Star"},null,null,null,null,"Horse Name:",{"$f":"'Entry Information'!J20","v":"Bud's Diablo Star"},null,null,null,null,"Horse Name:",{"$f":"'Entry Information'!J20","v":"Bud's Diablo Star"}]
[]
["Check box when entering Ranch Riding scores",null,null,"x",null,null,"Check box when entering Working Ranch Horse scores",null,null,"x",null,null,"Check box when entering Ranch Cutting scores",null,null,"x",null,null,"Check box when entering Ranch Trail scores",null,null,"x",null,null,"Check box when entering Conformation scores",null,null,"x"]
["Ranch Riding",null,null,null,null,null,"Working Ranch Horse",null,null,null,null,null,"Ranch Cutting",null,null,null,null,null,"Ranch Trail",null,null,null,null,null,"Ranch Conformation"]
["Maneuver","Judge's Score +/-","Penalty Points",null,null,null,"Maneuver","Judge's Score +/-","Penalty Points",null,null,null,"Maneuver","Judge's Score +/-","Penalty Points",null,null,null,"Maneuver","Judge's Score +/-","Penalty Points",null,null,null,"Front Legs, Feet",null,null,0]
[1,0,null,null,null,null,1,-1,-0.5,null,null,null,"Herd Work",null,null,null,null,null,1,1,null,null,null,null,"Chest, Pectoral V",null,null,1]
[2,-1,null,null,null,null,2,-1,null,null,null,null,1,0,-2,null,null,null,2,2,-2,null,null,null,"Head",null,null,1]
[3,0,null,null,null,null,3,-2,-4,null,null,null,2,-2,-3,null,null,null,3,-1,null,null,null,null,"Neck & Throat Latch",null,null,1]
[4,1,null,null,null,null,4,0,null,null,null,null,3,-3,-3,null,null,null,4,1,-2,null,null,null,"Shoulders & Withers",null,null,1]
[5,1,null,null,null,null,5,-2,null,null,null,null,"Cutting",null,null,null,null,null,5,2,null,null,null,null,"Heart Girth & Barrel",null,null,0]
[6,0,null,null,null,null,6,-2,null,null,null,null,1,0,null,null,null,null,6,1,null,null,null,null,"Back & Loin",null,null,0]
[7,-1,null,null,null,null,7,-3,-0.5,null,null,null,2,-3,-5,null,null,null,7,-3,-5,null,null,null,"Hip & Croup",null,null,0]
[8,0,-3,null,null,null,8,-3,null,null,null,null,3,-3,null,null,null,null,8,-3,-5,null,null,null,"Stife & Gaskin",null,null,0]
[9,-3,-3,null,null,null,null,null,"Total Penalty Pts",{"$f":"SUM(I10:J17)","v":-5},null,null,4,-2,null,null,null,null,9,-1,null,null,null,null,"Hock, Hind Legs, Feet",null,null,0]
[10,2,null,null,null,null,"56 +/- Judge Score",{"$f":"SUM(H10:H17)","v":-14},"Divided by 2",{"$f":"SUM((56+H19)/2)","v":21},null,null,"Penning",null,null,null,null,null,10,0,null,null,null,null,"Overall Muscling",null,null,0]
[11,-1,null,null,null,null,"Maneuver Score",{"$f":"J19","v":21},"Less Penalty Pts",{"$f":"J18","v":-5},null,null,1,0,null,null,null,null,null,null,"Major Penalties",null,null,null,"Tracking","Lame: enter an \"x\"",null,0]
[12,-3,null,null,null,null,"REINING SCORE",null,null,{"$f":"SUM(H20+J20)","v":16},null,null,2,1,null,null,null,null,null,null,null,null,null,null,"Balance 1",null,null,1]
[13,-2,null,null,null,null,"NOVICE BOXING",null,null,null,null,null,3,1,null,null,null,null,null,null,null,null,null,null,"Balance 2",null,null,1]
[14,0,null,null,null,null,1,-2,"Penalty Points",null,null,null,null,null,"Major Penalties",null,null,null,"Maneuver Total",{"$f":"SUM(T10:T19)","v":-1},"Penalty Total",{"$f":"SUM(SUM(U10:V19)+V20)","v":-14},null,null,"Balance 3",null,null,1]
["Maneuver Total",{"$f":"SUM(B10:B23)","v":-7},"Major Penalties",null,null,null,"7 +/- Judge Score",{"$f":"SUM(7+H23)","v":5},"Total Penalty Pts",{"$f":"J23","v":0},null,null,null,null,null,null,null,null,null,null,null,null,null,null,"Fitness & Condition",null,null,1]
[null,null,"Penalty Total",{"$f":"SUM(C10:D24)","v":-6},null,null,"Maneuver Score",{"$f":"H24","v":5},"Less Penalty Pts",{"$f":"J24","v":0},null,null,"Maneuver Total",{"$f":"SUM(N10:N22)","v":-11},"Penalty Total",{"$f":"SUM(O11+O12+O13+O15+O16+O17+O18+O20+O21+O22+P23)","v":-13},null,null,null,null,null,null,null,null,"Participant Showmanship",null,null,0]
[null,null,null,null,null,null,"CATTLE SCORE",null,null,{"$f":"SUM(H25+J25)","v":5},null,null,null,null,null,null,null,null,null,null,null,null,null,null,"Horse Showmanship",null,null,0]
["100 +/-Maneuver",{"$f":"B24","v":-7},"x .70 =",{"$f":"SUM((100+B27)*0.7)","v":65.099999999999994},null,null,null,null,null,null,null,null,"70 +/-Maneuver",{"$f":"N25","v":-11},"Less Penalty Total",{"$f":"P25","v":-13},null,null,"70 +/-Maneuver",{"$f":"T23","v":-1},"Less Penalty Total",{"$f":"V23","v":-14},null,null,"Form & Showmanship Judges Score",null,"Total (1)",{"$f":"SUM(AB9:AB26)","v":8}]
[null,null,null,null,null,null,null,null,null,null,null,null,null,null,null,null,null,null,null,null,null,null,null,null,{"$f":"SUM(AB27*0.33+42)","v":44.64},{"$f":"IF(AA20=\"x\",-10,0)","v":0},"Judge Score (2)",{"$f":"SUM(Y28+Z28)","v":44.64}]
["Maneuver Score =",{"$f":"D27","v":65.099999999999994},"Less Penalty Total",{"$f":"D25","v":-6},null,null,"Reining Score",{"$f":"J21","v":16},"Plus Cattle Score",{"$f":"J26","v":5},null,null,null,null,null,null,null,null,null,null,null,null,null,null,"Ranch Cutting",{"$f":"IF(P31=\"\",0,P31)","v":46},"Ranch Rding",{"$f":"IF(D31=\"\",0,D31)","v":59.099999999999994}]
[null,null,null,null,null,null,null,null,null,null,null,null,null,null,null,null,null,null,null,null,null,null,null,null,"Working Ranch Horse",{"$f":"IF(J31=\"\",0,J31)","v":21},"Ranch Trail",{"$f":"IF(V31=\"\",0,V31)","v":55}]
["TOTAL SCORE",null,null,{"$f":"IF(D7=\"\",\"\",IF(B29+D29<0,0,B29+D29))","v":59.099999999999994},null,null,"TOTAL SCORE",null,null,{"$f":"IF(J7=\"\",\"\",IF(H29+J29<0,0,H29+J29))","v":21},null,null,"TOTAL SCORE",null,null,{"$f":"IF(P7=\"\",\"\",IF(70+N27+P27<0,0,70+N27+P27))","v":46},null,null,"TOTAL SCORE",null,null,{"$f":"IF(V7=\"\",\"\",IF(70+T27+V27<0,0,70+T27+V27))","v":55},null,null,"Function Total (3)",{"$f":"SUM(Z29+AB29+Z30+AB30)","v":181.1},"Function Score (4)",{"$f":"Z31*0.1","v":18.11}]
[null,null,null,null,null,null,null,null,null,null,null,null,null,null,null,null,null,null,null,null,null,null,null,null,"Judge Score (2) + Function Score (4) = CONFORMATION SCORE",null,null,{"$f":"IF(AB7=\"\",\"\",IF(AB28+AB31<0,0,AB28+AB31))","v":62.75}]
[null,null,"Return to Entry Page",null,null,null,null,null,"Return to Entry Page",null,null,null,null,null,"Return to Entry Page",null,null,null,null,null,"Return to Entry Page"]
[null,null,null,null,null,null,null,null,null,null,null,null,null,null,null,null,null,null,null,null,null,null,null,null,null,null,"Return to Entry Page"]

{"sheet":"Novice 11","index":20,"n_rows":34,"n_cols":28,"rows_kept":34,"cut":false,"hidden":false,"merged":[[31,24,31,26],[30,0,30,2],[30,6,30,8],[30,12,30,14],[30,18,30,20],[26,6,26,9],[27,0,27,3],[27,6,27,9],[27,12,29,15],[27,18,29,21],[29,0,29,3],[29,6,29,9],[23,0,24,0],[23,1,24,1],[23,18,25,21],[25,0,25,3],[25,6,25,8],[25,12,25,15],[21,18,21,21],[18,2,18,3],[18,12,18,15],[18,20,18,21],[19,2,19,3],[19,14,19,15],[19,18,20,19],[19,20,20,20],[19,21,20,21],[20,2,20,3],[20,6,20,8],[20,14,20,15],[22,2,22,3],[22,12,23,13],[22,14,23,14],[22,15,23,15],[15,2,15,3],[15,8,15,9],[15,14,15,15],[17,2,17,3],[17,14,17,15],[21,2,21,3],[21,6,21,9],[21,14,21,15],[17,20,17,21],[13,2,13,3],[13,8,14,9],[13,12,13,15],[13,20,13,21],[14,2,14,3],[14,14,14,15],[14,20,14,21],[15,20,15,21],[16,2,16,3],[16,8,16,9],[16,14,16,15],[16,20,16,21],[7,24,7,27],[11,2,11,3],[11,8,12,9],[11,14,11,15],[11,20,11,21],[12,2,12,3],[12,14,12,15],[12,20,12,21],[9,2,9,3],[9,8,10,9],[9,12,9,15],[9,20,9,21],[10,2,10,3],[10,14,10,15],[10,20,10,21],[8,2,8,3],[8,8,8,9],[8,14,8,15],[8,20,8,21],[7,0,7,3],[7,6,7,9],[7,12,7,15],[7,18,7,21]]}
["RIDERS SCORE WORK SHEET"]
[]
["Back Number:",{"$f":"'Entry Information'!B21","v":0},null,null,null,null,"Back Number:",{"$f":"'Entry Information'!B21","v":0},null,null,null,null,"Back Number:",{"$f":"'Entry Information'!B21","v":0},null,null,null,null,"Back Number:",{"$f":"'Entry Information'!B21","v":0},null,null,null,null,"Back Number:",{"$f":"'Entry Information'!B21","v":0}]
["Name:",{"$f":"'Entry Information'!I21","v":0},{"$f":"'Entry Information'!H21","v":0},null,null,null,"Name:",{"$f":"'Entry Information'!I21","v":0},{"$f":"'Entry Information'!H21","v":0},null,null,null,"Name:",{"$f":"'Entry Information'!I21","v":0},{"$f":"'Entry Information'!H21","v":0},null,null,null,"Name:",{"$f":"'Entry Information'!I21","v":0},{"$f":"'Entry Information'!H21","v":0},null,null,null,"Name:",{"$f":"'Entry Information'!I21","v":0},{"$f":"'Entry Information'!H21","v":0}]
["Horse Name:",{"$f":"'Entry Information'!J21","v":0},null,null,null,null,"Horse Name:",{"$f":"'Entry Information'!J21","v":0},null,null,null,null,"Horse Name:",{"$f":"'Entry Information'!J21","v":0},null,null,null,null,"Horse Name:",{"$f":"'Entry Information'!J21","v":0},null,null,null,null,"Horse Name:",{"$f":"'Entry Information'!J21","v":0}]
[]
["Check box when entering Ranch Riding scores",null,null,null,null,null,"Check box when entering Working Ranch Horse scores",null,null,null,null,null,"Check box when entering Ranch Cutting scores",null,null,null,null,null,"Check box when entering Ranch Trail scores",null,null,null,null,null,"Check box when entering Conformation scores"]
["Ranch Riding",null,null,null,null,null,"Working Ranch Horse",null,null,null,null,null,"Ranch Cutting",null,null,null,null,null,"Ranch Trail",null,null,null,null,null,"Ranch Conformation"]
["Maneuver","Judge's Score +/-","Penalty Points",null,null,null,"Maneuver","Judge's Score +/-","Penalty Points",null,null,null,"Maneuver","Judge's Score +/-","Penalty Points",null,null,null,"Maneuver","Judge's Score +/-","Penalty Points",null,null,null,"Front Legs, Feet"]
[1,null,null,null,null,null,1,null,null,null,null,null,"Herd Work",null,null,null,null,null,1,null,null,null,null,null,"Chest, Pectoral V"]
[2,null,null,null,null,null,2,null,null,null,null,null,1,null,null,null,null,null,2,null,null,null,null,null,"Head"]
[3,null,null,null,null,null,3,null,null,null,null,null,2,null,null,null,null,null,3,null,null,null,null,null,"Neck & Throat Latch"]
[4,null,null,null,null,null,4,null,null,null,null,null,3,null,null,null,null,null,4,null,null,null,null,null,"Shoulders & Withers"]
[5,null,null,null,null,null,5,null,null,null,null,null,"Cutting",null,null,null,null,null,5,null,null,null,null,null,"Heart Girth & Barrel"]
[6,null,null,null,null,null,6,null,null,null,null,null,1,null,null,null,null,null,6,null,null,null,null,null,"Back & Loin"]
[7,null,null,null,null,null,7,null,null,null,null,null,2,null,null,null,null,null,7,null,null,null,null,null,"Hip & Croup"]
[8,null,null,null,null,null,8,null,null,null,null,null,3,null,null,null,null,null,8,null,null,null,null,null,"Stife & Gaskin"]
[9,null,null,null,null,null,null,null,"Total Penalty Pts",{"$f":"SUM(I10:J17)","v":0},null,null,4,null,null,null,null,null,9,null,null,null,null,null,"Hock, Hind Legs, Feet"]
[10,null,null,null,null,null,"56 +/- Judge Score",{"$f":"SUM(H10:H17)","v":0},"Divided by 2",{"$f":"SUM((56+H19)/2)","v":28},null,null,"Penning",null,null,null,null,null,10,null,null,null,null,null,"Overall Muscling"]
[11,null,null,null,null,null,"Maneuver Score",{"$f":"J19","v":28},"Less Penalty Pts",{"$f":"J18","v":0},null,null,1,null,null,null,null,null,null,null,"Major Penalties",null,null,null,"Tracking","Lame: enter an \"x\""]
[12,null,null,null,null,null,"REINING SCORE",null,null,{"$f":"SUM(H20+J20)","v":28},null,null,2,null,null,null,null,null,null,null,null,null,null,null,"Balance 1"]
[13,null,null,null,null,null,"NOVICE BOXING",null,null,null,null,null,3,null,null,null,null,null,null,null,null,null,null,null,"Balance 2"]
[14,null,null,null,null,null,1,null,"Penalty Points",null,null,null,null,null,"Major Penalties",null,null,null,"Maneuver Total",{"$f":"SUM(T10:T19)","v":0},"Penalty Total",{"$f":"SUM(SUM(U10:V19)+V20)","v":0},null,null,"Balance 3"]
["Maneuver Total",{"$f":"SUM(B10:B23)","v":0},"Major Penalties",null,null,null,"7 +/- Judge Score",{"$f":"SUM(7+H23)","v":7},"Total Penalty Pts",{"$f":"J23","v":0},null,null,null,null,null,null,null,null,null,null,null,null,null,null,"Fitness & Condition"]
[null,null,"Penalty Total",{"$f":"SUM(C10:D24)","v":0},null,null,"Maneuver Score",{"$f":"H24","v":7},"Less Penalty Pts",{"$f":"J24","v":0},null,null,"Maneuver Total",{"$f":"SUM(N10:N22)","v":0},"Penalty Total",{"$f":"SUM(O11+O12+O13+O15+O16+O17+O18+O20+O21+O22+P23)","v":0},null,null,null,null,null,null,null,null,"Participant Showmanship"]
[null,null,null,null,null,null,"CATTLE SCORE",null,null,{"$f":"SUM(H25+J25)","v":7},null,null,null,null,null,null,null,null,null,null,null,null,null,null,"Horse Showmanship"]
["100 +/-Maneuver",{"$f":"B24","v":0},"x .70 =",{"$f":"SUM((100+B27)*0.7)","v":70},null,null,null,null,null,null,null,null,"70 +/-Maneuver",{"$f":"N25","v":0},"Less Penalty Total",{"$f":"P25","v":0},null,null,"70 +/-Maneuver",{"$f":"T23","v":0},"Less Penalty Total",{"$f":"V23","v":0},null,null,"Form & Showmanship Judges Score",null,"Total (1)",{"$f":"SUM(AB9:AB26)","v":0}]
[null,null,null,null,null,null,null,null,null,null,null,null,null,null,null,null,null,null,null,null,null,null,null,null,{"$f":"SUM(AB27*0.33+42)","v":42},{"$f":"IF(AA20=\"x\",-10,0)","v":0},"Judge Score (2)",{"$f":"SUM(Y28+Z28)","v":42}]
["Maneuver Score =",{"$f":"D27","v":70},"Less Penalty Total",{"$f":"D25","v":0},null,null,"Reining Score",{"$f":"J21","v":28},"Plus Cattle Score",{"$f":"J26","v":7},null,null,null,null,null,null,null,null,null,null,null,null,null,null,"Ranch Cutting",{"$f":"IF(P31=\"\",0,P31)","v":0},"Ranch Rding",{"$f":"IF(D31=\"\",0,D31)","v":0}]
[null,null,null,null,null,null,null,null,null,null,null,null,null,null,null,null,null,null,null,null,null,null,null,null,"Working Ranch Horse",{"$f":"IF(J31=\"\",0,J31)","v":0},"Ranch Trail",{"$f":"IF(V31=\"\",0,V31)","v":0}]
["TOTAL SCORE",null,null,{"$f":"IF(D7=\"\",\"\",IF(B29+D29<0,0,B29+D29))","v":""},null,null,"TOTAL SCORE",null,null,{"$f":"IF(J7=\"\",\"\",IF(H29+J29<0,0,H29+J29))","v":""},null,null,"TOTAL SCORE",null,null,{"$f":"IF(P7=\"\",\"\",IF(70+N27+P27<0,0,70+N27+P27))","v":""},null,null,"TOTAL SCORE",null,null,{"$f":"IF(V7=\"\",\"\",IF(70+T27+V27<0,0,70+T27+V27))","v":""},null,null,"Function Total (3)",{"$f":"SUM(Z29+AB29+Z30+AB30)","v":0},"Function Score (4)",{"$f":"Z31*0.1","v":0}]
[null,null,null,null,null,null,null,null,null,null,null,null,null,null,null,null,null,null,null,null,null,null,null,null,"Judge Score (2) + Function Score (4) = CONFORMATION SCORE",null,null,{"$f":"IF(AB7=\"\",\"\",IF(AB28+AB31<0,0,AB28+AB31))","v":""}]
[null,null,"Return to Entry Page",null,null,null,null,null,"Return to Entry Page",null,null,null,null,null,"Return to Entry Page",null,null,null,null,null,"Return to Entry Page"]
[null,null,null,null,null,null,null,null,null,null,null,null,null,null,null,null,null,null,null,null,null,null,null,null,null,null,"Return to Entry Page"]

{"sheet":"Novice 12","index":21,"n_rows":34,"n_cols":28,"rows_kept":34,"cut":false,"hidden":false,"merged":[[31,24,31,26],[30,0,30,2],[30,6,30,8],[30,12,30,14],[30,18,30,20],[26,6,26,9],[27,0,27,3],[27,6,27,9],[27,12,29,15],[27,18,29,21],[29,0,29,3],[29,6,29,9],[23,0,24,0],[23,1,24,1],[23,18,25,21],[25,0,25,3],[25,6,25,8],[25,12,25,15],[21,18,21,21],[18,2,18,3],[18,12,18,15],[18,20,18,21],[19,2,19,3],[19,14,19,15],[19,18,20,19],[19,20,20,20],[19,21,20,21],[20,2,20,3],[20,6,20,8],[20,14,20,15],[22,2,22,3],[22,12,23,13],[22,14,23,14],[22,15,23,15],[15,2,15,3],[15,8,15,9],[15,14,15,15],[17,2,17,3],[17,14,17,15],[21,2,21,3],[21,6,21,9],[21,14,21,15],[17,20,17,21],[13,2,13,3],[13,8,14,9],[13,12,13,15],[13,20,13,21],[14,2,14,3],[14,14,14,15],[14,20,14,21],[15,20,15,21],[16,2,16,3],[16,8,16,9],[16,14,16,15],[16,20,16,21],[7,24,7,27],[11,2,11,3],[11,8,12,9],[11,14,11,15],[11,20,11,21],[12,2,12,3],[12,14,12,15],[12,20,12,21],[9,2,9,3],[9,8,10,9],[9,12,9,15],[9,20,9,21],[10,2,10,3],[10,14,10,15],[10,20,10,21],[8,2,8,3],[8,8,8,9],[8,14,8,15],[8,20,8,21],[7,0,7,3],[7,6,7,9],[7,12,7,15],[7,18,7,21]]}
["RIDERS SCORE WORK SHEET"]
[]
["Back Number:",{"$f":"'Entry Information'!B22","v":0},null,null,null,null,"Back Number:",{"$f":"'Entry Information'!B22","v":0},null,null,null,null,"Back Number:",{"$f":"'Entry Information'!B22","v":0},null,null,null,null,"Back Number:",{"$f":"'Entry Information'!B22","v":0},null,null,null,null,"Back Number:",{"$f":"'Entry Information'!B22","v":0}]
["Name:",{"$f":"'Entry Information'!I22","v":0},{"$f":"'Entry Information'!H22","v":0},null,null,null,"Name:",{"$f":"'Entry Information'!I22","v":0},{"$f":"'Entry Information'!H22","v":0},null,null,null,"Name:",{"$f":"'Entry Information'!I22","v":0},{"$f":"'Entry Information'!H22","v":0},null,null,null,"Name:",{"$f":"'Entry Information'!I22","v":0},{"$f":"'Entry Information'!H22","v":0},null,null,null,"Name:",{"$f":"'Entry Information'!I22","v":0},{"$f":"'Entry Information'!H22","v":0}]
["Horse Name:",{"$f":"'Entry Information'!J22","v":0},null,null,null,null,"Horse Name:",{"$f":"'Entry Information'!J22","v":0},null,null,null,null,"Horse Name:",{"$f":"'Entry Information'!J22","v":0},null,null,null,null,"Horse Name:",{"$f":"'Entry Information'!J22","v":0},null,null,null,null,"Horse Name:",{"$f":"'Entry Information'!J22","v":0}]
[]
["Check box when entering Ranch Riding scores",null,null,null,null,null,"Check box when entering Working Ranch Horse scores",null,null,null,null,null,"Check box when entering Ranch Cutting scores",null,null,null,null,null,"Check box when entering Ranch Trail scores",null,null,null,null,null,"Check box when entering Conformation scores"]
["Ranch Riding",null,null,null,null,null,"Working Ranch Horse",null,null,null,null,null,"Ranch Cutting",null,null,null,null,null,"Ranch Trail",null,null,null,null,null,"Ranch Conformation"]
["Maneuver","Judge's Score +/-","Penalty Points",null,null,null,"Maneuver","Judge's Score +/-","Penalty Points",null,null,null,"Maneuver","Judge's Score +/-","Penalty Points",null,null,null,"Maneuver","Judge's Score +/-","Penalty Points",null,null,null,"Front Legs, Feet"]
[1,null,null,null,null,null,1,null,null,null,null,null,"Herd Work",null,null,null,null,null,1,null,null,null,null,null,"Chest, Pectoral V"]
[2,null,null,null,null,null,2,null,null,null,null,null,1,null,null,null,null,null,2,null,null,null,null,null,"Head"]
[3,null,null,null,null,null,3,null,null,null,null,null,2,null,null,null,null,null,3,null,null,null,null,null,"Neck & Throat Latch"]
[4,null,null,null,null,null,4,null,null,null,null,null,3,null,null,null,null,null,4,null,null,null,null,null,"Shoulders & Withers"]
[5,null,null,null,null,null,5,null,null,null,null,null,"Cutting",null,null,null,null,null,5,null,null,null,null,null,"Heart Girth & Barrel"]
[6,null,null,null,null,null,6,null,null,null,null,null,1,null,null,null,null,null,6,null,null,null,null,null,"Back & Loin"]
[7,null,null,null,null,null,7,null,null,null,null,null,2,null,null,null,null,null,7,null,null,null,null,null,"Hip & Croup"]
[8,null,null,null,null,null,8,null,null,null,null,null,3,null,null,null,null,null,8,null,null,null,null,null,"Stife & Gaskin"]
[9,null,null,null,null,null,null,null,"Total Penalty Pts",{"$f":"SUM(I10:J17)","v":0},null,null,4,null,null,null,null,null,9,null,null,null,null,null,"Hock, Hind Legs, Feet"]
[10,null,null,null,null,null,"56 +/- Judge Score",{"$f":"SUM(H10:H17)","v":0},"Divided by 2",{"$f":"SUM((56+H19)/2)","v":28},null,null,"Penning",null,null,null,null,null,10,null,null,null,null,null,"Overall Muscling"]
[11,null,null,null,null,null,"Maneuver Score",{"$f":"J19","v":28},"Less Penalty Pts",{"$f":"J18","v":0},null,null,1,null,null,null,null,null,null,null,"Major Penalties",null,null,null,"Tracking","Lame: enter an \"x\""]
[12,null,null,null,null,null,"REINING SCORE",null,null,{"$f":"SUM(H20+J20)","v":28},null,null,2,null,null,null,null,null,null,null,null,null,null,null,"Balance 1"]
[13,null,null,null,null,null,"NOVICE BOXING",null,null,null,null,null,3,null,null,null,null,null,null,null,null,null,null,null,"Balance 2"]
[14,null,null,null,null,null,1,null,"Penalty Points",null,null,null,null,null,"Major Penalties",null,null,null,"Maneuver Total",{"$f":"SUM(T10:T19)","v":0},"Penalty Total",{"$f":"SUM(SUM(U10:V19)+V20)","v":0},null,null,"Balance 3"]
["Maneuver Total",{"$f":"SUM(B10:B23)","v":0},"Major Penalties",null,null,null,"7 +/- Judge Score",{"$f":"SUM(7+H23)","v":7},"Total Penalty Pts",{"$f":"J23","v":0},null,null,null,null,null,null,null,null,null,null,null,null,null,null,"Fitness & Condition"]
[null,null,"Penalty Total",{"$f":"SUM(C10:D24)","v":0},null,null,"Maneuver Score",{"$f":"H24","v":7},"Less Penalty Pts",{"$f":"J24","v":0},null,null,"Maneuver Total",{"$f":"SUM(N10:N22)","v":0},"Penalty Total",{"$f":"SUM(O11+O12+O13+O15+O16+O17+O18+O20+O21+O22+P23)","v":0},null,null,null,null,null,null,null,null,"Participant Showmanship"]
[null,null,null,null,null,null,"CATTLE SCORE",null,null,{"$f":"SUM(H25+J25)","v":7},null,null,null,null,null,null,null,null,null,null,null,null,null,null,"Horse Showmanship"]
["100 +/-Maneuver",{"$f":"B24","v":0},"x .70 =",{"$f":"SUM((100+B27)*0.7)","v":70},null,null,null,null,null,null,null,null,"70 +/-Maneuver",{"$f":"N25","v":0},"Less Penalty Total",{"$f":"P25","v":0},null,null,"70 +/-Maneuver",{"$f":"T23","v":0},"Less Penalty Total",{"$f":"V23","v":0},null,null,"Form & Showmanship Judges Score",null,"Total (1)",{"$f":"SUM(AB9:AB26)","v":0}]
[null,null,null,null,null,null,null,null,null,null,null,null,null,null,null,null,null,null,null,null,null,null,null,null,{"$f":"SUM(AB27*0.33+42)","v":42},{"$f":"IF(AA20=\"x\",-10,0)","v":0},"Judge Score (2)",{"$f":"SUM(Y28+Z28)","v":42}]
["Maneuver Score =",{"$f":"D27","v":70},"Less Penalty Total",{"$f":"D25","v":0},null,null,"Reining Score",{"$f":"J21","v":28},"Plus Cattle Score",{"$f":"J26","v":7},null,null,null,null,null,null,null,null,null,null,null,null,null,null,"Ranch Cutting",{"$f":"IF(P31=\"\",0,P31)","v":0},"Ranch Rding",{"$f":"IF(D31=\"\",0,D31)","v":0}]
[null,null,null,null,null,null,null,null,null,null,null,null,null,null,null,null,null,null,null,null,null,null,null,null,"Working Ranch Horse",{"$f":"IF(J31=\"\",0,J31)","v":0},"Ranch Trail",{"$f":"IF(V31=\"\",0,V31)","v":0}]
["TOTAL SCORE",null,null,{"$f":"IF(D7=\"\",\"\",IF(B29+D29<0,0,B29+D29))","v":""},null,null,"TOTAL SCORE",null,null,{"$f":"IF(J7=\"\",\"\",IF(H29+J29<0,0,H29+J29))","v":""},null,null,"TOTAL SCORE",null,null,{"$f":"IF(P7=\"\",\"\",IF(70+N27+P27<0,0,70+N27+P27))","v":""},null,null,"TOTAL SCORE",null,null,{"$f":"IF(V7=\"\",\"\",IF(70+T27+V27<0,0,70+T27+V27))","v":""},null,null,"Function Total (3)",{"$f":"SUM(Z29+AB29+Z30+AB30)","v":0},"Function Score (4)",{"$f":"Z31*0.1","v":0}]
[null,null,null,null,null,null,null,null,null,null,null,null,null,null,null,null,null,null,null,null,null,null,null,null,"Judge Score (2) + Function Score (4) = CONFORMATION SCORE",null,null,{"$f":"IF(AB7=\"\",\"\",IF(AB28+AB31<0,0,AB28+AB31))","v":""}]
[null,null,"Return to Entry Page",null,null,null,null,null,"Return to Entry Page",null,null,null,null,null,"Return to Entry Page",null,null,null,null,null,"Return to Entry Page"]
[null,null,null,null,null,null,null,null,null,null,null,null,null,null,null,null,null,null,null,null,null,null,null,null,null,null,"Return to Entry Page"]

{"sheet":"Novice 13","index":22,"n_rows":34,"n_cols":28,"rows_kept":34,"cut":false,"hidden":false,"merged":[[31,24,31,26],[30,0,30,2],[30,6,30,8],[30,12,30,14],[30,18,30,20],[26,6,26,9],[27,0,27,3],[27,6,27,9],[27,12,29,15],[27,18,29,21],[29,0,29,3],[29,6,29,9],[23,0,24,0],[23,1,24,1],[23,18,25,21],[25,0,25,3],[25,6,25,8],[25,12,25,15],[21,18,21,21],[18,2,18,3],[18,12,18,15],[18,20,18,21],[19,2,19,3],[19,14,19,15],[19,18,20,19],[19,20,20,20],[19,21,20,21],[20,2,20,3],[20,6,20,8],[20,14,20,15],[22,2,22,3],[22,12,23,13],[22,14,23,14],[22,15,23,15],[15,2,15,3],[15,8,15,9],[15,14,15,15],[17,2,17,3],[17,14,17,15],[21,2,21,3],[21,6,21,9],[21,14,21,15],[17,20,17,21],[13,2,13,3],[13,8,14,9],[13,12,13,15],[13,20,13,21],[14,2,14,3],[14,14,14,15],[14,20,14,21],[15,20,15,21],[16,2,16,3],[16,8,16,9],[16,14,16,15],[16,20,16,21],[7,24,7,27],[11,2,11,3],[11,8,12,9],[11,14,11,15],[11,20,11,21],[12,2,12,3],[12,14,12,15],[12,20,12,21],[9,2,9,3],[9,8,10,9],[9,12,9,15],[9,20,9,21],[10,2,10,3],[10,14,10,15],[10,20,10,21],[8,2,8,3],[8,8,8,9],[8,14,8,15],[8,20,8,21],[7,0,7,3],[7,6,7,9],[7,12,7,15],[7,18,7,21]]}
["RIDERS SCORE WORK SHEET"]
[]
["Back Number:",{"$f":"'Entry Information'!B23","v":0},null,null,null,null,"Back Number:",{"$f":"'Entry Information'!B23","v":0},null,null,null,null,"Back Number:",{"$f":"'Entry Information'!B23","v":0},null,null,null,null,"Back Number:",{"$f":"'Entry Information'!B23","v":0},null,null,null,null,"Back Number:",{"$f":"'Entry Information'!B23","v":0}]
["Name:",{"$f":"'Entry Information'!I23","v":0},{"$f":"'Entry Information'!H23","v":0},null,null,null,"Name:",{"$f":"'Entry Information'!I23","v":0},{"$f":"'Entry Information'!H23","v":0},null,null,null,"Name:",{"$f":"'Entry Information'!I23","v":0},{"$f":"'Entry Information'!H23","v":0},null,null,null,"Name:",{"$f":"'Entry Information'!I23","v":0},{"$f":"'Entry Information'!H23","v":0},null,null,null,"Name:",{"$f":"'Entry Information'!I23","v":0},{"$f":"'Entry Information'!H23","v":0}]
["Horse Name:",{"$f":"'Entry Information'!J23","v":0},null,null,null,null,"Horse Name:",{"$f":"'Entry Information'!J23","v":0},null,null,null,null,"Horse Name:",{"$f":"'Entry Information'!J23","v":0},null,null,null,null,"Horse Name:",{"$f":"'Entry Information'!J23","v":0},null,null,null,null,"Horse Name:",{"$f":"'Entry Information'!J23","v":0}]
[]
["Check box when entering Ranch Riding scores",null,null,null,null,null,"Check box when entering Working Ranch Horse scores",null,null,null,null,null,"Check box when entering Ranch Cutting scores",null,null,null,null,null,"Check box when entering Ranch Trail scores",null,null,null,null,null,"Check box when entering Conformation scores"]
["Ranch Riding",null,null,null,null,null,"Working Ranch Horse",null,null,null,null,null,"Ranch Cutting",null,null,null,null,null,"Ranch Trail",null,null,null,null,null,"Ranch Conformation"]
["Maneuver","Judge's Score +/-","Penalty Points",null,null,null,"Maneuver","Judge's Score +/-","Penalty Points",null,null,null,"Maneuver","Judge's Score +/-","Penalty Points",null,null,null,"Maneuver","Judge's Score +/-","Penalty Points",null,null,null,"Front Legs, Feet"]
[1,null,null,null,null,null,1,null,null,null,null,null,"Herd Work",null,null,null,null,null,1,null,null,null,null,null,"Chest, Pectoral V"]
[2,null,null,null,null,null,2,null,null,null,null,null,1,null,null,null,null,null,2,null,null,null,null,null,"Head"]
[3,null,null,null,null,null,3,null,null,null,null,null,2,null,null,null,null,null,3,null,null,null,null,null,"Neck & Throat Latch"]
[4,null,null,null,null,null,4,null,null,null,null,null,3,null,null,null,null,null,4,null,null,null,null,null,"Shoulders & Withers"]
[5,null,null,null,null,null,5,null,null,null,null,null,"Cutting",null,null,null,null,null,5,null,null,null,null,null,"Heart Girth & Barrel"]
[6,null,null,null,null,null,6,null,null,null,null,null,1,null,null,null,null,null,6,null,null,null,null,null,"Back & Loin"]
[7,null,null,null,null,null,7,null,null,null,null,null,2,null,null,null,null,null,7,null,null,null,null,null,"Hip & Croup"]
[8,null,null,null,null,null,8,null,null,null,null,null,3,null,null,null,null,null,8,null,null,null,null,null,"Stife & Gaskin"]
[9,null,null,null,null,null,null,null,"Total Penalty Pts",{"$f":"SUM(I10:J17)","v":0},null,null,4,null,null,null,null,null,9,null,null,null,null,null,"Hock, Hind Legs, Feet"]
[10,null,null,null,null,null,"56 +/- Judge Score",{"$f":"SUM(H10:H17)","v":0},"Divided by 2",{"$f":"SUM((56+H19)/2)","v":28},null,null,"Penning",null,null,null,null,null,10,null,null,null,null,null,"Overall Muscling"]
[11,null,null,null,null,null,"Maneuver Score",{"$f":"J19","v":28},"Less Penalty Pts",{"$f":"J18","v":0},null,null,1,null,null,null,null,null,null,null,"Major Penalties",null,null,null,"Tracking","Lame: enter an \"x\""]
[12,null,null,null,null,null,"REINING SCORE",null,null,{"$f":"SUM(H20+J20)","v":28},null,null,2,null,null,null,null,null,null,null,null,null,null,null,"Balance 1"]
[13,null,null,null,null,null,"NOVICE BOXING",null,null,null,null,null,3,null,null,null,null,null,null,null,null,null,null,null,"Balance 2"]
[14,null,null,null,null,null,1,null,"Penalty Points",null,null,null,null,null,"Major Penalties",null,null,null,"Maneuver Total",{"$f":"SUM(T10:T19)","v":0},"Penalty Total",{"$f":"SUM(SUM(U10:V19)+V20)","v":0},null,null,"Balance 3"]
["Maneuver Total",{"$f":"SUM(B10:B23)","v":0},"Major Penalties",null,null,null,"7 +/- Judge Score",{"$f":"SUM(7+H23)","v":7},"Total Penalty Pts",{"$f":"J23","v":0},null,null,null,null,null,null,null,null,null,null,null,null,null,null,"Fitness & Condition"]
[null,null,"Penalty Total",{"$f":"SUM(C10:D24)","v":0},null,null,"Maneuver Score",{"$f":"H24","v":7},"Less Penalty Pts",{"$f":"J24","v":0},null,null,"Maneuver Total",{"$f":"SUM(N10:N22)","v":0},"Penalty Total",{"$f":"SUM(O11+O12+O13+O15+O16+O17+O18+O20+O21+O22+P23)","v":0},null,null,null,null,null,null,null,null,"Participant Showmanship"]
[null,null,null,null,null,null,"CATTLE SCORE",null,null,{"$f":"SUM(H25+J25)","v":7},null,null,null,null,null,null,null,null,null,null,null,null,null,null,"Horse Showmanship"]
["100 +/-Maneuver",{"$f":"B24","v":0},"x .70 =",{"$f":"SUM((100+B27)*0.7)","v":70},null,null,null,null,null,null,null,null,"70 +/-Maneuver",{"$f":"N25","v":0},"Less Penalty Total",{"$f":"P25","v":0},null,null,"70 +/-Maneuver",{"$f":"T23","v":0},"Less Penalty Total",{"$f":"V23","v":0},null,null,"Form & Showmanship Judges Score",null,"Total (1)",{"$f":"SUM(AB9:AB26)","v":0}]
[null,null,null,null,null,null,null,null,null,null,null,null,null,null,null,null,null,null,null,null,null,null,null,null,{"$f":"SUM(AB27*0.33+42)","v":42},{"$f":"IF(AA20=\"x\",-10,0)","v":0},"Judge Score (2)",{"$f":"SUM(Y28+Z28)","v":42}]
["Maneuver Score =",{"$f":"D27","v":70},"Less Penalty Total",{"$f":"D25","v":0},null,null,"Reining Score",{"$f":"J21","v":28},"Plus Cattle Score",{"$f":"J26","v":7},null,null,null,null,null,null,null,null,null,null,null,null,null,null,"Ranch Cutting",{"$f":"IF(P31=\"\",0,P31)","v":0},"Ranch Rding",{"$f":"IF(D31=\"\",0,D31)","v":0}]
[null,null,null,null,null,null,null,null,null,null,null,null,null,null,null,null,null,null,null,null,null,null,null,null,"Working Ranch Horse",{"$f":"IF(J31=\"\",0,J31)","v":0},"Ranch Trail",{"$f":"IF(V31=\"\",0,V31)","v":0}]
["TOTAL SCORE",null,null,{"$f":"IF(D7=\"\",\"\",IF(B29+D29<0,0,B29+D29))","v":""},null,null,"TOTAL SCORE",null,null,{"$f":"IF(J7=\"\",\"\",IF(H29+J29<0,0,H29+J29))","v":""},null,null,"TOTAL SCORE",null,null,{"$f":"IF(P7=\"\",\"\",IF(70+N27+P27<0,0,70+N27+P27))","v":""},null,null,"TOTAL SCORE",null,null,{"$f":"IF(V7=\"\",\"\",IF(70+T27+V27<0,0,70+T27+V27))","v":""},null,null,"Function Total (3)",{"$f":"SUM(Z29+AB29+Z30+AB30)","v":0},"Function Score (4)",{"$f":"Z31*0.1","v":0}]
[null,null,null,null,null,null,null,null,null,null,null,null,null,null,null,null,null,null,null,null,null,null,null,null,"Judge Score (2) + Function Score (4) = CONFORMATION SCORE",null,null,{"$f":"IF(AB7=\"\",\"\",IF(AB28+AB31<0,0,AB28+AB31))","v":""}]
[null,null,"Return to Entry Page",null,null,null,null,null,"Return to Entry Page",null,null,null,null,null,"Return to Entry Page",null,null,null,null,null,"Return to Entry Page"]
[null,null,null,null,null,null,null,null,null,null,null,null,null,null,null,null,null,null,null,null,null,null,null,null,null,null,"Return to Entry Page"]

{"sheet":"Novice 14","index":23,"n_rows":34,"n_cols":28,"rows_kept":34,"cut":false,"hidden":false,"merged":[[31,24,31,26],[30,0,30,2],[30,6,30,8],[30,12,30,14],[30,18,30,20],[26,6,26,9],[27,0,27,3],[27,6,27,9],[27,12,29,15],[27,18,29,21],[29,0,29,3],[29,6,29,9],[23,0,24,0],[23,1,24,1],[23,18,25,21],[25,0,25,3],[25,6,25,8],[25,12,25,15],[21,18,21,21],[18,2,18,3],[18,12,18,15],[18,20,18,21],[19,2,19,3],[19,14,19,15],[19,18,20,19],[19,20,20,20],[19,21,20,21],[20,2,20,3],[20,6,20,8],[20,14,20,15],[22,2,22,3],[22,12,23,13],[22,14,23,14],[22,15,23,15],[15,2,15,3],[15,8,15,9],[15,14,15,15],[17,2,17,3],[17,14,17,15],[21,2,21,3],[21,6,21,9],[21,14,21,15],[17,20,17,21],[13,2,13,3],[13,8,14,9],[13,12,13,15],[13,20,13,21],[14,2,14,3],[14,14,14,15],[14,20,14,21],[15,20,15,21],[16,2,16,3],[16,8,16,9],[16,14,16,15],[16,20,16,21],[7,24,7,27],[11,2,11,3],[11,8,12,9],[11,14,11,15],[11,20,11,21],[12,2,12,3],[12,14,12,15],[12,20,12,21],[9,2,9,3],[9,8,10,9],[9,12,9,15],[9,20,9,21],[10,2,10,3],[10,14,10,15],[10,20,10,21],[8,2,8,3],[8,8,8,9],[8,14,8,15],[8,20,8,21],[7,0,7,3],[7,6,7,9],[7,12,7,15],[7,18,7,21]]}
["RIDERS SCORE WORK SHEET"]
[1]
["Back Number:",1,null,null,null,null,"Back Number:",{"$f":"'Entry Information'!B24","v":0},null,null,null,null,"Back Number:",{"$f":"'Entry Information'!B24","v":0},null,null,null,null,"Back Number:",{"$f":"'Entry Information'!B24","v":0},null,null,null,null,"Back Number:",{"$f":"'Entry Information'!B24","v":0}]
["Name:",{"$f":"'Entry Information'!I24","v":0},{"$f":"'Entry Information'!H24","v":0},null,null,null,"Name:",{"$f":"'Entry Information'!I24","v":0},{"$f":"'Entry Information'!H24","v":0},null,null,null,"Name:",{"$f":"'Entry Information'!I24","v":0},{"$f":"'Entry Information'!H24","v":0},null,null,null,"Name:",{"$f":"'Entry Information'!I24","v":0},{"$f":"'Entry Information'!H24","v":0},null,null,null,"Name:",{"$f":"'Entry Information'!I24","v":0},{"$f":"'Entry Information'!H24","v":0}]
["Horse Name:",{"$f":"'Entry Information'!J24","v":0},null,null,null,null,"Horse Name:",{"$f":"'Entry Information'!J24","v":0},null,null,null,null,"Horse Name:",{"$f":"'Entry Information'!J24","v":0},null,null,null,null,"Horse Name:",{"$f":"'Entry Information'!J24","v":0},null,null,null,null,"Horse Name:",{"$f":"'Entry Information'!J24","v":0}]
[]
["Check box when entering Ranch Riding scores",null,null,null,null,null,"Check box when entering Working Ranch Horse scores",null,null,null,null,null,"Check box when entering Ranch Cutting scores",null,null,null,null,null,"Check box when entering Ranch Trail scores",null,null,null,null,null,"Check box when entering Conformation scores"]
["Ranch Riding",null,null,null,null,null,"Working Ranch Horse",null,null,null,null,null,"Ranch Cutting",null,null,null,null,null,"Ranch Trail",null,null,null,null,null,"Ranch Conformation"]
["Maneuver","Judge's Score +/-","Penalty Points",null,null,null,"Maneuver","Judge's Score +/-","Penalty Points",null,null,null,"Maneuver","Judge's Score +/-","Penalty Points",null,null,null,"Maneuver","Judge's Score +/-","Penalty Points",null,null,null,"Front Legs, Feet"]
[1,null,null,null,null,null,1,null,null,null,null,null,"Herd Work",null,null,null,null,null,1,null,null,null,null,null,"Chest, Pectoral V"]
[2,null,null,null,null,null,2,null,null,null,null,null,1,null,null,null,null,null,2,null,null,null,null,null,"Head"]
[3,null,null,null,null,null,3,null,null,null,null,null,2,null,null,null,null,null,3,null,null,null,null,null,"Neck & Throat Latch"]
[4,null,null,null,null,null,4,null,null,null,null,null,3,null,null,null,null,null,4,null,null,null,null,null,"Shoulders & Withers"]
[5,null,null,null,null,null,5,null,null,null,null,null,"Cutting",null,null,null,null,null,5,null,null,null,null,null,"Heart Girth & Barrel"]
[6,null,null,null,null,null,6,null,null,null,null,null,1,null,null,null,null,null,6,null,null,null,null,null,"Back & Loin"]
[7,null,null,null,null,null,7,null,null,null,null,null,2,null,null,null,null,null,7,null,null,null,null,null,"Hip & Croup"]
[8,null,null,null,null,null,8,null,null,null,null,null,3,null,null,null,null,null,8,null,null,null,null,null,"Stife & Gaskin"]
[9,null,null,null,null,null,null,null,"Total Penalty Pts",{"$f":"SUM(I10:J17)","v":0},null,null,4,null,null,null,null,null,9,null,null,null,null,null,"Hock, Hind Legs, Feet"]
[10,null,null,null,null,null,"56 +/- Judge Score",{"$f":"SUM(H10:H17)","v":0},"Divided by 2",{"$f":"SUM((56+H19)/2)","v":28},null,null,"Penning",null,null,null,null,null,10,null,null,null,null,null,"Overall Muscling"]
[11,null,null,null,null,null,"Maneuver Score",{"$f":"J19","v":28},"Less Penalty Pts",{"$f":"J18","v":0},null,null,1,null,null,null,null,null,null,null,"Major Penalties",null,null,null,"Tracking","Lame: enter an \"x\""]
[12,null,null,null,null,null,"REINING SCORE",null,null,{"$f":"SUM(H20+J20)","v":28},null,null,2,null,null,null,null,null,null,null,null,null,null,null,"Balance 1"]
[13,null,null,null,null,null,"NOVICE BOXING",null,null,null,null,null,3,null,null,null,null,null,null,null,null,null,null,null,"Balance 2"]
[14,null,null,null,null,null,1,null,"Penalty Points",null,null,null,null,null,"Major Penalties",null,null,null,"Maneuver Total",{"$f":"SUM(T10:T19)","v":0},"Penalty Total",{"$f":"SUM(SUM(U10:V19)+V20)","v":0},null,null,"Balance 3"]
["Maneuver Total",{"$f":"SUM(B10:B23)","v":0},"Major Penalties",null,null,null,"7 +/- Judge Score",{"$f":"SUM(7+H23)","v":7},"Total Penalty Pts",{"$f":"J23","v":0},null,null,null,null,null,null,null,null,null,null,null,null,null,null,"Fitness & Condition"]
[null,null,"Penalty Total",{"$f":"SUM(C10:D24)","v":0},null,null,"Maneuver Score",{"$f":"H24","v":7},"Less Penalty Pts",{"$f":"J24","v":0},null,null,"Maneuver Total",{"$f":"SUM(N10:N22)","v":0},"Penalty Total",{"$f":"SUM(O11+O12+O13+O15+O16+O17+O18+O20+O21+O22+P23)","v":0},null,null,null,null,null,null,null,null,"Participant Showmanship"]
[null,null,null,null,null,null,"CATTLE SCORE",null,null,{"$f":"SUM(H25+J25)","v":7},null,null,null,null,null,null,null,null,null,null,null,null,null,null,"Horse Showmanship"]
["100 +/-Maneuver",{"$f":"B24","v":0},"x .70 =",{"$f":"SUM((100+B27)*0.7)","v":70},null,null,null,null,null,null,null,null,"70 +/-Maneuver",{"$f":"N25","v":0},"Less Penalty Total",{"$f":"P25","v":0},null,null,"70 +/-Maneuver",{"$f":"T23","v":0},"Less Penalty Total",{"$f":"V23","v":0},null,null,"Form & Showmanship Judges Score",null,"Total (1)",{"$f":"SUM(AB9:AB26)","v":0}]
[null,null,null,null,null,null,null,null,null,null,null,null,null,null,null,null,null,null,null,null,null,null,null,null,{"$f":"SUM(AB27*0.33+42)","v":42},{"$f":"IF(AA20=\"x\",-10,0)","v":0},"Judge Score (2)",{"$f":"SUM(Y28+Z28)","v":42}]
["Maneuver Score =",{"$f":"D27","v":70},"Less Penalty Total",{"$f":"D25","v":0},null,null,"Reining Score",{"$f":"J21","v":28},"Plus Cattle Score",{"$f":"J26","v":7},null,null,null,null,null,null,null,null,null,null,null,null,null,null,"Ranch Cutting",{"$f":"IF(P31=\"\",0,P31)","v":0},"Ranch Rding",{"$f":"IF(D31=\"\",0,D31)","v":0}]
[null,null,null,null,null,null,null,null,null,null,null,null,null,null,null,null,null,null,null,null,null,null,null,null,"Working Ranch Horse",{"$f":"IF(J31=\"\",0,J31)","v":0},"Ranch Trail",{"$f":"IF(V31=\"\",0,V31)","v":0}]
["TOTAL SCORE",null,null,{"$f":"IF(D7=\"\",\"\",IF(B29+D29<0,0,B29+D29))","v":""},null,null,"TOTAL SCORE",null,null,{"$f":"IF(J7=\"\",\"\",IF(H29+J29<0,0,H29+J29))","v":""},null,null,"TOTAL SCORE",null,null,{"$f":"IF(P7=\"\",\"\",IF(70+N27+P27<0,0,70+N27+P27))","v":""},null,null,"TOTAL SCORE",null,null,{"$f":"IF(V7=\"\",\"\",IF(70+T27+V27<0,0,70+T27+V27))","v":""},null,null,"Function Total (3)",{"$f":"SUM(Z29+AB29+Z30+AB30)","v":0},"Function Score (4)",{"$f":"Z31*0.1","v":0}]
[null,null,null,null,null,null,null,null,null,null,null,null,null,null,null,null,null,null,null,null,null,null,null,null,"Judge Score (2) + Function Score (4) = CONFORMATION SCORE",null,null,{"$f":"IF(AB7=\"\",\"\",IF(AB28+AB31<0,0,AB28+AB31))","v":""}]
[null,null,"Return to Entry Page",null,null,null,null,null,"Return to Entry Page",null,null,null,null,null,"Return to Entry Page",null,null,null,null,null,"Return to Entry Page"]
[null,null,null,null,null,null,null,null,null,null,null,null,null,null,null,null,null,null,null,null,null,null,null,null,null,null,"Return to Entry Page"]

{"sheet":"Novice 15","index":24,"n_rows":34,"n_cols":28,"rows_kept":34,"cut":false,"hidden":false,"merged":[[31,24,31,26],[30,0,30,2],[30,6,30,8],[30,12,30,14],[30,18,30,20],[26,6,26,9],[27,0,27,3],[27,6,27,9],[27,12,29,15],[27,18,29,21],[29,0,29,3],[29,6,29,9],[23,0,24,0],[23,1,24,1],[23,18,25,21],[25,0,25,3],[25,6,25,8],[25,12,25,15],[21,18,21,21],[18,2,18,3],[18,12,18,15],[18,20,18,21],[19,2,19,3],[19,14,19,15],[19,18,20,19],[19,20,20,20],[19,21,20,21],[20,2,20,3],[20,6,20,8],[20,14,20,15],[22,2,22,3],[22,12,23,13],[22,14,23,14],[22,15,23,15],[15,2,15,3],[15,8,15,9],[15,14,15,15],[17,2,17,3],[17,14,17,15],[21,2,21,3],[21,6,21,9],[21,14,21,15],[17,20,17,21],[13,2,13,3],[13,8,14,9],[13,12,13,15],[13,20,13,21],[14,2,14,3],[14,14,14,15],[14,20,14,21],[15,20,15,21],[16,2,16,3],[16,8,16,9],[16,14,16,15],[16,20,16,21],[7,24,7,27],[11,2,11,3],[11,8,12,9],[11,14,11,15],[11,20,11,21],[12,2,12,3],[12,14,12,15],[12,20,12,21],[9,2,9,3],[9,8,10,9],[9,12,9,15],[9,20,9,21],[10,2,10,3],[10,14,10,15],[10,20,10,21],[8,2,8,3],[8,8,8,9],[8,14,8,15],[8,20,8,21],[7,0,7,3],[7,6,7,9],[7,12,7,15],[7,18,7,21]]}
["RIDERS SCORE WORK SHEET"]
[]
["Back Number:",{"$f":"'Entry Information'!B25","v":0},null,null,null,null,"Back Number:",{"$f":"'Entry Information'!B25","v":0},null,null,null,null,"Back Number:",{"$f":"'Entry Information'!B25","v":0},null,null,null,null,"Back Number:",{"$f":"'Entry Information'!B25","v":0},null,null,null,null,"Back Number:",{"$f":"'Entry Information'!B25","v":0}]
["Name:",{"$f":"'Entry Information'!I25","v":0},{"$f":"'Entry Information'!H25","v":0},null,null,null,"Name:",{"$f":"'Entry Information'!I25","v":0},{"$f":"'Entry Information'!H25","v":0},null,null,null,"Name:",{"$f":"'Entry Information'!I25","v":0},{"$f":"'Entry Information'!H25","v":0},null,null,null,"Name:",{"$f":"'Entry Information'!I25","v":0},{"$f":"'Entry Information'!H25","v":0},null,null,null,"Name:",{"$f":"'Entry Information'!I25","v":0},{"$f":"'Entry Information'!H25","v":0}]
["Horse Name:",{"$f":"'Entry Information'!J25","v":0},null,null,null,null,"Horse Name:",{"$f":"'Entry Information'!J25","v":0},null,null,null,null,"Horse Name:",{"$f":"'Entry Information'!J25","v":0},null,null,null,null,"Horse Name:",{"$f":"'Entry Information'!J25","v":0},null,null,null,null,"Horse Name:",{"$f":"'Entry Information'!J25","v":0}]
[]
["Check box when entering Ranch Riding scores",null,null,null,null,null,"Check box when entering Working Ranch Horse scores",null,null,null,null,null,"Check box when entering Ranch Cutting scores",null,null,null,null,null,"Check box when entering Ranch Trail scores",null,null,null,null,null,"Check box when entering Conformation scores"]
["Ranch Riding",null,null,null,null,null,"Working Ranch Horse",null,null,null,null,null,"Ranch Cutting",null,null,null,null,null,"Ranch Trail",null,null,null,null,null,"Ranch Conformation"]
["Maneuver","Judge's Score +/-","Penalty Points",null,null,null,"Maneuver","Judge's Score +/-","Penalty Points",null,null,null,"Maneuver","Judge's Score +/-","Penalty Points",null,null,null,"Maneuver","Judge's Score +/-","Penalty Points",null,null,null,"Front Legs, Feet"]
[1,null,null,null,null,null,1,null,null,null,null,null,"Herd Work",null,null,null,null,null,1,null,null,null,null,null,"Chest, Pectoral V"]
[2,null,null,null,null,null,2,null,null,null,null,null,1,null,null,null,null,null,2,null,null,null,null,null,"Head"]
[3,null,null,null,null,null,3,null,null,null,null,null,2,null,null,null,null,null,3,null,null,null,null,null,"Neck & Throat Latch"]
[4,null,null,null,null,null,4,null,null,null,null,null,3,null,null,null,null,null,4,null,null,null,null,null,"Shoulders & Withers"]
[5,null,null,null,null,null,5,null,null,null,null,null,"Cutting",null,null,null,null,null,5,null,null,null,null,null,"Heart Girth & Barrel"]
[6,null,null,null,null,null,6,null,null,null,null,null,1,null,null,null,null,null,6,null,null,null,null,null,"Back & Loin"]
[7,null,null,null,null,null,7,null,null,null,null,null,2,null,null,null,null,null,7,null,null,null,null,null,"Hip & Croup"]
[8,null,null,null,null,null,8,null,null,null,null,null,3,null,null,null,null,null,8,null,null,null,null,null,"Stife & Gaskin"]
[9,null,null,null,null,null,null,null,"Total Penalty Pts",{"$f":"SUM(I10:J17)","v":0},null,null,4,null,null,null,null,null,9,null,null,null,null,null,"Hock, Hind Legs, Feet"]
[10,null,null,null,null,null,"56 +/- Judge Score",{"$f":"SUM(H10:H17)","v":0},"Divided by 2",{"$f":"SUM((56+H19)/2)","v":28},null,null,"Penning",null,null,null,null,null,10,null,null,null,null,null,"Overall Muscling"]
[11,null,null,null,null,null,"Maneuver Score",{"$f":"J19","v":28},"Less Penalty Pts",{"$f":"J18","v":0},null,null,1,null,null,null,null,null,null,null,"Major Penalties",null,null,null,"Tracking","Lame: enter an \"x\""]
[12,null,null,null,null,null,"REINING SCORE",null,null,{"$f":"SUM(H20+J20)","v":28},null,null,2,null,null,null,null,null,null,null,null,null,null,null,"Balance 1"]
[13,null,null,null,null,null,"NOVICE BOXING",null,null,null,null,null,3,null,null,null,null,null,null,null,null,null,null,null,"Balance 2"]
[14,null,null,null,null,null,1,null,"Penalty Points",null,null,null,null,null,"Major Penalties",null,null,null,"Maneuver Total",{"$f":"SUM(T10:T19)","v":0},"Penalty Total",{"$f":"SUM(SUM(U10:V19)+V20)","v":0},null,null,"Balance 3"]
["Maneuver Total",{"$f":"SUM(B10:B23)","v":0},"Major Penalties",null,null,null,"7 +/- Judge Score",{"$f":"SUM(7+H23)","v":7},"Total Penalty Pts",{"$f":"J23","v":0},null,null,null,null,null,null,null,null,null,null,null,null,null,null,"Fitness & Condition"]
[null,null,"Penalty Total",{"$f":"SUM(C10:D24)","v":0},null,null,"Maneuver Score",{"$f":"H24","v":7},"Less Penalty Pts",{"$f":"J24","v":0},null,null,"Maneuver Total",{"$f":"SUM(N10:N22)","v":0},"Penalty Total",{"$f":"SUM(O11+O12+O13+O15+O16+O17+O18+O20+O21+O22+P23)","v":0},null,null,null,null,null,null,null,null,"Participant Showmanship"]
[null,null,null,null,null,null,"CATTLE SCORE",null,null,{"$f":"SUM(H25+J25)","v":7},null,null,null,null,null,null,null,null,null,null,null,null,null,null,"Horse Showmanship"]
["100 +/-Maneuver",{"$f":"B24","v":0},"x .70 =",{"$f":"SUM((100+B27)*0.7)","v":70},null,null,null,null,null,null,null,null,"70 +/-Maneuver",{"$f":"N25","v":0},"Less Penalty Total",{"$f":"P25","v":0},null,null,"70 +/-Maneuver",{"$f":"T23","v":0},"Less Penalty Total",{"$f":"V23","v":0},null,null,"Form & Showmanship Judges Score",null,"Total (1)",{"$f":"SUM(AB9:AB26)","v":0}]
[null,null,null,null,null,null,null,null,null,null,null,null,null,null,null,null,null,null,null,null,null,null,null,null,{"$f":"SUM(AB27*0.33+42)","v":42},{"$f":"IF(AA20=\"x\",-10,0)","v":0},"Judge Score (2)",{"$f":"SUM(Y28+Z28)","v":42}]
["Maneuver Score =",{"$f":"D27","v":70},"Less Penalty Total",{"$f":"D25","v":0},null,null,"Reining Score",{"$f":"J21","v":28},"Plus Cattle Score",{"$f":"J26","v":7},null,null,null,null,null,null,null,null,null,null,null,null,null,null,"Ranch Cutting",{"$f":"IF(P31=\"\",0,P31)","v":0},"Ranch Rding",{"$f":"IF(D31=\"\",0,D31)","v":0}]
[null,null,null,null,null,null,null,null,null,null,null,null,null,null,null,null,null,null,null,null,null,null,null,null,"Working Ranch Horse",{"$f":"IF(J31=\"\",0,J31)","v":0},"Ranch Trail",{"$f":"IF(V31=\"\",0,V31)","v":0}]
["TOTAL SCORE",null,null,{"$f":"IF(D7=\"\",\"\",IF(B29+D29<0,0,B29+D29))","v":""},null,null,"TOTAL SCORE",null,null,{"$f":"IF(J7=\"\",\"\",IF(H29+J29<0,0,H29+J29))","v":""},null,null,"TOTAL SCORE",null,null,{"$f":"IF(P7=\"\",\"\",IF(70+N27+P27<0,0,70+N27+P27))","v":""},null,null,"TOTAL SCORE",null,null,{"$f":"IF(V7=\"\",\"\",IF(70+T27+V27<0,0,70+T27+V27))","v":""},null,null,"Function Total (3)",{"$f":"SUM(Z29+AB29+Z30+AB30)","v":0},"Function Score (4)",{"$f":"Z31*0.1","v":0}]
[null,null,null,null,null,null,null,null,null,null,null,null,null,null,null,null,null,null,null,null,null,null,null,null,"Judge Score (2) + Function Score (4) = CONFORMATION SCORE",null,null,{"$f":"IF(AB7=\"\",\"\",IF(AB28+AB31<0,0,AB28+AB31))","v":""}]
[null,null,"Return to Entry Page",null,null,null,null,null,"Return to Entry Page",null,null,null,null,null,"Return to Entry Page",null,null,null,null,null,"Return to Entry Page"]
[null,null,null,null,null,null,null,null,null,null,null,null,null,null,null,null,null,null,null,null,null,null,null,null,null,null,"Return to Entry Page"]

{"sheet":"Novice 16","index":25,"n_rows":34,"n_cols":28,"rows_kept":34,"cut":false,"hidden":false,"merged":[[31,24,31,26],[8,2,8,3],[8,8,8,9],[8,14,8,15],[8,20,8,21],[9,2,9,3],[9,8,10,9],[9,12,9,15],[9,20,9,21],[10,2,10,3],[10,14,10,15],[10,20,10,21],[11,2,11,3],[11,8,12,9],[11,14,11,15],[11,20,11,21],[7,0,7,3],[7,6,7,9],[7,12,7,15],[7,18,7,21],[7,24,7,27],[12,2,12,3],[12,14,12,15],[12,20,12,21],[13,2,13,3],[13,8,14,9],[13,12,13,15],[13,20,13,21],[14,2,14,3],[14,14,14,15],[14,20,14,21],[15,2,15,3],[15,8,15,9],[15,14,15,15],[15,20,15,21],[18,12,18,15],[18,20,18,21],[16,2,16,3],[16,8,16,9],[16,14,16,15],[16,20,16,21],[17,2,17,3],[17,14,17,15],[17,20,17,21],[22,14,23,14],[22,15,23,15],[19,2,19,3],[19,14,19,15],[21,2,21,3],[21,6,21,9],[21,14,21,15],[21,18,21,21],[18,2,18,3],[23,0,24,0],[23,1,24,1],[23,18,25,21],[25,0,25,3],[25,6,25,8],[25,12,25,15],[19,18,20,19],[19,20,20,20],[19,21,20,21],[20,2,20,3],[20,6,20,8],[20,14,20,15],[22,2,22,3],[22,12,23,13],[30,0,30,2],[30,6,30,8],[30,12,30,14],[30,18,30,20],[26,6,26,9],[27,0,27,3],[27,6,27,9],[27,12,29,15],[27,18,29,21],[29,0,29,3],[29,6,29,9]]}
["RIDERS SCORE WORK SHEET"]
[]
["Back Number:",{"$f":"'Entry Information'!B26","v":0},null,null,null,null,"Back Number:",{"$f":"'Entry Information'!B26","v":0},null,null,null,null,"Back Number:",{"$f":"'Entry Information'!B26","v":0},null,null,null,null,"Back Number:",{"$f":"'Entry Information'!B26","v":0},null,null,null,null,"Back Number:",{"$f":"'Entry Information'!B26","v":0}]
["Name:",{"$f":"'Entry Information'!I26","v":0},{"$f":"'Entry Information'!H26","v":0},null,null,null,"Name:",{"$f":"'Entry Information'!I26","v":0},{"$f":"'Entry Information'!H26","v":0},null,null,null,"Name:",{"$f":"'Entry Information'!I26","v":0},{"$f":"'Entry Information'!H26","v":0},null,null,null,"Name:",{"$f":"'Entry Information'!I26","v":0},{"$f":"'Entry Information'!H26","v":0},null,null,null,"Name:",{"$f":"'Entry Information'!I26","v":0},{"$f":"'Entry Information'!H26","v":0}]
["Horse Name:",{"$f":"'Entry Information'!J26","v":0},null,null,null,null,"Horse Name:",{"$f":"'Entry Information'!J26","v":0},null,null,null,null,"Horse Name:",{"$f":"'Entry Information'!J26","v":0},null,null,null,null,"Horse Name:",{"$f":"'Entry Information'!J26","v":0},null,null,null,null,"Horse Name:",{"$f":"'Entry Information'!J26","v":0}]
[]
["Check box when entering Ranch Riding scores",null,null,null,null,null,"Check box when entering Working Ranch Horse scores",null,null,null,null,null,"Check box when entering Ranch Cutting scores",null,null,null,null,null,"Check box when entering Ranch Trail scores",null,null,null,null,null,"Check box when entering Conformation scores"]
["Ranch Riding",null,null,null,null,null,"Working Ranch Horse",null,null,null,null,null,"Ranch Cutting",null,null,null,null,null,"Ranch Trail",null,null,null,null,null,"Ranch Conformation"]
["Maneuver","Judge's Score +/-","Penalty Points",null,null,null,"Maneuver","Judge's Score +/-","Penalty Points",null,null,null,"Maneuver","Judge's Score +/-","Penalty Points",null,null,null,"Maneuver","Judge's Score +/-","Penalty Points",null,null,null,"Front Legs, Feet"]
[1,null,null,null,null,null,1,null,null,null,null,null,"Herd Work",null,null,null,null,null,1,null,null,null,null,null,"Chest, Pectoral V"]
[2,null,null,null,null,null,2,null,null,null,null,null,1,null,null,null,null,null,2,null,null,null,null,null,"Head"]
[3,null,null,null,null,null,3,null,null,null,null,null,2,null,null,null,null,null,3,null,null,null,null,null,"Neck & Throat Latch"]
[4,null,null,null,null,null,4,null,null,null,null,null,3,null,null,null,null,null,4,null,null,null,null,null,"Shoulders & Withers"]
[5,null,null,null,null,null,5,null,null,null,null,null,"Cutting",null,null,null,null,null,5,null,null,null,null,null,"Heart Girth & Barrel"]
[6,null,null,null,null,null,6,null,null,null,null,null,1,null,null,null,null,null,6,null,null,null,null,null,"Back & Loin"]
[7,null,null,null,null,null,7,null,null,null,null,null,2,null,null,null,null,null,7,null,null,null,null,null,"Hip & Croup"]
[8,null,null,null,null,null,8,null,null,null,null,null,3,null,null,null,null,null,8,null,null,null,null,null,"Stife & Gaskin"]
[9,null,null,null,null,null,null,null,"Total Penalty Pts",{"$f":"SUM(I10:J17)","v":0},null,null,4,null,null,null,null,null,9,null,null,null,null,null,"Hock, Hind Legs, Feet"]
[10,null,null,null,null,null,"56 +/- Judge Score",{"$f":"SUM(H10:H17)","v":0},"Divided by 2",{"$f":"SUM((56+H19)/2)","v":28},null,null,"Penning",null,null,null,null,null,10,null,null,null,null,null,"Overall Muscling"]
[11,null,null,null,null,null,"Maneuver Score",{"$f":"J19","v":28},"Less Penalty Pts",{"$f":"J18","v":0},null,null,1,null,null,null,null,null,null,null,"Major Penalties",null,null,null,"Tracking","Lame: enter an \"x\""]
[12,null,null,null,null,null,"REINING SCORE",null,null,{"$f":"SUM(H20+J20)","v":28},null,null,2,null,null,null,null,null,null,null,null,null,null,null,"Balance 1"]
[13,null,null,null,null,null,"NOVICE BOXING",null,null,null,null,null,3,null,null,null,null,null,null,null,null,null,null,null,"Balance 2"]
[14,null,null,null,null,null,1,null,"Penalty Points",null,null,null,null,null,"Major Penalties",null,null,null,"Maneuver Total",{"$f":"SUM(T10:T19)","v":0},"Penalty Total",{"$f":"SUM(SUM(U10:V19)+V20)","v":0},null,null,"Balance 3"]
["Maneuver Total",{"$f":"SUM(B10:B23)","v":0},"Major Penalties",null,null,null,"7 +/- Judge Score",{"$f":"SUM(7+H23)","v":7},"Total Penalty Pts",{"$f":"J23","v":0},null,null,null,null,null,null,null,null,null,null,null,null,null,null,"Fitness & Condition"]
[null,null,"Penalty Total",{"$f":"SUM(C10:D24)","v":0},null,null,"Maneuver Score",{"$f":"H24","v":7},"Less Penalty Pts",{"$f":"J24","v":0},null,null,"Maneuver Total",{"$f":"SUM(N10:N22)","v":0},"Penalty Total",{"$f":"SUM(O11+O12+O13+O15+O16+O17+O18+O20+O21+O22+P23)","v":0},null,null,null,null,null,null,null,null,"Participant Showmanship"]
[null,null,null,null,null,null,"CATTLE SCORE",null,null,{"$f":"SUM(H25+J25)","v":7},null,null,null,null,null,null,null,null,null,null,null,null,null,null,"Horse Showmanship"]
["100 +/-Maneuver",{"$f":"B24","v":0},"x .70 =",{"$f":"SUM((100+B27)*0.7)","v":70},null,null,null,null,null,null,null,null,"70 +/-Maneuver",{"$f":"N25","v":0},"Less Penalty Total",{"$f":"P25","v":0},null,null,"70 +/-Maneuver",{"$f":"T23","v":0},"Less Penalty Total",{"$f":"V23","v":0},null,null,"Form & Showmanship Judges Score",null,"Total (1)",{"$f":"SUM(AB9:AB26)","v":0}]
[null,null,null,null,null,null,null,null,null,null,null,null,null,null,null,null,null,null,null,null,null,null,null,null,{"$f":"SUM(AB27*0.33+42)","v":42},{"$f":"IF(AA20=\"x\",-10,0)","v":0},"Judge Score (2)",{"$f":"SUM(Y28+Z28)","v":42}]
["Maneuver Score =",{"$f":"D27","v":70},"Less Penalty Total",{"$f":"D25","v":0},null,null,"Reining Score",{"$f":"J21","v":28},"Plus Cattle Score",{"$f":"J26","v":7},null,null,null,null,null,null,null,null,null,null,null,null,null,null,"Ranch Cutting",{"$f":"IF(P31=\"\",0,P31)","v":0},"Ranch Rding",{"$f":"IF(D31=\"\",0,D31)","v":0}]
[null,null,null,null,null,null,null,null,null,null,null,null,null,null,null,null,null,null,null,null,null,null,null,null,"Working Ranch Horse",{"$f":"IF(J31=\"\",0,J31)","v":0},"Ranch Trail",{"$f":"IF(V31=\"\",0,V31)","v":0}]
["TOTAL SCORE",null,null,{"$f":"IF(D7=\"\",\"\",IF(B29+D29<0,0,B29+D29))","v":""},null,null,"TOTAL SCORE",null,null,{"$f":"IF(J7=\"\",\"\",IF(H29+J29<0,0,H29+J29))","v":""},null,null,"TOTAL SCORE",null,null,{"$f":"IF(P7=\"\",\"\",IF(70+N27+P27<0,0,70+N27+P27))","v":""},null,null,"TOTAL SCORE",null,null,{"$f":"IF(V7=\"\",\"\",IF(70+T27+V27<0,0,70+T27+V27))","v":""},null,null,"Function Total (3)",{"$f":"SUM(Z29+AB29+Z30+AB30)","v":0},"Function Score (4)",{"$f":"Z31*0.1","v":0}]
[null,null,null,null,null,null,null,null,null,null,null,null,null,null,null,null,null,null,null,null,null,null,null,null,"Judge Score (2) + Function Score (4) = CONFORMATION SCORE",null,null,{"$f":"IF(AB7=\"\",\"\",IF(AB28+AB31<0,0,AB28+AB31))","v":""}]
[null,null,"Return to Entry Page",null,null,null,null,null,"Return to Entry Page",null,null,null,null,null,"Return to Entry Page",null,null,null,null,null,"Return to Entry Page"]
[null,null,null,null,null,null,null,null,null,null,null,null,null,null,null,null,null,null,null,null,null,null,null,null,null,null,"Return to Entry Page"]

{"sheet":"Novice 17","index":26,"n_rows":34,"n_cols":28,"rows_kept":34,"cut":false,"hidden":false,"merged":[[31,24,31,26],[8,2,8,3],[8,8,8,9],[8,14,8,15],[8,20,8,21],[9,2,9,3],[9,8,10,9],[9,12,9,15],[9,20,9,21],[10,2,10,3],[10,14,10,15],[10,20,10,21],[11,2,11,3],[11,8,12,9],[11,14,11,15],[11,20,11,21],[7,0,7,3],[7,6,7,9],[7,12,7,15],[7,18,7,21],[7,24,7,27],[12,2,12,3],[12,14,12,15],[12,20,12,21],[13,2,13,3],[13,8,14,9],[13,12,13,15],[13,20,13,21],[14,2,14,3],[14,14,14,15],[14,20,14,21],[15,2,15,3],[15,8,15,9],[15,14,15,15],[15,20,15,21],[18,12,18,15],[18,20,18,21],[16,2,16,3],[16,8,16,9],[16,14,16,15],[16,20,16,21],[17,2,17,3],[17,14,17,15],[17,20,17,21],[22,14,23,14],[22,15,23,15],[19,2,19,3],[19,14,19,15],[21,2,21,3],[21,6,21,9],[21,14,21,15],[21,18,21,21],[18,2,18,3],[23,0,24,0],[23,1,24,1],[23,18,25,21],[25,0,25,3],[25,6,25,8],[25,12,25,15],[19,18,20,19],[19,20,20,20],[19,21,20,21],[20,2,20,3],[20,6,20,8],[20,14,20,15],[22,2,22,3],[22,12,23,13],[30,0,30,2],[30,6,30,8],[30,12,30,14],[30,18,30,20],[26,6,26,9],[27,0,27,3],[27,6,27,9],[27,12,29,15],[27,18,29,21],[29,0,29,3],[29,6,29,9]]}
["RIDERS SCORE WORK SHEET"]
[]
["Back Number:",{"$f":"'Entry Information'!B27","v":0},null,null,null,null,"Back Number:",{"$f":"'Entry Information'!B27","v":0},null,null,null,null,"Back Number:",{"$f":"'Entry Information'!B27","v":0},null,null,null,null,"Back Number:",{"$f":"'Entry Information'!B27","v":0},null,null,null,null,"Back Number:",{"$f":"'Entry Information'!B27","v":0}]
["Name:",{"$f":"'Entry Information'!I27","v":0},{"$f":"'Entry Information'!H27","v":0},null,null,null,"Name:",{"$f":"'Entry Information'!I27","v":0},{"$f":"'Entry Information'!H27","v":0},null,null,null,"Name:",{"$f":"'Entry Information'!I27","v":0},{"$f":"'Entry Information'!H27","v":0},null,null,null,"Name:",{"$f":"'Entry Information'!I27","v":0},{"$f":"'Entry Information'!H27","v":0},null,null,null,"Name:",{"$f":"'Entry Information'!I27","v":0},{"$f":"'Entry Information'!H27","v":0}]
["Horse Name:",{"$f":"'Entry Information'!J27","v":0},null,null,null,null,"Horse Name:",{"$f":"'Entry Information'!J27","v":0},null,null,null,null,"Horse Name:",{"$f":"'Entry Information'!J27","v":0},null,null,null,null,"Horse Name:",{"$f":"'Entry Information'!J27","v":0},null,null,null,null,"Horse Name:",{"$f":"'Entry Information'!J27","v":0}]
[]
["Check box when entering Ranch Riding scores",null,null,null,null,null,"Check box when entering Working Ranch Horse scores",null,null,null,null,null,"Check box when entering Ranch Cutting scores",null,null,null,null,null,"Check box when entering Ranch Trail scores",null,null,null,null,null,"Check box when entering Conformation scores"]
["Ranch Riding",null,null,null,null,null,"Working Ranch Horse",null,null,null,null,null,"Ranch Cutting",null,null,null,null,null,"Ranch Trail",null,null,null,null,null,"Ranch Conformation"]
["Maneuver","Judge's Score +/-","Penalty Points",null,null,null,"Maneuver","Judge's Score +/-","Penalty Points",null,null,null,"Maneuver","Judge's Score +/-","Penalty Points",null,null,null,"Maneuver","Judge's Score +/-","Penalty Points",null,null,null,"Front Legs, Feet"]
[1,null,null,null,null,null,1,null,null,null,null,null,"Herd Work",null,null,null,null,null,1,null,null,null,null,null,"Chest, Pectoral V"]
[2,null,null,null,null,null,2,null,null,null,null,null,1,null,null,null,null,null,2,null,null,null,null,null,"Head"]
[3,null,null,null,null,null,3,null,null,null,null,null,2,null,null,null,null,null,3,null,null,null,null,null,"Neck & Throat Latch"]
[4,null,null,null,null,null,4,null,null,null,null,null,3,null,null,null,null,null,4,null,null,null,null,null,"Shoulders & Withers"]
[5,null,null,null,null,null,5,null,null,null,null,null,"Cutting",null,null,null,null,null,5,null,null,null,null,null,"Heart Girth & Barrel"]
[6,null,null,null,null,null,6,null,null,null,null,null,1,null,null,null,null,null,6,null,null,null,null,null,"Back & Loin"]
[7,null,null,null,null,null,7,null,null,null,null,null,2,null,null,null,null,null,7,null,null,null,null,null,"Hip & Croup"]
[8,null,null,null,null,null,8,null,null,null,null,null,3,null,null,null,null,null,8,null,null,null,null,null,"Stife & Gaskin"]
[9,null,null,null,null,null,null,null,"Total Penalty Pts",{"$f":"SUM(I10:J17)","v":0},null,null,4,null,null,null,null,null,9,null,null,null,null,null,"Hock, Hind Legs, Feet"]
[10,null,null,null,null,null,"56 +/- Judge Score",{"$f":"SUM(H10:H17)","v":0},"Divided by 2",{"$f":"SUM((56+H19)/2)","v":28},null,null,"Penning",null,null,null,null,null,10,null,null,null,null,null,"Overall Muscling"]
[11,null,null,null,null,null,"Maneuver Score",{"$f":"J19","v":28},"Less Penalty Pts",{"$f":"J18","v":0},null,null,1,null,null,null,null,null,null,null,"Major Penalties",null,null,null,"Tracking","Lame: enter an \"x\""]
[12,null,null,null,null,null,"REINING SCORE",null,null,{"$f":"SUM(H20+J20)","v":28},null,null,2,null,null,null,null,null,null,null,null,null,null,null,"Balance 1"]
[13,null,null,null,null,null,"NOVICE BOXING",null,null,null,null,null,3,null,null,null,null,null,null,null,null,null,null,null,"Balance 2"]
[14,null,null,null,null,null,1,null,"Penalty Points",null,null,null,null,null,"Major Penalties",null,null,null,"Maneuver Total",{"$f":"SUM(T10:T19)","v":0},"Penalty Total",{"$f":"SUM(SUM(U10:V19)+V20)","v":0},null,null,"Balance 3"]
["Maneuver Total",{"$f":"SUM(B10:B23)","v":0},"Major Penalties",null,null,null,"7 +/- Judge Score",{"$f":"SUM(7+H23)","v":7},"Total Penalty Pts",{"$f":"J23","v":0},null,null,null,null,null,null,null,null,null,null,null,null,null,null,"Fitness & Condition"]
[null,null,"Penalty Total",{"$f":"SUM(C10:D24)","v":0},null,null,"Maneuver Score",{"$f":"H24","v":7},"Less Penalty Pts",{"$f":"J24","v":0},null,null,"Maneuver Total",{"$f":"SUM(N10:N22)","v":0},"Penalty Total",{"$f":"SUM(O11+O12+O13+O15+O16+O17+O18+O20+O21+O22+P23)","v":0},null,null,null,null,null,null,null,null,"Participant Showmanship"]
[null,null,null,null,null,null,"CATTLE SCORE",null,null,{"$f":"SUM(H25+J25)","v":7},null,null,null,null,null,null,null,null,null,null,null,null,null,null,"Horse Showmanship"]
["100 +/-Maneuver",{"$f":"B24","v":0},"x .70 =",{"$f":"SUM((100+B27)*0.7)","v":70},null,null,null,null,null,null,null,null,"70 +/-Maneuver",{"$f":"N25","v":0},"Less Penalty Total",{"$f":"P25","v":0},null,null,"70 +/-Maneuver",{"$f":"T23","v":0},"Less Penalty Total",{"$f":"V23","v":0},null,null,"Form & Showmanship Judges Score",null,"Total (1)",{"$f":"SUM(AB9:AB26)","v":0}]
[null,null,null,null,null,null,null,null,null,null,null,null,null,null,null,null,null,null,null,null,null,null,null,null,{"$f":"SUM(AB27*0.33+42)","v":42},{"$f":"IF(AA20=\"x\",-10,0)","v":0},"Judge Score (2)",{"$f":"SUM(Y28+Z28)","v":42}]
["Maneuver Score =",{"$f":"D27","v":70},"Less Penalty Total",{"$f":"D25","v":0},null,null,"Reining Score",{"$f":"J21","v":28},"Plus Cattle Score",{"$f":"J26","v":7},null,null,null,null,null,null,null,null,null,null,null,null,null,null,"Ranch Cutting",{"$f":"IF(P31=\"\",0,P31)","v":0},"Ranch Rding",{"$f":"IF(D31=\"\",0,D31)","v":0}]
[null,null,null,null,null,null,null,null,null,null,null,null,null,null,null,null,null,null,null,null,null,null,null,null,"Working Ranch Horse",{"$f":"IF(J31=\"\",0,J31)","v":0},"Ranch Trail",{"$f":"IF(V31=\"\",0,V31)","v":0}]
["TOTAL SCORE",null,null,{"$f":"IF(D7=\"\",\"\",IF(B29+D29<0,0,B29+D29))","v":""},null,null,"TOTAL SCORE",null,null,{"$f":"IF(J7=\"\",\"\",IF(H29+J29<0,0,H29+J29))","v":""},null,null,"TOTAL SCORE",null,null,{"$f":"IF(P7=\"\",\"\",IF(70+N27+P27<0,0,70+N27+P27))","v":""},null,null,"TOTAL SCORE",null,null,{"$f":"IF(V7=\"\",\"\",IF(70+T27+V27<0,0,70+T27+V27))","v":""},null,null,"Function Total (3)",{"$f":"SUM(Z29+AB29+Z30+AB30)","v":0},"Function Score (4)",{"$f":"Z31*0.1","v":0}]
[null,null,null,null,null,null,null,null,null,null,null,null,null,null,null,null,null,null,null,null,null,null,null,null,"Judge Score (2) + Function Score (4) = CONFORMATION SCORE",null,null,{"$f":"IF(AB7=\"\",\"\",IF(AB28+AB31<0,0,AB28+AB31))","v":""}]
[null,null,"Return to Entry Page",null,null,null,null,null,"Return to Entry Page",null,null,null,null,null,"Return to Entry Page",null,null,null,null,null,"Return to Entry Page"]
[null,null,null,null,null,null,null,null,null,null,null,null,null,null,null,null,null,null,null,null,null,null,null,null,null,"Return to Entry Page"]

{"sheet":"Novice 18","index":27,"n_rows":34,"n_cols":28,"rows_kept":34,"cut":false,"hidden":false,"merged":[[31,24,31,26],[8,2,8,3],[8,8,8,9],[8,14,8,15],[8,20,8,21],[9,2,9,3],[9,8,10,9],[9,12,9,15],[9,20,9,21],[10,2,10,3],[10,14,10,15],[10,20,10,21],[11,2,11,3],[11,8,12,9],[11,14,11,15],[11,20,11,21],[7,0,7,3],[7,6,7,9],[7,12,7,15],[7,18,7,21],[7,24,7,27],[12,2,12,3],[12,14,12,15],[12,20,12,21],[13,2,13,3],[13,8,14,9],[13,12,13,15],[13,20,13,21],[14,2,14,3],[14,14,14,15],[14,20,14,21],[15,2,15,3],[15,8,15,9],[15,14,15,15],[15,20,15,21],[18,12,18,15],[18,20,18,21],[16,2,16,3],[16,8,16,9],[16,14,16,15],[16,20,16,21],[17,2,17,3],[17,14,17,15],[17,20,17,21],[22,14,23,14],[22,15,23,15],[19,2,19,3],[19,14,19,15],[21,2,21,3],[21,6,21,9],[21,14,21,15],[21,18,21,21],[18,2,18,3],[23,0,24,0],[23,1,24,1],[23,18,25,21],[25,0,25,3],[25,6,25,8],[25,12,25,15],[19,18,20,19],[19,20,20,20],[19,21,20,21],[20,2,20,3],[20,6,20,8],[20,14,20,15],[22,2,22,3],[22,12,23,13],[30,0,30,2],[30,6,30,8],[30,12,30,14],[30,18,30,20],[26,6,26,9],[27,0,27,3],[27,6,27,9],[27,12,29,15],[27,18,29,21],[29,0,29,3],[29,6,29,9]]}
["RIDERS SCORE WORK SHEET"]
[]
["Back Number:",{"$f":"'Entry Information'!B28","v":0},null,null,null,null,"Back Number:",{"$f":"'Entry Information'!B28","v":0},null,null,null,null,"Back Number:",{"$f":"'Entry Information'!B28","v":0},null,null,null,null,"Back Number:",{"$f":"'Entry Information'!B28","v":0},null,null,null,null,"Back Number:",{"$f":"'Entry Information'!B28","v":0}]
["Name:",{"$f":"'Entry Information'!I28","v":0},{"$f":"'Entry Information'!H28","v":0},null,null,null,"Name:",{"$f":"'Entry Information'!I28","v":0},{"$f":"'Entry Information'!H28","v":0},null,null,null,"Name:",{"$f":"'Entry Information'!I28","v":0},{"$f":"'Entry Information'!H28","v":0},null,null,null,"Name:",{"$f":"'Entry Information'!I28","v":0},{"$f":"'Entry Information'!H28","v":0},null,null,null,"Name:",{"$f":"'Entry Information'!I28","v":0},{"$f":"'Entry Information'!H28","v":0}]
["Horse Name:",{"$f":"'Entry Information'!J28","v":0},null,null,null,null,"Horse Name:",{"$f":"'Entry Information'!J28","v":0},null,null,null,null,"Horse Name:",{"$f":"'Entry Information'!J28","v":0},null,null,null,null,"Horse Name:",{"$f":"'Entry Information'!J28","v":0},null,null,null,null,"Horse Name:",{"$f":"'Entry Information'!J28","v":0}]
[]
["Check box when entering Ranch Riding scores",null,null,null,null,null,"Check box when entering Working Ranch Horse scores",null,null,null,null,null,"Check box when entering Ranch Cutting scores",null,null,null,null,null,"Check box when entering Ranch Trail scores",null,null,null,null,null,"Check box when entering Conformation scores"]
["Ranch Riding",null,null,null,null,null,"Working Ranch Horse",null,null,null,null,null,"Ranch Cutting",null,null,null,null,null,"Ranch Trail",null,null,null,null,null,"Ranch Conformation"]
["Maneuver","Judge's Score +/-","Penalty Points",null,null,null,"Maneuver","Judge's Score +/-","Penalty Points",null,null,null,"Maneuver","Judge's Score +/-","Penalty Points",null,null,null,"Maneuver","Judge's Score +/-","Penalty Points",null,null,null,"Front Legs, Feet"]
[1,null,null,null,null,null,1,null,null,null,null,null,"Herd Work",null,null,null,null,null,1,null,null,null,null,null,"Chest, Pectoral V"]
[2,null,null,null,null,null,2,null,null,null,null,null,1,null,null,null,null,null,2,null,null,null,null,null,"Head"]
[3,null,null,null,null,null,3,null,null,null,null,null,2,null,null,null,null,null,3,null,null,null,null,null,"Neck & Throat Latch"]
[4,null,null,null,null,null,4,null,null,null,null,null,3,null,null,null,null,null,4,null,null,null,null,null,"Shoulders & Withers"]
[5,null,null,null,null,null,5,null,null,null,null,null,"Cutting",null,null,null,null,null,5,null,null,null,null,null,"Heart Girth & Barrel"]
[6,null,null,null,null,null,6,null,null,null,null,null,1,null,null,null,null,null,6,null,null,null,null,null,"Back & Loin"]
[7,null,null,null,null,null,7,null,null,null,null,null,2,null,null,null,null,null,7,null,null,null,null,null,"Hip & Croup"]
[8,null,null,null,null,null,8,null,null,null,null,null,3,null,null,null,null,null,8,null,null,null,null,null,"Stife & Gaskin"]
[9,null,null,null,null,null,null,null,"Total Penalty Pts",{"$f":"SUM(I10:J17)","v":0},null,null,4,null,null,null,null,null,9,null,null,null,null,null,"Hock, Hind Legs, Feet"]
[10,null,null,null,null,null,"56 +/- Judge Score",{"$f":"SUM(H10:H17)","v":0},"Divided by 2",{"$f":"SUM((56+H19)/2)","v":28},null,null,"Penning",null,null,null,null,null,10,null,null,null,null,null,"Overall Muscling"]
[11,null,null,null,null,null,"Maneuver Score",{"$f":"J19","v":28},"Less Penalty Pts",{"$f":"J18","v":0},null,null,1,null,null,null,null,null,null,null,"Major Penalties",null,null,null,"Tracking","Lame: enter an \"x\""]
[12,null,null,null,null,null,"REINING SCORE",null,null,{"$f":"SUM(H20+J20)","v":28},null,null,2,null,null,null,null,null,null,null,null,null,null,null,"Balance 1"]
[13,null,null,null,null,null,"NOVICE BOXING",null,null,null,null,null,3,null,null,null,null,null,null,null,null,null,null,null,"Balance 2"]
[14,null,null,null,null,null,1,null,"Penalty Points",null,null,null,null,null,"Major Penalties",null,null,null,"Maneuver Total",{"$f":"SUM(T10:T19)","v":0},"Penalty Total",{"$f":"SUM(SUM(U10:V19)+V20)","v":0},null,null,"Balance 3"]
["Maneuver Total",{"$f":"SUM(B10:B23)","v":0},"Major Penalties",null,null,null,"7 +/- Judge Score",{"$f":"SUM(7+H23)","v":7},"Total Penalty Pts",{"$f":"J23","v":0},null,null,null,null,null,null,null,null,null,null,null,null,null,null,"Fitness & Condition"]
[null,null,"Penalty Total",{"$f":"SUM(C10:D24)","v":0},null,null,"Maneuver Score",{"$f":"H24","v":7},"Less Penalty Pts",{"$f":"J24","v":0},null,null,"Maneuver Total",{"$f":"SUM(N10:N22)","v":0},"Penalty Total",{"$f":"SUM(O11+O12+O13+O15+O16+O17+O18+O20+O21+O22+P23)","v":0},null,null,null,null,null,null,null,null,"Participant Showmanship"]
[null,null,null,null,null,null,"CATTLE SCORE",null,null,{"$f":"SUM(H25+J25)","v":7},null,null,null,null,null,null,null,null,null,null,null,null,null,null,"Horse Showmanship"]
["100 +/-Maneuver",{"$f":"B24","v":0},"x .70 =",{"$f":"SUM((100+B27)*0.7)","v":70},null,null,null,null,null,null,null,null,"70 +/-Maneuver",{"$f":"N25","v":0},"Less Penalty Total",{"$f":"P25","v":0},null,null,"70 +/-Maneuver",{"$f":"T23","v":0},"Less Penalty Total",{"$f":"V23","v":0},null,null,"Form & Showmanship Judges Score",null,"Total (1)",{"$f":"SUM(AB9:AB26)","v":0}]
[null,null,null,null,null,null,null,null,null,null,null,null,null,null,null,null,null,null,null,null,null,null,null,null,{"$f":"SUM(AB27*0.33+42)","v":42},{"$f":"IF(AA20=\"x\",-10,0)","v":0},"Judge Score (2)",{"$f":"SUM(Y28+Z28)","v":42}]
["Maneuver Score =",{"$f":"D27","v":70},"Less Penalty Total",{"$f":"D25","v":0},null,null,"Reining Score",{"$f":"J21","v":28},"Plus Cattle Score",{"$f":"J26","v":7},null,null,null,null,null,null,null,null,null,null,null,null,null,null,"Ranch Cutting",{"$f":"IF(P31=\"\",0,P31)","v":0},"Ranch Rding",{"$f":"IF(D31=\"\",0,D31)","v":0}]
[null,null,null,null,null,null,null,null,null,null,null,null,null,null,null,null,null,null,null,null,null,null,null,null,"Working Ranch Horse",{"$f":"IF(J31=\"\",0,J31)","v":0},"Ranch Trail",{"$f":"IF(V31=\"\",0,V31)","v":0}]
["TOTAL SCORE",null,null,{"$f":"IF(D7=\"\",\"\",IF(B29+D29<0,0,B29+D29))","v":""},null,null,"TOTAL SCORE",null,null,{"$f":"IF(J7=\"\",\"\",IF(H29+J29<0,0,H29+J29))","v":""},null,null,"TOTAL SCORE",null,null,{"$f":"IF(P7=\"\",\"\",IF(70+N27+P27<0,0,70+N27+P27))","v":""},null,null,"TOTAL SCORE",null,null,{"$f":"IF(V7=\"\",\"\",IF(70+T27+V27<0,0,70+T27+V27))","v":""},null,null,"Function Total (3)",{"$f":"SUM(Z29+AB29+Z30+AB30)","v":0},"Function Score (4)",{"$f":"Z31*0.1","v":0}]
[null,null,null,null,null,null,null,null,null,null,null,null,null,null,null,null,null,null,null,null,null,null,null,null,"Judge Score (2) + Function Score (4) = CONFORMATION SCORE",null,null,{"$f":"IF(AB7=\"\",\"\",IF(AB28+AB31<0,0,AB28+AB31))","v":""}]
[null,null,"Return to Entry Page",null,null,null,null,null,"Return to Entry Page",null,null,null,null,null,"Return to Entry Page",null,null,null,null,null,"Return to Entry Page"]
[null,null,null,null,null,null,null,null,null,null,null,null,null,null,null,null,null,null,null,null,null,null,null,null,null,null,"Return to Entry Page"]

{"sheet":"Novice 19","index":28,"n_rows":34,"n_cols":28,"rows_kept":34,"cut":false,"hidden":false,"merged":[[31,24,31,26],[8,2,8,3],[8,8,8,9],[8,14,8,15],[8,20,8,21],[9,2,9,3],[9,8,10,9],[9,12,9,15],[9,20,9,21],[10,2,10,3],[10,14,10,15],[10,20,10,21],[11,2,11,3],[11,8,12,9],[11,14,11,15],[11,20,11,21],[7,0,7,3],[7,6,7,9],[7,12,7,15],[7,18,7,21],[7,24,7,27],[12,2,12,3],[12,14,12,15],[12,20,12,21],[13,2,13,3],[13,8,14,9],[13,12,13,15],[13,20,13,21],[14,2,14,3],[14,14,14,15],[14,20,14,21],[15,2,15,3],[15,8,15,9],[15,14,15,15],[15,20,15,21],[18,12,18,15],[18,20,18,21],[16,2,16,3],[16,8,16,9],[16,14,16,15],[16,20,16,21],[17,2,17,3],[17,14,17,15],[17,20,17,21],[22,14,23,14],[22,15,23,15],[19,2,19,3],[19,14,19,15],[21,2,21,3],[21,6,21,9],[21,14,21,15],[21,18,21,21],[18,2,18,3],[23,0,24,0],[23,1,24,1],[23,18,25,21],[25,0,25,3],[25,6,25,8],[25,12,25,15],[19,18,20,19],[19,20,20,20],[19,21,20,21],[20,2,20,3],[20,6,20,8],[20,14,20,15],[22,2,22,3],[22,12,23,13],[30,0,30,2],[30,6,30,8],[30,12,30,14],[30,18,30,20],[26,6,26,9],[27,0,27,3],[27,6,27,9],[27,12,29,15],[27,18,29,21],[29,0,29,3],[29,6,29,9]]}
["RIDERS SCORE WORK SHEET"]
[]
["Back Number:",{"$f":"'Entry Information'!B29","v":0},null,null,null,null,"Back Number:",{"$f":"'Entry Information'!B29","v":0},null,null,null,null,"Back Number:",{"$f":"'Entry Information'!B29","v":0},null,null,null,null,"Back Number:",{"$f":"'Entry Information'!B29","v":0},null,null,null,null,"Back Number:",{"$f":"'Entry Information'!B29","v":0}]
["Name:",{"$f":"'Entry Information'!I29","v":0},{"$f":"'Entry Information'!H29","v":0},null,null,null,"Name:",{"$f":"'Entry Information'!I29","v":0},{"$f":"'Entry Information'!H29","v":0},null,null,null,"Name:",{"$f":"'Entry Information'!I29","v":0},{"$f":"'Entry Information'!H29","v":0},null,null,null,"Name:",{"$f":"'Entry Information'!I29","v":0},{"$f":"'Entry Information'!H29","v":0},null,null,null,"Name:",{"$f":"'Entry Information'!I29","v":0},{"$f":"'Entry Information'!H29","v":0}]
["Horse Name:",{"$f":"'Entry Information'!J29","v":0},null,null,null,null,"Horse Name:",{"$f":"'Entry Information'!J29","v":0},null,null,null,null,"Horse Name:",{"$f":"'Entry Information'!J29","v":0},null,null,null,null,"Horse Name:",{"$f":"'Entry Information'!J29","v":0},null,null,null,null,"Horse Name:",{"$f":"'Entry Information'!J29","v":0}]
[]
["Check box when entering Ranch Riding scores",null,null,null,null,null,"Check box when entering Working Ranch Horse scores",null,null,null,null,null,"Check box when entering Ranch Cutting scores",null,null,null,null,null,"Check box when entering Ranch Trail scores",null,null,null,null,null,"Check box when entering Conformation scores"]
["Ranch Riding",null,null,null,null,null,"Working Ranch Horse",null,null,null,null,null,"Ranch Cutting",null,null,null,null,null,"Ranch Trail",null,null,null,null,null,"Ranch Conformation"]
["Maneuver","Judge's Score +/-","Penalty Points",null,null,null,"Maneuver","Judge's Score +/-","Penalty Points",null,null,null,"Maneuver","Judge's Score +/-","Penalty Points",null,null,null,"Maneuver","Judge's Score +/-","Penalty Points",null,null,null,"Front Legs, Feet"]
[1,null,null,null,null,null,1,null,null,null,null,null,"Herd Work",null,null,null,null,null,1,null,null,null,null,null,"Chest, Pectoral V"]
[2,null,null,null,null,null,2,null,null,null,null,null,1,null,null,null,null,null,2,null,null,null,null,null,"Head"]
[3,null,null,null,null,null,3,null,null,null,null,null,2,null,null,null,null,null,3,null,null,null,null,null,"Neck & Throat Latch"]
[4,null,null,null,null,null,4,null,null,null,null,null,3,null,null,null,null,null,4,null,null,null,null,null,"Shoulders & Withers"]
[5,null,null,null,null,null,5,null,null,null,null,null,"Cutting",null,null,null,null,null,5,null,null,null,null,null,"Heart Girth & Barrel"]
[6,null,null,null,null,null,6,null,null,null,null,null,1,null,null,null,null,null,6,null,null,null,null,null,"Back & Loin"]
[7,null,null,null,null,null,7,null,null,null,null,null,2,null,null,null,null,null,7,null,null,null,null,null,"Hip & Croup"]
[8,null,null,null,null,null,8,null,null,null,null,null,3,null,null,null,null,null,8,null,null,null,null,null,"Stife & Gaskin"]
[9,null,null,null,null,null,null,null,"Total Penalty Pts",{"$f":"SUM(I10:J17)","v":0},null,null,4,null,null,null,null,null,9,null,null,null,null,null,"Hock, Hind Legs, Feet"]
[10,null,null,null,null,null,"56 +/- Judge Score",{"$f":"SUM(H10:H17)","v":0},"Divided by 2",{"$f":"SUM((56+H19)/2)","v":28},null,null,"Penning",null,null,null,null,null,10,null,null,null,null,null,"Overall Muscling"]
[11,null,null,null,null,null,"Maneuver Score",{"$f":"J19","v":28},"Less Penalty Pts",{"$f":"J18","v":0},null,null,1,null,null,null,null,null,null,null,"Major Penalties",null,null,null,"Tracking","Lame: enter an \"x\""]
[12,null,null,null,null,null,"REINING SCORE",null,null,{"$f":"SUM(H20+J20)","v":28},null,null,2,null,null,null,null,null,null,null,null,null,null,null,"Balance 1"]
[13,null,null,null,null,null,"NOVICE BOXING",null,null,null,null,null,3,null,null,null,null,null,null,null,null,null,null,null,"Balance 2"]
[14,null,null,null,null,null,1,null,"Penalty Points",null,null,null,null,null,"Major Penalties",null,null,null,"Maneuver Total",{"$f":"SUM(T10:T19)","v":0},"Penalty Total",{"$f":"SUM(SUM(U10:V19)+V20)","v":0},null,null,"Balance 3"]
["Maneuver Total",{"$f":"SUM(B10:B23)","v":0},"Major Penalties",null,null,null,"7 +/- Judge Score",{"$f":"SUM(7+H23)","v":7},"Total Penalty Pts",{"$f":"J23","v":0},null,null,null,null,null,null,null,null,null,null,null,null,null,null,"Fitness & Condition"]
[null,null,"Penalty Total",{"$f":"SUM(C10:D24)","v":0},null,null,"Maneuver Score",{"$f":"H24","v":7},"Less Penalty Pts",{"$f":"J24","v":0},null,null,"Maneuver Total",{"$f":"SUM(N10:N22)","v":0},"Penalty Total",{"$f":"SUM(O11+O12+O13+O15+O16+O17+O18+O20+O21+O22+P23)","v":0},null,null,null,null,null,null,null,null,"Participant Showmanship"]
[null,null,null,null,null,null,"CATTLE SCORE",null,null,{"$f":"SUM(H25+J25)","v":7},null,null,null,null,null,null,null,null,null,null,null,null,null,null,"Horse Showmanship"]
["100 +/-Maneuver",{"$f":"B24","v":0},"x .70 =",{"$f":"SUM((100+B27)*0.7)","v":70},null,null,null,null,null,null,null,null,"70 +/-Maneuver",{"$f":"N25","v":0},"Less Penalty Total",{"$f":"P25","v":0},null,null,"70 +/-Maneuver",{"$f":"T23","v":0},"Less Penalty Total",{"$f":"V23","v":0},null,null,"Form & Showmanship Judges Score",null,"Total (1)",{"$f":"SUM(AB9:AB26)","v":0}]
[null,null,null,null,null,null,null,null,null,null,null,null,null,null,null,null,null,null,null,null,null,null,null,null,{"$f":"SUM(AB27*0.33+42)","v":42},{"$f":"IF(AA20=\"x\",-10,0)","v":0},"Judge Score (2)",{"$f":"SUM(Y28+Z28)","v":42}]
["Maneuver Score =",{"$f":"D27","v":70},"Less Penalty Total",{"$f":"D25","v":0},null,null,"Reining Score",{"$f":"J21","v":28},"Plus Cattle Score",{"$f":"J26","v":7},null,null,null,null,null,null,null,null,null,null,null,null,null,null,"Ranch Cutting",{"$f":"IF(P31=\"\",0,P31)","v":0},"Ranch Rding",{"$f":"IF(D31=\"\",0,D31)","v":0}]
[null,null,null,null,null,null,null,null,null,null,null,null,null,null,null,null,null,null,null,null,null,null,null,null,"Working Ranch Horse",{"$f":"IF(J31=\"\",0,J31)","v":0},"Ranch Trail",{"$f":"IF(V31=\"\",0,V31)","v":0}]
["TOTAL SCORE",null,null,{"$f":"IF(D7=\"\",\"\",IF(B29+D29<0,0,B29+D29))","v":""},null,null,"TOTAL SCORE",null,null,{"$f":"IF(J7=\"\",\"\",IF(H29+J29<0,0,H29+J29))","v":""},null,null,"TOTAL SCORE",null,null,{"$f":"IF(P7=\"\",\"\",IF(70+N27+P27<0,0,70+N27+P27))","v":""},null,null,"TOTAL SCORE",null,null,{"$f":"IF(V7=\"\",\"\",IF(70+T27+V27<0,0,70+T27+V27))","v":""},null,null,"Function Total (3)",{"$f":"SUM(Z29+AB29+Z30+AB30)","v":0},"Function Score (4)",{"$f":"Z31*0.1","v":0}]
[null,null,null,null,null,null,null,null,null,null,null,null,null,null,null,null,null,null,null,null,null,null,null,null,"Judge Score (2) + Function Score (4) = CONFORMATION SCORE",null,null,{"$f":"IF(AB7=\"\",\"\",IF(AB28+AB31<0,0,AB28+AB31))","v":""}]
[null,null,"Return to Entry Page",null,null,null,null,null,"Return to Entry Page",null,null,null,null,null,"Return to Entry Page",null,null,null,null,null,"Return to Entry Page"]
[null,null,null,null,null,null,null,null,null,null,null,null,null,null,null,null,null,null,null,null,null,null,null,null,null,null,"Return to Entry Page"]

{"sheet":"Novice 20","index":29,"n_rows":34,"n_cols":28,"rows_kept":34,"cut":false,"hidden":false,"merged":[[31,24,31,26],[8,2,8,3],[8,8,8,9],[8,14,8,15],[8,20,8,21],[9,2,9,3],[9,8,10,9],[9,12,9,15],[9,20,9,21],[10,2,10,3],[10,14,10,15],[10,20,10,21],[11,2,11,3],[11,8,12,9],[11,14,11,15],[11,20,11,21],[7,0,7,3],[7,6,7,9],[7,12,7,15],[7,18,7,21],[7,24,7,27],[12,2,12,3],[12,14,12,15],[12,20,12,21],[13,2,13,3],[13,8,14,9],[13,12,13,15],[13,20,13,21],[14,2,14,3],[14,14,14,15],[14,20,14,21],[15,2,15,3],[15,8,15,9],[15,14,15,15],[15,20,15,21],[18,12,18,15],[18,20,18,21],[16,2,16,3],[16,8,16,9],[16,14,16,15],[16,20,16,21],[17,2,17,3],[17,14,17,15],[17,20,17,21],[22,14,23,14],[22,15,23,15],[19,2,19,3],[19,14,19,15],[21,2,21,3],[21,6,21,9],[21,14,21,15],[21,18,21,21],[18,2,18,3],[23,0,24,0],[23,1,24,1],[23,18,25,21],[25,0,25,3],[25,6,25,8],[25,12,25,15],[19,18,20,19],[19,20,20,20],[19,21,20,21],[20,2,20,3],[20,6,20,8],[20,14,20,15],[22,2,22,3],[22,12,23,13],[30,0,30,2],[30,6,30,8],[30,12,30,14],[30,18,30,20],[26,6,26,9],[27,0,27,3],[27,6,27,9],[27,12,29,15],[27,18,29,21],[29,0,29,3],[29,6,29,9]]}
["RIDERS SCORE WORK SHEET"]
[]
["Back Number:",{"$f":"'Entry Information'!B30","v":0},null,null,null,null,"Back Number:",{"$f":"'Entry Information'!B30","v":0},null,null,null,null,"Back Number:",{"$f":"'Entry Information'!B30","v":0},null,null,null,null,"Back Number:",{"$f":"'Entry Information'!B30","v":0},null,null,null,null,"Back Number:",{"$f":"'Entry Information'!B30","v":0}]
["Name:",{"$f":"'Entry Information'!I30","v":0},{"$f":"'Entry Information'!H30","v":0},null,null,null,"Name:",{"$f":"'Entry Information'!I30","v":0},{"$f":"'Entry Information'!H30","v":0},null,null,null,"Name:",{"$f":"'Entry Information'!I30","v":0},{"$f":"'Entry Information'!H30","v":0},null,null,null,"Name:",{"$f":"'Entry Information'!I30","v":0},{"$f":"'Entry Information'!H30","v":0},null,null,null,"Name:",{"$f":"'Entry Information'!I30","v":0},{"$f":"'Entry Information'!H30","v":0}]
["Horse Name:",{"$f":"'Entry Information'!J30","v":0},null,null,null,null,"Horse Name:",{"$f":"'Entry Information'!J30","v":0},null,null,null,null,"Horse Name:",{"$f":"'Entry Information'!J30","v":0},null,null,null,null,"Horse Name:",{"$f":"'Entry Information'!J30","v":0},null,null,null,null,"Horse Name:",{"$f":"'Entry Information'!J30","v":0}]
[]
["Check box when entering Ranch Riding scores",null,null,null,null,null,"Check box when entering Working Ranch Horse scores",null,null,null,null,null,"Check box when entering Ranch Cutting scores",null,null,null,null,null,"Check box when entering Ranch Trail scores",null,null,null,null,null,"Check box when entering Conformation scores"]
["Ranch Riding",null,null,null,null,null,"Working Ranch Horse",null,null,null,null,null,"Ranch Cutting",null,null,null,null,null,"Ranch Trail",null,null,null,null,null,"Ranch Conformation"]
["Maneuver","Judge's Score +/-","Penalty Points",null,null,null,"Maneuver","Judge's Score +/-","Penalty Points",null,null,null,"Maneuver","Judge's Score +/-","Penalty Points",null,null,null,"Maneuver","Judge's Score +/-","Penalty Points",null,null,null,"Front Legs, Feet"]
[1,null,null,null,null,null,1,null,null,null,null,null,"Herd Work",null,null,null,null,null,1,null,null,null,null,null,"Chest, Pectoral V"]
[2,null,null,null,null,null,2,null,null,null,null,null,1,null,null,null,null,null,2,null,null,null,null,null,"Head"]
[3,null,null,null,null,null,3,null,null,null,null,null,2,null,null,null,null,null,3,null,null,null,null,null,"Neck & Throat Latch"]
[4,null,null,null,null,null,4,null,null,null,null,null,3,null,null,null,null,null,4,null,null,null,null,null,"Shoulders & Withers"]
[5,null,null,null,null,null,5,null,null,null,null,null,"Cutting",null,null,null,null,null,5,null,null,null,null,null,"Heart Girth & Barrel"]
[6,null,null,null,null,null,6,null,null,null,null,null,1,null,null,null,null,null,6,null,null,null,null,null,"Back & Loin"]
[7,null,null,null,null,null,7,null,null,null,null,null,2,null,null,null,null,null,7,null,null,null,null,null,"Hip & Croup"]
[8,null,null,null,null,null,8,null,null,null,null,null,3,null,null,null,null,null,8,null,null,null,null,null,"Stife & Gaskin"]
[9,null,null,null,null,null,null,null,"Total Penalty Pts",{"$f":"SUM(I10:J17)","v":0},null,null,4,null,null,null,null,null,9,null,null,null,null,null,"Hock, Hind Legs, Feet"]
[10,null,null,null,null,null,"56 +/- Judge Score",{"$f":"SUM(H10:H17)","v":0},"Divided by 2",{"$f":"SUM((56+H19)/2)","v":28},null,null,"Penning",null,null,null,null,null,10,null,null,null,null,null,"Overall Muscling"]
[11,null,null,null,null,null,"Maneuver Score",{"$f":"J19","v":28},"Less Penalty Pts",{"$f":"J18","v":0},null,null,1,null,null,null,null,null,null,null,"Major Penalties",null,null,null,"Tracking","Lame: enter an \"x\""]
[12,null,null,null,null,null,"REINING SCORE",null,null,{"$f":"SUM(H20+J20)","v":28},null,null,2,null,null,null,null,null,null,null,null,null,null,null,"Balance 1"]
[13,null,null,null,null,null,"NOVICE BOXING",null,null,null,null,null,3,null,null,null,null,null,null,null,null,null,null,null,"Balance 2"]
[14,null,null,null,null,null,1,null,"Penalty Points",null,null,null,null,null,"Major Penalties",null,null,null,"Maneuver Total",{"$f":"SUM(T10:T19)","v":0},"Penalty Total",{"$f":"SUM(SUM(U10:V19)+V20)","v":0},null,null,"Balance 3"]
["Maneuver Total",{"$f":"SUM(B10:B23)","v":0},"Major Penalties",null,null,null,"7 +/- Judge Score",{"$f":"SUM(7+H23)","v":7},"Total Penalty Pts",{"$f":"J23","v":0},null,null,null,null,null,null,null,null,null,null,null,null,null,null,"Fitness & Condition"]
[null,null,"Penalty Total",{"$f":"SUM(C10:D24)","v":0},null,null,"Maneuver Score",{"$f":"H24","v":7},"Less Penalty Pts",{"$f":"J24","v":0},null,null,"Maneuver Total",{"$f":"SUM(N10:N22)","v":0},"Penalty Total",{"$f":"SUM(O11+O12+O13+O15+O16+O17+O18+O20+O21+O22+P23)","v":0},null,null,null,null,null,null,null,null,"Participant Showmanship"]
[null,null,null,null,null,null,"CATTLE SCORE",null,null,{"$f":"SUM(H25+J25)","v":7},null,null,null,null,null,null,null,null,null,null,null,null,null,null,"Horse Showmanship"]
["100 +/-Maneuver",{"$f":"B24","v":0},"x .70 =",{"$f":"SUM((100+B27)*0.7)","v":70},null,null,null,null,null,null,null,null,"70 +/-Maneuver",{"$f":"N25","v":0},"Less Penalty Total",{"$f":"P25","v":0},null,null,"70 +/-Maneuver",{"$f":"T23","v":0},"Less Penalty Total",{"$f":"V23","v":0},null,null,"Form & Showmanship Judges Score",null,"Total (1)",{"$f":"SUM(AB9:AB26)","v":0}]
[null,null,null,null,null,null,null,null,null,null,null,null,null,null,null,null,null,null,null,null,null,null,null,null,{"$f":"SUM(AB27*0.33+42)","v":42},{"$f":"IF(AA20=\"x\",-10,0)","v":0},"Judge Score (2)",{"$f":"SUM(Y28+Z28)","v":42}]
["Maneuver Score =",{"$f":"D27","v":70},"Less Penalty Total",{"$f":"D25","v":0},null,null,"Reining Score",{"$f":"J21","v":28},"Plus Cattle Score",{"$f":"J26","v":7},null,null,null,null,null,null,null,null,null,null,null,null,null,null,"Ranch Cutting",{"$f":"IF(P31=\"\",0,P31)","v":0},"Ranch Rding",{"$f":"IF(D31=\"\",0,D31)","v":0}]
[null,null,null,null,null,null,null,null,null,null,null,null,null,null,null,null,null,null,null,null,null,null,null,null,"Working Ranch Horse",{"$f":"IF(J31=\"\",0,J31)","v":0},"Ranch Trail",{"$f":"IF(V31=\"\",0,V31)","v":0}]
["TOTAL SCORE",null,null,{"$f":"IF(D7=\"\",\"\",IF(B29+D29<0,0,B29+D29))","v":""},null,null,"TOTAL SCORE",null,null,{"$f":"IF(J7=\"\",\"\",IF(H29+J29<0,0,H29+J29))","v":""},null,null,"TOTAL SCORE",null,null,{"$f":"IF(P7=\"\",\"\",IF(70+N27+P27<0,0,70+N27+P27))","v":""},null,null,"TOTAL SCORE",null,null,{"$f":"IF(V7=\"\",\"\",IF(70+T27+V27<0,0,70+T27+V27))","v":""},null,null,"Function Total (3)",{"$f":"SUM(Z29+AB29+Z30+AB30)","v":0},"Function Score (4)",{"$f":"Z31*0.1","v":0}]
[null,null,null,null,null,null,null,null,null,null,null,null,null,null,null,null,null,null,null,null,null,null,null,null,"Judge Score (2) + Function Score (4) = CONFORMATION SCORE",null,null,{"$f":"IF(AB7=\"\",\"\",IF(AB28+AB31<0,0,AB28+AB31))","v":""}]
[null,null,"Return to Entry Page",null,null,null,null,null,"Return to Entry Page",null,null,null,null,null,"Return to Entry Page",null,null,null,null,null,"Return to Entry Page"]
[null,null,null,null,null,null,null,null,null,null,null,null,null,null,null,null,null,null,null,null,null,null,null,null,null,null,"Return to Entry Page"]

{"sheet":"Novice 21","index":30,"n_rows":34,"n_cols":28,"rows_kept":34,"cut":false,"hidden":false,"merged":[[31,24,31,26],[8,2,8,3],[8,8,8,9],[8,14,8,15],[8,20,8,21],[9,2,9,3],[9,8,10,9],[9,12,9,15],[9,20,9,21],[10,2,10,3],[10,14,10,15],[10,20,10,21],[11,2,11,3],[11,8,12,9],[11,14,11,15],[11,20,11,21],[7,0,7,3],[7,6,7,9],[7,12,7,15],[7,18,7,21],[7,24,7,27],[12,2,12,3],[12,14,12,15],[12,20,12,21],[13,2,13,3],[13,8,14,9],[13,12,13,15],[13,20,13,21],[14,2,14,3],[14,14,14,15],[14,20,14,21],[15,2,15,3],[15,8,15,9],[15,14,15,15],[15,20,15,21],[18,12,18,15],[18,20,18,21],[16,2,16,3],[16,8,16,9],[16,14,16,15],[16,20,16,21],[17,2,17,3],[17,14,17,15],[17,20,17,21],[22,14,23,14],[22,15,23,15],[19,2,19,3],[19,14,19,15],[21,2,21,3],[21,6,21,9],[21,14,21,15],[21,18,21,21],[18,2,18,3],[23,0,24,0],[23,1,24,1],[23,18,25,21],[25,0,25,3],[25,6,25,8],[25,12,25,15],[19,18,20,19],[19,20,20,20],[19,21,20,21],[20,2,20,3],[20,6,20,8],[20,14,20,15],[22,2,22,3],[22,12,23,13],[30,0,30,2],[30,6,30,8],[30,12,30,14],[30,18,30,20],[26,6,26,9],[27,0,27,3],[27,6,27,9],[27,12,29,15],[27,18,29,21],[29,0,29,3],[29,6,29,9]]}
["RIDERS SCORE WORK SHEET"]
[]
["Back Number:",{"$f":"'Entry Information'!B31","v":0},null,null,null,null,"Back Number:",{"$f":"'Entry Information'!B31","v":0},null,null,null,null,"Back Number:",{"$f":"'Entry Information'!B31","v":0},null,null,null,null,"Back Number:",{"$f":"'Entry Information'!B31","v":0},null,null,null,null,"Back Number:",{"$f":"'Entry Information'!B31","v":0}]
["Name:",{"$f":"'Entry Information'!I31","v":0},{"$f":"'Entry Information'!H31","v":0},null,null,null,"Name:",{"$f":"'Entry Information'!I31","v":0},{"$f":"'Entry Information'!H31","v":0},null,null,null,"Name:",{"$f":"'Entry Information'!I31","v":0},{"$f":"'Entry Information'!H31","v":0},null,null,null,"Name:",{"$f":"'Entry Information'!I31","v":0},{"$f":"'Entry Information'!H31","v":0},null,null,null,"Name:",{"$f":"'Entry Information'!I31","v":0},{"$f":"'Entry Information'!H31","v":0}]
["Horse Name:",{"$f":"'Entry Information'!J31","v":0},null,null,null,null,"Horse Name:",{"$f":"'Entry Information'!J31","v":0},null,null,null,null,"Horse Name:",{"$f":"'Entry Information'!J31","v":0},null,null,null,null,"Horse Name:",{"$f":"'Entry Information'!J31","v":0},null,null,null,null,"Horse Name:",{"$f":"'Entry Information'!J31","v":0}]
[]
["Check box when entering Ranch Riding scores",null,null,null,null,null,"Check box when entering Working Ranch Horse scores",null,null,null,null,null,"Check box when entering Ranch Cutting scores",null,null,null,null,null,"Check box when entering Ranch Trail scores",null,null,null,null,null,"Check box when entering Conformation scores"]
["Ranch Riding",null,null,null,null,null,"Working Ranch Horse",null,null,null,null,null,"Ranch Cutting",null,null,null,null,null,"Ranch Trail",null,null,null,null,null,"Ranch Conformation"]
["Maneuver","Judge's Score +/-","Penalty Points",null,null,null,"Maneuver","Judge's Score +/-","Penalty Points",null,null,null,"Maneuver","Judge's Score +/-","Penalty Points",null,null,null,"Maneuver","Judge's Score +/-","Penalty Points",null,null,null,"Front Legs, Feet"]
[1,null,null,null,null,null,1,null,null,null,null,null,"Herd Work",null,null,null,null,null,1,null,null,null,null,null,"Chest, Pectoral V"]
[2,null,null,null,null,null,2,null,null,null,null,null,1,null,null,null,null,null,2,null,null,null,null,null,"Head"]
[3,null,null,null,null,null,3,null,null,null,null,null,2,null,null,null,null,null,3,null,null,null,null,null,"Neck & Throat Latch"]
[4,null,null,null,null,null,4,null,null,null,null,null,3,null,null,null,null,null,4,null,null,null,null,null,"Shoulders & Withers"]
[5,null,null,null,null,null,5,null,null,null,null,null,"Cutting",null,null,null,null,null,5,null,null,null,null,null,"Heart Girth & Barrel"]
[6,null,null,null,null,null,6,null,null,null,null,null,1,null,null,null,null,null,6,null,null,null,null,null,"Back & Loin"]
[7,null,null,null,null,null,7,null,null,null,null,null,2,null,null,null,null,null,7,null,null,null,null,null,"Hip & Croup"]
[8,null,null,null,null,null,8,null,null,null,null,null,3,null,null,null,null,null,8,null,null,null,null,null,"Stife & Gaskin"]
[9,null,null,null,null,null,null,null,"Total Penalty Pts",{"$f":"SUM(I10:J17)","v":0},null,null,4,null,null,null,null,null,9,null,null,null,null,null,"Hock, Hind Legs, Feet"]
[10,null,null,null,null,null,"56 +/- Judge Score",{"$f":"SUM(H10:H17)","v":0},"Divided by 2",{"$f":"SUM((56+H19)/2)","v":28},null,null,"Penning",null,null,null,null,null,10,null,null,null,null,null,"Overall Muscling"]
[11,null,null,null,null,null,"Maneuver Score",{"$f":"J19","v":28},"Less Penalty Pts",{"$f":"J18","v":0},null,null,1,null,null,null,null,null,null,null,"Major Penalties",null,null,null,"Tracking","Lame: enter an \"x\""]
[12,null,null,null,null,null,"REINING SCORE",null,null,{"$f":"SUM(H20+J20)","v":28},null,null,2,null,null,null,null,null,null,null,null,null,null,null,"Balance 1"]
[13,null,null,null,null,null,"NOVICE BOXING",null,null,null,null,null,3,null,null,null,null,null,null,null,null,null,null,null,"Balance 2"]
[14,null,null,null,null,null,1,null,"Penalty Points",null,null,null,null,null,"Major Penalties",null,null,null,"Maneuver Total",{"$f":"SUM(T10:T19)","v":0},"Penalty Total",{"$f":"SUM(SUM(U10:V19)+V20)","v":0},null,null,"Balance 3"]
["Maneuver Total",{"$f":"SUM(B10:B23)","v":0},"Major Penalties",null,null,null,"7 +/- Judge Score",{"$f":"SUM(7+H23)","v":7},"Total Penalty Pts",{"$f":"J23","v":0},null,null,null,null,null,null,null,null,null,null,null,null,null,null,"Fitness & Condition"]
[null,null,"Penalty Total",{"$f":"SUM(C10:D24)","v":0},null,null,"Maneuver Score",{"$f":"H24","v":7},"Less Penalty Pts",{"$f":"J24","v":0},null,null,"Maneuver Total",{"$f":"SUM(N10:N22)","v":0},"Penalty Total",{"$f":"SUM(O11+O12+O13+O15+O16+O17+O18+O20+O21+O22+P23)","v":0},null,null,null,null,null,null,null,null,"Participant Showmanship"]
[null,null,null,null,null,null,"CATTLE SCORE",null,null,{"$f":"SUM(H25+J25)","v":7},null,null,null,null,null,null,null,null,null,null,null,null,null,null,"Horse Showmanship"]
["100 +/-Maneuver",{"$f":"B24","v":0},"x .70 =",{"$f":"SUM((100+B27)*0.7)","v":70},null,null,null,null,null,null,null,null,"70 +/-Maneuver",{"$f":"N25","v":0},"Less Penalty Total",{"$f":"P25","v":0},null,null,"70 +/-Maneuver",{"$f":"T23","v":0},"Less Penalty Total",{"$f":"V23","v":0},null,null,"Form & Showmanship Judges Score",null,"Total (1)",{"$f":"SUM(AB9:AB26)","v":0}]
[null,null,null,null,null,null,null,null,null,null,null,null,null,null,null,null,null,null,null,null,null,null,null,null,{"$f":"SUM(AB27*0.33+42)","v":42},{"$f":"IF(AA20=\"x\",-10,0)","v":0},"Judge Score (2)",{"$f":"SUM(Y28+Z28)","v":42}]
["Maneuver Score =",{"$f":"D27","v":70},"Less Penalty Total",{"$f":"D25","v":0},null,null,"Reining Score",{"$f":"J21","v":28},"Plus Cattle Score",{"$f":"J26","v":7},null,null,null,null,null,null,null,null,null,null,null,null,null,null,"Ranch Cutting",{"$f":"IF(P31=\"\",0,P31)","v":0},"Ranch Rding",{"$f":"IF(D31=\"\",0,D31)","v":0}]
[null,null,null,null,null,null,null,null,null,null,null,null,null,null,null,null,null,null,null,null,null,null,null,null,"Working Ranch Horse",{"$f":"IF(J31=\"\",0,J31)","v":0},"Ranch Trail",{"$f":"IF(V31=\"\",0,V31)","v":0}]
["TOTAL SCORE",null,null,{"$f":"IF(D7=\"\",\"\",IF(B29+D29<0,0,B29+D29))","v":""},null,null,"TOTAL SCORE",null,null,{"$f":"IF(J7=\"\",\"\",IF(H29+J29<0,0,H29+J29))","v":""},null,null,"TOTAL SCORE",null,null,{"$f":"IF(P7=\"\",\"\",IF(70+N27+P27<0,0,70+N27+P27))","v":""},null,null,"TOTAL SCORE",null,null,{"$f":"IF(V7=\"\",\"\",IF(70+T27+V27<0,0,70+T27+V27))","v":""},null,null,"Function Total (3)",{"$f":"SUM(Z29+AB29+Z30+AB30)","v":0},"Function Score (4)",{"$f":"Z31*0.1","v":0}]
[null,null,null,null,null,null,null,null,null,null,null,null,null,null,null,null,null,null,null,null,null,null,null,null,"Judge Score (2) + Function Score (4) = CONFORMATION SCORE",null,null,{"$f":"IF(AB7=\"\",\"\",IF(AB28+AB31<0,0,AB28+AB31))","v":""}]
[null,null,"Return to Entry Page",null,null,null,null,null,"Return to Entry Page",null,null,null,null,null,"Return to Entry Page",null,null,null,null,null,"Return to Entry Page"]
[null,null,null,null,null,null,null,null,null,null,null,null,null,null,null,null,null,null,null,null,null,null,null,null,null,null,"Return to Entry Page"]

{"sheet":"Novice 22","index":31,"n_rows":34,"n_cols":28,"rows_kept":34,"cut":false,"hidden":false,"merged":[[31,24,31,26],[8,2,8,3],[8,8,8,9],[8,14,8,15],[8,20,8,21],[9,2,9,3],[9,8,10,9],[9,12,9,15],[9,20,9,21],[10,2,10,3],[10,14,10,15],[10,20,10,21],[11,2,11,3],[11,8,12,9],[11,14,11,15],[11,20,11,21],[7,0,7,3],[7,6,7,9],[7,12,7,15],[7,18,7,21],[7,24,7,27],[12,2,12,3],[12,14,12,15],[12,20,12,21],[13,2,13,3],[13,8,14,9],[13,12,13,15],[13,20,13,21],[14,2,14,3],[14,14,14,15],[14,20,14,21],[15,2,15,3],[15,8,15,9],[15,14,15,15],[15,20,15,21],[18,12,18,15],[18,20,18,21],[16,2,16,3],[16,8,16,9],[16,14,16,15],[16,20,16,21],[17,2,17,3],[17,14,17,15],[17,20,17,21],[22,14,23,14],[22,15,23,15],[19,2,19,3],[19,14,19,15],[21,2,21,3],[21,6,21,9],[21,14,21,15],[21,18,21,21],[18,2,18,3],[23,0,24,0],[23,1,24,1],[23,18,25,21],[25,0,25,3],[25,6,25,8],[25,12,25,15],[19,18,20,19],[19,20,20,20],[19,21,20,21],[20,2,20,3],[20,6,20,8],[20,14,20,15],[22,2,22,3],[22,12,23,13],[30,0,30,2],[30,6,30,8],[30,12,30,14],[30,18,30,20],[26,6,26,9],[27,0,27,3],[27,6,27,9],[27,12,29,15],[27,18,29,21],[29,0,29,3],[29,6,29,9]]}
["RIDERS SCORE WORK SHEET"]
[]
["Back Number:",{"$f":"'Entry Information'!B32","v":0},null,null,null,null,"Back Number:",{"$f":"'Entry Information'!B32","v":0},null,null,null,null,"Back Number:",{"$f":"'Entry Information'!B32","v":0},null,null,null,null,"Back Number:",{"$f":"'Entry Information'!B32","v":0},null,null,null,null,"Back Number:",{"$f":"'Entry Information'!B32","v":0}]
["Name:",{"$f":"'Entry Information'!I32","v":0},{"$f":"'Entry Information'!H32","v":0},null,null,null,"Name:",{"$f":"'Entry Information'!I32","v":0},{"$f":"'Entry Information'!H32","v":0},null,null,null,"Name:",{"$f":"'Entry Information'!I32","v":0},{"$f":"'Entry Information'!H32","v":0},null,null,null,"Name:",{"$f":"'Entry Information'!I32","v":0},{"$f":"'Entry Information'!H32","v":0},null,null,null,"Name:",{"$f":"'Entry Information'!I32","v":0},{"$f":"'Entry Information'!H32","v":0}]
["Horse Name:",{"$f":"'Entry Information'!J32","v":0},null,null,null,null,"Horse Name:",{"$f":"'Entry Information'!J32","v":0},null,null,null,null,"Horse Name:",{"$f":"'Entry Information'!J32","v":0},null,null,null,null,"Horse Name:",{"$f":"'Entry Information'!J32","v":0},null,null,null,null,"Horse Name:",{"$f":"'Entry Information'!J32","v":0}]
[]
["Check box when entering Ranch Riding scores",null,null,null,null,null,"Check box when entering Working Ranch Horse scores",null,null,null,null,null,"Check box when entering Ranch Cutting scores",null,null,null,null,null,"Check box when entering Ranch Trail scores",null,null,null,null,null,"Check box when entering Conformation scores"]
["Ranch Riding",null,null,null,null,null,"Working Ranch Horse",null,null,null,null,null,"Ranch Cutting",null,null,null,null,null,"Ranch Trail",null,null,null,null,null,"Ranch Conformation"]
["Maneuver","Judge's Score +/-","Penalty Points",null,null,null,"Maneuver","Judge's Score +/-","Penalty Points",null,null,null,"Maneuver","Judge's Score +/-","Penalty Points",null,null,null,"Maneuver","Judge's Score +/-","Penalty Points",null,null,null,"Front Legs, Feet"]
[1,null,null,null,null,null,1,null,null,null,null,null,"Herd Work",null,null,null,null,null,1,null,null,null,null,null,"Chest, Pectoral V"]
[2,null,null,null,null,null,2,null,null,null,null,null,1,null,null,null,null,null,2,null,null,null,null,null,"Head"]
[3,null,null,null,null,null,3,null,null,null,null,null,2,null,null,null,null,null,3,null,null,null,null,null,"Neck & Throat Latch"]
[4,null,null,null,null,null,4,null,null,null,null,null,3,null,null,null,null,null,4,null,null,null,null,null,"Shoulders & Withers"]
[5,null,null,null,null,null,5,null,null,null,null,null,"Cutting",null,null,null,null,null,5,null,null,null,null,null,"Heart Girth & Barrel"]
[6,null,null,null,null,null,6,null,null,null,null,null,1,null,null,null,null,null,6,null,null,null,null,null,"Back & Loin"]
[7,null,null,null,null,null,7,null,null,null,null,null,2,null,null,null,null,null,7,null,null,null,null,null,"Hip & Croup"]
[8,null,null,null,null,null,8,null,null,null,null,null,3,null,null,null,null,null,8,null,null,null,null,null,"Stife & Gaskin"]
[9,null,null,null,null,null,null,null,"Total Penalty Pts",{"$f":"SUM(I10:J17)","v":0},null,null,4,null,null,null,null,null,9,null,null,null,null,null,"Hock, Hind Legs, Feet"]
[10,null,null,null,null,null,"56 +/- Judge Score",{"$f":"SUM(H10:H17)","v":0},"Divided by 2",{"$f":"SUM((56+H19)/2)","v":28},null,null,"Penning",null,null,null,null,null,10,null,null,null,null,null,"Overall Muscling"]
[11,null,null,null,null,null,"Maneuver Score",{"$f":"J19","v":28},"Less Penalty Pts",{"$f":"J18","v":0},null,null,1,null,null,null,null,null,null,null,"Major Penalties",null,null,null,"Tracking","Lame: enter an \"x\""]
[12,null,null,null,null,null,"REINING SCORE",null,null,{"$f":"SUM(H20+J20)","v":28},null,null,2,null,null,null,null,null,null,null,null,null,null,null,"Balance 1"]
[13,null,null,null,null,null,"NOVICE BOXING",null,null,null,null,null,3,null,null,null,null,null,null,null,null,null,null,null,"Balance 2"]
[14,null,null,null,null,null,1,null,"Penalty Points",null,null,null,null,null,"Major Penalties",null,null,null,"Maneuver Total",{"$f":"SUM(T10:T19)","v":0},"Penalty Total",{"$f":"SUM(SUM(U10:V19)+V20)","v":0},null,null,"Balance 3"]
["Maneuver Total",{"$f":"SUM(B10:B23)","v":0},"Major Penalties",null,null,null,"7 +/- Judge Score",{"$f":"SUM(7+H23)","v":7},"Total Penalty Pts",{"$f":"J23","v":0},null,null,null,null,null,null,null,null,null,null,null,null,null,null,"Fitness & Condition"]
[null,null,"Penalty Total",{"$f":"SUM(C10:D24)","v":0},null,null,"Maneuver Score",{"$f":"H24","v":7},"Less Penalty Pts",{"$f":"J24","v":0},null,null,"Maneuver Total",{"$f":"SUM(N10:N22)","v":0},"Penalty Total",{"$f":"SUM(O11+O12+O13+O15+O16+O17+O18+O20+O21+O22+P23)","v":0},null,null,null,null,null,null,null,null,"Participant Showmanship"]
[null,null,null,null,null,null,"CATTLE SCORE",null,null,{"$f":"SUM(H25+J25)","v":7},null,null,null,null,null,null,null,null,null,null,null,null,null,null,"Horse Showmanship"]
["100 +/-Maneuver",{"$f":"B24","v":0},"x .70 =",{"$f":"SUM((100+B27)*0.7)","v":70},null,null,null,null,null,null,null,null,"70 +/-Maneuver",{"$f":"N25","v":0},"Less Penalty Total",{"$f":"P25","v":0},null,null,"70 +/-Maneuver",{"$f":"T23","v":0},"Less Penalty Total",{"$f":"V23","v":0},null,null,"Form & Showmanship Judges Score",null,"Total (1)",{"$f":"SUM(AB9:AB26)","v":0}]
[null,null,null,null,null,null,null,null,null,null,null,null,null,null,null,null,null,null,null,null,null,null,null,null,{"$f":"SUM(AB27*0.33+42)","v":42},{"$f":"IF(AA20=\"x\",-10,0)","v":0},"Judge Score (2)",{"$f":"SUM(Y28+Z28)","v":42}]
["Maneuver Score =",{"$f":"D27","v":70},"Less Penalty Total",{"$f":"D25","v":0},null,null,"Reining Score",{"$f":"J21","v":28},"Plus Cattle Score",{"$f":"J26","v":7},null,null,null,null,null,null,null,null,null,null,null,null,null,null,"Ranch Cutting",{"$f":"IF(P31=\"\",0,P31)","v":0},"Ranch Rding",{"$f":"IF(D31=\"\",0,D31)","v":0}]
[null,null,null,null,null,null,null,null,null,null,null,null,null,null,null,null,null,null,null,null,null,null,null,null,"Working Ranch Horse",{"$f":"IF(J31=\"\",0,J31)","v":0},"Ranch Trail",{"$f":"IF(V31=\"\",0,V31)","v":0}]
["TOTAL SCORE",null,null,{"$f":"IF(D7=\"\",\"\",IF(B29+D29<0,0,B29+D29))","v":""},null,null,"TOTAL SCORE",null,null,{"$f":"IF(J7=\"\",\"\",IF(H29+J29<0,0,H29+J29))","v":""},null,null,"TOTAL SCORE",null,null,{"$f":"IF(P7=\"\",\"\",IF(70+N27+P27<0,0,70+N27+P27))","v":""},null,null,"TOTAL SCORE",null,null,{"$f":"IF(V7=\"\",\"\",IF(70+T27+V27<0,0,70+T27+V27))","v":""},null,null,"Function Total (3)",{"$f":"SUM(Z29+AB29+Z30+AB30)","v":0},"Function Score (4)",{"$f":"Z31*0.1","v":0}]
[null,null,null,null,null,null,null,null,null,null,null,null,null,null,null,null,null,null,null,null,null,null,null,null,"Judge Score (2) + Function Score (4) = CONFORMATION SCORE",null,null,{"$f":"IF(AB7=\"\",\"\",IF(AB28+AB31<0,0,AB28+AB31))","v":""}]
[null,null,"Return to Entry Page",null,null,null,null,null,"Return to Entry Page",null,null,null,null,null,"Return to Entry Page",null,null,null,null,null,"Return to Entry Page"]
[null,null,null,null,null,null,null,null,null,null,null,null,null,null,null,null,null,null,null,null,null,null,null,null,null,null,"Return to Entry Page"]

{"sheet":"Novice 23","index":32,"n_rows":34,"n_cols":28,"rows_kept":34,"cut":false,"hidden":false,"merged":[[31,24,31,26],[8,2,8,3],[8,8,8,9],[8,14,8,15],[8,20,8,21],[9,2,9,3],[9,8,10,9],[9,12,9,15],[9,20,9,21],[10,2,10,3],[10,14,10,15],[10,20,10,21],[11,2,11,3],[11,8,12,9],[11,14,11,15],[11,20,11,21],[7,0,7,3],[7,6,7,9],[7,12,7,15],[7,18,7,21],[7,24,7,27],[12,2,12,3],[12,14,12,15],[12,20,12,21],[13,2,13,3],[13,8,14,9],[13,12,13,15],[13,20,13,21],[14,2,14,3],[14,14,14,15],[14,20,14,21],[15,2,15,3],[15,8,15,9],[15,14,15,15],[15,20,15,21],[18,12,18,15],[18,20,18,21],[16,2,16,3],[16,8,16,9],[16,14,16,15],[16,20,16,21],[17,2,17,3],[17,14,17,15],[17,20,17,21],[22,14,23,14],[22,15,23,15],[19,2,19,3],[19,14,19,15],[21,2,21,3],[21,6,21,9],[21,14,21,15],[21,18,21,21],[18,2,18,3],[23,0,24,0],[23,1,24,1],[23,18,25,21],[25,0,25,3],[25,6,25,8],[25,12,25,15],[19,18,20,19],[19,20,20,20],[19,21,20,21],[20,2,20,3],[20,6,20,8],[20,14,20,15],[22,2,22,3],[22,12,23,13],[30,0,30,2],[30,6,30,8],[30,12,30,14],[30,18,30,20],[26,6,26,9],[27,0,27,3],[27,6,27,9],[27,12,29,15],[27,18,29,21],[29,0,29,3],[29,6,29,9]]}
["RIDERS SCORE WORK SHEET"]
[]
["Back Number:",{"$f":"'Entry Information'!B33","v":0},null,null,null,null,"Back Number:",{"$f":"'Entry Information'!B33","v":0},null,null,null,null,"Back Number:",{"$f":"'Entry Information'!B33","v":0},null,null,null,null,"Back Number:",{"$f":"'Entry Information'!B33","v":0},null,null,null,null,"Back Number:",{"$f":"'Entry Information'!B33","v":0}]
["Name:",{"$f":"'Entry Information'!I33","v":0},{"$f":"'Entry Information'!H33","v":0},null,null,null,"Name:",{"$f":"'Entry Information'!I33","v":0},{"$f":"'Entry Information'!H33","v":0},null,null,null,"Name:",{"$f":"'Entry Information'!I33","v":0},{"$f":"'Entry Information'!H33","v":0},null,null,null,"Name:",{"$f":"'Entry Information'!I33","v":0},{"$f":"'Entry Information'!H33","v":0},null,null,null,"Name:",{"$f":"'Entry Information'!I33","v":0},{"$f":"'Entry Information'!H33","v":0}]
["Horse Name:",{"$f":"'Entry Information'!J33","v":0},null,null,null,null,"Horse Name:",{"$f":"'Entry Information'!J33","v":0},null,null,null,null,"Horse Name:",{"$f":"'Entry Information'!J33","v":0},null,null,null,null,"Horse Name:",{"$f":"'Entry Information'!J33","v":0},null,null,null,null,"Horse Name:",{"$f":"'Entry Information'!J33","v":0}]
[]
["Check box when entering Ranch Riding scores",null,null,null,null,null,"Check box when entering Working Ranch Horse scores",null,null,null,null,null,"Check box when entering Ranch Cutting scores",null,null,null,null,null,"Check box when entering Ranch Trail scores",null,null,null,null,null,"Check box when entering Conformation scores"]
["Ranch Riding",null,null,null,null,null,"Working Ranch Horse",null,null,null,null,null,"Ranch Cutting",null,null,null,null,null,"Ranch Trail",null,null,null,null,null,"Ranch Conformation"]
["Maneuver","Judge's Score +/-","Penalty Points",null,null,null,"Maneuver","Judge's Score +/-","Penalty Points",null,null,null,"Maneuver","Judge's Score +/-","Penalty Points",null,null,null,"Maneuver","Judge's Score +/-","Penalty Points",null,null,null,"Front Legs, Feet"]
[1,null,null,null,null,null,1,null,null,null,null,null,"Herd Work",null,null,null,null,null,1,null,null,null,null,null,"Chest, Pectoral V"]
[2,null,null,null,null,null,2,null,null,null,null,null,1,null,null,null,null,null,2,null,null,null,null,null,"Head"]
[3,null,null,null,null,null,3,null,null,null,null,null,2,null,null,null,null,null,3,null,null,null,null,null,"Neck & Throat Latch"]
[4,null,null,null,null,null,4,null,null,null,null,null,3,null,null,null,null,null,4,null,null,null,null,null,"Shoulders & Withers"]
[5,null,null,null,null,null,5,null,null,null,null,null,"Cutting",null,null,null,null,null,5,null,null,null,null,null,"Heart Girth & Barrel"]
[6,null,null,null,null,null,6,null,null,null,null,null,1,null,null,null,null,null,6,null,null,null,null,null,"Back & Loin"]
[7,null,null,null,null,null,7,null,null,null,null,null,2,null,null,null,null,null,7,null,null,null,null,null,"Hip & Croup"]
[8,null,null,null,null,null,8,null,null,null,null,null,3,null,null,null,null,null,8,null,null,null,null,null,"Stife & Gaskin"]
[9,null,null,null,null,null,null,null,"Total Penalty Pts",{"$f":"SUM(I10:J17)","v":0},null,null,4,null,null,null,null,null,9,null,null,null,null,null,"Hock, Hind Legs, Feet"]
[10,null,null,null,null,null,"56 +/- Judge Score",{"$f":"SUM(H10:H17)","v":0},"Divided by 2",{"$f":"SUM((56+H19)/2)","v":28},null,null,"Penning",null,null,null,null,null,10,null,null,null,null,null,"Overall Muscling"]
[11,null,null,null,null,null,"Maneuver Score",{"$f":"J19","v":28},"Less Penalty Pts",{"$f":"J18","v":0},null,null,1,null,null,null,null,null,null,null,"Major Penalties",null,null,null,"Tracking","Lame: enter an \"x\""]
[12,null,null,null,null,null,"REINING SCORE",null,null,{"$f":"SUM(H20+J20)","v":28},null,null,2,null,null,null,null,null,null,null,null,null,null,null,"Balance 1"]
[13,null,null,null,null,null,"NOVICE BOXING",null,null,null,null,null,3,null,null,null,null,null,null,null,null,null,null,null,"Balance 2"]
[14,null,null,null,null,null,1,null,"Penalty Points",null,null,null,null,null,"Major Penalties",null,null,null,"Maneuver Total",{"$f":"SUM(T10:T19)","v":0},"Penalty Total",{"$f":"SUM(SUM(U10:V19)+V20)","v":0},null,null,"Balance 3"]
["Maneuver Total",{"$f":"SUM(B10:B23)","v":0},"Major Penalties",null,null,null,"7 +/- Judge Score",{"$f":"SUM(7+H23)","v":7},"Total Penalty Pts",{"$f":"J23","v":0},null,null,null,null,null,null,null,null,null,null,null,null,null,null,"Fitness & Condition"]
[null,null,"Penalty Total",{"$f":"SUM(C10:D24)","v":0},null,null,"Maneuver Score",{"$f":"H24","v":7},"Less Penalty Pts",{"$f":"J24","v":0},null,null,"Maneuver Total",{"$f":"SUM(N10:N22)","v":0},"Penalty Total",{"$f":"SUM(O11+O12+O13+O15+O16+O17+O18+O20+O21+O22+P23)","v":0},null,null,null,null,null,null,null,null,"Participant Showmanship"]
[null,null,null,null,null,null,"CATTLE SCORE",null,null,{"$f":"SUM(H25+J25)","v":7},null,null,null,null,null,null,null,null,null,null,null,null,null,null,"Horse Showmanship"]
["100 +/-Maneuver",{"$f":"B24","v":0},"x .70 =",{"$f":"SUM((100+B27)*0.7)","v":70},null,null,null,null,null,null,null,null,"70 +/-Maneuver",{"$f":"N25","v":0},"Less Penalty Total",{"$f":"P25","v":0},null,null,"70 +/-Maneuver",{"$f":"T23","v":0},"Less Penalty Total",{"$f":"V23","v":0},null,null,"Form & Showmanship Judges Score",null,"Total (1)",{"$f":"SUM(AB9:AB26)","v":0}]
[null,null,null,null,null,null,null,null,null,null,null,null,null,null,null,null,null,null,null,null,null,null,null,null,{"$f":"SUM(AB27*0.33+42)","v":42},{"$f":"IF(AA20=\"x\",-10,0)","v":0},"Judge Score (2)",{"$f":"SUM(Y28+Z28)","v":42}]
["Maneuver Score =",{"$f":"D27","v":70},"Less Penalty Total",{"$f":"D25","v":0},null,null,"Reining Score",{"$f":"J21","v":28},"Plus Cattle Score",{"$f":"J26","v":7},null,null,null,null,null,null,null,null,null,null,null,null,null,null,"Ranch Cutting",{"$f":"IF(P31=\"\",0,P31)","v":0},"Ranch Rding",{"$f":"IF(D31=\"\",0,D31)","v":0}]
[null,null,null,null,null,null,null,null,null,null,null,null,null,null,null,null,null,null,null,null,null,null,null,null,"Working Ranch Horse",{"$f":"IF(J31=\"\",0,J31)","v":0},"Ranch Trail",{"$f":"IF(V31=\"\",0,V31)","v":0}]
["TOTAL SCORE",null,null,{"$f":"IF(D7=\"\",\"\",IF(B29+D29<0,0,B29+D29))","v":""},null,null,"TOTAL SCORE",null,null,{"$f":"IF(J7=\"\",\"\",IF(H29+J29<0,0,H29+J29))","v":""},null,null,"TOTAL SCORE",null,null,{"$f":"IF(P7=\"\",\"\",IF(70+N27+P27<0,0,70+N27+P27))","v":""},null,null,"TOTAL SCORE",null,null,{"$f":"IF(V7=\"\",\"\",IF(70+T27+V27<0,0,70+T27+V27))","v":""},null,null,"Function Total (3)",{"$f":"SUM(Z29+AB29+Z30+AB30)","v":0},"Function Score (4)",{"$f":"Z31*0.1","v":0}]
[null,null,null,null,null,null,null,null,null,null,null,null,null,null,null,null,null,null,null,null,null,null,null,null,"Judge Score (2) + Function Score (4) = CONFORMATION SCORE",null,null,{"$f":"IF(AB7=\"\",\"\",IF(AB28+AB31<0,0,AB28+AB31))","v":""}]
[null,null,"Return to Entry Page",null,null,null,null,null,"Return to Entry Page",null,null,null,null,null,"Return to Entry Page",null,null,null,null,null,"Return to Entry Page"]
[null,null,null,null,null,null,null,null,null,null,null,null,null,null,null,null,null,null,null,null,null,null,null,null,null,null,"Return to Entry Page"]

{"sheet":"Novice 24","index":33,"n_rows":34,"n_cols":28,"rows_kept":34,"cut":false,"hidden":false,"merged":[[31,24,31,26],[8,2,8,3],[8,8,8,9],[8,14,8,15],[8,20,8,21],[9,2,9,3],[9,8,10,9],[9,12,9,15],[9,20,9,21],[10,2,10,3],[10,14,10,15],[10,20,10,21],[11,2,11,3],[11,8,12,9],[11,14,11,15],[11,20,11,21],[7,0,7,3],[7,6,7,9],[7,12,7,15],[7,18,7,21],[7,24,7,27],[12,2,12,3],[12,14,12,15],[12,20,12,21],[13,2,13,3],[13,8,14,9],[13,12,13,15],[13,20,13,21],[14,2,14,3],[14,14,14,15],[14,20,14,21],[15,2,15,3],[15,8,15,9],[15,14,15,15],[15,20,15,21],[18,12,18,15],[18,20,18,21],[16,2,16,3],[16,8,16,9],[16,14,16,15],[16,20,16,21],[17,2,17,3],[17,14,17,15],[17,20,17,21],[22,14,23,14],[22,15,23,15],[19,2,19,3],[19,14,19,15],[21,2,21,3],[21,6,21,9],[21,14,21,15],[21,18,21,21],[18,2,18,3],[23,0,24,0],[23,1,24,1],[23,18,25,21],[25,0,25,3],[25,6,25,8],[25,12,25,15],[19,18,20,19],[19,20,20,20],[19,21,20,21],[20,2,20,3],[20,6,20,8],[20,14,20,15],[22,2,22,3],[22,12,23,13],[30,0,30,2],[30,6,30,8],[30,12,30,14],[30,18,30,20],[26,6,26,9],[27,0,27,3],[27,6,27,9],[27,12,29,15],[27,18,29,21],[29,0,29,3],[29,6,29,9]]}
["RIDERS SCORE WORK SHEET"]
[]
["Back Number:",{"$f":"'Entry Information'!B34","v":0},null,null,null,null,"Back Number:",{"$f":"'Entry Information'!B34","v":0},null,null,null,null,"Back Number:",{"$f":"'Entry Information'!B34","v":0},null,null,null,null,"Back Number:",{"$f":"'Entry Information'!B34","v":0},null,null,null,null,"Back Number:",{"$f":"'Entry Information'!B34","v":0}]
["Name:",{"$f":"'Entry Information'!I34","v":0},{"$f":"'Entry Information'!H34","v":0},null,null,null,"Name:",{"$f":"'Entry Information'!I34","v":0},{"$f":"'Entry Information'!H34","v":0},null,null,null,"Name:",{"$f":"'Entry Information'!I34","v":0},{"$f":"'Entry Information'!H34","v":0},null,null,null,"Name:",{"$f":"'Entry Information'!I34","v":0},{"$f":"'Entry Information'!H34","v":0},null,null,null,"Name:",{"$f":"'Entry Information'!I34","v":0},{"$f":"'Entry Information'!H34","v":0}]
["Horse Name:",{"$f":"'Entry Information'!J34","v":0},null,null,null,null,"Horse Name:",{"$f":"'Entry Information'!J34","v":0},null,null,null,null,"Horse Name:",{"$f":"'Entry Information'!J34","v":0},null,null,null,null,"Horse Name:",{"$f":"'Entry Information'!J34","v":0},null,null,null,null,"Horse Name:",{"$f":"'Entry Information'!J34","v":0}]
[]
["Check box when entering Ranch Riding scores",null,null,null,null,null,"Check box when entering Working Ranch Horse scores",null,null,null,null,null,"Check box when entering Ranch Cutting scores",null,null,null,null,null,"Check box when entering Ranch Trail scores",null,null,null,null,null,"Check box when entering Conformation scores"]
["Ranch Riding",null,null,null,null,null,"Working Ranch Horse",null,null,null,null,null,"Ranch Cutting",null,null,null,null,null,"Ranch Trail",null,null,null,null,null,"Ranch Conformation"]
["Maneuver","Judge's Score +/-","Penalty Points",null,null,null,"Maneuver","Judge's Score +/-","Penalty Points",null,null,null,"Maneuver","Judge's Score +/-","Penalty Points",null,null,null,"Maneuver","Judge's Score +/-","Penalty Points",null,null,null,"Front Legs, Feet"]
[1,null,null,null,null,null,1,null,null,null,null,null,"Herd Work",null,null,null,null,null,1,null,null,null,null,null,"Chest, Pectoral V"]
[2,null,null,null,null,null,2,null,null,null,null,null,1,null,null,null,null,null,2,null,null,null,null,null,"Head"]
[3,null,null,null,null,null,3,null,null,null,null,null,2,null,null,null,null,null,3,null,null,null,null,null,"Neck & Throat Latch"]
[4,null,null,null,null,null,4,null,null,null,null,null,3,null,null,null,null,null,4,null,null,null,null,null,"Shoulders & Withers"]
[5,null,null,null,null,null,5,null,null,null,null,null,"Cutting",null,null,null,null,null,5,null,null,null,null,null,"Heart Girth & Barrel"]
[6,null,null,null,null,null,6,null,null,null,null,null,1,null,null,null,null,null,6,null,null,null,null,null,"Back & Loin"]
[7,null,null,null,null,null,7,null,null,null,null,null,2,null,null,null,null,null,7,null,null,null,null,null,"Hip & Croup"]
[8,null,null,null,null,null,8,null,null,null,null,null,3,null,null,null,null,null,8,null,null,null,null,null,"Stife & Gaskin"]
[9,null,null,null,null,null,null,null,"Total Penalty Pts",{"$f":"SUM(I10:J17)","v":0},null,null,4,null,null,null,null,null,9,null,null,null,null,null,"Hock, Hind Legs, Feet"]
[10,null,null,null,null,null,"56 +/- Judge Score",{"$f":"SUM(H10:H17)","v":0},"Divided by 2",{"$f":"SUM((56+H19)/2)","v":28},null,null,"Penning",null,null,null,null,null,10,null,null,null,null,null,"Overall Muscling"]
[11,null,null,null,null,null,"Maneuver Score",{"$f":"J19","v":28},"Less Penalty Pts",{"$f":"J18","v":0},null,null,1,null,null,null,null,null,null,null,"Major Penalties",null,null,null,"Tracking","Lame: enter an \"x\""]
[12,null,null,null,null,null,"REINING SCORE",null,null,{"$f":"SUM(H20+J20)","v":28},null,null,2,null,null,null,null,null,null,null,null,null,null,null,"Balance 1"]
[13,null,null,null,null,null,"NOVICE BOXING",null,null,null,null,null,3,null,null,null,null,null,null,null,null,null,null,null,"Balance 2"]
[14,null,null,null,null,null,1,null,"Penalty Points",null,null,null,null,null,"Major Penalties",null,null,null,"Maneuver Total",{"$f":"SUM(T10:T19)","v":0},"Penalty Total",{"$f":"SUM(SUM(U10:V19)+V20)","v":0},null,null,"Balance 3"]
["Maneuver Total",{"$f":"SUM(B10:B23)","v":0},"Major Penalties",null,null,null,"7 +/- Judge Score",{"$f":"SUM(7+H23)","v":7},"Total Penalty Pts",{"$f":"J23","v":0},null,null,null,null,null,null,null,null,null,null,null,null,null,null,"Fitness & Condition"]
[null,null,"Penalty Total",{"$f":"SUM(C10:D24)","v":0},null,null,"Maneuver Score",{"$f":"H24","v":7},"Less Penalty Pts",{"$f":"J24","v":0},null,null,"Maneuver Total",{"$f":"SUM(N10:N22)","v":0},"Penalty Total",{"$f":"SUM(O11+O12+O13+O15+O16+O17+O18+O20+O21+O22+P23)","v":0},null,null,null,null,null,null,null,null,"Participant Showmanship"]
[null,null,null,null,null,null,"CATTLE SCORE",null,null,{"$f":"SUM(H25+J25)","v":7},null,null,null,null,null,null,null,null,null,null,null,null,null,null,"Horse Showmanship"]
["100 +/-Maneuver",{"$f":"B24","v":0},"x .70 =",{"$f":"SUM((100+B27)*0.7)","v":70},null,null,null,null,null,null,null,null,"70 +/-Maneuver",{"$f":"N25","v":0},"Less Penalty Total",{"$f":"P25","v":0},null,null,"70 +/-Maneuver",{"$f":"T23","v":0},"Less Penalty Total",{"$f":"V23","v":0},null,null,"Form & Showmanship Judges Score",null,"Total (1)",{"$f":"SUM(AB9:AB26)","v":0}]
[null,null,null,null,null,null,null,null,null,null,null,null,null,null,null,null,null,null,null,null,null,null,null,null,{"$f":"SUM(AB27*0.33+42)","v":42},{"$f":"IF(AA20=\"x\",-10,0)","v":0},"Judge Score (2)",{"$f":"SUM(Y28+Z28)","v":42}]
["Maneuver Score =",{"$f":"D27","v":70},"Less Penalty Total",{"$f":"D25","v":0},null,null,"Reining Score",{"$f":"J21","v":28},"Plus Cattle Score",{"$f":"J26","v":7},null,null,null,null,null,null,null,null,null,null,null,null,null,null,"Ranch Cutting",{"$f":"IF(P31=\"\",0,P31)","v":0},"Ranch Rding",{"$f":"IF(D31=\"\",0,D31)","v":0}]
[null,null,null,null,null,null,null,null,null,null,null,null,null,null,null,null,null,null,null,null,null,null,null,null,"Working Ranch Horse",{"$f":"IF(J31=\"\",0,J31)","v":0},"Ranch Trail",{"$f":"IF(V31=\"\",0,V31)","v":0}]
["TOTAL SCORE",null,null,{"$f":"IF(D7=\"\",\"\",IF(B29+D29<0,0,B29+D29))","v":""},null,null,"TOTAL SCORE",null,null,{"$f":"IF(J7=\"\",\"\",IF(H29+J29<0,0,H29+J29))","v":""},null,null,"TOTAL SCORE",null,null,{"$f":"IF(P7=\"\",\"\",IF(70+N27+P27<0,0,70+N27+P27))","v":""},null,null,"TOTAL SCORE",null,null,{"$f":"IF(V7=\"\",\"\",IF(70+T27+V27<0,0,70+T27+V27))","v":""},null,null,"Function Total (3)",{"$f":"SUM(Z29+AB29+Z30+AB30)","v":0},"Function Score (4)",{"$f":"Z31*0.1","v":0}]
[null,null,null,null,null,null,null,null,null,null,null,null,null,null,null,null,null,null,null,null,null,null,null,null,"Judge Score (2) + Function Score (4) = CONFORMATION SCORE",null,null,{"$f":"IF(AB7=\"\",\"\",IF(AB28+AB31<0,0,AB28+AB31))","v":""}]
[null,null,"Return to Entry Page",null,null,null,null,null,"Return to Entry Page",null,null,null,null,null,"Return to Entry Page",null,null,null,null,null,"Return to Entry Page"]
[null,null,null,null,null,null,null,null,null,null,null,null,null,null,null,null,null,null,null,null,null,null,null,null,null,null,"Return to Entry Page"]

{"sheet":"Novice 25","index":34,"n_rows":34,"n_cols":28,"rows_kept":34,"cut":false,"hidden":false,"merged":[[31,24,31,26],[8,2,8,3],[8,8,8,9],[8,14,8,15],[8,20,8,21],[9,2,9,3],[9,8,10,9],[9,12,9,15],[9,20,9,21],[10,2,10,3],[10,14,10,15],[10,20,10,21],[11,2,11,3],[11,8,12,9],[11,14,11,15],[11,20,11,21],[7,0,7,3],[7,6,7,9],[7,12,7,15],[7,18,7,21],[7,24,7,27],[12,2,12,3],[12,14,12,15],[12,20,12,21],[13,2,13,3],[13,8,14,9],[13,12,13,15],[13,20,13,21],[14,2,14,3],[14,14,14,15],[14,20,14,21],[15,2,15,3],[15,8,15,9],[15,14,15,15],[15,20,15,21],[18,12,18,15],[18,20,18,21],[16,2,16,3],[16,8,16,9],[16,14,16,15],[16,20,16,21],[17,2,17,3],[17,14,17,15],[17,20,17,21],[22,14,23,14],[22,15,23,15],[19,2,19,3],[19,14,19,15],[21,2,21,3],[21,6,21,9],[21,14,21,15],[21,18,21,21],[18,2,18,3],[23,0,24,0],[23,1,24,1],[23,18,25,21],[25,0,25,3],[25,6,25,8],[25,12,25,15],[19,18,20,19],[19,20,20,20],[19,21,20,21],[20,2,20,3],[20,6,20,8],[20,14,20,15],[22,2,22,3],[22,12,23,13],[30,0,30,2],[30,6,30,8],[30,12,30,14],[30,18,30,20],[26,6,26,9],[27,0,27,3],[27,6,27,9],[27,12,29,15],[27,18,29,21],[29,0,29,3],[29,6,29,9]]}
["RIDERS SCORE WORK SHEET"]
[]
["Back Number:",{"$f":"'Entry Information'!B35","v":0},null,null,null,null,"Back Number:",{"$f":"'Entry Information'!B35","v":0},null,null,null,null,"Back Number:",{"$f":"'Entry Information'!B35","v":0},null,null,null,null,"Back Number:",{"$f":"'Entry Information'!B35","v":0},null,null,null,null,"Back Number:",{"$f":"'Entry Information'!B35","v":0}]
["Name:",{"$f":"'Entry Information'!I35","v":0},{"$f":"'Entry Information'!H35","v":0},null,null,null,"Name:",{"$f":"'Entry Information'!I35","v":0},{"$f":"'Entry Information'!H35","v":0},null,null,null,"Name:",{"$f":"'Entry Information'!I35","v":0},{"$f":"'Entry Information'!H35","v":0},null,null,null,"Name:",{"$f":"'Entry Information'!I35","v":0},{"$f":"'Entry Information'!H35","v":0},null,null,null,"Name:",{"$f":"'Entry Information'!I35","v":0},{"$f":"'Entry Information'!H35","v":0}]
["Horse Name:",{"$f":"'Entry Information'!J35","v":0},null,null,null,null,"Horse Name:",{"$f":"'Entry Information'!J35","v":0},null,null,null,null,"Horse Name:",{"$f":"'Entry Information'!J35","v":0},null,null,null,null,"Horse Name:",{"$f":"'Entry Information'!J35","v":0},null,null,null,null,"Horse Name:",{"$f":"'Entry Information'!J35","v":0}]
[]
["Check box when entering Ranch Riding scores",null,null,null,null,null,"Check box when entering Working Ranch Horse scores",null,null,null,null,null,"Check box when entering Ranch Cutting scores",null,null,null,null,null,"Check box when entering Ranch Trail scores",null,null,null,null,null,"Check box when entering Conformation scores"]
["Ranch Riding",null,null,null,null,null,"Working Ranch Horse",null,null,null,null,null,"Ranch Cutting",null,null,null,null,null,"Ranch Trail",null,null,null,null,null,"Ranch Conformation"]
["Maneuver","Judge's Score +/-","Penalty Points",null,null,null,"Maneuver","Judge's Score +/-","Penalty Points",null,null,null,"Maneuver","Judge's Score +/-","Penalty Points",null,null,null,"Maneuver","Judge's Score +/-","Penalty Points",null,null,null,"Front Legs, Feet"]
[1,null,null,null,null,null,1,null,null,null,null,null,"Herd Work",null,null,null,null,null,1,null,null,null,null,null,"Chest, Pectoral V"]
[2,null,null,null,null,null,2,null,null,null,null,null,1,null,null,null,null,null,2,null,null,null,null,null,"Head"]
[3,null,null,null,null,null,3,null,null,null,null,null,2,null,null,null,null,null,3,null,null,null,null,null,"Neck & Throat Latch"]
[4,null,null,null,null,null,4,null,null,null,null,null,3,null,null,null,null,null,4,null,null,null,null,null,"Shoulders & Withers"]
[5,null,null,null,null,null,5,null,null,null,null,null,"Cutting",null,null,null,null,null,5,null,null,null,null,null,"Heart Girth & Barrel"]
[6,null,null,null,null,null,6,null,null,null,null,null,1,null,null,null,null,null,6,null,null,null,null,null,"Back & Loin"]
[7,null,null,null,null,null,7,null,null,null,null,null,2,null,null,null,null,null,7,null,null,null,null,null,"Hip & Croup"]
[8,null,null,null,null,null,8,null,null,null,null,null,3,null,null,null,null,null,8,null,null,null,null,null,"Stife & Gaskin"]
[9,null,null,null,null,null,null,null,"Total Penalty Pts",{"$f":"SUM(I10:J17)","v":0},null,null,4,null,null,null,null,null,9,null,null,null,null,null,"Hock, Hind Legs, Feet"]
[10,null,null,null,null,null,"56 +/- Judge Score",{"$f":"SUM(H10:H17)","v":0},"Divided by 2",{"$f":"SUM((56+H19)/2)","v":28},null,null,"Penning",null,null,null,null,null,10,null,null,null,null,null,"Overall Muscling"]
[11,null,null,null,null,null,"Maneuver Score",{"$f":"J19","v":28},"Less Penalty Pts",{"$f":"J18","v":0},null,null,1,null,null,null,null,null,null,null,"Major Penalties",null,null,null,"Tracking","Lame: enter an \"x\""]
[12,null,null,null,null,null,"REINING SCORE",null,null,{"$f":"SUM(H20+J20)","v":28},null,null,2,null,null,null,null,null,null,null,null,null,null,null,"Balance 1"]
[13,null,null,null,null,null,"NOVICE BOXING",null,null,null,null,null,3,null,null,null,null,null,null,null,null,null,null,null,"Balance 2"]
[14,null,null,null,null,null,1,null,"Penalty Points",null,null,null,null,null,"Major Penalties",null,null,null,"Maneuver Total",{"$f":"SUM(T10:T19)","v":0},"Penalty Total",{"$f":"SUM(SUM(U10:V19)+V20)","v":0},null,null,"Balance 3"]
["Maneuver Total",{"$f":"SUM(B10:B23)","v":0},"Major Penalties",null,null,null,"7 +/- Judge Score",{"$f":"SUM(7+H23)","v":7},"Total Penalty Pts",{"$f":"J23","v":0},null,null,null,null,null,null,null,null,null,null,null,null,null,null,"Fitness & Condition"]
[null,null,"Penalty Total",{"$f":"SUM(C10:D24)","v":0},null,null,"Maneuver Score",{"$f":"H24","v":7},"Less Penalty Pts",{"$f":"J24","v":0},null,null,"Maneuver Total",{"$f":"SUM(N10:N22)","v":0},"Penalty Total",{"$f":"SUM(O11+O12+O13+O15+O16+O17+O18+O20+O21+O22+P23)","v":0},null,null,null,null,null,null,null,null,"Participant Showmanship"]
[null,null,null,null,null,null,"CATTLE SCORE",null,null,{"$f":"SUM(H25+J25)","v":7},null,null,null,null,null,null,null,null,null,null,null,null,null,null,"Horse Showmanship"]
["100 +/-Maneuver",{"$f":"B24","v":0},"x .70 =",{"$f":"SUM((100+B27)*0.7)","v":70},null,null,null,null,null,null,null,null,"70 +/-Maneuver",{"$f":"N25","v":0},"Less Penalty Total",{"$f":"P25","v":0},null,null,"70 +/-Maneuver",{"$f":"T23","v":0},"Less Penalty Total",{"$f":"V23","v":0},null,null,"Form & Showmanship Judges Score",null,"Total (1)",{"$f":"SUM(AB9:AB26)","v":0}]
[null,null,null,null,null,null,null,null,null,null,null,null,null,null,null,null,null,null,null,null,null,null,null,null,{"$f":"SUM(AB27*0.33+42)","v":42},{"$f":"IF(AA20=\"x\",-10,0)","v":0},"Judge Score (2)",{"$f":"SUM(Y28+Z28)","v":42}]
["Maneuver Score =",{"$f":"D27","v":70},"Less Penalty Total",{"$f":"D25","v":0},null,null,"Reining Score",{"$f":"J21","v":28},"Plus Cattle Score",{"$f":"J26","v":7},null,null,null,null,null,null,null,null,null,null,null,null,null,null,"Ranch Cutting",{"$f":"IF(P31=\"\",0,P31)","v":0},"Ranch Rding",{"$f":"IF(D31=\"\",0,D31)","v":0}]
[null,null,null,null,null,null,null,null,null,null,null,null,null,null,null,null,null,null,null,null,null,null,null,null,"Working Ranch Horse",{"$f":"IF(J31=\"\",0,J31)","v":0},"Ranch Trail",{"$f":"IF(V31=\"\",0,V31)","v":0}]
["TOTAL SCORE",null,null,{"$f":"IF(D7=\"\",\"\",IF(B29+D29<0,0,B29+D29))","v":""},null,null,"TOTAL SCORE",null,null,{"$f":"IF(J7=\"\",\"\",IF(H29+J29<0,0,H29+J29))","v":""},null,null,"TOTAL SCORE",null,null,{"$f":"IF(P7=\"\",\"\",IF(70+N27+P27<0,0,70+N27+P27))","v":""},null,null,"TOTAL SCORE",null,null,{"$f":"IF(V7=\"\",\"\",IF(70+T27+V27<0,0,70+T27+V27))","v":""},null,null,"Function Total (3)",{"$f":"SUM(Z29+AB29+Z30+AB30)","v":0},"Function Score (4)",{"$f":"Z31*0.1","v":0}]
[null,null,null,null,null,null,null,null,null,null,null,null,null,null,null,null,null,null,null,null,null,null,null,null,"Judge Score (2) + Function Score (4) = CONFORMATION SCORE",null,null,{"$f":"IF(AB7=\"\",\"\",IF(AB28+AB31<0,0,AB28+AB31))","v":""}]
[null,null,"Return to Entry Page",null,null,null,null,null,"Return to Entry Page",null,null,null,null,null,"Return to Entry Page",null,null,null,null,null,"Return to Entry Page"]
[null,null,null,null,null,null,null,null,null,null,null,null,null,null,null,null,null,null,null,null,null,null,null,null,null,null,"Return to Entry Page"]

{"sheet":"Novice 26","index":35,"n_rows":34,"n_cols":28,"rows_kept":34,"cut":false,"hidden":false,"merged":[[31,24,31,26],[8,2,8,3],[8,8,8,9],[8,14,8,15],[8,20,8,21],[9,2,9,3],[9,8,10,9],[9,12,9,15],[9,20,9,21],[10,2,10,3],[10,14,10,15],[10,20,10,21],[11,2,11,3],[11,8,12,9],[11,14,11,15],[11,20,11,21],[7,0,7,3],[7,6,7,9],[7,12,7,15],[7,18,7,21],[7,24,7,27],[12,2,12,3],[12,14,12,15],[12,20,12,21],[13,2,13,3],[13,8,14,9],[13,12,13,15],[13,20,13,21],[14,2,14,3],[14,14,14,15],[14,20,14,21],[15,2,15,3],[15,8,15,9],[15,14,15,15],[15,20,15,21],[18,12,18,15],[18,20,18,21],[16,2,16,3],[16,8,16,9],[16,14,16,15],[16,20,16,21],[17,2,17,3],[17,14,17,15],[17,20,17,21],[22,14,23,14],[22,15,23,15],[19,2,19,3],[19,14,19,15],[21,2,21,3],[21,6,21,9],[21,14,21,15],[21,18,21,21],[18,2,18,3],[23,0,24,0],[23,1,24,1],[23,18,25,21],[25,0,25,3],[25,6,25,8],[25,12,25,15],[19,18,20,19],[19,20,20,20],[19,21,20,21],[20,2,20,3],[20,6,20,8],[20,14,20,15],[22,2,22,3],[22,12,23,13],[30,0,30,2],[30,6,30,8],[30,12,30,14],[30,18,30,20],[26,6,26,9],[27,0,27,3],[27,6,27,9],[27,12,29,15],[27,18,29,21],[29,0,29,3],[29,6,29,9]]}
["RIDERS SCORE WORK SHEET"]
[]
["Back Number:",{"$f":"'Entry Information'!B36","v":0},null,null,null,null,"Back Number:",{"$f":"'Entry Information'!B36","v":0},null,null,null,null,"Back Number:",{"$f":"'Entry Information'!B36","v":0},null,null,null,null,"Back Number:",{"$f":"'Entry Information'!B36","v":0},null,null,null,null,"Back Number:",{"$f":"'Entry Information'!B36","v":0}]
["Name:",{"$f":"'Entry Information'!I36","v":0},{"$f":"'Entry Information'!H36","v":0},null,null,null,"Name:",{"$f":"'Entry Information'!I36","v":0},{"$f":"'Entry Information'!H36","v":0},null,null,null,"Name:",{"$f":"'Entry Information'!I36","v":0},{"$f":"'Entry Information'!H36","v":0},null,null,null,"Name:",{"$f":"'Entry Information'!I36","v":0},{"$f":"'Entry Information'!H36","v":0},null,null,null,"Name:",{"$f":"'Entry Information'!I36","v":0},{"$f":"'Entry Information'!H36","v":0}]
["Horse Name:",{"$f":"'Entry Information'!J36","v":0},null,null,null,null,"Horse Name:",{"$f":"'Entry Information'!J36","v":0},null,null,null,null,"Horse Name:",{"$f":"'Entry Information'!J36","v":0},null,null,null,null,"Horse Name:",{"$f":"'Entry Information'!J36","v":0},null,null,null,null,"Horse Name:",{"$f":"'Entry Information'!J36","v":0}]
[]
["Check box when entering Ranch Riding scores",null,null,null,null,null,"Check box when entering Working Ranch Horse scores",null,null,null,null,null,"Check box when entering Ranch Cutting scores",null,null,null,null,null,"Check box when entering Ranch Trail scores",null,null,null,null,null,"Check box when entering Conformation scores"]
["Ranch Riding",null,null,null,null,null,"Working Ranch Horse",null,null,null,null,null,"Ranch Cutting",null,null,null,null,null,"Ranch Trail",null,null,null,null,null,"Ranch Conformation"]
["Maneuver","Judge's Score +/-","Penalty Points",null,null,null,"Maneuver","Judge's Score +/-","Penalty Points",null,null,null,"Maneuver","Judge's Score +/-","Penalty Points",null,null,null,"Maneuver","Judge's Score +/-","Penalty Points",null,null,null,"Front Legs, Feet"]
[1,null,null,null,null,null,1,null,null,null,null,null,"Herd Work",null,null,null,null,null,1,null,null,null,null,null,"Chest, Pectoral V"]
[2,null,null,null,null,null,2,null,null,null,null,null,1,null,null,null,null,null,2,null,null,null,null,null,"Head"]
[3,null,null,null,null,null,3,null,null,null,null,null,2,null,null,null,null,null,3,null,null,null,null,null,"Neck & Throat Latch"]
[4,null,null,null,null,null,4,null,null,null,null,null,3,null,null,null,null,null,4,null,null,null,null,null,"Shoulders & Withers"]
[5,null,null,null,null,null,5,null,null,null,null,null,"Cutting",null,null,null,null,null,5,null,null,null,null,null,"Heart Girth & Barrel"]
[6,null,null,null,null,null,6,null,null,null,null,null,1,null,null,null,null,null,6,null,null,null,null,null,"Back & Loin"]
[7,null,null,null,null,null,7,null,null,null,null,null,2,null,null,null,null,null,7,null,null,null,null,null,"Hip & Croup"]
[8,null,null,null,null,null,8,null,null,null,null,null,3,null,null,null,null,null,8,null,null,null,null,null,"Stife & Gaskin"]
[9,null,null,null,null,null,null,null,"Total Penalty Pts",{"$f":"SUM(I10:J17)","v":0},null,null,4,null,null,null,null,null,9,null,null,null,null,null,"Hock, Hind Legs, Feet"]
[10,null,null,null,null,null,"56 +/- Judge Score",{"$f":"SUM(H10:H17)","v":0},"Divided by 2",{"$f":"SUM((56+H19)/2)","v":28},null,null,"Penning",null,null,null,null,null,10,null,null,null,null,null,"Overall Muscling"]
[11,null,null,null,null,null,"Maneuver Score",{"$f":"J19","v":28},"Less Penalty Pts",{"$f":"J18","v":0},null,null,1,null,null,null,null,null,null,null,"Major Penalties",null,null,null,"Tracking","Lame: enter an \"x\""]
[12,null,null,null,null,null,"REINING SCORE",null,null,{"$f":"SUM(H20+J20)","v":28},null,null,2,null,null,null,null,null,null,null,null,null,null,null,"Balance 1"]
[13,null,null,null,null,null,"NOVICE BOXING",null,null,null,null,null,3,null,null,null,null,null,null,null,null,null,null,null,"Balance 2"]
[14,null,null,null,null,null,1,null,"Penalty Points",null,null,null,null,null,"Major Penalties",null,null,null,"Maneuver Total",{"$f":"SUM(T10:T19)","v":0},"Penalty Total",{"$f":"SUM(SUM(U10:V19)+V20)","v":0},null,null,"Balance 3"]
["Maneuver Total",{"$f":"SUM(B10:B23)","v":0},"Major Penalties",null,null,null,"7 +/- Judge Score",{"$f":"SUM(7+H23)","v":7},"Total Penalty Pts",{"$f":"J23","v":0},null,null,null,null,null,null,null,null,null,null,null,null,null,null,"Fitness & Condition"]
[null,null,"Penalty Total",{"$f":"SUM(C10:D24)","v":0},null,null,"Maneuver Score",{"$f":"H24","v":7},"Less Penalty Pts",{"$f":"J24","v":0},null,null,"Maneuver Total",{"$f":"SUM(N10:N22)","v":0},"Penalty Total",{"$f":"SUM(O11+O12+O13+O15+O16+O17+O18+O20+O21+O22+P23)","v":0},null,null,null,null,null,null,null,null,"Participant Showmanship"]
[null,null,null,null,null,null,"CATTLE SCORE",null,null,{"$f":"SUM(H25+J25)","v":7},null,null,null,null,null,null,null,null,null,null,null,null,null,null,"Horse Showmanship"]
["100 +/-Maneuver",{"$f":"B24","v":0},"x .70 =",{"$f":"SUM((100+B27)*0.7)","v":70},null,null,null,null,null,null,null,null,"70 +/-Maneuver",{"$f":"N25","v":0},"Less Penalty Total",{"$f":"P25","v":0},null,null,"70 +/-Maneuver",{"$f":"T23","v":0},"Less Penalty Total",{"$f":"V23","v":0},null,null,"Form & Showmanship Judges Score",null,"Total (1)",{"$f":"SUM(AB9:AB26)","v":0}]
[null,null,null,null,null,null,null,null,null,null,null,null,null,null,null,null,null,null,null,null,null,null,null,null,{"$f":"SUM(AB27*0.33+42)","v":42},{"$f":"IF(AA20=\"x\",-10,0)","v":0},"Judge Score (2)",{"$f":"SUM(Y28+Z28)","v":42}]
["Maneuver Score =",{"$f":"D27","v":70},"Less Penalty Total",{"$f":"D25","v":0},null,null,"Reining Score",{"$f":"J21","v":28},"Plus Cattle Score",{"$f":"J26","v":7},null,null,null,null,null,null,null,null,null,null,null,null,null,null,"Ranch Cutting",{"$f":"IF(P31=\"\",0,P31)","v":0},"Ranch Rding",{"$f":"IF(D31=\"\",0,D31)","v":0}]
[null,null,null,null,null,null,null,null,null,null,null,null,null,null,null,null,null,null,null,null,null,null,null,null,"Working Ranch Horse",{"$f":"IF(J31=\"\",0,J31)","v":0},"Ranch Trail",{"$f":"IF(V31=\"\",0,V31)","v":0}]
["TOTAL SCORE",null,null,{"$f":"IF(D7=\"\",\"\",IF(B29+D29<0,0,B29+D29))","v":""},null,null,"TOTAL SCORE",null,null,{"$f":"IF(J7=\"\",\"\",IF(H29+J29<0,0,H29+J29))","v":""},null,null,"TOTAL SCORE",null,null,{"$f":"IF(P7=\"\",\"\",IF(70+N27+P27<0,0,70+N27+P27))","v":""},null,null,"TOTAL SCORE",null,null,{"$f":"IF(V7=\"\",\"\",IF(70+T27+V27<0,0,70+T27+V27))","v":""},null,null,"Function Total (3)",{"$f":"SUM(Z29+AB29+Z30+AB30)","v":0},"Function Score (4)",{"$f":"Z31*0.1","v":0}]
[null,null,null,null,null,null,null,null,null,null,null,null,null,null,null,null,null,null,null,null,null,null,null,null,"Judge Score (2) + Function Score (4) = CONFORMATION SCORE",null,null,{"$f":"IF(AB7=\"\",\"\",IF(AB28+AB31<0,0,AB28+AB31))","v":""}]
[null,null,"Return to Entry Page",null,null,null,null,null,"Return to Entry Page",null,null,null,null,null,"Return to Entry Page",null,null,null,null,null,"Return to Entry Page"]
[null,null,null,null,null,null,null,null,null,null,null,null,null,null,null,null,null,null,null,null,null,null,null,null,null,null,"Return to Entry Page"]

{"sheet":"Novice 27","index":36,"n_rows":34,"n_cols":28,"rows_kept":34,"cut":false,"hidden":false,"merged":[[31,24,31,26],[8,2,8,3],[8,8,8,9],[8,14,8,15],[8,20,8,21],[9,2,9,3],[9,8,10,9],[9,12,9,15],[9,20,9,21],[10,2,10,3],[10,14,10,15],[10,20,10,21],[11,2,11,3],[11,8,12,9],[11,14,11,15],[11,20,11,21],[7,0,7,3],[7,6,7,9],[7,12,7,15],[7,18,7,21],[7,24,7,27],[12,2,12,3],[12,14,12,15],[12,20,12,21],[13,2,13,3],[13,8,14,9],[13,12,13,15],[13,20,13,21],[14,2,14,3],[14,14,14,15],[14,20,14,21],[15,2,15,3],[15,8,15,9],[15,14,15,15],[15,20,15,21],[18,12,18,15],[18,20,18,21],[16,2,16,3],[16,8,16,9],[16,14,16,15],[16,20,16,21],[17,2,17,3],[17,14,17,15],[17,20,17,21],[22,14,23,14],[22,15,23,15],[19,2,19,3],[19,14,19,15],[21,2,21,3],[21,6,21,9],[21,14,21,15],[21,18,21,21],[18,2,18,3],[23,0,24,0],[23,1,24,1],[23,18,25,21],[25,0,25,3],[25,6,25,8],[25,12,25,15],[19,18,20,19],[19,20,20,20],[19,21,20,21],[20,2,20,3],[20,6,20,8],[20,14,20,15],[22,2,22,3],[22,12,23,13],[30,0,30,2],[30,6,30,8],[30,12,30,14],[30,18,30,20],[26,6,26,9],[27,0,27,3],[27,6,27,9],[27,12,29,15],[27,18,29,21],[29,0,29,3],[29,6,29,9]]}
["RIDERS SCORE WORK SHEET"]
[]
["Back Number:",{"$f":"'Entry Information'!B37","v":0},null,null,null,null,"Back Number:",{"$f":"'Entry Information'!B37","v":0},null,null,null,null,"Back Number:",{"$f":"'Entry Information'!B37","v":0},null,null,null,null,"Back Number:",{"$f":"'Entry Information'!B37","v":0},null,null,null,null,"Back Number:",{"$f":"'Entry Information'!B37","v":0}]
["Name:",{"$f":"'Entry Information'!I37","v":0},{"$f":"'Entry Information'!H37","v":0},null,null,null,"Name:",{"$f":"'Entry Information'!I37","v":0},{"$f":"'Entry Information'!H37","v":0},null,null,null,"Name:",{"$f":"'Entry Information'!I37","v":0},{"$f":"'Entry Information'!H37","v":0},null,null,null,"Name:",{"$f":"'Entry Information'!I37","v":0},{"$f":"'Entry Information'!H37","v":0},null,null,null,"Name:",{"$f":"'Entry Information'!I37","v":0},{"$f":"'Entry Information'!H37","v":0}]
["Horse Name:",{"$f":"'Entry Information'!J37","v":0},null,null,null,null,"Horse Name:",{"$f":"'Entry Information'!J37","v":0},null,null,null,null,"Horse Name:",{"$f":"'Entry Information'!J37","v":0},null,null,null,null,"Horse Name:",{"$f":"'Entry Information'!J37","v":0},null,null,null,null,"Horse Name:",{"$f":"'Entry Information'!J37","v":0}]
[]
["Check box when entering Ranch Riding scores",null,null,null,null,null,"Check box when entering Working Ranch Horse scores",null,null,null,null,null,"Check box when entering Ranch Cutting scores",null,null,null,null,null,"Check box when entering Ranch Trail scores",null,null,null,null,null,"Check box when entering Conformation scores"]
["Ranch Riding",null,null,null,null,null,"Working Ranch Horse",null,null,null,null,null,"Ranch Cutting",null,null,null,null,null,"Ranch Trail",null,null,null,null,null,"Ranch Conformation"]
["Maneuver","Judge's Score +/-","Penalty Points",null,null,null,"Maneuver","Judge's Score +/-","Penalty Points",null,null,null,"Maneuver","Judge's Score +/-","Penalty Points",null,null,null,"Maneuver","Judge's Score +/-","Penalty Points",null,null,null,"Front Legs, Feet"]
[1,null,null,null,null,null,1,null,null,null,null,null,"Herd Work",null,null,null,null,null,1,null,null,null,null,null,"Chest, Pectoral V"]
[2,null,null,null,null,null,2,null,null,null,null,null,1,null,null,null,null,null,2,null,null,null,null,null,"Head"]
[3,null,null,null,null,null,3,null,null,null,null,null,2,null,null,null,null,null,3,null,null,null,null,null,"Neck & Throat Latch"]
[4,null,null,null,null,null,4,null,null,null,null,null,3,null,null,null,null,null,4,null,null,null,null,null,"Shoulders & Withers"]
[5,null,null,null,null,null,5,null,null,null,null,null,"Cutting",null,null,null,null,null,5,null,null,null,null,null,"Heart Girth & Barrel"]
[6,null,null,null,null,null,6,null,null,null,null,null,1,null,null,null,null,null,6,null,null,null,null,null,"Back & Loin"]
[7,null,null,null,null,null,7,null,null,null,null,null,2,null,null,null,null,null,7,null,null,null,null,null,"Hip & Croup"]
[8,null,null,null,null,null,8,null,null,null,null,null,3,null,null,null,null,null,8,null,null,null,null,null,"Stife & Gaskin"]
[9,null,null,null,null,null,null,null,"Total Penalty Pts",{"$f":"SUM(I10:J17)","v":0},null,null,4,null,null,null,null,null,9,null,null,null,null,null,"Hock, Hind Legs, Feet"]
[10,null,null,null,null,null,"56 +/- Judge Score",{"$f":"SUM(H10:H17)","v":0},"Divided by 2",{"$f":"SUM((56+H19)/2)","v":28},null,null,"Penning",null,null,null,null,null,10,null,null,null,null,null,"Overall Muscling"]
[11,null,null,null,null,null,"Maneuver Score",{"$f":"J19","v":28},"Less Penalty Pts",{"$f":"J18","v":0},null,null,1,null,null,null,null,null,null,null,"Major Penalties",null,null,null,"Tracking","Lame: enter an \"x\""]
[12,null,null,null,null,null,"REINING SCORE",null,null,{"$f":"SUM(H20+J20)","v":28},null,null,2,null,null,null,null,null,null,null,null,null,null,null,"Balance 1"]
[13,null,null,null,null,null,"NOVICE BOXING",null,null,null,null,null,3,null,null,null,null,null,null,null,null,null,null,null,"Balance 2"]
[14,null,null,null,null,null,1,null,"Penalty Points",null,null,null,null,null,"Major Penalties",null,null,null,"Maneuver Total",{"$f":"SUM(T10:T19)","v":0},"Penalty Total",{"$f":"SUM(SUM(U10:V19)+V20)","v":0},null,null,"Balance 3"]
["Maneuver Total",{"$f":"SUM(B10:B23)","v":0},"Major Penalties",null,null,null,"7 +/- Judge Score",{"$f":"SUM(7+H23)","v":7},"Total Penalty Pts",{"$f":"J23","v":0},null,null,null,null,null,null,null,null,null,null,null,null,null,null,"Fitness & Condition"]
[null,null,"Penalty Total",{"$f":"SUM(C10:D24)","v":0},null,null,"Maneuver Score",{"$f":"H24","v":7},"Less Penalty Pts",{"$f":"J24","v":0},null,null,"Maneuver Total",{"$f":"SUM(N10:N22)","v":0},"Penalty Total",{"$f":"SUM(O11+O12+O13+O15+O16+O17+O18+O20+O21+O22+P23)","v":0},null,null,null,null,null,null,null,null,"Participant Showmanship"]
[null,null,null,null,null,null,"CATTLE SCORE",null,null,{"$f":"SUM(H25+J25)","v":7},null,null,null,null,null,null,null,null,null,null,null,null,null,null,"Horse Showmanship"]
["100 +/-Maneuver",{"$f":"B24","v":0},"x .70 =",{"$f":"SUM((100+B27)*0.7)","v":70},null,null,null,null,null,null,null,null,"70 +/-Maneuver",{"$f":"N25","v":0},"Less Penalty Total",{"$f":"P25","v":0},null,null,"70 +/-Maneuver",{"$f":"T23","v":0},"Less Penalty Total",{"$f":"V23","v":0},null,null,"Form & Showmanship Judges Score",null,"Total (1)",{"$f":"SUM(AB9:AB26)","v":0}]
[null,null,null,null,null,null,null,null,null,null,null,null,null,null,null,null,null,null,null,null,null,null,null,null,{"$f":"SUM(AB27*0.33+42)","v":42},{"$f":"IF(AA20=\"x\",-10,0)","v":0},"Judge Score (2)",{"$f":"SUM(Y28+Z28)","v":42}]
["Maneuver Score =",{"$f":"D27","v":70},"Less Penalty Total",{"$f":"D25","v":0},null,null,"Reining Score",{"$f":"J21","v":28},"Plus Cattle Score",{"$f":"J26","v":7},null,null,null,null,null,null,null,null,null,null,null,null,null,null,"Ranch Cutting",{"$f":"IF(P31=\"\",0,P31)","v":0},"Ranch Rding",{"$f":"IF(D31=\"\",0,D31)","v":0}]
[null,null,null,null,null,null,null,null,null,null,null,null,null,null,null,null,null,null,null,null,null,null,null,null,"Working Ranch Horse",{"$f":"IF(J31=\"\",0,J31)","v":0},"Ranch Trail",{"$f":"IF(V31=\"\",0,V31)","v":0}]
["TOTAL SCORE",null,null,{"$f":"IF(D7=\"\",\"\",IF(B29+D29<0,0,B29+D29))","v":""},null,null,"TOTAL SCORE",null,null,{"$f":"IF(J7=\"\",\"\",IF(H29+J29<0,0,H29+J29))","v":""},null,null,"TOTAL SCORE",null,null,{"$f":"IF(P7=\"\",\"\",IF(70+N27+P27<0,0,70+N27+P27))","v":""},null,null,"TOTAL SCORE",null,null,{"$f":"IF(V7=\"\",\"\",IF(70+T27+V27<0,0,70+T27+V27))","v":""},null,null,"Function Total (3)",{"$f":"SUM(Z29+AB29+Z30+AB30)","v":0},"Function Score (4)",{"$f":"Z31*0.1","v":0}]
[null,null,null,null,null,null,null,null,null,null,null,null,null,null,null,null,null,null,null,null,null,null,null,null,"Judge Score (2) + Function Score (4) = CONFORMATION SCORE",null,null,{"$f":"IF(AB7=\"\",\"\",IF(AB28+AB31<0,0,AB28+AB31))","v":""}]
[null,null,"Return to Entry Page",null,null,null,null,null,"Return to Entry Page",null,null,null,null,null,"Return to Entry Page",null,null,null,null,null,"Return to Entry Page"]
[null,null,null,null,null,null,null,null,null,null,null,null,null,null,null,null,null,null,null,null,null,null,null,null,null,null,"Return to Entry Page"]

{"sheet":"Novice 28","index":37,"n_rows":34,"n_cols":28,"rows_kept":34,"cut":false,"hidden":false,"merged":[[31,24,31,26],[8,2,8,3],[8,8,8,9],[8,14,8,15],[8,20,8,21],[9,2,9,3],[9,8,10,9],[9,12,9,15],[9,20,9,21],[10,2,10,3],[10,14,10,15],[10,20,10,21],[11,2,11,3],[11,8,12,9],[11,14,11,15],[11,20,11,21],[7,0,7,3],[7,6,7,9],[7,12,7,15],[7,18,7,21],[7,24,7,27],[12,2,12,3],[12,14,12,15],[12,20,12,21],[13,2,13,3],[13,8,14,9],[13,12,13,15],[13,20,13,21],[14,2,14,3],[14,14,14,15],[14,20,14,21],[15,2,15,3],[15,8,15,9],[15,14,15,15],[15,20,15,21],[18,12,18,15],[18,20,18,21],[16,2,16,3],[16,8,16,9],[16,14,16,15],[16,20,16,21],[17,2,17,3],[17,14,17,15],[17,20,17,21],[22,14,23,14],[22,15,23,15],[19,2,19,3],[19,14,19,15],[21,2,21,3],[21,6,21,9],[21,14,21,15],[21,18,21,21],[18,2,18,3],[23,0,24,0],[23,1,24,1],[23,18,25,21],[25,0,25,3],[25,6,25,8],[25,12,25,15],[19,18,20,19],[19,20,20,20],[19,21,20,21],[20,2,20,3],[20,6,20,8],[20,14,20,15],[22,2,22,3],[22,12,23,13],[30,0,30,2],[30,6,30,8],[30,12,30,14],[30,18,30,20],[26,6,26,9],[27,0,27,3],[27,6,27,9],[27,12,29,15],[27,18,29,21],[29,0,29,3],[29,6,29,9]]}
["RIDERS SCORE WORK SHEET"]
[]
["Back Number:",{"$f":"'Entry Information'!B38","v":0},null,null,null,null,"Back Number:",{"$f":"'Entry Information'!B38","v":0},null,null,null,null,"Back Number:",{"$f":"'Entry Information'!B38","v":0},null,null,null,null,"Back Number:",{"$f":"'Entry Information'!B38","v":0},null,null,null,null,"Back Number:",{"$f":"'Entry Information'!B38","v":0}]
["Name:",{"$f":"'Entry Information'!I38","v":0},{"$f":"'Entry Information'!H38","v":0},null,null,null,"Name:",{"$f":"'Entry Information'!I38","v":0},{"$f":"'Entry Information'!H38","v":0},null,null,null,"Name:",{"$f":"'Entry Information'!I38","v":0},{"$f":"'Entry Information'!H38","v":0},null,null,null,"Name:",{"$f":"'Entry Information'!I38","v":0},{"$f":"'Entry Information'!H38","v":0},null,null,null,"Name:",{"$f":"'Entry Information'!I38","v":0},{"$f":"'Entry Information'!H38","v":0}]
["Horse Name:",{"$f":"'Entry Information'!J38","v":0},null,null,null,null,"Horse Name:",{"$f":"'Entry Information'!J38","v":0},null,null,null,null,"Horse Name:",{"$f":"'Entry Information'!J38","v":0},null,null,null,null,"Horse Name:",{"$f":"'Entry Information'!J38","v":0},null,null,null,null,"Horse Name:",{"$f":"'Entry Information'!J38","v":0}]
[]
["Check box when entering Ranch Riding scores",null,null,null,null,null,"Check box when entering Working Ranch Horse scores",null,null,null,null,null,"Check box when entering Ranch Cutting scores",null,null,null,null,null,"Check box when entering Ranch Trail scores",null,null,null,null,null,"Check box when entering Conformation scores"]
["Ranch Riding",null,null,null,null,null,"Working Ranch Horse",null,null,null,null,null,"Ranch Cutting",null,null,null,null,null,"Ranch Trail",null,null,null,null,null,"Ranch Conformation"]
["Maneuver","Judge's Score +/-","Penalty Points",null,null,null,"Maneuver","Judge's Score +/-","Penalty Points",null,null,null,"Maneuver","Judge's Score +/-","Penalty Points",null,null,null,"Maneuver","Judge's Score +/-","Penalty Points",null,null,null,"Front Legs, Feet"]
[1,null,null,null,null,null,1,null,null,null,null,null,"Herd Work",null,null,null,null,null,1,null,null,null,null,null,"Chest, Pectoral V"]
[2,null,null,null,null,null,2,null,null,null,null,null,1,null,null,null,null,null,2,null,null,null,null,null,"Head"]
[3,null,null,null,null,null,3,null,null,null,null,null,2,null,null,null,null,null,3,null,null,null,null,null,"Neck & Throat Latch"]
[4,null,null,null,null,null,4,null,null,null,null,null,3,null,null,null,null,null,4,null,null,null,null,null,"Shoulders & Withers"]
[5,null,null,null,null,null,5,null,null,null,null,null,"Cutting",null,null,null,null,null,5,null,null,null,null,null,"Heart Girth & Barrel"]
[6,null,null,null,null,null,6,null,null,null,null,null,1,null,null,null,null,null,6,null,null,null,null,null,"Back & Loin"]
[7,null,null,null,null,null,7,null,null,null,null,null,2,null,null,null,null,null,7,null,null,null,null,null,"Hip & Croup"]
[8,null,null,null,null,null,8,null,null,null,null,null,3,null,null,null,null,null,8,null,null,null,null,null,"Stife & Gaskin"]
[9,null,null,null,null,null,null,null,"Total Penalty Pts",{"$f":"SUM(I10:J17)","v":0},null,null,4,null,null,null,null,null,9,null,null,null,null,null,"Hock, Hind Legs, Feet"]
[10,null,null,null,null,null,"56 +/- Judge Score",{"$f":"SUM(H10:H17)","v":0},"Divided by 2",{"$f":"SUM((56+H19)/2)","v":28},null,null,"Penning",null,null,null,null,null,10,null,null,null,null,null,"Overall Muscling"]
[11,null,null,null,null,null,"Maneuver Score",{"$f":"J19","v":28},"Less Penalty Pts",{"$f":"J18","v":0},null,null,1,null,null,null,null,null,null,null,"Major Penalties",null,null,null,"Tracking","Lame: enter an \"x\""]
[12,null,null,null,null,null,"REINING SCORE",null,null,{"$f":"SUM(H20+J20)","v":28},null,null,2,null,null,null,null,null,null,null,null,null,null,null,"Balance 1"]
[13,null,null,null,null,null,"NOVICE BOXING",null,null,null,null,null,3,null,null,null,null,null,null,null,null,null,null,null,"Balance 2"]
[14,null,null,null,null,null,1,null,"Penalty Points",null,null,null,null,null,"Major Penalties",null,null,null,"Maneuver Total",{"$f":"SUM(T10:T19)","v":0},"Penalty Total",{"$f":"SUM(SUM(U10:V19)+V20)","v":0},null,null,"Balance 3"]
["Maneuver Total",{"$f":"SUM(B10:B23)","v":0},"Major Penalties",null,null,null,"7 +/- Judge Score",{"$f":"SUM(7+H23)","v":7},"Total Penalty Pts",{"$f":"J23","v":0},null,null,null,null,null,null,null,null,null,null,null,null,null,null,"Fitness & Condition"]
[null,null,"Penalty Total",{"$f":"SUM(C10:D24)","v":0},null,null,"Maneuver Score",{"$f":"H24","v":7},"Less Penalty Pts",{"$f":"J24","v":0},null,null,"Maneuver Total",{"$f":"SUM(N10:N22)","v":0},"Penalty Total",{"$f":"SUM(O11+O12+O13+O15+O16+O17+O18+O20+O21+O22+P23)","v":0},null,null,null,null,null,null,null,null,"Participant Showmanship"]
[null,null,null,null,null,null,"CATTLE SCORE",null,null,{"$f":"SUM(H25+J25)","v":7},null,null,null,null,null,null,null,null,null,null,null,null,null,null,"Horse Showmanship"]
["100 +/-Maneuver",{"$f":"B24","v":0},"x .70 =",{"$f":"SUM((100+B27)*0.7)","v":70},null,null,null,null,null,null,null,null,"70 +/-Maneuver",{"$f":"N25","v":0},"Less Penalty Total",{"$f":"P25","v":0},null,null,"70 +/-Maneuver",{"$f":"T23","v":0},"Less Penalty Total",{"$f":"V23","v":0},null,null,"Form & Showmanship Judges Score",null,"Total (1)",{"$f":"SUM(AB9:AB26)","v":0}]
[null,null,null,null,null,null,null,null,null,null,null,null,null,null,null,null,null,null,null,null,null,null,null,null,{"$f":"SUM(AB27*0.33+42)","v":42},{"$f":"IF(AA20=\"x\",-10,0)","v":0},"Judge Score (2)",{"$f":"SUM(Y28+Z28)","v":42}]
["Maneuver Score =",{"$f":"D27","v":70},"Less Penalty Total",{"$f":"D25","v":0},null,null,"Reining Score",{"$f":"J21","v":28},"Plus Cattle Score",{"$f":"J26","v":7},null,null,null,null,null,null,null,null,null,null,null,null,null,null,"Ranch Cutting",{"$f":"IF(P31=\"\",0,P31)","v":0},"Ranch Rding",{"$f":"IF(D31=\"\",0,D31)","v":0}]
[null,null,null,null,null,null,null,null,null,null,null,null,null,null,null,null,null,null,null,null,null,null,null,null,"Working Ranch Horse",{"$f":"IF(J31=\"\",0,J31)","v":0},"Ranch Trail",{"$f":"IF(V31=\"\",0,V31)","v":0}]
["TOTAL SCORE",null,null,{"$f":"IF(D7=\"\",\"\",IF(B29+D29<0,0,B29+D29))","v":""},null,null,"TOTAL SCORE",null,null,{"$f":"IF(J7=\"\",\"\",IF(H29+J29<0,0,H29+J29))","v":""},null,null,"TOTAL SCORE",null,null,{"$f":"IF(P7=\"\",\"\",IF(70+N27+P27<0,0,70+N27+P27))","v":""},null,null,"TOTAL SCORE",null,null,{"$f":"IF(V7=\"\",\"\",IF(70+T27+V27<0,0,70+T27+V27))","v":""},null,null,"Function Total (3)",{"$f":"SUM(Z29+AB29+Z30+AB30)","v":0},"Function Score (4)",{"$f":"Z31*0.1","v":0}]
[null,null,null,null,null,null,null,null,null,null,null,null,null,null,null,null,null,null,null,null,null,null,null,null,"Judge Score (2) + Function Score (4) = CONFORMATION SCORE",null,null,{"$f":"IF(AB7=\"\",\"\",IF(AB28+AB31<0,0,AB28+AB31))","v":""}]
[null,null,"Return to Entry Page",null,null,null,null,null,"Return to Entry Page",null,null,null,null,null,"Return to Entry Page",null,null,null,null,null,"Return to Entry Page"]
[null,null,null,null,null,null,null,null,null,null,null,null,null,null,null,null,null,null,null,null,null,null,null,null,null,null,"Return to Entry Page"]

{"sheet":"Novice 29","index":38,"n_rows":34,"n_cols":28,"rows_kept":34,"cut":false,"hidden":false,"merged":[[31,24,31,26],[8,2,8,3],[8,8,8,9],[8,14,8,15],[8,20,8,21],[9,2,9,3],[9,8,10,9],[9,12,9,15],[9,20,9,21],[10,2,10,3],[10,14,10,15],[10,20,10,21],[11,2,11,3],[11,8,12,9],[11,14,11,15],[11,20,11,21],[7,0,7,3],[7,6,7,9],[7,12,7,15],[7,18,7,21],[7,24,7,27],[12,2,12,3],[12,14,12,15],[12,20,12,21],[13,2,13,3],[13,8,14,9],[13,12,13,15],[13,20,13,21],[14,2,14,3],[14,14,14,15],[14,20,14,21],[15,2,15,3],[15,8,15,9],[15,14,15,15],[15,20,15,21],[18,12,18,15],[18,20,18,21],[16,2,16,3],[16,8,16,9],[16,14,16,15],[16,20,16,21],[17,2,17,3],[17,14,17,15],[17,20,17,21],[22,14,23,14],[22,15,23,15],[19,2,19,3],[19,14,19,15],[21,2,21,3],[21,6,21,9],[21,14,21,15],[21,18,21,21],[18,2,18,3],[23,0,24,0],[23,1,24,1],[23,18,25,21],[25,0,25,3],[25,6,25,8],[25,12,25,15],[19,18,20,19],[19,20,20,20],[19,21,20,21],[20,2,20,3],[20,6,20,8],[20,14,20,15],[22,2,22,3],[22,12,23,13],[30,0,30,2],[30,6,30,8],[30,12,30,14],[30,18,30,20],[26,6,26,9],[27,0,27,3],[27,6,27,9],[27,12,29,15],[27,18,29,21],[29,0,29,3],[29,6,29,9]]}
["RIDERS SCORE WORK SHEET"]
[]
["Back Number:",{"$f":"'Entry Information'!B39","v":0},null,null,null,null,"Back Number:",{"$f":"'Entry Information'!B39","v":0},null,null,null,null,"Back Number:",{"$f":"'Entry Information'!B39","v":0},null,null,null,null,"Back Number:",{"$f":"'Entry Information'!B39","v":0},null,null,null,null,"Back Number:",{"$f":"'Entry Information'!B39","v":0}]
["Name:",{"$f":"'Entry Information'!I39","v":0},{"$f":"'Entry Information'!H39","v":0},null,null,null,"Name:",{"$f":"'Entry Information'!I39","v":0},{"$f":"'Entry Information'!H39","v":0},null,null,null,"Name:",{"$f":"'Entry Information'!I39","v":0},{"$f":"'Entry Information'!H39","v":0},null,null,null,"Name:",{"$f":"'Entry Information'!I39","v":0},{"$f":"'Entry Information'!H39","v":0},null,null,null,"Name:",{"$f":"'Entry Information'!I39","v":0},{"$f":"'Entry Information'!H39","v":0}]
["Horse Name:",{"$f":"'Entry Information'!J39","v":0},null,null,null,null,"Horse Name:",{"$f":"'Entry Information'!J39","v":0},null,null,null,null,"Horse Name:",{"$f":"'Entry Information'!J39","v":0},null,null,null,null,"Horse Name:",{"$f":"'Entry Information'!J39","v":0},null,null,null,null,"Horse Name:",{"$f":"'Entry Information'!J39","v":0}]
[]
["Check box when entering Ranch Riding scores",null,null,null,null,null,"Check box when entering Working Ranch Horse scores",null,null,null,null,null,"Check box when entering Ranch Cutting scores",null,null,null,null,null,"Check box when entering Ranch Trail scores",null,null,null,null,null,"Check box when entering Conformation scores"]
["Ranch Riding",null,null,null,null,null,"Working Ranch Horse",null,null,null,null,null,"Ranch Cutting",null,null,null,null,null,"Ranch Trail",null,null,null,null,null,"Ranch Conformation"]
["Maneuver","Judge's Score +/-","Penalty Points",null,null,null,"Maneuver","Judge's Score +/-","Penalty Points",null,null,null,"Maneuver","Judge's Score +/-","Penalty Points",null,null,null,"Maneuver","Judge's Score +/-","Penalty Points",null,null,null,"Front Legs, Feet"]
[1,null,null,null,null,null,1,null,null,null,null,null,"Herd Work",null,null,null,null,null,1,null,null,null,null,null,"Chest, Pectoral V"]
[2,null,null,null,null,null,2,null,null,null,null,null,1,null,null,null,null,null,2,null,null,null,null,null,"Head"]
[3,null,null,null,null,null,3,null,null,null,null,null,2,null,null,null,null,null,3,null,null,null,null,null,"Neck & Throat Latch"]
[4,null,null,null,null,null,4,null,null,null,null,null,3,null,null,null,null,null,4,null,null,null,null,null,"Shoulders & Withers"]
[5,null,null,null,null,null,5,null,null,null,null,null,"Cutting",null,null,null,null,null,5,null,null,null,null,null,"Heart Girth & Barrel"]
[6,null,null,null,null,null,6,null,null,null,null,null,1,null,null,null,null,null,6,null,null,null,null,null,"Back & Loin"]
[7,null,null,null,null,null,7,null,null,null,null,null,2,null,null,null,null,null,7,null,null,null,null,null,"Hip & Croup"]
[8,null,null,null,null,null,8,null,null,null,null,null,3,null,null,null,null,null,8,null,null,null,null,null,"Stife & Gaskin"]
[9,null,null,null,null,null,null,null,"Total Penalty Pts",{"$f":"SUM(I10:J17)","v":0},null,null,4,null,null,null,null,null,9,null,null,null,null,null,"Hock, Hind Legs, Feet"]
[10,null,null,null,null,null,"56 +/- Judge Score",{"$f":"SUM(H10:H17)","v":0},"Divided by 2",{"$f":"SUM((56+H19)/2)","v":28},null,null,"Penning",null,null,null,null,null,10,null,null,null,null,null,"Overall Muscling"]
[11,null,null,null,null,null,"Maneuver Score",{"$f":"J19","v":28},"Less Penalty Pts",{"$f":"J18","v":0},null,null,1,null,null,null,null,null,null,null,"Major Penalties",null,null,null,"Tracking","Lame: enter an \"x\""]
[12,null,null,null,null,null,"REINING SCORE",null,null,{"$f":"SUM(H20+J20)","v":28},null,null,2,null,null,null,null,null,null,null,null,null,null,null,"Balance 1"]
[13,null,null,null,null,null,"NOVICE BOXING",null,null,null,null,null,3,null,null,null,null,null,null,null,null,null,null,null,"Balance 2"]
[14,null,null,null,null,null,1,null,"Penalty Points",null,null,null,null,null,"Major Penalties",null,null,null,"Maneuver Total",{"$f":"SUM(T10:T19)","v":0},"Penalty Total",{"$f":"SUM(SUM(U10:V19)+V20)","v":0},null,null,"Balance 3"]
["Maneuver Total",{"$f":"SUM(B10:B23)","v":0},"Major Penalties",null,null,null,"7 +/- Judge Score",{"$f":"SUM(7+H23)","v":7},"Total Penalty Pts",{"$f":"J23","v":0},null,null,null,null,null,null,null,null,null,null,null,null,null,null,"Fitness & Condition"]
[null,null,"Penalty Total",{"$f":"SUM(C10:D24)","v":0},null,null,"Maneuver Score",{"$f":"H24","v":7},"Less Penalty Pts",{"$f":"J24","v":0},null,null,"Maneuver Total",{"$f":"SUM(N10:N22)","v":0},"Penalty Total",{"$f":"SUM(O11+O12+O13+O15+O16+O17+O18+O20+O21+O22+P23)","v":0},null,null,null,null,null,null,null,null,"Participant Showmanship"]
[null,null,null,null,null,null,"CATTLE SCORE",null,null,{"$f":"SUM(H25+J25)","v":7},null,null,null,null,null,null,null,null,null,null,null,null,null,null,"Horse Showmanship"]
["100 +/-Maneuver",{"$f":"B24","v":0},"x .70 =",{"$f":"SUM((100+B27)*0.7)","v":70},null,null,null,null,null,null,null,null,"70 +/-Maneuver",{"$f":"N25","v":0},"Less Penalty Total",{"$f":"P25","v":0},null,null,"70 +/-Maneuver",{"$f":"T23","v":0},"Less Penalty Total",{"$f":"V23","v":0},null,null,"Form & Showmanship Judges Score",null,"Total (1)",{"$f":"SUM(AB9:AB26)","v":0}]
[null,null,null,null,null,null,null,null,null,null,null,null,null,null,null,null,null,null,null,null,null,null,null,null,{"$f":"SUM(AB27*0.33+42)","v":42},{"$f":"IF(AA20=\"x\",-10,0)","v":0},"Judge Score (2)",{"$f":"SUM(Y28+Z28)","v":42}]
["Maneuver Score =",{"$f":"D27","v":70},"Less Penalty Total",{"$f":"D25","v":0},null,null,"Reining Score",{"$f":"J21","v":28},"Plus Cattle Score",{"$f":"J26","v":7},null,null,null,null,null,null,null,null,null,null,null,null,null,null,"Ranch Cutting",{"$f":"IF(P31=\"\",0,P31)","v":0},"Ranch Rding",{"$f":"IF(D31=\"\",0,D31)","v":0}]
[null,null,null,null,null,null,null,null,null,null,null,null,null,null,null,null,null,null,null,null,null,null,null,null,"Working Ranch Horse",{"$f":"IF(J31=\"\",0,J31)","v":0},"Ranch Trail",{"$f":"IF(V31=\"\",0,V31)","v":0}]
["TOTAL SCORE",null,null,{"$f":"IF(D7=\"\",\"\",IF(B29+D29<0,0,B29+D29))","v":""},null,null,"TOTAL SCORE",null,null,{"$f":"IF(J7=\"\",\"\",IF(H29+J29<0,0,H29+J29))","v":""},null,null,"TOTAL SCORE",null,null,{"$f":"IF(P7=\"\",\"\",IF(70+N27+P27<0,0,70+N27+P27))","v":""},null,null,"TOTAL SCORE",null,null,{"$f":"IF(V7=\"\",\"\",IF(70+T27+V27<0,0,70+T27+V27))","v":""},null,null,"Function Total (3)",{"$f":"SUM(Z29+AB29+Z30+AB30)","v":0},"Function Score (4)",{"$f":"Z31*0.1","v":0}]
[null,null,null,null,null,null,null,null,null,null,null,null,null,null,null,null,null,null,null,null,null,null,null,null,"Judge Score (2) + Function Score (4) = CONFORMATION SCORE",null,null,{"$f":"IF(AB7=\"\",\"\",IF(AB28+AB31<0,0,AB28+AB31))","v":""}]
[null,null,"Return to Entry Page",null,null,null,null,null,"Return to Entry Page",null,null,null,null,null,"Return to Entry Page",null,null,null,null,null,"Return to Entry Page"]
[null,null,null,null,null,null,null,null,null,null,null,null,null,null,null,null,null,null,null,null,null,null,null,null,null,null,"Return to Entry Page"]

{"sheet":"Novice 30","index":39,"n_rows":34,"n_cols":28,"rows_kept":34,"cut":false,"hidden":false,"merged":[[31,24,31,26],[8,2,8,3],[8,8,8,9],[8,14,8,15],[8,20,8,21],[9,2,9,3],[9,8,10,9],[9,12,9,15],[9,20,9,21],[10,2,10,3],[10,14,10,15],[10,20,10,21],[11,2,11,3],[11,8,12,9],[11,14,11,15],[11,20,11,21],[7,0,7,3],[7,6,7,9],[7,12,7,15],[7,18,7,21],[7,24,7,27],[12,2,12,3],[12,14,12,15],[12,20,12,21],[13,2,13,3],[13,8,14,9],[13,12,13,15],[13,20,13,21],[14,2,14,3],[14,14,14,15],[14,20,14,21],[15,2,15,3],[15,8,15,9],[15,14,15,15],[15,20,15,21],[18,12,18,15],[18,20,18,21],[16,2,16,3],[16,8,16,9],[16,14,16,15],[16,20,16,21],[17,2,17,3],[17,14,17,15],[17,20,17,21],[22,14,23,14],[22,15,23,15],[19,2,19,3],[19,14,19,15],[21,2,21,3],[21,6,21,9],[21,14,21,15],[21,18,21,21],[18,2,18,3],[23,0,24,0],[23,1,24,1],[23,18,25,21],[25,0,25,3],[25,6,25,8],[25,12,25,15],[19,18,20,19],[19,20,20,20],[19,21,20,21],[20,2,20,3],[20,6,20,8],[20,14,20,15],[22,2,22,3],[22,12,23,13],[30,0,30,2],[30,6,30,8],[30,12,30,14],[30,18,30,20],[26,6,26,9],[27,0,27,3],[27,6,27,9],[27,12,29,15],[27,18,29,21],[29,0,29,3],[29,6,29,9]]}
["RIDERS SCORE WORK SHEET"]
[]
["Back Number:",{"$f":"'Entry Information'!B40","v":0},null,null,null,null,"Back Number:",{"$f":"'Entry Information'!B40","v":0},null,null,null,null,"Back Number:",{"$f":"'Entry Information'!B40","v":0},null,null,null,null,"Back Number:",{"$f":"'Entry Information'!B40","v":0},null,null,null,null,"Back Number:",{"$f":"'Entry Information'!B40","v":0}]
["Name:",{"$f":"'Entry Information'!I40","v":0},{"$f":"'Entry Information'!H40","v":0},null,null,null,"Name:",{"$f":"'Entry Information'!I40","v":0},{"$f":"'Entry Information'!H40","v":0},null,null,null,"Name:",{"$f":"'Entry Information'!I40","v":0},{"$f":"'Entry Information'!H40","v":0},null,null,null,"Name:",{"$f":"'Entry Information'!I40","v":0},{"$f":"'Entry Information'!H40","v":0},null,null,null,"Name:",{"$f":"'Entry Information'!I40","v":0},{"$f":"'Entry Information'!H40","v":0}]
["Horse Name:",{"$f":"'Entry Information'!J40","v":0},null,null,null,null,"Horse Name:",{"$f":"'Entry Information'!J40","v":0},null,null,null,null,"Horse Name:",{"$f":"'Entry Information'!J40","v":0},null,null,null,null,"Horse Name:",{"$f":"'Entry Information'!J40","v":0},null,null,null,null,"Horse Name:",{"$f":"'Entry Information'!J40","v":0}]
[]
["Check box when entering Ranch Riding scores",null,null,null,null,null,"Check box when entering Working Ranch Horse scores",null,null,null,null,null,"Check box when entering Ranch Cutting scores",null,null,null,null,null,"Check box when entering Ranch Trail scores",null,null,null,null,null,"Check box when entering Conformation scores"]
["Ranch Riding",null,null,null,null,null,"Working Ranch Horse",null,null,null,null,null,"Ranch Cutting",null,null,null,null,null,"Ranch Trail",null,null,null,null,null,"Ranch Conformation"]
["Maneuver","Judge's Score +/-","Penalty Points",null,null,null,"Maneuver","Judge's Score +/-","Penalty Points",null,null,null,"Maneuver","Judge's Score +/-","Penalty Points",null,null,null,"Maneuver","Judge's Score +/-","Penalty Points",null,null,null,"Front Legs, Feet"]
[1,null,null,null,null,null,1,null,null,null,null,null,"Herd Work",null,null,null,null,null,1,null,null,null,null,null,"Chest, Pectoral V"]
[2,null,null,null,null,null,2,null,null,null,null,null,1,null,null,null,null,null,2,null,null,null,null,null,"Head"]
[3,null,null,null,null,null,3,null,null,null,null,null,2,null,null,null,null,null,3,null,null,null,null,null,"Neck & Throat Latch"]
[4,null,null,null,null,null,4,null,null,null,null,null,3,null,null,null,null,null,4,null,null,null,null,null,"Shoulders & Withers"]
[5,null,null,null,null,null,5,null,null,null,null,null,"Cutting",null,null,null,null,null,5,null,null,null,null,null,"Heart Girth & Barrel"]
[6,null,null,null,null,null,6,null,null,null,null,null,1,null,null,null,null,null,6,null,null,null,null,null,"Back & Loin"]
[7,null,null,null,null,null,7,null,null,null,null,null,2,null,null,null,null,null,7,null,null,null,null,null,"Hip & Croup"]
[8,null,null,null,null,null,8,null,null,null,null,null,3,null,null,null,null,null,8,null,null,null,null,null,"Stife & Gaskin"]
[9,null,null,null,null,null,null,null,"Total Penalty Pts",{"$f":"SUM(I10:J17)","v":0},null,null,4,null,null,null,null,null,9,null,null,null,null,null,"Hock, Hind Legs, Feet"]
[10,null,null,null,null,null,"56 +/- Judge Score",{"$f":"SUM(H10:H17)","v":0},"Divided by 2",{"$f":"SUM((56+H19)/2)","v":28},null,null,"Penning",null,null,null,null,null,10,null,null,null,null,null,"Overall Muscling"]
[11,null,null,null,null,null,"Maneuver Score",{"$f":"J19","v":28},"Less Penalty Pts",{"$f":"J18","v":0},null,null,1,null,null,null,null,null,null,null,"Major Penalties",null,null,null,"Tracking","Lame: enter an \"x\""]
[12,null,null,null,null,null,"REINING SCORE",null,null,{"$f":"SUM(H20+J20)","v":28},null,null,2,null,null,null,null,null,null,null,null,null,null,null,"Balance 1"]
[13,null,null,null,null,null,"NOVICE BOXING",null,null,null,null,null,3,null,null,null,null,null,null,null,null,null,null,null,"Balance 2"]
[14,null,null,null,null,null,1,null,"Penalty Points",null,null,null,null,null,"Major Penalties",null,null,null,"Maneuver Total",{"$f":"SUM(T10:T19)","v":0},"Penalty Total",{"$f":"SUM(SUM(U10:V19)+V20)","v":0},null,null,"Balance 3"]
["Maneuver Total",{"$f":"SUM(B10:B23)","v":0},"Major Penalties",null,null,null,"7 +/- Judge Score",{"$f":"SUM(7+H23)","v":7},"Total Penalty Pts",{"$f":"J23","v":0},null,null,null,null,null,null,null,null,null,null,null,null,null,null,"Fitness & Condition"]
[null,null,"Penalty Total",{"$f":"SUM(C10:D24)","v":0},null,null,"Maneuver Score",{"$f":"H24","v":7},"Less Penalty Pts",{"$f":"J24","v":0},null,null,"Maneuver Total",{"$f":"SUM(N10:N22)","v":0},"Penalty Total",{"$f":"SUM(O11+O12+O13+O15+O16+O17+O18+O20+O21+O22+P23)","v":0},null,null,null,null,null,null,null,null,"Participant Showmanship"]
[null,null,null,null,null,null,"CATTLE SCORE",null,null,{"$f":"SUM(H25+J25)","v":7},null,null,null,null,null,null,null,null,null,null,null,null,null,null,"Horse Showmanship"]
["100 +/-Maneuver",{"$f":"B24","v":0},"x .70 =",{"$f":"SUM((100+B27)*0.7)","v":70},null,null,null,null,null,null,null,null,"70 +/-Maneuver",{"$f":"N25","v":0},"Less Penalty Total",{"$f":"P25","v":0},null,null,"70 +/-Maneuver",{"$f":"T23","v":0},"Less Penalty Total",{"$f":"V23","v":0},null,null,"Form & Showmanship Judges Score",null,"Total (1)",{"$f":"SUM(AB9:AB26)","v":0}]
[null,null,null,null,null,null,null,null,null,null,null,null,null,null,null,null,null,null,null,null,null,null,null,null,{"$f":"SUM(AB27*0.33+42)","v":42},{"$f":"IF(AA20=\"x\",-10,0)","v":0},"Judge Score (2)",{"$f":"SUM(Y28+Z28)","v":42}]
["Maneuver Score =",{"$f":"D27","v":70},"Less Penalty Total",{"$f":"D25","v":0},null,null,"Reining Score",{"$f":"J21","v":28},"Plus Cattle Score",{"$f":"J26","v":7},null,null,null,null,null,null,null,null,null,null,null,null,null,null,"Ranch Cutting",{"$f":"IF(P31=\"\",0,P31)","v":0},"Ranch Rding",{"$f":"IF(D31=\"\",0,D31)","v":0}]
[null,null,null,null,null,null,null,null,null,null,null,null,null,null,null,null,null,null,null,null,null,null,null,null,"Working Ranch Horse",{"$f":"IF(J31=\"\",0,J31)","v":0},"Ranch Trail",{"$f":"IF(V31=\"\",0,V31)","v":0}]
["TOTAL SCORE",null,null,{"$f":"IF(D7=\"\",\"\",IF(B29+D29<0,0,B29+D29))","v":""},null,null,"TOTAL SCORE",null,null,{"$f":"IF(J7=\"\",\"\",IF(H29+J29<0,0,H29+J29))","v":""},null,null,"TOTAL SCORE",null,null,{"$f":"IF(P7=\"\",\"\",IF(70+N27+P27<0,0,70+N27+P27))","v":""},null,null,"TOTAL SCORE",null,null,{"$f":"IF(V7=\"\",\"\",IF(70+T27+V27<0,0,70+T27+V27))","v":""},null,null,"Function Total (3)",{"$f":"SUM(Z29+AB29+Z30+AB30)","v":0},"Function Score (4)",{"$f":"Z31*0.1","v":0}]
[null,null,null,null,null,null,null,null,null,null,null,null,null,null,null,null,null,null,null,null,null,null,null,null,"Judge Score (2) + Function Score (4) = CONFORMATION SCORE",null,null,{"$f":"IF(AB7=\"\",\"\",IF(AB28+AB31<0,0,AB28+AB31))","v":""}]
[null,null,"Return to Entry Page",null,null,null,null,null,"Return to Entry Page",null,null,null,null,null,"Return to Entry Page",null,null,null,null,null,"Return to Entry Page"]
[null,null,null,null,null,null,null,null,null,null,null,null,null,null,null,null,null,null,null,null,null,null,null,null,null,null,"Return to Entry Page"]

{"sheet":"Limited 1","index":40,"n_rows":34,"n_cols":28,"rows_kept":34,"cut":false,"hidden":false,"merged":[[31,24,31,26],[30,0,30,2],[30,6,30,8],[30,12,30,14],[30,18,30,20],[27,18,29,21],[29,0,29,3],[29,6,29,9],[23,0,24,0],[23,1,24,1],[23,18,25,21],[25,0,25,3],[26,6,26,8],[25,12,25,15],[27,0,27,3],[27,6,27,9],[27,12,29,15],[19,18,20,19],[19,20,20,20],[19,21,20,21],[20,2,20,3],[20,6,20,8],[20,14,20,15],[16,14,16,15],[16,20,16,21],[22,2,22,3],[22,12,23,13],[22,14,23,14],[22,15,23,15],[22,8,23,8],[21,2,21,3],[21,6,21,9],[21,14,21,15],[21,18,21,21],[18,2,18,3],[18,12,18,15],[18,20,18,21],[19,2,19,3],[19,14,19,15],[17,2,17,3],[17,14,17,15],[17,20,17,21],[13,2,13,3],[13,8,14,9],[13,12,13,15],[13,20,13,21],[14,2,14,3],[14,14,14,15],[14,20,14,21],[15,2,15,3],[15,8,15,9],[15,14,15,15],[15,20,15,21],[16,2,16,3],[16,8,16,9],[7,24,7,27],[11,2,11,3],[11,8,12,9],[11,14,11,15],[11,20,11,21],[12,2,12,3],[12,14,12,15],[12,20,12,21],[9,2,9,3],[9,8,10,9],[9,12,9,15],[9,20,9,21],[10,2,10,3],[10,14,10,15],[10,20,10,21],[8,2,8,3],[8,8,8,9],[8,14,8,15],[8,20,8,21],[7,0,7,3],[7,6,7,9],[7,12,7,15],[7,18,7,21]]}
["RIDERS SCORE WORK SHEET"]
[1]
["Back Number:",1,null,null,null,null,"Back Number:",{"$f":"'Entry Information'!B41","v":22},null,null,null,null,"Back Number:",{"$f":"'Entry Information'!B41","v":22},null,null,null,null,"Back Number:",null,null,null,null,null,"Back Number:",{"$f":"'Entry Information'!B41","v":22}]
["Name:",{"$f":"'Entry Information'!I41","v":"Gena"},{"$f":"'Entry Information'!H41","v":"Janetka"},null,null,null,"Name:",{"$f":"'Entry Information'!I41","v":"Gena"},{"$f":"'Entry Information'!H41","v":"Janetka"},null,null,null,"Name:",{"$f":"'Entry Information'!I41","v":"Gena"},{"$f":"'Entry Information'!H41","v":"Janetka"},null,null,null,"Name:",{"$f":"'Entry Information'!I41","v":"Gena"},{"$f":"'Entry Information'!H41","v":"Janetka"},null,null,null,"Name:",{"$f":"'Entry Information'!I41","v":"Gena"},{"$f":"'Entry Information'!H41","v":"Janetka"}]
[null,{"$f":"'Entry Information'!J41","v":"Froghorn Leghorn"},null,null,null,null,"Horse Name:",{"$f":"'Entry Information'!J41","v":"Froghorn Leghorn"},null,null,null,null,"Horse Name:",{"$f":"'Entry Information'!J41","v":"Froghorn Leghorn"},null,null,null,null,"Horse Name:",{"$f":"'Entry Information'!J41","v":"Froghorn Leghorn"},null,null,null,null,"Horse Name:",{"$f":"'Entry Information'!J41","v":"Froghorn Leghorn"}]
[]
["Check box when entering Ranch Riding scores",null,null,"x",null,null,"Check box when entering Working Ranch Horse scores",null,null,"x",null,null,"Check box when entering Ranch Cutting scores",null,null,"x",null,null,"Check box when entering Ranch Trail scores",null,null,"x",null,null,"Check box when entering Conformation scores",null,null,"x"]
["Ranch Riding",null,null,null,null,null,"Working Ranch Horse",null,null,null,null,null,"Ranch Cutting",null,null,null,null,null,"Ranch Trail",null,null,null,null,null,"Ranch Conformation"]
["Maneuver","Judge's Score +/-","Penalty Points",null,null,null,"Maneuver","Judge's Score +/-","Penalty Points",null,null,null,"Maneuver","Judge's Score +/-","Penalty Points",null,null,null,"Maneuver","Judge's Score +/-","Penalty Points",null,null,null,"Front Legs, Feet",null,null,1]
[1,-1,null,null,null,null,1,-1,null,null,null,null,"Herd Work",null,null,null,null,null,1,2,null,null,null,null,"Chest, Pectoral V",null,null,1]
[2,0,null,null,null,null,2,1,null,null,null,null,1,0,-1,null,null,null,2,-3,-10,null,null,null,"Head",null,null,1]
[3,1,null,null,null,null,3,1,null,null,null,null,2,-1,null,null,null,null,3,-1,null,null,null,null,"Neck & Throat Latch",null,null,1]
[4,2,null,null,null,null,4,1,null,null,null,null,3,0,null,null,null,null,4,2,-1,null,null,null,"Shoulders & Withers",null,null,1]
[5,1,null,null,null,null,5,2,null,null,null,null,"Cutting",null,null,null,null,null,5,1,null,null,null,null,"Heart Girth & Barrel",null,null,0]
[6,2,null,null,null,null,6,1,null,null,null,null,1,0,null,null,null,null,6,2,null,null,null,null,"Back & Loin",null,null,-1]
[7,0,null,null,null,null,7,1,null,null,null,null,2,1,null,null,null,null,7,3,null,null,null,null,"Hip & Croup",null,null,1]
[8,-1,null,null,null,null,8,-1,null,null,null,null,3,0,null,null,null,null,8,-1,-5,null,null,null,"Stife & Gaskin",null,null,0]
[9,-1,-1,null,null,null,null,null,"Total Penalty Pts",{"$f":"SUM($I$10:$J$17)","v":0},null,null,4,0,null,null,null,null,9,0,null,null,null,null,"Hock, Hind Legs, Feet",null,null,0]
[10,2,null,null,null,null,"56 +/- Judge Score",{"$f":"SUM($H$10:$H$17)","v":5},"Divided by 2",{"$f":"SUM((56+$H$19)/2)","v":30.5},null,null,"Penning",null,null,null,null,null,10,3,null,null,null,null,"Overall Muscling",null,null,1]
[11,0,null,null,null,null,"Maneuver Score",{"$f":"$J$19","v":30.5},"Less Penalty Pts",{"$f":"$J$18","v":0},null,null,1,-3,null,null,null,null,null,null,"Major Penalties",null,null,null,"Tracking","Lame: enter an \"x\"",null,0]
[12,1,null,null,null,null,"REINING SCORE",null,null,{"$f":"SUM($H$20+$J$20)","v":30.5},null,null,2,1,null,null,null,null,null,null,null,null,null,null,"Balance 1",null,null,0]
[13,1,null,null,null,null,"LIMITED BOXING",null,null,null,null,null,3,1,null,null,null,null,null,null,null,null,null,null,"Balance 2",null,null,0]
[14,2,null,null,null,null,1,2,"Penalty Points",null,null,null,null,null,"Major Penalties",null,null,null,"Maneuver Total",{"$f":"SUM($T$10:$T$19)","v":8},"Penalty Total",{"$f":"SUM(SUM($U$10:$V$19)+$V$20)","v":-16},null,null,"Balance 3",null,null,0]
["Maneuver Total",{"$f":"SUM($B$10:$B$23)","v":9},"Major Penalties",null,null,null,2,2,null,null,null,null,null,null,null,null,null,null,null,null,null,null,null,null,"Fitness & Condition",null,null,1]
[null,null,"Penalty Total",{"$f":"SUM($C$10:$D$24)","v":-1},null,null,"10 +/- Judge Score",{"$f":"SUM(10+SUM($H$23+$H$24))","v":14},"Total Penalty Pts",{"$f":"SUM($J$23:$J$24)","v":0},null,null,"Maneuver Total",{"$f":"SUM($N$10:$N$22)","v":-1},"Penalty Total",{"$f":"SUM($O$11+$O$12+$O$13+$O$15+$O$16+$O$17+$O$18+$O$20+$O$21+$O$22+$P$23)","v":-1},null,null,null,null,null,null,null,null,"Participant Showmanship",null,null,-1]
[null,null,null,null,null,null,"Maneuver Score",{"$f":"$H$25","v":14},"Less Penalty Pts",{"$f":"$J$25","v":0},null,null,null,null,null,null,null,null,null,null,null,null,null,null,"Horse Showmanship",null,null,0]
["100 +/-Maneuver",{"$f":"$B$24","v":9},"x .70 =",{"$f":"SUM((100+$B$27)*0.7)","v":76.3},null,null,"CATTLE SCORE",null,null,{"$f":"SUM($H$26+$J$26)","v":14},null,null,"70 +/-Maneuver",{"$f":"$N$25","v":-1},"Less Penalty Total",{"$f":"$P$25","v":-1},null,null,"70 +/-Maneuver",{"$f":"$T$23","v":8},"Less Penalty Total",{"$f":"$V$23","v":-16},null,null,"Form & Showmanship Judges Score",null,"Total (1)",{"$f":"SUM(AB9:AB26)","v":6}]
[null,null,null,null,null,null,null,null,null,null,null,null,null,null,null,null,null,null,null,null,null,null,null,null,{"$f":"SUM(AB27*0.33+42)","v":43.98},{"$f":"IF(AA20=\"x\",-10,0)","v":0},"Judge Score (2)",{"$f":"SUM(Y28+Z28)","v":43.98}]
["Maneuver Score =",{"$f":"$D$27","v":76.3},"Less Penalty Total",{"$f":"$D$25","v":-1},null,null,"Reining Score",{"$f":"$J$21","v":30.5},"Plus Cattle Score",{"$f":"$J$27","v":14},null,null,null,null,null,null,null,null,null,null,null,null,null,null,"Ranch Cutting",{"$f":"IF(P31=\"\",0,P31)","v":68},"Ranch Rding",{"$f":"IF(D31=\"\",0,D31)","v":75.3}]
[null,null,null,null,null,null,null,null,null,null,null,null,null,null,null,null,null,null,null,null,null,null,null,null,"Working Ranch Horse",{"$f":"IF(J31=\"\",0,J31)","v":44.5},"Ranch Trail",{"$f":"IF(V31=\"\",0,V31)","v":62}]
["TOTAL SCORE",null,null,{"$f":"IF(D7=\"\",\"\",IF(B29+D29<0,0,B29+D29))","v":75.3},null,null,"TOTAL SCORE",null,null,{"$f":"IF($J$7=\"\",\"\",IF($H$29+$J$29<0,0,$H$29+$J$29))","v":44.5},null,null,"TOTAL SCORE",null,null,{"$f":"IF(P7=\"\",\"\",IF(70+N27+P27<0,0,70+N27+P27))","v":68},null,null,"TOTAL SCORE",null,null,{"$f":"IF(V7=\"\",\"\",IF(70+T27+V27<0,0,70+T27+V27))","v":62},null,null,"Function Total (3)",{"$f":"SUM(Z29+AB29+Z30+AB30)","v":249.8},"Function Score (4)",{"$f":"Z31*0.1","v":24.980000000000004}]
[null,null,null,null,null,null,null,null,null,null,null,null,null,null,null,null,null,null,null,null,null,null,null,null,"Judge Score (2) + Function Score (4) = CONFORMATION SCORE",null,null,{"$f":"IF(AB7=\"\",\"\",IF(AB28+AB31<0,0,AB28+AB31))","v":68.960000000000008}]
[null,null,"Return to Entry Page",null,null,null,null,null,"Return to Entry Page",null,null,null,null,null,"Return to Entry Page",null,null,null,null,null,"Return to Entry Page"]
[null,null,null,null,null,null,null,null,null,null,null,null,null,null,null,null,null,null,null,null,null,null,null,null,null,null,"Return to Entry Page"]

{"sheet":"Limited 2","index":41,"n_rows":34,"n_cols":28,"rows_kept":34,"cut":false,"hidden":false,"merged":[[31,24,31,26],[30,0,30,2],[30,6,30,8],[30,12,30,14],[30,18,30,20],[27,18,29,21],[29,0,29,3],[29,6,29,9],[23,0,24,0],[23,1,24,1],[23,18,25,21],[25,0,25,3],[26,6,26,8],[25,12,25,15],[27,0,27,3],[27,6,27,9],[27,12,29,15],[19,18,20,19],[19,20,20,20],[19,21,20,21],[20,2,20,3],[20,6,20,8],[20,14,20,15],[16,14,16,15],[16,20,16,21],[22,2,22,3],[22,12,23,13],[22,14,23,14],[22,15,23,15],[22,8,23,8],[21,2,21,3],[21,6,21,9],[21,14,21,15],[21,18,21,21],[18,2,18,3],[18,12,18,15],[18,20,18,21],[19,2,19,3],[19,14,19,15],[17,2,17,3],[17,14,17,15],[17,20,17,21],[13,2,13,3],[13,8,14,9],[13,12,13,15],[13,20,13,21],[14,2,14,3],[14,14,14,15],[14,20,14,21],[15,2,15,3],[15,8,15,9],[15,14,15,15],[15,20,15,21],[16,2,16,3],[16,8,16,9],[7,24,7,27],[11,2,11,3],[11,8,12,9],[11,14,11,15],[11,20,11,21],[12,2,12,3],[12,14,12,15],[12,20,12,21],[9,2,9,3],[9,8,10,9],[9,12,9,15],[9,20,9,21],[10,2,10,3],[10,14,10,15],[10,20,10,21],[8,2,8,3],[8,8,8,9],[8,14,8,15],[8,20,8,21],[7,0,7,3],[7,6,7,9],[7,12,7,15],[7,18,7,21]]}
["RIDERS SCORE WORK SHEET"]
[]
["Back Number:",{"$f":"'Entry Information'!B42","v":40},null,null,null,null,"Back Number:",{"$f":"'Entry Information'!B42","v":40},null,null,null,null,"Back Number:",{"$f":"'Entry Information'!B42","v":40},null,null,null,null,"Back Number:",null,null,null,null,null,"Back Number:",{"$f":"'Entry Information'!B42","v":40}]
["Name:",{"$f":"'Entry Information'!I42","v":"Steph"},{"$f":"'Entry Information'!H42","v":"Siitari"},null,null,null,"Name:",{"$f":"'Entry Information'!I42","v":"Steph"},{"$f":"'Entry Information'!H42","v":"Siitari"},null,null,null,"Name:",{"$f":"'Entry Information'!I42","v":"Steph"},{"$f":"'Entry Information'!H42","v":"Siitari"},null,null,null,"Name:",{"$f":"'Entry Information'!I42","v":"Steph"},{"$f":"'Entry Information'!H42","v":"Siitari"},null,null,null,"Name:",{"$f":"'Entry Information'!I42","v":"Steph"},{"$f":"'Entry Information'!H42","v":"Siitari"}]
[null,{"$f":"'Entry Information'!J42","v":"SLJ Ruby Slippers"},null,null,null,null,"Horse Name:",{"$f":"'Entry Information'!J42","v":"SLJ Ruby Slippers"},null,null,null,null,"Horse Name:",{"$f":"'Entry Information'!J42","v":"SLJ Ruby Slippers"},null,null,null,null,"Horse Name:",{"$f":"'Entry Information'!J42","v":"SLJ Ruby Slippers"},null,null,null,null,"Horse Name:",{"$f":"'Entry Information'!J42","v":"SLJ Ruby Slippers"}]
[]
["Check box when entering Ranch Riding scores",null,null,"x",null,null,"Check box when entering Working Ranch Horse scores",null,null,"x",null,null,"Check box when entering Ranch Cutting scores",null,null,"x",null,null,"Check box when entering Ranch Trail scores",null,null,"x",null,null,"Check box when entering Conformation scores",null,null,"x"]
["Ranch Riding",null,null,null,null,null,"Working Ranch Horse",null,null,null,null,null,"Ranch Cutting",null,null,null,null,null,"Ranch Trail",null,null,null,null,null,"Ranch Conformation"]
["Maneuver","Judge's Score +/-","Penalty Points",null,null,null,"Maneuver","Judge's Score +/-","Penalty Points",null,null,null,"Maneuver","Judge's Score +/-","Penalty Points",null,null,null,"Maneuver","Judge's Score +/-","Penalty Points",null,null,null,"Front Legs, Feet",null,null,-1]
[1,1,null,null,null,null,1,-1,-2,null,null,null,"Herd Work",null,null,null,null,null,1,3,null,null,null,null,"Chest, Pectoral V",null,null,0]
[2,0,null,null,null,null,2,0,null,null,null,null,1,0,null,null,null,null,2,2,null,null,null,null,"Head",null,null,0]
[3,2,null,null,null,null,3,-1,null,null,null,null,2,1,null,null,null,null,3,1,null,null,null,null,"Neck & Throat Latch",null,null,1]
[4,1,null,null,null,null,4,0,null,null,null,null,3,-2,null,null,null,null,4,2,-0.5,null,null,null,"Shoulders & Withers",null,null,0]
[5,2,null,null,null,null,5,1,null,null,null,null,"Cutting",null,null,null,null,null,5,2,null,null,null,null,"Heart Girth & Barrel",null,null,-1]
[6,2,null,null,null,null,6,1,null,null,null,null,1,0,null,null,null,null,6,2,-1,null,null,null,"Back & Loin",null,null,-1]
[7,2,null,null,null,null,7,2,null,null,null,null,2,0,null,null,null,null,7,3,null,null,null,null,"Hip & Croup",null,null,-1]
[8,1,null,null,null,null,8,1,null,null,null,null,3,-1,null,null,null,null,8,3,null,null,null,null,"Stife & Gaskin",null,null,-1]
[9,3,null,null,null,null,null,null,"Total Penalty Pts",{"$f":"SUM($I$10:$J$17)","v":-2},null,null,4,0,null,null,null,null,9,3,null,null,null,null,"Hock, Hind Legs, Feet",null,null,-2]
[10,2,null,null,null,null,"56 +/- Judge Score",{"$f":"SUM($H$10:$H$17)","v":3},"Divided by 2",{"$f":"SUM((56+$H$19)/2)","v":29.5},null,null,"Penning",null,null,null,null,null,10,2,null,null,null,null,"Overall Muscling",null,null,-1]
[11,0,-1,null,null,null,"Maneuver Score",{"$f":"$J$19","v":29.5},"Less Penalty Pts",{"$f":"$J$18","v":-2},null,null,1,2,null,null,null,null,null,null,"Major Penalties",null,null,null,"Tracking","Lame: enter an \"x\"",null,-1]
[12,1,null,null,null,null,"REINING SCORE",null,null,{"$f":"SUM($H$20+$J$20)","v":27.5},null,null,2,2,null,null,null,null,null,null,null,null,null,null,"Balance 1",null,null,-1]
[13,0,null,null,null,null,"LIMITED BOXING",null,null,null,null,null,3,2,null,null,null,null,null,null,null,null,null,null,"Balance 2",null,null,-1]
[14,2,null,null,null,null,1,0,"Penalty Points",null,null,null,null,null,"Major Penalties",null,null,null,"Maneuver Total",{"$f":"SUM($T$10:$T$19)","v":23},"Penalty Total",{"$f":"SUM(SUM($U$10:$V$19)+$V$20)","v":-1.5},null,null,"Balance 3",null,null,-1]
["Maneuver Total",{"$f":"SUM($B$10:$B$23)","v":19},"Major Penalties",null,null,null,2,1,null,null,null,null,null,null,null,null,null,null,null,null,null,null,null,null,"Fitness & Condition",null,null,1]
[null,null,"Penalty Total",{"$f":"SUM($C$10:$D$24)","v":-1},null,null,"10 +/- Judge Score",{"$f":"SUM(10+SUM($H$23+$H$24))","v":11},"Total Penalty Pts",{"$f":"SUM($J$23:$J$24)","v":0},null,null,"Maneuver Total",{"$f":"SUM($N$10:$N$22)","v":4},"Penalty Total",{"$f":"SUM($O$11+$O$12+$O$13+$O$15+$O$16+$O$17+$O$18+$O$20+$O$21+$O$22+$P$23)","v":0},null,null,null,null,null,null,null,null,"Participant Showmanship",null,null,-2]
[null,null,null,null,null,null,"Maneuver Score",{"$f":"$H$25","v":11},"Less Penalty Pts",{"$f":"$J$25","v":0},null,null,null,null,null,null,null,null,null,null,null,null,null,null,"Horse Showmanship",null,null,-1]
["100 +/-Maneuver",{"$f":"$B$24","v":19},"x .70 =",{"$f":"SUM((100+$B$27)*0.7)","v":83.3},null,null,"CATTLE SCORE",null,null,{"$f":"SUM($H$26+$J$26)","v":11},null,null,"70 +/-Maneuver",{"$f":"$N$25","v":4},"Less Penalty Total",{"$f":"$P$25","v":0},null,null,"70 +/-Maneuver",{"$f":"$T$23","v":23},"Less Penalty Total",{"$f":"$V$23","v":-1.5},null,null,"Form & Showmanship Judges Score",null,"Total (1)",{"$f":"SUM(AB9:AB26)","v":-13}]
[null,null,null,null,null,null,null,null,null,null,null,null,null,null,null,null,null,null,null,null,null,null,null,null,{"$f":"SUM(AB27*0.33+42)","v":37.71},{"$f":"IF(AA20=\"x\",-10,0)","v":0},"Judge Score (2)",{"$f":"SUM(Y28+Z28)","v":37.71}]
["Maneuver Score =",{"$f":"$D$27","v":83.3},"Less Penalty Total",{"$f":"$D$25","v":-1},null,null,"Reining Score",{"$f":"$J$21","v":27.5},"Plus Cattle Score",{"$f":"$J$27","v":11},null,null,null,null,null,null,null,null,null,null,null,null,null,null,"Ranch Cutting",{"$f":"IF(P31=\"\",0,P31)","v":74},"Ranch Rding",{"$f":"IF(D31=\"\",0,D31)","v":82.3}]
[null,null,null,null,null,null,null,null,null,null,null,null,null,null,null,null,null,null,null,null,null,null,null,null,"Working Ranch Horse",{"$f":"IF(J31=\"\",0,J31)","v":38.5},"Ranch Trail",{"$f":"IF(V31=\"\",0,V31)","v":91.5}]
["TOTAL SCORE",null,null,{"$f":"IF(D7=\"\",\"\",IF(B29+D29<0,0,B29+D29))","v":82.3},null,null,"TOTAL SCORE",null,null,{"$f":"IF($J$7=\"\",\"\",IF($H$29+$J$29<0,0,$H$29+$J$29))","v":38.5},null,null,"TOTAL SCORE",null,null,{"$f":"IF(P7=\"\",\"\",IF(70+N27+P27<0,0,70+N27+P27))","v":74},null,null,"TOTAL SCORE",null,null,{"$f":"IF(V7=\"\",\"\",IF(70+T27+V27<0,0,70+T27+V27))","v":91.5},null,null,"Function Total (3)",{"$f":"SUM(Z29+AB29+Z30+AB30)","v":286.3},"Function Score (4)",{"$f":"Z31*0.1","v":28.630000000000003}]
[null,null,null,null,null,null,null,null,null,null,null,null,null,null,null,null,null,null,null,null,null,null,null,null,"Judge Score (2) + Function Score (4) = CONFORMATION SCORE",null,null,{"$f":"IF(AB7=\"\",\"\",IF(AB28+AB31<0,0,AB28+AB31))","v":66.34}]
[null,null,"Return to Entry Page",null,null,null,null,null,"Return to Entry Page",null,null,null,null,null,"Return to Entry Page",null,null,null,null,null,"Return to Entry Page"]
[null,null,null,null,null,null,null,null,null,null,null,null,null,null,null,null,null,null,null,null,null,null,null,null,null,null,"Return to Entry Page"]

{"sheet":"Limited 3","index":42,"n_rows":34,"n_cols":28,"rows_kept":34,"cut":false,"hidden":false,"merged":[[31,24,31,26],[30,0,30,2],[30,6,30,8],[30,12,30,14],[30,18,30,20],[27,18,29,21],[29,0,29,3],[29,6,29,9],[23,0,24,0],[23,1,24,1],[23,18,25,21],[25,0,25,3],[26,6,26,8],[25,12,25,15],[27,0,27,3],[27,6,27,9],[27,12,29,15],[19,18,20,19],[19,20,20,20],[19,21,20,21],[20,2,20,3],[20,6,20,8],[20,14,20,15],[16,14,16,15],[16,20,16,21],[22,2,22,3],[22,12,23,13],[22,14,23,14],[22,15,23,15],[22,8,23,8],[21,2,21,3],[21,6,21,9],[21,14,21,15],[21,18,21,21],[18,2,18,3],[18,12,18,15],[18,20,18,21],[19,2,19,3],[19,14,19,15],[17,2,17,3],[17,14,17,15],[17,20,17,21],[13,2,13,3],[13,8,14,9],[13,12,13,15],[13,20,13,21],[14,2,14,3],[14,14,14,15],[14,20,14,21],[15,2,15,3],[15,8,15,9],[15,14,15,15],[15,20,15,21],[16,2,16,3],[16,8,16,9],[7,24,7,27],[11,2,11,3],[11,8,12,9],[11,14,11,15],[11,20,11,21],[12,2,12,3],[12,14,12,15],[12,20,12,21],[9,2,9,3],[9,8,10,9],[9,12,9,15],[9,20,9,21],[10,2,10,3],[10,14,10,15],[10,20,10,21],[8,2,8,3],[8,8,8,9],[8,14,8,15],[8,20,8,21],[7,0,7,3],[7,6,7,9],[7,12,7,15],[7,18,7,21]]}
["RIDERS SCORE WORK SHEET"]
[]
["Back Number:",{"$f":"'Entry Information'!B43","v":0},null,null,null,null,"Back Number:",{"$f":"'Entry Information'!B43","v":0},null,null,null,null,"Back Number:",{"$f":"'Entry Information'!B43","v":0},null,null,null,null,"Back Number:",null,null,null,null,null,"Back Number:",{"$f":"'Entry Information'!B43","v":0}]
["Name:",{"$f":"'Entry Information'!I43","v":0},{"$f":"'Entry Information'!H43","v":0},null,null,null,"Name:",{"$f":"'Entry Information'!I43","v":0},{"$f":"'Entry Information'!H43","v":0},null,null,null,"Name:",{"$f":"'Entry Information'!I43","v":0},{"$f":"'Entry Information'!H43","v":0},null,null,null,"Name:",{"$f":"'Entry Information'!I43","v":0},{"$f":"'Entry Information'!H43","v":0},null,null,null,"Name:",{"$f":"'Entry Information'!I43","v":0},{"$f":"'Entry Information'!H43","v":0}]
[null,{"$f":"'Entry Information'!J43","v":0},null,null,null,null,"Horse Name:",{"$f":"'Entry Information'!J43","v":0},null,null,null,null,"Horse Name:",{"$f":"'Entry Information'!J43","v":0},null,null,null,null,"Horse Name:",{"$f":"'Entry Information'!J43","v":0},null,null,null,null,"Horse Name:",{"$f":"'Entry Information'!J43","v":0}]
[]
["Check box when entering Ranch Riding scores",null,null,null,null,null,"Check box when entering Working Ranch Horse scores",null,null,null,null,null,"Check box when entering Ranch Cutting scores",null,null,null,null,null,"Check box when entering Ranch Trail scores",null,null,null,null,null,"Check box when entering Conformation scores"]
["Ranch Riding",null,null,null,null,null,"Working Ranch Horse",null,null,null,null,null,"Ranch Cutting",null,null,null,null,null,"Ranch Trail",null,null,null,null,null,"Ranch Conformation"]
["Maneuver","Judge's Score +/-","Penalty Points",null,null,null,"Maneuver","Judge's Score +/-","Penalty Points",null,null,null,"Maneuver","Judge's Score +/-","Penalty Points",null,null,null,"Maneuver","Judge's Score +/-","Penalty Points",null,null,null,"Front Legs, Feet"]
[1,null,null,null,null,null,1,null,null,null,null,null,"Herd Work",null,null,null,null,null,1,null,null,null,null,null,"Chest, Pectoral V"]
[2,null,null,null,null,null,2,null,null,null,null,null,1,null,null,null,null,null,2,null,null,null,null,null,"Head"]
[3,null,null,null,null,null,3,null,null,null,null,null,2,null,null,null,null,null,3,null,null,null,null,null,"Neck & Throat Latch"]
[4,null,null,null,null,null,4,null,null,null,null,null,3,null,null,null,null,null,4,null,null,null,null,null,"Shoulders & Withers"]
[5,null,null,null,null,null,5,null,null,null,null,null,"Cutting",null,null,null,null,null,5,null,null,null,null,null,"Heart Girth & Barrel"]
[6,null,null,null,null,null,6,null,null,null,null,null,1,null,null,null,null,null,6,null,null,null,null,null,"Back & Loin"]
[7,null,null,null,null,null,7,null,null,null,null,null,2,null,null,null,null,null,7,null,null,null,null,null,"Hip & Croup"]
[8,null,null,null,null,null,8,null,null,null,null,null,3,null,null,null,null,null,8,null,null,null,null,null,"Stife & Gaskin"]
[9,null,null,null,null,null,null,null,"Total Penalty Pts",{"$f":"SUM($I$10:$J$17)","v":0},null,null,4,null,null,null,null,null,9,null,null,null,null,null,"Hock, Hind Legs, Feet"]
[10,null,null,null,null,null,"56 +/- Judge Score",{"$f":"SUM($H$10:$H$17)","v":0},"Divided by 2",{"$f":"SUM((56+$H$19)/2)","v":28},null,null,"Penning",null,null,null,null,null,10,null,null,null,null,null,"Overall Muscling"]
[11,null,null,null,null,null,"Maneuver Score",{"$f":"$J$19","v":28},"Less Penalty Pts",{"$f":"$J$18","v":0},null,null,1,null,null,null,null,null,null,null,"Major Penalties",null,null,null,"Tracking","Lame: enter an \"x\""]
[12,null,null,null,null,null,"REINING SCORE",null,null,{"$f":"SUM($H$20+$J$20)","v":28},null,null,2,null,null,null,null,null,null,null,null,null,null,null,"Balance 1"]
[13,null,null,null,null,null,"LIMITED BOXING",null,null,null,null,null,3,null,null,null,null,null,null,null,null,null,null,null,"Balance 2"]
[14,null,null,null,null,null,1,null,"Penalty Points",null,null,null,null,null,"Major Penalties",null,null,null,"Maneuver Total",{"$f":"SUM($T$10:$T$19)","v":0},"Penalty Total",{"$f":"SUM(SUM($U$10:$V$19)+$V$20)","v":0},null,null,"Balance 3"]
["Maneuver Total",{"$f":"SUM($B$10:$B$23)","v":0},"Major Penalties",null,null,null,2,null,null,null,null,null,null,null,null,null,null,null,null,null,null,null,null,null,"Fitness & Condition"]
[null,null,"Penalty Total",{"$f":"SUM($C$10:$D$24)","v":0},null,null,"10 +/- Judge Score",{"$f":"SUM(10+SUM($H$23+$H$24))","v":10},"Total Penalty Pts",{"$f":"SUM($J$23:$J$24)","v":0},null,null,"Maneuver Total",{"$f":"SUM($N$10:$N$22)","v":0},"Penalty Total",{"$f":"SUM($O$11+$O$12+$O$13+$O$15+$O$16+$O$17+$O$18+$O$20+$O$21+$O$22+$P$23)","v":0},null,null,null,null,null,null,null,null,"Participant Showmanship"]
[null,null,null,null,null,null,"Maneuver Score",{"$f":"$H$25","v":10},"Less Penalty Pts",{"$f":"$J$25","v":0},null,null,null,null,null,null,null,null,null,null,null,null,null,null,"Horse Showmanship"]
["100 +/-Maneuver",{"$f":"$B$24","v":0},"x .70 =",{"$f":"SUM((100+$B$27)*0.7)","v":70},null,null,"CATTLE SCORE",null,null,{"$f":"SUM($H$26+$J$26)","v":10},null,null,"70 +/-Maneuver",{"$f":"$N$25","v":0},"Less Penalty Total",{"$f":"$P$25","v":0},null,null,"70 +/-Maneuver",{"$f":"$T$23","v":0},"Less Penalty Total",{"$f":"$V$23","v":0},null,null,"Form & Showmanship Judges Score",null,"Total (1)",{"$f":"SUM(AB9:AB26)","v":0}]
[null,null,null,null,null,null,null,null,null,null,null,null,null,null,null,null,null,null,null,null,null,null,null,null,{"$f":"SUM(AB27*0.33+42)","v":42},{"$f":"IF(AA20=\"x\",-10,0)","v":0},"Judge Score (2)",{"$f":"SUM(Y28+Z28)","v":42}]
["Maneuver Score =",{"$f":"$D$27","v":70},"Less Penalty Total",{"$f":"$D$25","v":0},null,null,"Reining Score",{"$f":"$J$21","v":28},"Plus Cattle Score",{"$f":"$J$27","v":10},null,null,null,null,null,null,null,null,null,null,null,null,null,null,"Ranch Cutting",{"$f":"IF(P31=\"\",0,P31)","v":0},"Ranch Rding",{"$f":"IF(D31=\"\",0,D31)","v":0}]
[null,null,null,null,null,null,null,null,null,null,null,null,null,null,null,null,null,null,null,null,null,null,null,null,"Working Ranch Horse",{"$f":"IF(J31=\"\",0,J31)","v":0},"Ranch Trail",{"$f":"IF(V31=\"\",0,V31)","v":0}]
["TOTAL SCORE",null,null,{"$f":"IF(D7=\"\",\"\",IF(B29+D29<0,0,B29+D29))","v":""},null,null,"TOTAL SCORE",null,null,{"$f":"IF($J$7=\"\",\"\",IF($H$29+$J$29<0,0,$H$29+$J$29))","v":""},null,null,"TOTAL SCORE",null,null,{"$f":"IF(P7=\"\",\"\",IF(70+N27+P27<0,0,70+N27+P27))","v":""},null,null,"TOTAL SCORE",null,null,{"$f":"IF(V7=\"\",\"\",IF(70+T27+V27<0,0,70+T27+V27))","v":""},null,null,"Function Total (3)",{"$f":"SUM(Z29+AB29+Z30+AB30)","v":0},"Function Score (4)",{"$f":"Z31*0.1","v":0}]
[null,null,null,null,null,null,null,null,null,null,null,null,null,null,null,null,null,null,null,null,null,null,null,null,"Judge Score (2) + Function Score (4) = CONFORMATION SCORE",null,null,{"$f":"IF(AB7=\"\",\"\",IF(AB28+AB31<0,0,AB28+AB31))","v":""}]
[null,null,"Return to Entry Page",null,null,null,null,null,"Return to Entry Page",null,null,null,null,null,"Return to Entry Page",null,null,null,null,null,"Return to Entry Page"]
[null,null,null,null,null,null,null,null,null,null,null,null,null,null,null,null,null,null,null,null,null,null,null,null,null,null,"Return to Entry Page"]

{"sheet":"Limited 4","index":43,"n_rows":34,"n_cols":28,"rows_kept":34,"cut":false,"hidden":false,"merged":[[31,24,31,26],[30,0,30,2],[30,6,30,8],[30,12,30,14],[30,18,30,20],[27,18,29,21],[29,0,29,3],[29,6,29,9],[23,0,24,0],[23,1,24,1],[23,18,25,21],[25,0,25,3],[26,6,26,8],[25,12,25,15],[27,0,27,3],[27,6,27,9],[27,12,29,15],[19,18,20,19],[19,20,20,20],[19,21,20,21],[20,2,20,3],[20,6,20,8],[20,14,20,15],[16,14,16,15],[16,20,16,21],[22,2,22,3],[22,12,23,13],[22,14,23,14],[22,15,23,15],[22,8,23,8],[21,2,21,3],[21,6,21,9],[21,14,21,15],[21,18,21,21],[18,2,18,3],[18,12,18,15],[18,20,18,21],[19,2,19,3],[19,14,19,15],[17,2,17,3],[17,14,17,15],[17,20,17,21],[13,2,13,3],[13,8,14,9],[13,12,13,15],[13,20,13,21],[14,2,14,3],[14,14,14,15],[14,20,14,21],[15,2,15,3],[15,8,15,9],[15,14,15,15],[15,20,15,21],[16,2,16,3],[16,8,16,9],[7,24,7,27],[11,2,11,3],[11,8,12,9],[11,14,11,15],[11,20,11,21],[12,2,12,3],[12,14,12,15],[12,20,12,21],[9,2,9,3],[9,8,10,9],[9,12,9,15],[9,20,9,21],[10,2,10,3],[10,14,10,15],[10,20,10,21],[8,2,8,3],[8,8,8,9],[8,14,8,15],[8,20,8,21],[7,0,7,3],[7,6,7,9],[7,12,7,15],[7,18,7,21]]}
["RIDERS SCORE WORK SHEET"]
[]
["Back Number:",{"$f":"'Entry Information'!B44","v":0},null,null,null,null,"Back Number:",{"$f":"'Entry Information'!B44","v":0},null,null,null,null,"Back Number:",{"$f":"'Entry Information'!B44","v":0},null,null,null,null,"Back Number:",null,null,null,null,null,"Back Number:",{"$f":"'Entry Information'!B44","v":0}]
["Name:",{"$f":"'Entry Information'!I44","v":0},{"$f":"'Entry Information'!H44","v":0},null,null,null,"Name:",{"$f":"'Entry Information'!I44","v":0},{"$f":"'Entry Information'!H44","v":0},null,null,null,"Name:",{"$f":"'Entry Information'!I44","v":0},{"$f":"'Entry Information'!H44","v":0},null,null,null,"Name:",{"$f":"'Entry Information'!I44","v":0},{"$f":"'Entry Information'!H44","v":0},null,null,null,"Name:",{"$f":"'Entry Information'!I44","v":0},{"$f":"'Entry Information'!H44","v":0}]
[null,{"$f":"'Entry Information'!J44","v":0},null,null,null,null,"Horse Name:",{"$f":"'Entry Information'!J44","v":0},null,null,null,null,"Horse Name:",{"$f":"'Entry Information'!J44","v":0},null,null,null,null,"Horse Name:",{"$f":"'Entry Information'!J44","v":0},null,null,null,null,"Horse Name:",{"$f":"'Entry Information'!J44","v":0}]
[]
["Check box when entering Ranch Riding scores",null,null,null,null,null,"Check box when entering Working Ranch Horse scores",null,null,null,null,null,"Check box when entering Ranch Cutting scores",null,null,null,null,null,"Check box when entering Ranch Trail scores",null,null,null,null,null,"Check box when entering Conformation scores"]
["Ranch Riding",null,null,null,null,null,"Working Ranch Horse",null,null,null,null,null,"Ranch Cutting",null,null,null,null,null,"Ranch Trail",null,null,null,null,null,"Ranch Conformation"]
["Maneuver","Judge's Score +/-","Penalty Points",null,null,null,"Maneuver","Judge's Score +/-","Penalty Points",null,null,null,"Maneuver","Judge's Score +/-","Penalty Points",null,null,null,"Maneuver","Judge's Score +/-","Penalty Points",null,null,null,"Front Legs, Feet"]
[1,null,null,null,null,null,1,null,null,null,null,null,"Herd Work",null,null,null,null,null,1,null,null,null,null,null,"Chest, Pectoral V"]
[2,null,null,null,null,null,2,null,null,null,null,null,1,null,null,null,null,null,2,null,null,null,null,null,"Head"]
[3,null,null,null,null,null,3,null,null,null,null,null,2,null,null,null,null,null,3,null,null,null,null,null,"Neck & Throat Latch"]
[4,null,null,null,null,null,4,null,null,null,null,null,3,null,null,null,null,null,4,null,null,null,null,null,"Shoulders & Withers"]
[5,null,null,null,null,null,5,null,null,null,null,null,"Cutting",null,null,null,null,null,5,null,null,null,null,null,"Heart Girth & Barrel"]
[6,null,null,null,null,null,6,null,null,null,null,null,1,null,null,null,null,null,6,null,null,null,null,null,"Back & Loin"]
[7,null,null,null,null,null,7,null,null,null,null,null,2,null,null,null,null,null,7,null,null,null,null,null,"Hip & Croup"]
[8,null,null,null,null,null,8,null,null,null,null,null,3,null,null,null,null,null,8,null,null,null,null,null,"Stife & Gaskin"]
[9,null,null,null,null,null,null,null,"Total Penalty Pts",{"$f":"SUM($I$10:$J$17)","v":0},null,null,4,null,null,null,null,null,9,null,null,null,null,null,"Hock, Hind Legs, Feet"]
[10,null,null,null,null,null,"56 +/- Judge Score",{"$f":"SUM($H$10:$H$17)","v":0},"Divided by 2",{"$f":"SUM((56+$H$19)/2)","v":28},null,null,"Penning",null,null,null,null,null,10,null,null,null,null,null,"Overall Muscling"]
[11,null,null,null,null,null,"Maneuver Score",{"$f":"$J$19","v":28},"Less Penalty Pts",{"$f":"$J$18","v":0},null,null,1,null,null,null,null,null,null,null,"Major Penalties",null,null,null,"Tracking","Lame: enter an \"x\""]
[12,null,null,null,null,null,"REINING SCORE",null,null,{"$f":"SUM($H$20+$J$20)","v":28},null,null,2,null,null,null,null,null,null,null,null,null,null,null,"Balance 1"]
[13,null,null,null,null,null,"LIMITED BOXING",null,null,null,null,null,3,null,null,null,null,null,null,null,null,null,null,null,"Balance 2"]
[14,null,null,null,null,null,1,null,"Penalty Points",null,null,null,null,null,"Major Penalties",null,null,null,"Maneuver Total",{"$f":"SUM($T$10:$T$19)","v":0},"Penalty Total",{"$f":"SUM(SUM($U$10:$V$19)+$V$20)","v":0},null,null,"Balance 3"]
["Maneuver Total",{"$f":"SUM($B$10:$B$23)","v":0},"Major Penalties",null,null,null,2,null,null,null,null,null,null,null,null,null,null,null,null,null,null,null,null,null,"Fitness & Condition"]
[null,null,"Penalty Total",{"$f":"SUM($C$10:$D$24)","v":0},null,null,"10 +/- Judge Score",{"$f":"SUM(10+SUM($H$23+$H$24))","v":10},"Total Penalty Pts",{"$f":"SUM($J$23:$J$24)","v":0},null,null,"Maneuver Total",{"$f":"SUM($N$10:$N$22)","v":0},"Penalty Total",{"$f":"SUM($O$11+$O$12+$O$13+$O$15+$O$16+$O$17+$O$18+$O$20+$O$21+$O$22+$P$23)","v":0},null,null,null,null,null,null,null,null,"Participant Showmanship"]
[null,null,null,null,null,null,"Maneuver Score",{"$f":"$H$25","v":10},"Less Penalty Pts",{"$f":"$J$25","v":0},null,null,null,null,null,null,null,null,null,null,null,null,null,null,"Horse Showmanship"]
["100 +/-Maneuver",{"$f":"$B$24","v":0},"x .70 =",{"$f":"SUM((100+$B$27)*0.7)","v":70},null,null,"CATTLE SCORE",null,null,{"$f":"SUM($H$26+$J$26)","v":10},null,null,"70 +/-Maneuver",{"$f":"$N$25","v":0},"Less Penalty Total",{"$f":"$P$25","v":0},null,null,"70 +/-Maneuver",{"$f":"$T$23","v":0},"Less Penalty Total",{"$f":"$V$23","v":0},null,null,"Form & Showmanship Judges Score",null,"Total (1)",{"$f":"SUM(AB9:AB26)","v":0}]
[null,null,null,null,null,null,null,null,null,null,null,null,null,null,null,null,null,null,null,null,null,null,null,null,{"$f":"SUM(AB27*0.33+42)","v":42},{"$f":"IF(AA20=\"x\",-10,0)","v":0},"Judge Score (2)",{"$f":"SUM(Y28+Z28)","v":42}]
["Maneuver Score =",{"$f":"$D$27","v":70},"Less Penalty Total",{"$f":"$D$25","v":0},null,null,"Reining Score",{"$f":"$J$21","v":28},"Plus Cattle Score",{"$f":"$J$27","v":10},null,null,null,null,null,null,null,null,null,null,null,null,null,null,"Ranch Cutting",{"$f":"IF(P31=\"\",0,P31)","v":0},"Ranch Rding",{"$f":"IF(D31=\"\",0,D31)","v":0}]
[null,null,null,null,null,null,null,null,null,null,null,null,null,null,null,null,null,null,null,null,null,null,null,null,"Working Ranch Horse",{"$f":"IF(J31=\"\",0,J31)","v":0},"Ranch Trail",{"$f":"IF(V31=\"\",0,V31)","v":0}]
["TOTAL SCORE",null,null,{"$f":"IF(D7=\"\",\"\",IF(B29+D29<0,0,B29+D29))","v":""},null,null,"TOTAL SCORE",null,null,{"$f":"IF($J$7=\"\",\"\",IF($H$29+$J$29<0,0,$H$29+$J$29))","v":""},null,null,"TOTAL SCORE",null,null,{"$f":"IF(P7=\"\",\"\",IF(70+N27+P27<0,0,70+N27+P27))","v":""},null,null,"TOTAL SCORE",null,null,{"$f":"IF(V7=\"\",\"\",IF(70+T27+V27<0,0,70+T27+V27))","v":""},null,null,"Function Total (3)",{"$f":"SUM(Z29+AB29+Z30+AB30)","v":0},"Function Score (4)",{"$f":"Z31*0.1","v":0}]
[null,null,null,null,null,null,null,null,null,null,null,null,null,null,null,null,null,null,null,null,null,null,null,null,"Judge Score (2) + Function Score (4) = CONFORMATION SCORE",null,null,{"$f":"IF(AB7=\"\",\"\",IF(AB28+AB31<0,0,AB28+AB31))","v":""}]
[null,null,"Return to Entry Page",null,null,null,null,null,"Return to Entry Page",null,null,null,null,null,"Return to Entry Page",null,null,null,null,null,"Return to Entry Page"]
[null,null,null,null,null,null,null,null,null,null,null,null,null,null,null,null,null,null,null,null,null,null,null,null,null,null,"Return to Entry Page"]

{"sheet":"Limited 5","index":44,"n_rows":34,"n_cols":28,"rows_kept":34,"cut":false,"hidden":false,"merged":[[31,24,31,26],[30,0,30,2],[30,6,30,8],[30,12,30,14],[30,18,30,20],[27,18,29,21],[29,0,29,3],[29,6,29,9],[23,0,24,0],[23,1,24,1],[23,18,25,21],[25,0,25,3],[26,6,26,8],[25,12,25,15],[27,0,27,3],[27,6,27,9],[27,12,29,15],[19,18,20,19],[19,20,20,20],[19,21,20,21],[20,2,20,3],[20,6,20,8],[20,14,20,15],[16,14,16,15],[16,20,16,21],[22,2,22,3],[22,12,23,13],[22,14,23,14],[22,15,23,15],[22,8,23,8],[21,2,21,3],[21,6,21,9],[21,14,21,15],[21,18,21,21],[18,2,18,3],[18,12,18,15],[18,20,18,21],[19,2,19,3],[19,14,19,15],[17,2,17,3],[17,14,17,15],[17,20,17,21],[13,2,13,3],[13,8,14,9],[13,12,13,15],[13,20,13,21],[14,2,14,3],[14,14,14,15],[14,20,14,21],[15,2,15,3],[15,8,15,9],[15,14,15,15],[15,20,15,21],[16,2,16,3],[16,8,16,9],[7,24,7,27],[11,2,11,3],[11,8,12,9],[11,14,11,15],[11,20,11,21],[12,2,12,3],[12,14,12,15],[12,20,12,21],[9,2,9,3],[9,8,10,9],[9,12,9,15],[9,20,9,21],[10,2,10,3],[10,14,10,15],[10,20,10,21],[8,2,8,3],[8,8,8,9],[8,14,8,15],[8,20,8,21],[7,0,7,3],[7,6,7,9],[7,12,7,15],[7,18,7,21]]}
["RIDERS SCORE WORK SHEET"]
[]
["Back Number:",{"$f":"'Entry Information'!B45","v":0},null,null,null,null,"Back Number:",{"$f":"'Entry Information'!B45","v":0},null,null,null,null,"Back Number:",{"$f":"'Entry Information'!B45","v":0},null,null,null,null,"Back Number:",null,null,null,null,null,"Back Number:",{"$f":"'Entry Information'!B45","v":0}]
["Name:",{"$f":"'Entry Information'!I45","v":0},{"$f":"'Entry Information'!H45","v":0},null,null,null,"Name:",{"$f":"'Entry Information'!I45","v":0},{"$f":"'Entry Information'!H45","v":0},null,null,null,"Name:",{"$f":"'Entry Information'!I45","v":0},{"$f":"'Entry Information'!H45","v":0},null,null,null,"Name:",{"$f":"'Entry Information'!I45","v":0},{"$f":"'Entry Information'!H45","v":0},null,null,null,"Name:",{"$f":"'Entry Information'!I45","v":0},{"$f":"'Entry Information'!H45","v":0}]
[null,{"$f":"'Entry Information'!J45","v":0},null,null,null,null,"Horse Name:",{"$f":"'Entry Information'!J45","v":0},null,null,null,null,"Horse Name:",{"$f":"'Entry Information'!J45","v":0},null,null,null,null,"Horse Name:",{"$f":"'Entry Information'!J45","v":0},null,null,null,null,"Horse Name:",{"$f":"'Entry Information'!J45","v":0}]
[]
["Check box when entering Ranch Riding scores",null,null,null,null,null,"Check box when entering Working Ranch Horse scores",null,null,null,null,null,"Check box when entering Ranch Cutting scores",null,null,null,null,null,"Check box when entering Ranch Trail scores",null,null,null,null,null,"Check box when entering Conformation scores"]
["Ranch Riding",null,null,null,null,null,"Working Ranch Horse",null,null,null,null,null,"Ranch Cutting",null,null,null,null,null,"Ranch Trail",null,null,null,null,null,"Ranch Conformation"]
["Maneuver","Judge's Score +/-","Penalty Points",null,null,null,"Maneuver","Judge's Score +/-","Penalty Points",null,null,null,"Maneuver","Judge's Score +/-","Penalty Points",null,null,null,"Maneuver","Judge's Score +/-","Penalty Points",null,null,null,"Front Legs, Feet"]
[1,null,null,null,null,null,1,null,null,null,null,null,"Herd Work",null,null,null,null,null,1,null,null,null,null,null,"Chest, Pectoral V"]
[2,null,null,null,null,null,2,null,null,null,null,null,1,null,null,null,null,null,2,null,null,null,null,null,"Head"]
[3,null,null,null,null,null,3,null,null,null,null,null,2,null,null,null,null,null,3,null,null,null,null,null,"Neck & Throat Latch"]
[4,null,null,null,null,null,4,null,null,null,null,null,3,null,null,null,null,null,4,null,null,null,null,null,"Shoulders & Withers"]
[5,null,null,null,null,null,5,null,null,null,null,null,"Cutting",null,null,null,null,null,5,null,null,null,null,null,"Heart Girth & Barrel"]
[6,null,null,null,null,null,6,null,null,null,null,null,1,null,null,null,null,null,6,null,null,null,null,null,"Back & Loin"]
[7,null,null,null,null,null,7,null,null,null,null,null,2,null,null,null,null,null,7,null,null,null,null,null,"Hip & Croup"]
[8,null,null,null,null,null,8,null,null,null,null,null,3,null,null,null,null,null,8,null,null,null,null,null,"Stife & Gaskin"]
[9,null,null,null,null,null,null,null,"Total Penalty Pts",{"$f":"SUM($I$10:$J$17)","v":0},null,null,4,null,null,null,null,null,9,null,null,null,null,null,"Hock, Hind Legs, Feet"]
[10,null,null,null,null,null,"56 +/- Judge Score",{"$f":"SUM($H$10:$H$17)","v":0},"Divided by 2",{"$f":"SUM((56+$H$19)/2)","v":28},null,null,"Penning",null,null,null,null,null,10,null,null,null,null,null,"Overall Muscling"]
[11,null,null,null,null,null,"Maneuver Score",{"$f":"$J$19","v":28},"Less Penalty Pts",{"$f":"$J$18","v":0},null,null,1,null,null,null,null,null,null,null,"Major Penalties",null,null,null,"Tracking","Lame: enter an \"x\""]
[12,null,null,null,null,null,"REINING SCORE",null,null,{"$f":"SUM($H$20+$J$20)","v":28},null,null,2,null,null,null,null,null,null,null,null,null,null,null,"Balance 1"]
[13,null,null,null,null,null,"LIMITED BOXING",null,null,null,null,null,3,null,null,null,null,null,null,null,null,null,null,null,"Balance 2"]
[14,null,null,null,null,null,1,null,"Penalty Points",null,null,null,null,null,"Major Penalties",null,null,null,"Maneuver Total",{"$f":"SUM($T$10:$T$19)","v":0},"Penalty Total",{"$f":"SUM(SUM($U$10:$V$19)+$V$20)","v":0},null,null,"Balance 3"]
["Maneuver Total",{"$f":"SUM($B$10:$B$23)","v":0},"Major Penalties",null,null,null,2,null,null,null,null,null,null,null,null,null,null,null,null,null,null,null,null,null,"Fitness & Condition"]
[null,null,"Penalty Total",{"$f":"SUM($C$10:$D$24)","v":0},null,null,"10 +/- Judge Score",{"$f":"SUM(10+SUM($H$23+$H$24))","v":10},"Total Penalty Pts",{"$f":"SUM($J$23:$J$24)","v":0},null,null,"Maneuver Total",{"$f":"SUM($N$10:$N$22)","v":0},"Penalty Total",{"$f":"SUM($O$11+$O$12+$O$13+$O$15+$O$16+$O$17+$O$18+$O$20+$O$21+$O$22+$P$23)","v":0},null,null,null,null,null,null,null,null,"Participant Showmanship"]
[null,null,null,null,null,null,"Maneuver Score",{"$f":"$H$25","v":10},"Less Penalty Pts",{"$f":"$J$25","v":0},null,null,null,null,null,null,null,null,null,null,null,null,null,null,"Horse Showmanship"]
["100 +/-Maneuver",{"$f":"$B$24","v":0},"x .70 =",{"$f":"SUM((100+$B$27)*0.7)","v":70},null,null,"CATTLE SCORE",null,null,{"$f":"SUM($H$26+$J$26)","v":10},null,null,"70 +/-Maneuver",{"$f":"$N$25","v":0},"Less Penalty Total",{"$f":"$P$25","v":0},null,null,"70 +/-Maneuver",{"$f":"$T$23","v":0},"Less Penalty Total",{"$f":"$V$23","v":0},null,null,"Form & Showmanship Judges Score",null,"Total (1)",{"$f":"SUM(AB9:AB26)","v":0}]
[null,null,null,null,null,null,null,null,null,null,null,null,null,null,null,null,null,null,null,null,null,null,null,null,{"$f":"SUM(AB27*0.33+42)","v":42},{"$f":"IF(AA20=\"x\",-10,0)","v":0},"Judge Score (2)",{"$f":"SUM(Y28+Z28)","v":42}]
["Maneuver Score =",{"$f":"$D$27","v":70},"Less Penalty Total",{"$f":"$D$25","v":0},null,null,"Reining Score",{"$f":"$J$21","v":28},"Plus Cattle Score",{"$f":"$J$27","v":10},null,null,null,null,null,null,null,null,null,null,null,null,null,null,"Ranch Cutting",{"$f":"IF(P31=\"\",0,P31)","v":0},"Ranch Rding",{"$f":"IF(D31=\"\",0,D31)","v":0}]
[null,null,null,null,null,null,null,null,null,null,null,null,null,null,null,null,null,null,null,null,null,null,null,null,"Working Ranch Horse",{"$f":"IF(J31=\"\",0,J31)","v":0},"Ranch Trail",{"$f":"IF(V31=\"\",0,V31)","v":0}]
["TOTAL SCORE",null,null,{"$f":"IF(D7=\"\",\"\",IF(B29+D29<0,0,B29+D29))","v":""},null,null,"TOTAL SCORE",null,null,{"$f":"IF($J$7=\"\",\"\",IF($H$29+$J$29<0,0,$H$29+$J$29))","v":""},null,null,"TOTAL SCORE",null,null,{"$f":"IF(P7=\"\",\"\",IF(70+N27+P27<0,0,70+N27+P27))","v":""},null,null,"TOTAL SCORE",null,null,{"$f":"IF(V7=\"\",\"\",IF(70+T27+V27<0,0,70+T27+V27))","v":""},null,null,"Function Total (3)",{"$f":"SUM(Z29+AB29+Z30+AB30)","v":0},"Function Score (4)",{"$f":"Z31*0.1","v":0}]
[null,null,null,null,null,null,null,null,null,null,null,null,null,null,null,null,null,null,null,null,null,null,null,null,"Judge Score (2) + Function Score (4) = CONFORMATION SCORE",null,null,{"$f":"IF(AB7=\"\",\"\",IF(AB28+AB31<0,0,AB28+AB31))","v":""}]
[null,null,"Return to Entry Page",null,null,null,null,null,"Return to Entry Page",null,null,null,null,null,"Return to Entry Page",null,null,null,null,null,"Return to Entry Page"]
[null,null,null,null,null,null,null,null,null,null,null,null,null,null,null,null,null,null,null,null,null,null,null,null,null,null,"Return to Entry Page"]

{"sheet":"Limited 6","index":45,"n_rows":34,"n_cols":28,"rows_kept":34,"cut":false,"hidden":false,"merged":[[31,24,31,26],[30,0,30,2],[30,6,30,8],[30,12,30,14],[30,18,30,20],[27,18,29,21],[29,0,29,3],[29,6,29,9],[23,0,24,0],[23,1,24,1],[23,18,25,21],[25,0,25,3],[26,6,26,8],[25,12,25,15],[27,0,27,3],[27,6,27,9],[27,12,29,15],[19,18,20,19],[19,20,20,20],[19,21,20,21],[20,2,20,3],[20,6,20,8],[20,14,20,15],[16,14,16,15],[16,20,16,21],[22,2,22,3],[22,12,23,13],[22,14,23,14],[22,15,23,15],[22,8,23,8],[21,2,21,3],[21,6,21,9],[21,14,21,15],[21,18,21,21],[18,2,18,3],[18,12,18,15],[18,20,18,21],[19,2,19,3],[19,14,19,15],[17,2,17,3],[17,14,17,15],[17,20,17,21],[13,2,13,3],[13,8,14,9],[13,12,13,15],[13,20,13,21],[14,2,14,3],[14,14,14,15],[14,20,14,21],[15,2,15,3],[15,8,15,9],[15,14,15,15],[15,20,15,21],[16,2,16,3],[16,8,16,9],[7,24,7,27],[11,2,11,3],[11,8,12,9],[11,14,11,15],[11,20,11,21],[12,2,12,3],[12,14,12,15],[12,20,12,21],[9,2,9,3],[9,8,10,9],[9,12,9,15],[9,20,9,21],[10,2,10,3],[10,14,10,15],[10,20,10,21],[8,2,8,3],[8,8,8,9],[8,14,8,15],[8,20,8,21],[7,0,7,3],[7,6,7,9],[7,12,7,15],[7,18,7,21]]}
["RIDERS SCORE WORK SHEET"]
[]
["Back Number:",{"$f":"'Entry Information'!B46","v":0},null,null,null,null,"Back Number:",{"$f":"'Entry Information'!B46","v":0},null,null,null,null,"Back Number:",{"$f":"'Entry Information'!B46","v":0},null,null,null,null,"Back Number:",null,null,null,null,null,"Back Number:",{"$f":"'Entry Information'!B46","v":0}]
["Name:",{"$f":"'Entry Information'!I46","v":0},{"$f":"'Entry Information'!H46","v":0},null,null,null,"Name:",{"$f":"'Entry Information'!I46","v":0},{"$f":"'Entry Information'!H46","v":0},null,null,null,"Name:",{"$f":"'Entry Information'!I46","v":0},{"$f":"'Entry Information'!H46","v":0},null,null,null,"Name:",{"$f":"'Entry Information'!I46","v":0},{"$f":"'Entry Information'!H46","v":0},null,null,null,"Name:",{"$f":"'Entry Information'!I46","v":0},{"$f":"'Entry Information'!H46","v":0}]
[null,{"$f":"'Entry Information'!J46","v":0},null,null,null,null,"Horse Name:",{"$f":"'Entry Information'!J46","v":0},null,null,null,null,"Horse Name:",{"$f":"'Entry Information'!J46","v":0},null,null,null,null,"Horse Name:",{"$f":"'Entry Information'!J46","v":0},null,null,null,null,"Horse Name:",{"$f":"'Entry Information'!J46","v":0}]
[]
["Check box when entering Ranch Riding scores",null,null,null,null,null,"Check box when entering Working Ranch Horse scores",null,null,null,null,null,"Check box when entering Ranch Cutting scores",null,null,null,null,null,"Check box when entering Ranch Trail scores",null,null,null,null,null,"Check box when entering Conformation scores"]
["Ranch Riding",null,null,null,null,null,"Working Ranch Horse",null,null,null,null,null,"Ranch Cutting",null,null,null,null,null,"Ranch Trail",null,null,null,null,null,"Ranch Conformation"]
["Maneuver","Judge's Score +/-","Penalty Points",null,null,null,"Maneuver","Judge's Score +/-","Penalty Points",null,null,null,"Maneuver","Judge's Score +/-","Penalty Points",null,null,null,"Maneuver","Judge's Score +/-","Penalty Points",null,null,null,"Front Legs, Feet"]
[1,null,null,null,null,null,1,null,null,null,null,null,"Herd Work",null,null,null,null,null,1,null,null,null,null,null,"Chest, Pectoral V"]
[2,null,null,null,null,null,2,null,null,null,null,null,1,null,null,null,null,null,2,null,null,null,null,null,"Head"]
[3,null,null,null,null,null,3,null,null,null,null,null,2,null,null,null,null,null,3,null,null,null,null,null,"Neck & Throat Latch"]
[4,null,null,null,null,null,4,null,null,null,null,null,3,null,null,null,null,null,4,null,null,null,null,null,"Shoulders & Withers"]
[5,null,null,null,null,null,5,null,null,null,null,null,"Cutting",null,null,null,null,null,5,null,null,null,null,null,"Heart Girth & Barrel"]
[6,null,null,null,null,null,6,null,null,null,null,null,1,null,null,null,null,null,6,null,null,null,null,null,"Back & Loin"]
[7,null,null,null,null,null,7,null,null,null,null,null,2,null,null,null,null,null,7,null,null,null,null,null,"Hip & Croup"]
[8,null,null,null,null,null,8,null,null,null,null,null,3,null,null,null,null,null,8,null,null,null,null,null,"Stife & Gaskin"]
[9,null,null,null,null,null,null,null,"Total Penalty Pts",{"$f":"SUM($I$10:$J$17)","v":0},null,null,4,null,null,null,null,null,9,null,null,null,null,null,"Hock, Hind Legs, Feet"]
[10,null,null,null,null,null,"56 +/- Judge Score",{"$f":"SUM($H$10:$H$17)","v":0},"Divided by 2",{"$f":"SUM((56+$H$19)/2)","v":28},null,null,"Penning",null,null,null,null,null,10,null,null,null,null,null,"Overall Muscling"]
[11,null,null,null,null,null,"Maneuver Score",{"$f":"$J$19","v":28},"Less Penalty Pts",{"$f":"$J$18","v":0},null,null,1,null,null,null,null,null,null,null,"Major Penalties",null,null,null,"Tracking","Lame: enter an \"x\""]
[12,null,null,null,null,null,"REINING SCORE",null,null,{"$f":"SUM($H$20+$J$20)","v":28},null,null,2,null,null,null,null,null,null,null,null,null,null,null,"Balance 1"]
[13,null,null,null,null,null,"LIMITED BOXING",null,null,null,null,null,3,null,null,null,null,null,null,null,null,null,null,null,"Balance 2"]
[14,null,null,null,null,null,1,null,"Penalty Points",null,null,null,null,null,"Major Penalties",null,null,null,"Maneuver Total",{"$f":"SUM($T$10:$T$19)","v":0},"Penalty Total",{"$f":"SUM(SUM($U$10:$V$19)+$V$20)","v":0},null,null,"Balance 3"]
["Maneuver Total",{"$f":"SUM($B$10:$B$23)","v":0},"Major Penalties",null,null,null,2,null,null,null,null,null,null,null,null,null,null,null,null,null,null,null,null,null,"Fitness & Condition"]
[null,null,"Penalty Total",{"$f":"SUM($C$10:$D$24)","v":0},null,null,"10 +/- Judge Score",{"$f":"SUM(10+SUM($H$23+$H$24))","v":10},"Total Penalty Pts",{"$f":"SUM($J$23:$J$24)","v":0},null,null,"Maneuver Total",{"$f":"SUM($N$10:$N$22)","v":0},"Penalty Total",{"$f":"SUM($O$11+$O$12+$O$13+$O$15+$O$16+$O$17+$O$18+$O$20+$O$21+$O$22+$P$23)","v":0},null,null,null,null,null,null,null,null,"Participant Showmanship"]
[null,null,null,null,null,null,"Maneuver Score",{"$f":"$H$25","v":10},"Less Penalty Pts",{"$f":"$J$25","v":0},null,null,null,null,null,null,null,null,null,null,null,null,null,null,"Horse Showmanship"]
["100 +/-Maneuver",{"$f":"$B$24","v":0},"x .70 =",{"$f":"SUM((100+$B$27)*0.7)","v":70},null,null,"CATTLE SCORE",null,null,{"$f":"SUM($H$26+$J$26)","v":10},null,null,"70 +/-Maneuver",{"$f":"$N$25","v":0},"Less Penalty Total",{"$f":"$P$25","v":0},null,null,"70 +/-Maneuver",{"$f":"$T$23","v":0},"Less Penalty Total",{"$f":"$V$23","v":0},null,null,"Form & Showmanship Judges Score",null,"Total (1)",{"$f":"SUM(AB9:AB26)","v":0}]
[null,null,null,null,null,null,null,null,null,null,null,null,null,null,null,null,null,null,null,null,null,null,null,null,{"$f":"SUM(AB27*0.33+42)","v":42},{"$f":"IF(AA20=\"x\",-10,0)","v":0},"Judge Score (2)",{"$f":"SUM(Y28+Z28)","v":42}]
["Maneuver Score =",{"$f":"$D$27","v":70},"Less Penalty Total",{"$f":"$D$25","v":0},null,null,"Reining Score",{"$f":"$J$21","v":28},"Plus Cattle Score",{"$f":"$J$27","v":10},null,null,null,null,null,null,null,null,null,null,null,null,null,null,"Ranch Cutting",{"$f":"IF(P31=\"\",0,P31)","v":0},"Ranch Rding",{"$f":"IF(D31=\"\",0,D31)","v":0}]
[null,null,null,null,null,null,null,null,null,null,null,null,null,null,null,null,null,null,null,null,null,null,null,null,"Working Ranch Horse",{"$f":"IF(J31=\"\",0,J31)","v":0},"Ranch Trail",{"$f":"IF(V31=\"\",0,V31)","v":0}]
["TOTAL SCORE",null,null,{"$f":"IF(D7=\"\",\"\",IF(B29+D29<0,0,B29+D29))","v":""},null,null,"TOTAL SCORE",null,null,{"$f":"IF($J$7=\"\",\"\",IF($H$29+$J$29<0,0,$H$29+$J$29))","v":""},null,null,"TOTAL SCORE",null,null,{"$f":"IF(P7=\"\",\"\",IF(70+N27+P27<0,0,70+N27+P27))","v":""},null,null,"TOTAL SCORE",null,null,{"$f":"IF(V7=\"\",\"\",IF(70+T27+V27<0,0,70+T27+V27))","v":""},null,null,"Function Total (3)",{"$f":"SUM(Z29+AB29+Z30+AB30)","v":0},"Function Score (4)",{"$f":"Z31*0.1","v":0}]
[null,null,null,null,null,null,null,null,null,null,null,null,null,null,null,null,null,null,null,null,null,null,null,null,"Judge Score (2) + Function Score (4) = CONFORMATION SCORE",null,null,{"$f":"IF(AB7=\"\",\"\",IF(AB28+AB31<0,0,AB28+AB31))","v":""}]
[null,null,"Return to Entry Page",null,null,null,null,null,"Return to Entry Page",null,null,null,null,null,"Return to Entry Page",null,null,null,null,null,"Return to Entry Page"]
[null,null,null,null,null,null,null,null,null,null,null,null,null,null,null,null,null,null,null,null,null,null,null,null,null,null,"Return to Entry Page"]

{"sheet":"Limited 7","index":46,"n_rows":34,"n_cols":28,"rows_kept":34,"cut":false,"hidden":false,"merged":[[31,24,31,26],[30,0,30,2],[30,6,30,8],[30,12,30,14],[30,18,30,20],[27,18,29,21],[29,0,29,3],[29,6,29,9],[23,0,24,0],[23,1,24,1],[23,18,25,21],[25,0,25,3],[26,6,26,8],[25,12,25,15],[27,0,27,3],[27,6,27,9],[27,12,29,15],[19,18,20,19],[19,20,20,20],[19,21,20,21],[20,2,20,3],[20,6,20,8],[20,14,20,15],[16,14,16,15],[16,20,16,21],[22,2,22,3],[22,12,23,13],[22,14,23,14],[22,15,23,15],[22,8,23,8],[21,2,21,3],[21,6,21,9],[21,14,21,15],[21,18,21,21],[18,2,18,3],[18,12,18,15],[18,20,18,21],[19,2,19,3],[19,14,19,15],[17,2,17,3],[17,14,17,15],[17,20,17,21],[13,2,13,3],[13,8,14,9],[13,12,13,15],[13,20,13,21],[14,2,14,3],[14,14,14,15],[14,20,14,21],[15,2,15,3],[15,8,15,9],[15,14,15,15],[15,20,15,21],[16,2,16,3],[16,8,16,9],[7,24,7,27],[11,2,11,3],[11,8,12,9],[11,14,11,15],[11,20,11,21],[12,2,12,3],[12,14,12,15],[12,20,12,21],[9,2,9,3],[9,8,10,9],[9,12,9,15],[9,20,9,21],[10,2,10,3],[10,14,10,15],[10,20,10,21],[8,2,8,3],[8,8,8,9],[8,14,8,15],[8,20,8,21],[7,0,7,3],[7,6,7,9],[7,12,7,15],[7,18,7,21]]}
["RIDERS SCORE WORK SHEET"]
[]
["Back Number:",{"$f":"'Entry Information'!B47","v":0},null,null,null,null,"Back Number:",{"$f":"'Entry Information'!B47","v":0},null,null,null,null,"Back Number:",{"$f":"'Entry Information'!B47","v":0},null,null,null,null,"Back Number:",null,null,null,null,null,"Back Number:",{"$f":"'Entry Information'!B47","v":0}]
["Name:",{"$f":"'Entry Information'!I47","v":0},{"$f":"'Entry Information'!H47","v":0},null,null,null,"Name:",{"$f":"'Entry Information'!I47","v":0},{"$f":"'Entry Information'!H47","v":0},null,null,null,"Name:",{"$f":"'Entry Information'!I47","v":0},{"$f":"'Entry Information'!H47","v":0},null,null,null,"Name:",{"$f":"'Entry Information'!I47","v":0},{"$f":"'Entry Information'!H47","v":0},null,null,null,"Name:",{"$f":"'Entry Information'!I47","v":0},{"$f":"'Entry Information'!H47","v":0}]
[null,{"$f":"'Entry Information'!J47","v":0},null,null,null,null,"Horse Name:",{"$f":"'Entry Information'!J47","v":0},null,null,null,null,"Horse Name:",{"$f":"'Entry Information'!J47","v":0},null,null,null,null,"Horse Name:",{"$f":"'Entry Information'!J47","v":0},null,null,null,null,"Horse Name:",{"$f":"'Entry Information'!J47","v":0}]
[]
["Check box when entering Ranch Riding scores",null,null,null,null,null,"Check box when entering Working Ranch Horse scores",null,null,null,null,null,"Check box when entering Ranch Cutting scores",null,null,null,null,null,"Check box when entering Ranch Trail scores",null,null,null,null,null,"Check box when entering Conformation scores"]
["Ranch Riding",null,null,null,null,null,"Working Ranch Horse",null,null,null,null,null,"Ranch Cutting",null,null,null,null,null,"Ranch Trail",null,null,null,null,null,"Ranch Conformation"]
["Maneuver","Judge's Score +/-","Penalty Points",null,null,null,"Maneuver","Judge's Score +/-","Penalty Points",null,null,null,"Maneuver","Judge's Score +/-","Penalty Points",null,null,null,"Maneuver","Judge's Score +/-","Penalty Points",null,null,null,"Front Legs, Feet"]
[1,null,null,null,null,null,1,null,null,null,null,null,"Herd Work",null,null,null,null,null,1,null,null,null,null,null,"Chest, Pectoral V"]
[2,null,null,null,null,null,2,null,null,null,null,null,1,null,null,null,null,null,2,null,null,null,null,null,"Head"]
[3,null,null,null,null,null,3,null,null,null,null,null,2,null,null,null,null,null,3,null,null,null,null,null,"Neck & Throat Latch"]
[4,null,null,null,null,null,4,null,null,null,null,null,3,null,null,null,null,null,4,null,null,null,null,null,"Shoulders & Withers"]
[5,null,null,null,null,null,5,null,null,null,null,null,"Cutting",null,null,null,null,null,5,null,null,null,null,null,"Heart Girth & Barrel"]
[6,null,null,null,null,null,6,null,null,null,null,null,1,null,null,null,null,null,6,null,null,null,null,null,"Back & Loin"]
[7,null,null,null,null,null,7,null,null,null,null,null,2,null,null,null,null,null,7,null,null,null,null,null,"Hip & Croup"]
[8,null,null,null,null,null,8,null,null,null,null,null,3,null,null,null,null,null,8,null,null,null,null,null,"Stife & Gaskin"]
[9,null,null,null,null,null,null,null,"Total Penalty Pts",{"$f":"SUM($I$10:$J$17)","v":0},null,null,4,null,null,null,null,null,9,null,null,null,null,null,"Hock, Hind Legs, Feet"]
[10,null,null,null,null,null,"56 +/- Judge Score",{"$f":"SUM($H$10:$H$17)","v":0},"Divided by 2",{"$f":"SUM((56+$H$19)/2)","v":28},null,null,"Penning",null,null,null,null,null,10,null,null,null,null,null,"Overall Muscling"]
[11,null,null,null,null,null,"Maneuver Score",{"$f":"$J$19","v":28},"Less Penalty Pts",{"$f":"$J$18","v":0},null,null,1,null,null,null,null,null,null,null,"Major Penalties",null,null,null,"Tracking","Lame: enter an \"x\""]
[12,null,null,null,null,null,"REINING SCORE",null,null,{"$f":"SUM($H$20+$J$20)","v":28},null,null,2,null,null,null,null,null,null,null,null,null,null,null,"Balance 1"]
[13,null,null,null,null,null,"LIMITED BOXING",null,null,null,null,null,3,null,null,null,null,null,null,null,null,null,null,null,"Balance 2"]
[14,null,null,null,null,null,1,null,"Penalty Points",null,null,null,null,null,"Major Penalties",null,null,null,"Maneuver Total",{"$f":"SUM($T$10:$T$19)","v":0},"Penalty Total",{"$f":"SUM(SUM($U$10:$V$19)+$V$20)","v":0},null,null,"Balance 3"]
["Maneuver Total",{"$f":"SUM($B$10:$B$23)","v":0},"Major Penalties",null,null,null,2,null,null,null,null,null,null,null,null,null,null,null,null,null,null,null,null,null,"Fitness & Condition"]
[null,null,"Penalty Total",{"$f":"SUM($C$10:$D$24)","v":0},null,null,"10 +/- Judge Score",{"$f":"SUM(10+SUM($H$23+$H$24))","v":10},"Total Penalty Pts",{"$f":"SUM($J$23:$J$24)","v":0},null,null,"Maneuver Total",{"$f":"SUM($N$10:$N$22)","v":0},"Penalty Total",{"$f":"SUM($O$11+$O$12+$O$13+$O$15+$O$16+$O$17+$O$18+$O$20+$O$21+$O$22+$P$23)","v":0},null,null,null,null,null,null,null,null,"Participant Showmanship"]
[null,null,null,null,null,null,"Maneuver Score",{"$f":"$H$25","v":10},"Less Penalty Pts",{"$f":"$J$25","v":0},null,null,null,null,null,null,null,null,null,null,null,null,null,null,"Horse Showmanship"]
["100 +/-Maneuver",{"$f":"$B$24","v":0},"x .70 =",{"$f":"SUM((100+$B$27)*0.7)","v":70},null,null,"CATTLE SCORE",null,null,{"$f":"SUM($H$26+$J$26)","v":10},null,null,"70 +/-Maneuver",{"$f":"$N$25","v":0},"Less Penalty Total",{"$f":"$P$25","v":0},null,null,"70 +/-Maneuver",{"$f":"$T$23","v":0},"Less Penalty Total",{"$f":"$V$23","v":0},null,null,"Form & Showmanship Judges Score",null,"Total (1)",{"$f":"SUM(AB9:AB26)","v":0}]
[null,null,null,null,null,null,null,null,null,null,null,null,null,null,null,null,null,null,null,null,null,null,null,null,{"$f":"SUM(AB27*0.33+42)","v":42},{"$f":"IF(AA20=\"x\",-10,0)","v":0},"Judge Score (2)",{"$f":"SUM(Y28+Z28)","v":42}]
["Maneuver Score =",{"$f":"$D$27","v":70},"Less Penalty Total",{"$f":"$D$25","v":0},null,null,"Reining Score",{"$f":"$J$21","v":28},"Plus Cattle Score",{"$f":"$J$27","v":10},null,null,null,null,null,null,null,null,null,null,null,null,null,null,"Ranch Cutting",{"$f":"IF(P31=\"\",0,P31)","v":0},"Ranch Rding",{"$f":"IF(D31=\"\",0,D31)","v":0}]
[null,null,null,null,null,null,null,null,null,null,null,null,null,null,null,null,null,null,null,null,null,null,null,null,"Working Ranch Horse",{"$f":"IF(J31=\"\",0,J31)","v":0},"Ranch Trail",{"$f":"IF(V31=\"\",0,V31)","v":0}]
["TOTAL SCORE",null,null,{"$f":"IF(D7=\"\",\"\",IF(B29+D29<0,0,B29+D29))","v":""},null,null,"TOTAL SCORE",null,null,{"$f":"IF($J$7=\"\",\"\",IF($H$29+$J$29<0,0,$H$29+$J$29))","v":""},null,null,"TOTAL SCORE",null,null,{"$f":"IF(P7=\"\",\"\",IF(70+N27+P27<0,0,70+N27+P27))","v":""},null,null,"TOTAL SCORE",null,null,{"$f":"IF(V7=\"\",\"\",IF(70+T27+V27<0,0,70+T27+V27))","v":""},null,null,"Function Total (3)",{"$f":"SUM(Z29+AB29+Z30+AB30)","v":0},"Function Score (4)",{"$f":"Z31*0.1","v":0}]
[null,null,null,null,null,null,null,null,null,null,null,null,null,null,null,null,null,null,null,null,null,null,null,null,"Judge Score (2) + Function Score (4) = CONFORMATION SCORE",null,null,{"$f":"IF(AB7=\"\",\"\",IF(AB28+AB31<0,0,AB28+AB31))","v":""}]
[null,null,"Return to Entry Page",null,null,null,null,null,"Return to Entry Page",null,null,null,null,null,"Return to Entry Page",null,null,null,null,null,"Return to Entry Page"]
[null,null,null,null,null,null,null,null,null,null,null,null,null,null,null,null,null,null,null,null,null,null,null,null,null,null,"Return to Entry Page"]

{"sheet":"Limited 8","index":47,"n_rows":34,"n_cols":28,"rows_kept":34,"cut":false,"hidden":false,"merged":[[31,24,31,26],[30,0,30,2],[30,6,30,8],[30,12,30,14],[30,18,30,20],[27,18,29,21],[29,0,29,3],[29,6,29,9],[23,0,24,0],[23,1,24,1],[23,18,25,21],[25,0,25,3],[26,6,26,8],[25,12,25,15],[27,0,27,3],[27,6,27,9],[27,12,29,15],[19,18,20,19],[19,20,20,20],[19,21,20,21],[20,2,20,3],[20,6,20,8],[20,14,20,15],[16,14,16,15],[16,20,16,21],[22,2,22,3],[22,12,23,13],[22,14,23,14],[22,15,23,15],[22,8,23,8],[21,2,21,3],[21,6,21,9],[21,14,21,15],[21,18,21,21],[18,2,18,3],[18,12,18,15],[18,20,18,21],[19,2,19,3],[19,14,19,15],[17,2,17,3],[17,14,17,15],[17,20,17,21],[13,2,13,3],[13,8,14,9],[13,12,13,15],[13,20,13,21],[14,2,14,3],[14,14,14,15],[14,20,14,21],[15,2,15,3],[15,8,15,9],[15,14,15,15],[15,20,15,21],[16,2,16,3],[16,8,16,9],[7,24,7,27],[11,2,11,3],[11,8,12,9],[11,14,11,15],[11,20,11,21],[12,2,12,3],[12,14,12,15],[12,20,12,21],[9,2,9,3],[9,8,10,9],[9,12,9,15],[9,20,9,21],[10,2,10,3],[10,14,10,15],[10,20,10,21],[8,2,8,3],[8,8,8,9],[8,14,8,15],[8,20,8,21],[7,0,7,3],[7,6,7,9],[7,12,7,15],[7,18,7,21]]}
["RIDERS SCORE WORK SHEET"]
[]
["Back Number:",{"$f":"'Entry Information'!B48","v":0},null,null,null,null,"Back Number:",{"$f":"'Entry Information'!B48","v":0},null,null,null,null,"Back Number:",{"$f":"'Entry Information'!B48","v":0},null,null,null,null,"Back Number:",null,null,null,null,null,"Back Number:",{"$f":"'Entry Information'!B48","v":0}]
["Name:",{"$f":"'Entry Information'!I48","v":0},{"$f":"'Entry Information'!H48","v":0},null,null,null,"Name:",{"$f":"'Entry Information'!I48","v":0},{"$f":"'Entry Information'!H48","v":0},null,null,null,"Name:",{"$f":"'Entry Information'!I48","v":0},{"$f":"'Entry Information'!H48","v":0},null,null,null,"Name:",{"$f":"'Entry Information'!I48","v":0},{"$f":"'Entry Information'!H48","v":0},null,null,null,"Name:",{"$f":"'Entry Information'!I48","v":0},{"$f":"'Entry Information'!H48","v":0}]
[null,{"$f":"'Entry Information'!J48","v":0},null,null,null,null,"Horse Name:",{"$f":"'Entry Information'!J48","v":0},null,null,null,null,"Horse Name:",{"$f":"'Entry Information'!J48","v":0},null,null,null,null,"Horse Name:",{"$f":"'Entry Information'!J48","v":0},null,null,null,null,"Horse Name:",{"$f":"'Entry Information'!J48","v":0}]
[]
["Check box when entering Ranch Riding scores",null,null,null,null,null,"Check box when entering Working Ranch Horse scores",null,null,null,null,null,"Check box when entering Ranch Cutting scores",null,null,null,null,null,"Check box when entering Ranch Trail scores",null,null,null,null,null,"Check box when entering Conformation scores"]
["Ranch Riding",null,null,null,null,null,"Working Ranch Horse",null,null,null,null,null,"Ranch Cutting",null,null,null,null,null,"Ranch Trail",null,null,null,null,null,"Ranch Conformation"]
["Maneuver","Judge's Score +/-","Penalty Points",null,null,null,"Maneuver","Judge's Score +/-","Penalty Points",null,null,null,"Maneuver","Judge's Score +/-","Penalty Points",null,null,null,"Maneuver","Judge's Score +/-","Penalty Points",null,null,null,"Front Legs, Feet"]
[1,null,null,null,null,null,1,null,null,null,null,null,"Herd Work",null,null,null,null,null,1,null,null,null,null,null,"Chest, Pectoral V"]
[2,null,null,null,null,null,2,null,null,null,null,null,1,null,null,null,null,null,2,null,null,null,null,null,"Head"]
[3,null,null,null,null,null,3,null,null,null,null,null,2,null,null,null,null,null,3,null,null,null,null,null,"Neck & Throat Latch"]
[4,null,null,null,null,null,4,null,null,null,null,null,3,null,null,null,null,null,4,null,null,null,null,null,"Shoulders & Withers"]
[5,null,null,null,null,null,5,null,null,null,null,null,"Cutting",null,null,null,null,null,5,null,null,null,null,null,"Heart Girth & Barrel"]
[6,null,null,null,null,null,6,null,null,null,null,null,1,null,null,null,null,null,6,null,null,null,null,null,"Back & Loin"]
[7,null,null,null,null,null,7,null,null,null,null,null,2,null,null,null,null,null,7,null,null,null,null,null,"Hip & Croup"]
[8,null,null,null,null,null,8,null,null,null,null,null,3,null,null,null,null,null,8,null,null,null,null,null,"Stife & Gaskin"]
[9,null,null,null,null,null,null,null,"Total Penalty Pts",{"$f":"SUM($I$10:$J$17)","v":0},null,null,4,null,null,null,null,null,9,null,null,null,null,null,"Hock, Hind Legs, Feet"]
[10,null,null,null,null,null,"56 +/- Judge Score",{"$f":"SUM($H$10:$H$17)","v":0},"Divided by 2",{"$f":"SUM((56+$H$19)/2)","v":28},null,null,"Penning",null,null,null,null,null,10,null,null,null,null,null,"Overall Muscling"]
[11,null,null,null,null,null,"Maneuver Score",{"$f":"$J$19","v":28},"Less Penalty Pts",{"$f":"$J$18","v":0},null,null,1,null,null,null,null,null,null,null,"Major Penalties",null,null,null,"Tracking","Lame: enter an \"x\""]
[12,null,null,null,null,null,"REINING SCORE",null,null,{"$f":"SUM($H$20+$J$20)","v":28},null,null,2,null,null,null,null,null,null,null,null,null,null,null,"Balance 1"]
[13,null,null,null,null,null,"LIMITED BOXING",null,null,null,null,null,3,null,null,null,null,null,null,null,null,null,null,null,"Balance 2"]
[14,null,null,null,null,null,1,null,"Penalty Points",null,null,null,null,null,"Major Penalties",null,null,null,"Maneuver Total",{"$f":"SUM($T$10:$T$19)","v":0},"Penalty Total",{"$f":"SUM(SUM($U$10:$V$19)+$V$20)","v":0},null,null,"Balance 3"]
["Maneuver Total",{"$f":"SUM($B$10:$B$23)","v":0},"Major Penalties",null,null,null,2,null,null,null,null,null,null,null,null,null,null,null,null,null,null,null,null,null,"Fitness & Condition"]
[null,null,"Penalty Total",{"$f":"SUM($C$10:$D$24)","v":0},null,null,"10 +/- Judge Score",{"$f":"SUM(10+SUM($H$23+$H$24))","v":10},"Total Penalty Pts",{"$f":"SUM($J$23:$J$24)","v":0},null,null,"Maneuver Total",{"$f":"SUM($N$10:$N$22)","v":0},"Penalty Total",{"$f":"SUM($O$11+$O$12+$O$13+$O$15+$O$16+$O$17+$O$18+$O$20+$O$21+$O$22+$P$23)","v":0},null,null,null,null,null,null,null,null,"Participant Showmanship"]
[null,null,null,null,null,null,"Maneuver Score",{"$f":"$H$25","v":10},"Less Penalty Pts",{"$f":"$J$25","v":0},null,null,null,null,null,null,null,null,null,null,null,null,null,null,"Horse Showmanship"]
["100 +/-Maneuver",{"$f":"$B$24","v":0},"x .70 =",{"$f":"SUM((100+$B$27)*0.7)","v":70},null,null,"CATTLE SCORE",null,null,{"$f":"SUM($H$26+$J$26)","v":10},null,null,"70 +/-Maneuver",{"$f":"$N$25","v":0},"Less Penalty Total",{"$f":"$P$25","v":0},null,null,"70 +/-Maneuver",{"$f":"$T$23","v":0},"Less Penalty Total",{"$f":"$V$23","v":0},null,null,"Form & Showmanship Judges Score",null,"Total (1)",{"$f":"SUM(AB9:AB26)","v":0}]
[null,null,null,null,null,null,null,null,null,null,null,null,null,null,null,null,null,null,null,null,null,null,null,null,{"$f":"SUM(AB27*0.33+42)","v":42},{"$f":"IF(AA20=\"x\",-10,0)","v":0},"Judge Score (2)",{"$f":"SUM(Y28+Z28)","v":42}]
["Maneuver Score =",{"$f":"$D$27","v":70},"Less Penalty Total",{"$f":"$D$25","v":0},null,null,"Reining Score",{"$f":"$J$21","v":28},"Plus Cattle Score",{"$f":"$J$27","v":10},null,null,null,null,null,null,null,null,null,null,null,null,null,null,"Ranch Cutting",{"$f":"IF(P31=\"\",0,P31)","v":0},"Ranch Rding",{"$f":"IF(D31=\"\",0,D31)","v":0}]
[null,null,null,null,null,null,null,null,null,null,null,null,null,null,null,null,null,null,null,null,null,null,null,null,"Working Ranch Horse",{"$f":"IF(J31=\"\",0,J31)","v":0},"Ranch Trail",{"$f":"IF(V31=\"\",0,V31)","v":0}]
["TOTAL SCORE",null,null,{"$f":"IF(D7=\"\",\"\",IF(B29+D29<0,0,B29+D29))","v":""},null,null,"TOTAL SCORE",null,null,{"$f":"IF($J$7=\"\",\"\",IF($H$29+$J$29<0,0,$H$29+$J$29))","v":""},null,null,"TOTAL SCORE",null,null,{"$f":"IF(P7=\"\",\"\",IF(70+N27+P27<0,0,70+N27+P27))","v":""},null,null,"TOTAL SCORE",null,null,{"$f":"IF(V7=\"\",\"\",IF(70+T27+V27<0,0,70+T27+V27))","v":""},null,null,"Function Total (3)",{"$f":"SUM(Z29+AB29+Z30+AB30)","v":0},"Function Score (4)",{"$f":"Z31*0.1","v":0}]
[null,null,null,null,null,null,null,null,null,null,null,null,null,null,null,null,null,null,null,null,null,null,null,null,"Judge Score (2) + Function Score (4) = CONFORMATION SCORE",null,null,{"$f":"IF(AB7=\"\",\"\",IF(AB28+AB31<0,0,AB28+AB31))","v":""}]
[null,null,"Return to Entry Page",null,null,null,null,null,"Return to Entry Page",null,null,null,null,null,"Return to Entry Page",null,null,null,null,null,"Return to Entry Page"]
[null,null,null,null,null,null,null,null,null,null,null,null,null,null,null,null,null,null,null,null,null,null,null,null,null,null,"Return to Entry Page"]

{"sheet":"Limited 9","index":48,"n_rows":34,"n_cols":28,"rows_kept":34,"cut":false,"hidden":false,"merged":[[31,24,31,26],[30,0,30,2],[30,6,30,8],[30,12,30,14],[30,18,30,20],[27,18,29,21],[29,0,29,3],[29,6,29,9],[23,0,24,0],[23,1,24,1],[23,18,25,21],[25,0,25,3],[26,6,26,8],[25,12,25,15],[27,0,27,3],[27,6,27,9],[27,12,29,15],[19,18,20,19],[19,20,20,20],[19,21,20,21],[20,2,20,3],[20,6,20,8],[20,14,20,15],[16,14,16,15],[16,20,16,21],[22,2,22,3],[22,12,23,13],[22,14,23,14],[22,15,23,15],[22,8,23,8],[21,2,21,3],[21,6,21,9],[21,14,21,15],[21,18,21,21],[18,2,18,3],[18,12,18,15],[18,20,18,21],[19,2,19,3],[19,14,19,15],[17,2,17,3],[17,14,17,15],[17,20,17,21],[13,2,13,3],[13,8,14,9],[13,12,13,15],[13,20,13,21],[14,2,14,3],[14,14,14,15],[14,20,14,21],[15,2,15,3],[15,8,15,9],[15,14,15,15],[15,20,15,21],[16,2,16,3],[16,8,16,9],[7,24,7,27],[11,2,11,3],[11,8,12,9],[11,14,11,15],[11,20,11,21],[12,2,12,3],[12,14,12,15],[12,20,12,21],[9,2,9,3],[9,8,10,9],[9,12,9,15],[9,20,9,21],[10,2,10,3],[10,14,10,15],[10,20,10,21],[8,2,8,3],[8,8,8,9],[8,14,8,15],[8,20,8,21],[7,0,7,3],[7,6,7,9],[7,12,7,15],[7,18,7,21]]}
["RIDERS SCORE WORK SHEET"]
[]
["Back Number:",{"$f":"'Entry Information'!B49","v":0},null,null,null,null,"Back Number:",{"$f":"'Entry Information'!B49","v":0},null,null,null,null,"Back Number:",{"$f":"'Entry Information'!B49","v":0},null,null,null,null,"Back Number:",null,null,null,null,null,"Back Number:",{"$f":"'Entry Information'!B49","v":0}]
["Name:",{"$f":"'Entry Information'!I49","v":0},{"$f":"'Entry Information'!H49","v":0},null,null,null,"Name:",{"$f":"'Entry Information'!I49","v":0},{"$f":"'Entry Information'!H49","v":0},null,null,null,"Name:",{"$f":"'Entry Information'!I49","v":0},{"$f":"'Entry Information'!H49","v":0},null,null,null,"Name:",{"$f":"'Entry Information'!I49","v":0},{"$f":"'Entry Information'!H49","v":0},null,null,null,"Name:",{"$f":"'Entry Information'!I49","v":0},{"$f":"'Entry Information'!H49","v":0}]
[null,{"$f":"'Entry Information'!J49","v":0},null,null,null,null,"Horse Name:",{"$f":"'Entry Information'!J49","v":0},null,null,null,null,"Horse Name:",{"$f":"'Entry Information'!J49","v":0},null,null,null,null,"Horse Name:",{"$f":"'Entry Information'!J49","v":0},null,null,null,null,"Horse Name:",{"$f":"'Entry Information'!J49","v":0}]
[]
["Check box when entering Ranch Riding scores",null,null,null,null,null,"Check box when entering Working Ranch Horse scores",null,null,null,null,null,"Check box when entering Ranch Cutting scores",null,null,null,null,null,"Check box when entering Ranch Trail scores",null,null,null,null,null,"Check box when entering Conformation scores"]
["Ranch Riding",null,null,null,null,null,"Working Ranch Horse",null,null,null,null,null,"Ranch Cutting",null,null,null,null,null,"Ranch Trail",null,null,null,null,null,"Ranch Conformation"]
["Maneuver","Judge's Score +/-","Penalty Points",null,null,null,"Maneuver","Judge's Score +/-","Penalty Points",null,null,null,"Maneuver","Judge's Score +/-","Penalty Points",null,null,null,"Maneuver","Judge's Score +/-","Penalty Points",null,null,null,"Front Legs, Feet"]
[1,null,null,null,null,null,1,null,null,null,null,null,"Herd Work",null,null,null,null,null,1,null,null,null,null,null,"Chest, Pectoral V"]
[2,null,null,null,null,null,2,null,null,null,null,null,1,null,null,null,null,null,2,null,null,null,null,null,"Head"]
[3,null,null,null,null,null,3,null,null,null,null,null,2,null,null,null,null,null,3,null,null,null,null,null,"Neck & Throat Latch"]
[4,null,null,null,null,null,4,null,null,null,null,null,3,null,null,null,null,null,4,null,null,null,null,null,"Shoulders & Withers"]
[5,null,null,null,null,null,5,null,null,null,null,null,"Cutting",null,null,null,null,null,5,null,null,null,null,null,"Heart Girth & Barrel"]
[6,null,null,null,null,null,6,null,null,null,null,null,1,null,null,null,null,null,6,null,null,null,null,null,"Back & Loin"]
[7,null,null,null,null,null,7,null,null,null,null,null,2,null,null,null,null,null,7,null,null,null,null,null,"Hip & Croup"]
[8,null,null,null,null,null,8,null,null,null,null,null,3,null,null,null,null,null,8,null,null,null,null,null,"Stife & Gaskin"]
[9,null,null,null,null,null,null,null,"Total Penalty Pts",{"$f":"SUM($I$10:$J$17)","v":0},null,null,4,null,null,null,null,null,9,null,null,null,null,null,"Hock, Hind Legs, Feet"]
[10,null,null,null,null,null,"56 +/- Judge Score",{"$f":"SUM($H$10:$H$17)","v":0},"Divided by 2",{"$f":"SUM((56+$H$19)/2)","v":28},null,null,"Penning",null,null,null,null,null,10,null,null,null,null,null,"Overall Muscling"]
[11,null,null,null,null,null,"Maneuver Score",{"$f":"$J$19","v":28},"Less Penalty Pts",{"$f":"$J$18","v":0},null,null,1,null,null,null,null,null,null,null,"Major Penalties",null,null,null,"Tracking","Lame: enter an \"x\""]
[12,null,null,null,null,null,"REINING SCORE",null,null,{"$f":"SUM($H$20+$J$20)","v":28},null,null,2,null,null,null,null,null,null,null,null,null,null,null,"Balance 1"]
[13,null,null,null,null,null,"LIMITED BOXING",null,null,null,null,null,3,null,null,null,null,null,null,null,null,null,null,null,"Balance 2"]
[14,null,null,null,null,null,1,null,"Penalty Points",null,null,null,null,null,"Major Penalties",null,null,null,"Maneuver Total",{"$f":"SUM($T$10:$T$19)","v":0},"Penalty Total",{"$f":"SUM(SUM($U$10:$V$19)+$V$20)","v":0},null,null,"Balance 3"]
["Maneuver Total",{"$f":"SUM($B$10:$B$23)","v":0},"Major Penalties",null,null,null,2,null,null,null,null,null,null,null,null,null,null,null,null,null,null,null,null,null,"Fitness & Condition"]
[null,null,"Penalty Total",{"$f":"SUM($C$10:$D$24)","v":0},null,null,"10 +/- Judge Score",{"$f":"SUM(10+SUM($H$23+$H$24))","v":10},"Total Penalty Pts",{"$f":"SUM($J$23:$J$24)","v":0},null,null,"Maneuver Total",{"$f":"SUM($N$10:$N$22)","v":0},"Penalty Total",{"$f":"SUM($O$11+$O$12+$O$13+$O$15+$O$16+$O$17+$O$18+$O$20+$O$21+$O$22+$P$23)","v":0},null,null,null,null,null,null,null,null,"Participant Showmanship"]
[null,null,null,null,null,null,"Maneuver Score",{"$f":"$H$25","v":10},"Less Penalty Pts",{"$f":"$J$25","v":0},null,null,null,null,null,null,null,null,null,null,null,null,null,null,"Horse Showmanship"]
["100 +/-Maneuver",{"$f":"$B$24","v":0},"x .70 =",{"$f":"SUM((100+$B$27)*0.7)","v":70},null,null,"CATTLE SCORE",null,null,{"$f":"SUM($H$26+$J$26)","v":10},null,null,"70 +/-Maneuver",{"$f":"$N$25","v":0},"Less Penalty Total",{"$f":"$P$25","v":0},null,null,"70 +/-Maneuver",{"$f":"$T$23","v":0},"Less Penalty Total",{"$f":"$V$23","v":0},null,null,"Form & Showmanship Judges Score",null,"Total (1)",{"$f":"SUM(AB9:AB26)","v":0}]
[null,null,null,null,null,null,null,null,null,null,null,null,null,null,null,null,null,null,null,null,null,null,null,null,{"$f":"SUM(AB27*0.33+42)","v":42},{"$f":"IF(AA20=\"x\",-10,0)","v":0},"Judge Score (2)",{"$f":"SUM(Y28+Z28)","v":42}]
["Maneuver Score =",{"$f":"$D$27","v":70},"Less Penalty Total",{"$f":"$D$25","v":0},null,null,"Reining Score",{"$f":"$J$21","v":28},"Plus Cattle Score",{"$f":"$J$27","v":10},null,null,null,null,null,null,null,null,null,null,null,null,null,null,"Ranch Cutting",{"$f":"IF(P31=\"\",0,P31)","v":0},"Ranch Rding",{"$f":"IF(D31=\"\",0,D31)","v":0}]
[null,null,null,null,null,null,null,null,null,null,null,null,null,null,null,null,null,null,null,null,null,null,null,null,"Working Ranch Horse",{"$f":"IF(J31=\"\",0,J31)","v":0},"Ranch Trail",{"$f":"IF(V31=\"\",0,V31)","v":0}]
["TOTAL SCORE",null,null,{"$f":"IF(D7=\"\",\"\",IF(B29+D29<0,0,B29+D29))","v":""},null,null,"TOTAL SCORE",null,null,{"$f":"IF($J$7=\"\",\"\",IF($H$29+$J$29<0,0,$H$29+$J$29))","v":""},null,null,"TOTAL SCORE",null,null,{"$f":"IF(P7=\"\",\"\",IF(70+N27+P27<0,0,70+N27+P27))","v":""},null,null,"TOTAL SCORE",null,null,{"$f":"IF(V7=\"\",\"\",IF(70+T27+V27<0,0,70+T27+V27))","v":""},null,null,"Function Total (3)",{"$f":"SUM(Z29+AB29+Z30+AB30)","v":0},"Function Score (4)",{"$f":"Z31*0.1","v":0}]
[null,null,null,null,null,null,null,null,null,null,null,null,null,null,null,null,null,null,null,null,null,null,null,null,"Judge Score (2) + Function Score (4) = CONFORMATION SCORE",null,null,{"$f":"IF(AB7=\"\",\"\",IF(AB28+AB31<0,0,AB28+AB31))","v":""}]
[null,null,"Return to Entry Page",null,null,null,null,null,"Return to Entry Page",null,null,null,null,null,"Return to Entry Page",null,null,null,null,null,"Return to Entry Page"]
[null,null,null,null,null,null,null,null,null,null,null,null,null,null,null,null,null,null,null,null,null,null,null,null,null,null,"Return to Entry Page"]

{"sheet":"Limited 10","index":49,"n_rows":34,"n_cols":28,"rows_kept":34,"cut":false,"hidden":false,"merged":[[31,24,31,26],[30,0,30,2],[30,6,30,8],[30,12,30,14],[30,18,30,20],[27,18,29,21],[29,0,29,3],[29,6,29,9],[23,0,24,0],[23,1,24,1],[23,18,25,21],[25,0,25,3],[26,6,26,8],[25,12,25,15],[27,0,27,3],[27,6,27,9],[27,12,29,15],[19,18,20,19],[19,20,20,20],[19,21,20,21],[20,2,20,3],[20,6,20,8],[20,14,20,15],[16,14,16,15],[16,20,16,21],[22,2,22,3],[22,12,23,13],[22,14,23,14],[22,15,23,15],[22,8,23,8],[21,2,21,3],[21,6,21,9],[21,14,21,15],[21,18,21,21],[18,2,18,3],[18,12,18,15],[18,20,18,21],[19,2,19,3],[19,14,19,15],[17,2,17,3],[17,14,17,15],[17,20,17,21],[13,2,13,3],[13,8,14,9],[13,12,13,15],[13,20,13,21],[14,2,14,3],[14,14,14,15],[14,20,14,21],[15,2,15,3],[15,8,15,9],[15,14,15,15],[15,20,15,21],[16,2,16,3],[16,8,16,9],[7,24,7,27],[11,2,11,3],[11,8,12,9],[11,14,11,15],[11,20,11,21],[12,2,12,3],[12,14,12,15],[12,20,12,21],[9,2,9,3],[9,8,10,9],[9,12,9,15],[9,20,9,21],[10,2,10,3],[10,14,10,15],[10,20,10,21],[8,2,8,3],[8,8,8,9],[8,14,8,15],[8,20,8,21],[7,0,7,3],[7,6,7,9],[7,12,7,15],[7,18,7,21]]}
["RIDERS SCORE WORK SHEET"]
[]
["Back Number:",{"$f":"'Entry Information'!B50","v":0},null,null,null,null,"Back Number:",{"$f":"'Entry Information'!B50","v":0},null,null,null,null,"Back Number:",{"$f":"'Entry Information'!B50","v":0},null,null,null,null,"Back Number:",null,null,null,null,null,"Back Number:",{"$f":"'Entry Information'!B50","v":0}]
["Name:",{"$f":"'Entry Information'!I50","v":0},{"$f":"'Entry Information'!H50","v":0},null,null,null,"Name:",{"$f":"'Entry Information'!I50","v":0},{"$f":"'Entry Information'!H50","v":0},null,null,null,"Name:",{"$f":"'Entry Information'!I50","v":0},{"$f":"'Entry Information'!H50","v":0},null,null,null,"Name:",{"$f":"'Entry Information'!I50","v":0},{"$f":"'Entry Information'!H50","v":0},null,null,null,"Name:",{"$f":"'Entry Information'!I50","v":0},{"$f":"'Entry Information'!H50","v":0}]
[null,{"$f":"'Entry Information'!J50","v":0},null,null,null,null,"Horse Name:",{"$f":"'Entry Information'!J50","v":0},null,null,null,null,"Horse Name:",{"$f":"'Entry Information'!J50","v":0},null,null,null,null,"Horse Name:",{"$f":"'Entry Information'!J50","v":0},null,null,null,null,"Horse Name:",{"$f":"'Entry Information'!J50","v":0}]
[]
["Check box when entering Ranch Riding scores",null,null,null,null,null,"Check box when entering Working Ranch Horse scores",null,null,null,null,null,"Check box when entering Ranch Cutting scores",null,null,null,null,null,"Check box when entering Ranch Trail scores",null,null,null,null,null,"Check box when entering Conformation scores"]
["Ranch Riding",null,null,null,null,null,"Working Ranch Horse",null,null,null,null,null,"Ranch Cutting",null,null,null,null,null,"Ranch Trail",null,null,null,null,null,"Ranch Conformation"]
["Maneuver","Judge's Score +/-","Penalty Points",null,null,null,"Maneuver","Judge's Score +/-","Penalty Points",null,null,null,"Maneuver","Judge's Score +/-","Penalty Points",null,null,null,"Maneuver","Judge's Score +/-","Penalty Points",null,null,null,"Front Legs, Feet"]
[1,null,null,null,null,null,1,null,null,null,null,null,"Herd Work",null,null,null,null,null,1,null,null,null,null,null,"Chest, Pectoral V"]
[2,null,null,null,null,null,2,null,null,null,null,null,1,null,null,null,null,null,2,null,null,null,null,null,"Head"]
[3,null,null,null,null,null,3,null,null,null,null,null,2,null,null,null,null,null,3,null,null,null,null,null,"Neck & Throat Latch"]
[4,null,null,null,null,null,4,null,null,null,null,null,3,null,null,null,null,null,4,null,null,null,null,null,"Shoulders & Withers"]
[5,null,null,null,null,null,5,null,null,null,null,null,"Cutting",null,null,null,null,null,5,null,null,null,null,null,"Heart Girth & Barrel"]
[6,null,null,null,null,null,6,null,null,null,null,null,1,null,null,null,null,null,6,null,null,null,null,null,"Back & Loin"]
[7,null,null,null,null,null,7,null,null,null,null,null,2,null,null,null,null,null,7,null,null,null,null,null,"Hip & Croup"]
[8,null,null,null,null,null,8,null,null,null,null,null,3,null,null,null,null,null,8,null,null,null,null,null,"Stife & Gaskin"]
[9,null,null,null,null,null,null,null,"Total Penalty Pts",{"$f":"SUM($I$10:$J$17)","v":0},null,null,4,null,null,null,null,null,9,null,null,null,null,null,"Hock, Hind Legs, Feet"]
[10,null,null,null,null,null,"56 +/- Judge Score",{"$f":"SUM($H$10:$H$17)","v":0},"Divided by 2",{"$f":"SUM((56+$H$19)/2)","v":28},null,null,"Penning",null,null,null,null,null,10,null,null,null,null,null,"Overall Muscling"]
[11,null,null,null,null,null,"Maneuver Score",{"$f":"$J$19","v":28},"Less Penalty Pts",{"$f":"$J$18","v":0},null,null,1,null,null,null,null,null,null,null,"Major Penalties",null,null,null,"Tracking","Lame: enter an \"x\""]
[12,null,null,null,null,null,"REINING SCORE",null,null,{"$f":"SUM($H$20+$J$20)","v":28},null,null,2,null,null,null,null,null,null,null,null,null,null,null,"Balance 1"]
[13,null,null,null,null,null,"LIMITED BOXING",null,null,null,null,null,3,null,null,null,null,null,null,null,null,null,null,null,"Balance 2"]
[14,null,null,null,null,null,1,null,"Penalty Points",null,null,null,null,null,"Major Penalties",null,null,null,"Maneuver Total",{"$f":"SUM($T$10:$T$19)","v":0},"Penalty Total",{"$f":"SUM(SUM($U$10:$V$19)+$V$20)","v":0},null,null,"Balance 3"]
["Maneuver Total",{"$f":"SUM($B$10:$B$23)","v":0},"Major Penalties",null,null,null,2,null,null,null,null,null,null,null,null,null,null,null,null,null,null,null,null,null,"Fitness & Condition"]
[null,null,"Penalty Total",{"$f":"SUM($C$10:$D$24)","v":0},null,null,"10 +/- Judge Score",{"$f":"SUM(10+SUM($H$23+$H$24))","v":10},"Total Penalty Pts",{"$f":"SUM($J$23:$J$24)","v":0},null,null,"Maneuver Total",{"$f":"SUM($N$10:$N$22)","v":0},"Penalty Total",{"$f":"SUM($O$11+$O$12+$O$13+$O$15+$O$16+$O$17+$O$18+$O$20+$O$21+$O$22+$P$23)","v":0},null,null,null,null,null,null,null,null,"Participant Showmanship"]
[null,null,null,null,null,null,"Maneuver Score",{"$f":"$H$25","v":10},"Less Penalty Pts",{"$f":"$J$25","v":0},null,null,null,null,null,null,null,null,null,null,null,null,null,null,"Horse Showmanship"]
["100 +/-Maneuver",{"$f":"$B$24","v":0},"x .70 =",{"$f":"SUM((100+$B$27)*0.7)","v":70},null,null,"CATTLE SCORE",null,null,{"$f":"SUM($H$26+$J$26)","v":10},null,null,"70 +/-Maneuver",{"$f":"$N$25","v":0},"Less Penalty Total",{"$f":"$P$25","v":0},null,null,"70 +/-Maneuver",{"$f":"$T$23","v":0},"Less Penalty Total",{"$f":"$V$23","v":0},null,null,"Form & Showmanship Judges Score",null,"Total (1)",{"$f":"SUM(AB9:AB26)","v":0}]
[null,null,null,null,null,null,null,null,null,null,null,null,null,null,null,null,null,null,null,null,null,null,null,null,{"$f":"SUM(AB27*0.33+42)","v":42},{"$f":"IF(AA20=\"x\",-10,0)","v":0},"Judge Score (2)",{"$f":"SUM(Y28+Z28)","v":42}]
["Maneuver Score =",{"$f":"$D$27","v":70},"Less Penalty Total",{"$f":"$D$25","v":0},null,null,"Reining Score",{"$f":"$J$21","v":28},"Plus Cattle Score",{"$f":"$J$27","v":10},null,null,null,null,null,null,null,null,null,null,null,null,null,null,"Ranch Cutting",{"$f":"IF(P31=\"\",0,P31)","v":0},"Ranch Rding",{"$f":"IF(D31=\"\",0,D31)","v":0}]
[null,null,null,null,null,null,null,null,null,null,null,null,null,null,null,null,null,null,null,null,null,null,null,null,"Working Ranch Horse",{"$f":"IF(J31=\"\",0,J31)","v":0},"Ranch Trail",{"$f":"IF(V31=\"\",0,V31)","v":0}]
["TOTAL SCORE",null,null,{"$f":"IF(D7=\"\",\"\",IF(B29+D29<0,0,B29+D29))","v":""},null,null,"TOTAL SCORE",null,null,{"$f":"IF($J$7=\"\",\"\",IF($H$29+$J$29<0,0,$H$29+$J$29))","v":""},null,null,"TOTAL SCORE",null,null,{"$f":"IF(P7=\"\",\"\",IF(70+N27+P27<0,0,70+N27+P27))","v":""},null,null,"TOTAL SCORE",null,null,{"$f":"IF(V7=\"\",\"\",IF(70+T27+V27<0,0,70+T27+V27))","v":""},null,null,"Function Total (3)",{"$f":"SUM(Z29+AB29+Z30+AB30)","v":0},"Function Score (4)",{"$f":"Z31*0.1","v":0}]
[null,null,null,null,null,null,null,null,null,null,null,null,null,null,null,null,null,null,null,null,null,null,null,null,"Judge Score (2) + Function Score (4) = CONFORMATION SCORE",null,null,{"$f":"IF(AB7=\"\",\"\",IF(AB28+AB31<0,0,AB28+AB31))","v":""}]
[null,null,"Return to Entry Page",null,null,null,null,null,"Return to Entry Page",null,null,null,null,null,"Return to Entry Page",null,null,null,null,null,"Return to Entry Page"]
[null,null,null,null,null,null,null,null,null,null,null,null,null,null,null,null,null,null,null,null,null,null,null,null,null,null,"Return to Entry Page"]

{"sheet":"Limited 11","index":50,"n_rows":34,"n_cols":28,"rows_kept":34,"cut":false,"hidden":false,"merged":[[31,24,31,26],[30,0,30,2],[30,6,30,8],[30,12,30,14],[30,18,30,20],[27,18,29,21],[29,0,29,3],[29,6,29,9],[23,0,24,0],[23,1,24,1],[23,18,25,21],[25,0,25,3],[26,6,26,8],[25,12,25,15],[27,0,27,3],[27,6,27,9],[27,12,29,15],[19,18,20,19],[19,20,20,20],[19,21,20,21],[20,2,20,3],[20,6,20,8],[20,14,20,15],[16,14,16,15],[16,20,16,21],[22,2,22,3],[22,12,23,13],[22,14,23,14],[22,15,23,15],[22,8,23,8],[21,2,21,3],[21,6,21,9],[21,14,21,15],[21,18,21,21],[18,2,18,3],[18,12,18,15],[18,20,18,21],[19,2,19,3],[19,14,19,15],[17,2,17,3],[17,14,17,15],[17,20,17,21],[13,2,13,3],[13,8,14,9],[13,12,13,15],[13,20,13,21],[14,2,14,3],[14,14,14,15],[14,20,14,21],[15,2,15,3],[15,8,15,9],[15,14,15,15],[15,20,15,21],[16,2,16,3],[16,8,16,9],[7,24,7,27],[11,2,11,3],[11,8,12,9],[11,14,11,15],[11,20,11,21],[12,2,12,3],[12,14,12,15],[12,20,12,21],[9,2,9,3],[9,8,10,9],[9,12,9,15],[9,20,9,21],[10,2,10,3],[10,14,10,15],[10,20,10,21],[8,2,8,3],[8,8,8,9],[8,14,8,15],[8,20,8,21],[7,0,7,3],[7,6,7,9],[7,12,7,15],[7,18,7,21]]}
["RIDERS SCORE WORK SHEET"]
[]
["Back Number:",{"$f":"'Entry Information'!B51","v":0},null,null,null,null,"Back Number:",{"$f":"'Entry Information'!B51","v":0},null,null,null,null,"Back Number:",{"$f":"'Entry Information'!B51","v":0},null,null,null,null,"Back Number:",null,null,null,null,null,"Back Number:",{"$f":"'Entry Information'!B51","v":0}]
["Name:",{"$f":"'Entry Information'!I51","v":0},{"$f":"'Entry Information'!H51","v":0},null,null,null,"Name:",{"$f":"'Entry Information'!I51","v":0},{"$f":"'Entry Information'!H51","v":0},null,null,null,"Name:",{"$f":"'Entry Information'!I51","v":0},{"$f":"'Entry Information'!H51","v":0},null,null,null,"Name:",{"$f":"'Entry Information'!I51","v":0},{"$f":"'Entry Information'!H51","v":0},null,null,null,"Name:",{"$f":"'Entry Information'!I51","v":0},{"$f":"'Entry Information'!H51","v":0}]
[null,{"$f":"'Entry Information'!J51","v":0},null,null,null,null,"Horse Name:",{"$f":"'Entry Information'!J51","v":0},null,null,null,null,"Horse Name:",{"$f":"'Entry Information'!J51","v":0},null,null,null,null,"Horse Name:",{"$f":"'Entry Information'!J51","v":0},null,null,null,null,"Horse Name:",{"$f":"'Entry Information'!J51","v":0}]
[]
["Check box when entering Ranch Riding scores",null,null,null,null,null,"Check box when entering Working Ranch Horse scores",null,null,null,null,null,"Check box when entering Ranch Cutting scores",null,null,null,null,null,"Check box when entering Ranch Trail scores",null,null,null,null,null,"Check box when entering Conformation scores"]
["Ranch Riding",null,null,null,null,null,"Working Ranch Horse",null,null,null,null,null,"Ranch Cutting",null,null,null,null,null,"Ranch Trail",null,null,null,null,null,"Ranch Conformation"]
["Maneuver","Judge's Score +/-","Penalty Points",null,null,null,"Maneuver","Judge's Score +/-","Penalty Points",null,null,null,"Maneuver","Judge's Score +/-","Penalty Points",null,null,null,"Maneuver","Judge's Score +/-","Penalty Points",null,null,null,"Front Legs, Feet"]
[1,null,null,null,null,null,1,null,null,null,null,null,"Herd Work",null,null,null,null,null,1,null,null,null,null,null,"Chest, Pectoral V"]
[2,null,null,null,null,null,2,null,null,null,null,null,1,null,null,null,null,null,2,null,null,null,null,null,"Head"]
[3,null,null,null,null,null,3,null,null,null,null,null,2,null,null,null,null,null,3,null,null,null,null,null,"Neck & Throat Latch"]
[4,null,null,null,null,null,4,null,null,null,null,null,3,null,null,null,null,null,4,null,null,null,null,null,"Shoulders & Withers"]
[5,null,null,null,null,null,5,null,null,null,null,null,"Cutting",null,null,null,null,null,5,null,null,null,null,null,"Heart Girth & Barrel"]
[6,null,null,null,null,null,6,null,null,null,null,null,1,null,null,null,null,null,6,null,null,null,null,null,"Back & Loin"]
[7,null,null,null,null,null,7,null,null,null,null,null,2,null,null,null,null,null,7,null,null,null,null,null,"Hip & Croup"]
[8,null,null,null,null,null,8,null,null,null,null,null,3,null,null,null,null,null,8,null,null,null,null,null,"Stife & Gaskin"]
[9,null,null,null,null,null,null,null,"Total Penalty Pts",{"$f":"SUM($I$10:$J$17)","v":0},null,null,4,null,null,null,null,null,9,null,null,null,null,null,"Hock, Hind Legs, Feet"]
[10,null,null,null,null,null,"56 +/- Judge Score",{"$f":"SUM($H$10:$H$17)","v":0},"Divided by 2",{"$f":"SUM((56+$H$19)/2)","v":28},null,null,"Penning",null,null,null,null,null,10,null,null,null,null,null,"Overall Muscling"]
[11,null,null,null,null,null,"Maneuver Score",{"$f":"$J$19","v":28},"Less Penalty Pts",{"$f":"$J$18","v":0},null,null,1,null,null,null,null,null,null,null,"Major Penalties",null,null,null,"Tracking","Lame: enter an \"x\""]
[12,null,null,null,null,null,"REINING SCORE",null,null,{"$f":"SUM($H$20+$J$20)","v":28},null,null,2,null,null,null,null,null,null,null,null,null,null,null,"Balance 1"]
[13,null,null,null,null,null,"LIMITED BOXING",null,null,null,null,null,3,null,null,null,null,null,null,null,null,null,null,null,"Balance 2"]
[14,null,null,null,null,null,1,null,"Penalty Points",null,null,null,null,null,"Major Penalties",null,null,null,"Maneuver Total",{"$f":"SUM($T$10:$T$19)","v":0},"Penalty Total",{"$f":"SUM(SUM($U$10:$V$19)+$V$20)","v":0},null,null,"Balance 3"]
["Maneuver Total",{"$f":"SUM($B$10:$B$23)","v":0},"Major Penalties",null,null,null,2,null,null,null,null,null,null,null,null,null,null,null,null,null,null,null,null,null,"Fitness & Condition"]
[null,null,"Penalty Total",{"$f":"SUM($C$10:$D$24)","v":0},null,null,"10 +/- Judge Score",{"$f":"SUM(10+SUM($H$23+$H$24))","v":10},"Total Penalty Pts",{"$f":"SUM($J$23:$J$24)","v":0},null,null,"Maneuver Total",{"$f":"SUM($N$10:$N$22)","v":0},"Penalty Total",{"$f":"SUM($O$11+$O$12+$O$13+$O$15+$O$16+$O$17+$O$18+$O$20+$O$21+$O$22+$P$23)","v":0},null,null,null,null,null,null,null,null,"Participant Showmanship"]
[null,null,null,null,null,null,"Maneuver Score",{"$f":"$H$25","v":10},"Less Penalty Pts",{"$f":"$J$25","v":0},null,null,null,null,null,null,null,null,null,null,null,null,null,null,"Horse Showmanship"]
["100 +/-Maneuver",{"$f":"$B$24","v":0},"x .70 =",{"$f":"SUM((100+$B$27)*0.7)","v":70},null,null,"CATTLE SCORE",null,null,{"$f":"SUM($H$26+$J$26)","v":10},null,null,"70 +/-Maneuver",{"$f":"$N$25","v":0},"Less Penalty Total",{"$f":"$P$25","v":0},null,null,"70 +/-Maneuver",{"$f":"$T$23","v":0},"Less Penalty Total",{"$f":"$V$23","v":0},null,null,"Form & Showmanship Judges Score",null,"Total (1)",{"$f":"SUM(AB9:AB26)","v":0}]
[null,null,null,null,null,null,null,null,null,null,null,null,null,null,null,null,null,null,null,null,null,null,null,null,{"$f":"SUM(AB27*0.33+42)","v":42},{"$f":"IF(AA20=\"x\",-10,0)","v":0},"Judge Score (2)",{"$f":"SUM(Y28+Z28)","v":42}]
["Maneuver Score =",{"$f":"$D$27","v":70},"Less Penalty Total",{"$f":"$D$25","v":0},null,null,"Reining Score",{"$f":"$J$21","v":28},"Plus Cattle Score",{"$f":"$J$27","v":10},null,null,null,null,null,null,null,null,null,null,null,null,null,null,"Ranch Cutting",{"$f":"IF(P31=\"\",0,P31)","v":0},"Ranch Rding",{"$f":"IF(D31=\"\",0,D31)","v":0}]
[null,null,null,null,null,null,null,null,null,null,null,null,null,null,null,null,null,null,null,null,null,null,null,null,"Working Ranch Horse",{"$f":"IF(J31=\"\",0,J31)","v":0},"Ranch Trail",{"$f":"IF(V31=\"\",0,V31)","v":0}]
["TOTAL SCORE",null,null,{"$f":"IF(D7=\"\",\"\",IF(B29+D29<0,0,B29+D29))","v":""},null,null,"TOTAL SCORE",null,null,{"$f":"IF($J$7=\"\",\"\",IF($H$29+$J$29<0,0,$H$29+$J$29))","v":""},null,null,"TOTAL SCORE",null,null,{"$f":"IF(P7=\"\",\"\",IF(70+N27+P27<0,0,70+N27+P27))","v":""},null,null,"TOTAL SCORE",null,null,{"$f":"IF(V7=\"\",\"\",IF(70+T27+V27<0,0,70+T27+V27))","v":""},null,null,"Function Total (3)",{"$f":"SUM(Z29+AB29+Z30+AB30)","v":0},"Function Score (4)",{"$f":"Z31*0.1","v":0}]
[null,null,null,null,null,null,null,null,null,null,null,null,null,null,null,null,null,null,null,null,null,null,null,null,"Judge Score (2) + Function Score (4) = CONFORMATION SCORE",null,null,{"$f":"IF(AB7=\"\",\"\",IF(AB28+AB31<0,0,AB28+AB31))","v":""}]
[null,null,"Return to Entry Page",null,null,null,null,null,"Return to Entry Page",null,null,null,null,null,"Return to Entry Page",null,null,null,null,null,"Return to Entry Page"]
[null,null,null,null,null,null,null,null,null,null,null,null,null,null,null,null,null,null,null,null,null,null,null,null,null,null,"Return to Entry Page"]

{"sheet":"Limited 12","index":51,"n_rows":34,"n_cols":28,"rows_kept":34,"cut":false,"hidden":false,"merged":[[31,24,31,26],[30,0,30,2],[30,6,30,8],[30,12,30,14],[30,18,30,20],[27,18,29,21],[29,0,29,3],[29,6,29,9],[23,0,24,0],[23,1,24,1],[23,18,25,21],[25,0,25,3],[26,6,26,8],[25,12,25,15],[27,0,27,3],[27,6,27,9],[27,12,29,15],[19,18,20,19],[19,20,20,20],[19,21,20,21],[20,2,20,3],[20,6,20,8],[20,14,20,15],[16,14,16,15],[16,20,16,21],[22,2,22,3],[22,12,23,13],[22,14,23,14],[22,15,23,15],[22,8,23,8],[21,2,21,3],[21,6,21,9],[21,14,21,15],[21,18,21,21],[18,2,18,3],[18,12,18,15],[18,20,18,21],[19,2,19,3],[19,14,19,15],[17,2,17,3],[17,14,17,15],[17,20,17,21],[13,2,13,3],[13,8,14,9],[13,12,13,15],[13,20,13,21],[14,2,14,3],[14,14,14,15],[14,20,14,21],[15,2,15,3],[15,8,15,9],[15,14,15,15],[15,20,15,21],[16,2,16,3],[16,8,16,9],[7,24,7,27],[11,2,11,3],[11,8,12,9],[11,14,11,15],[11,20,11,21],[12,2,12,3],[12,14,12,15],[12,20,12,21],[9,2,9,3],[9,8,10,9],[9,12,9,15],[9,20,9,21],[10,2,10,3],[10,14,10,15],[10,20,10,21],[8,2,8,3],[8,8,8,9],[8,14,8,15],[8,20,8,21],[7,0,7,3],[7,6,7,9],[7,12,7,15],[7,18,7,21]]}
["RIDERS SCORE WORK SHEET"]
[]
["Back Number:",{"$f":"'Entry Information'!B52","v":0},null,null,null,null,"Back Number:",{"$f":"'Entry Information'!B52","v":0},null,null,null,null,"Back Number:",{"$f":"'Entry Information'!B52","v":0},null,null,null,null,"Back Number:",null,null,null,null,null,"Back Number:",{"$f":"'Entry Information'!B52","v":0}]
["Name:",{"$f":"'Entry Information'!I52","v":0},{"$f":"'Entry Information'!H52","v":0},null,null,null,"Name:",{"$f":"'Entry Information'!I52","v":0},{"$f":"'Entry Information'!H52","v":0},null,null,null,"Name:",{"$f":"'Entry Information'!I52","v":0},{"$f":"'Entry Information'!H52","v":0},null,null,null,"Name:",{"$f":"'Entry Information'!I52","v":0},{"$f":"'Entry Information'!H52","v":0},null,null,null,"Name:",{"$f":"'Entry Information'!I52","v":0},{"$f":"'Entry Information'!H52","v":0}]
[null,{"$f":"'Entry Information'!J52","v":0},null,null,null,null,"Horse Name:",{"$f":"'Entry Information'!J52","v":0},null,null,null,null,"Horse Name:",{"$f":"'Entry Information'!J52","v":0},null,null,null,null,"Horse Name:",{"$f":"'Entry Information'!J52","v":0},null,null,null,null,"Horse Name:",{"$f":"'Entry Information'!J52","v":0}]
[]
["Check box when entering Ranch Riding scores",null,null,null,null,null,"Check box when entering Working Ranch Horse scores",null,null,null,null,null,"Check box when entering Ranch Cutting scores",null,null,null,null,null,"Check box when entering Ranch Trail scores",null,null,null,null,null,"Check box when entering Conformation scores"]
["Ranch Riding",null,null,null,null,null,"Working Ranch Horse",null,null,null,null,null,"Ranch Cutting",null,null,null,null,null,"Ranch Trail",null,null,null,null,null,"Ranch Conformation"]
["Maneuver","Judge's Score +/-","Penalty Points",null,null,null,"Maneuver","Judge's Score +/-","Penalty Points",null,null,null,"Maneuver","Judge's Score +/-","Penalty Points",null,null,null,"Maneuver","Judge's Score +/-","Penalty Points",null,null,null,"Front Legs, Feet"]
[1,null,null,null,null,null,1,null,null,null,null,null,"Herd Work",null,null,null,null,null,1,null,null,null,null,null,"Chest, Pectoral V"]
[2,null,null,null,null,null,2,null,null,null,null,null,1,null,null,null,null,null,2,null,null,null,null,null,"Head"]
[3,null,null,null,null,null,3,null,null,null,null,null,2,null,null,null,null,null,3,null,null,null,null,null,"Neck & Throat Latch"]
[4,null,null,null,null,null,4,null,null,null,null,null,3,null,null,null,null,null,4,null,null,null,null,null,"Shoulders & Withers"]
[5,null,null,null,null,null,5,null,null,null,null,null,"Cutting",null,null,null,null,null,5,null,null,null,null,null,"Heart Girth & Barrel"]
[6,null,null,null,null,null,6,null,null,null,null,null,1,null,null,null,null,null,6,null,null,null,null,null,"Back & Loin"]
[7,null,null,null,null,null,7,null,null,null,null,null,2,null,null,null,null,null,7,null,null,null,null,null,"Hip & Croup"]
[8,null,null,null,null,null,8,null,null,null,null,null,3,null,null,null,null,null,8,null,null,null,null,null,"Stife & Gaskin"]
[9,null,null,null,null,null,null,null,"Total Penalty Pts",{"$f":"SUM($I$10:$J$17)","v":0},null,null,4,null,null,null,null,null,9,null,null,null,null,null,"Hock, Hind Legs, Feet"]
[10,null,null,null,null,null,"56 +/- Judge Score",{"$f":"SUM($H$10:$H$17)","v":0},"Divided by 2",{"$f":"SUM((56+$H$19)/2)","v":28},null,null,"Penning",null,null,null,null,null,10,null,null,null,null,null,"Overall Muscling"]
[11,null,null,null,null,null,"Maneuver Score",{"$f":"$J$19","v":28},"Less Penalty Pts",{"$f":"$J$18","v":0},null,null,1,null,null,null,null,null,null,null,"Major Penalties",null,null,null,"Tracking","Lame: enter an \"x\""]
[12,null,null,null,null,null,"REINING SCORE",null,null,{"$f":"SUM($H$20+$J$20)","v":28},null,null,2,null,null,null,null,null,null,null,null,null,null,null,"Balance 1"]
[13,null,null,null,null,null,"LIMITED BOXING",null,null,null,null,null,3,null,null,null,null,null,null,null,null,null,null,null,"Balance 2"]
[14,null,null,null,null,null,1,null,"Penalty Points",null,null,null,null,null,"Major Penalties",null,null,null,"Maneuver Total",{"$f":"SUM($T$10:$T$19)","v":0},"Penalty Total",{"$f":"SUM(SUM($U$10:$V$19)+$V$20)","v":0},null,null,"Balance 3"]
["Maneuver Total",{"$f":"SUM($B$10:$B$23)","v":0},"Major Penalties",null,null,null,2,null,null,null,null,null,null,null,null,null,null,null,null,null,null,null,null,null,"Fitness & Condition"]
[null,null,"Penalty Total",{"$f":"SUM($C$10:$D$24)","v":0},null,null,"10 +/- Judge Score",{"$f":"SUM(10+SUM($H$23+$H$24))","v":10},"Total Penalty Pts",{"$f":"SUM($J$23:$J$24)","v":0},null,null,"Maneuver Total",{"$f":"SUM($N$10:$N$22)","v":0},"Penalty Total",{"$f":"SUM($O$11+$O$12+$O$13+$O$15+$O$16+$O$17+$O$18+$O$20+$O$21+$O$22+$P$23)","v":0},null,null,null,null,null,null,null,null,"Participant Showmanship"]
[null,null,null,null,null,null,"Maneuver Score",{"$f":"$H$25","v":10},"Less Penalty Pts",{"$f":"$J$25","v":0},null,null,null,null,null,null,null,null,null,null,null,null,null,null,"Horse Showmanship"]
["100 +/-Maneuver",{"$f":"$B$24","v":0},"x .70 =",{"$f":"SUM((100+$B$27)*0.7)","v":70},null,null,"CATTLE SCORE",null,null,{"$f":"SUM($H$26+$J$26)","v":10},null,null,"70 +/-Maneuver",{"$f":"$N$25","v":0},"Less Penalty Total",{"$f":"$P$25","v":0},null,null,"70 +/-Maneuver",{"$f":"$T$23","v":0},"Less Penalty Total",{"$f":"$V$23","v":0},null,null,"Form & Showmanship Judges Score",null,"Total (1)",{"$f":"SUM(AB9:AB26)","v":0}]
[null,null,null,null,null,null,null,null,null,null,null,null,null,null,null,null,null,null,null,null,null,null,null,null,{"$f":"SUM(AB27*0.33+42)","v":42},{"$f":"IF(AA20=\"x\",-10,0)","v":0},"Judge Score (2)",{"$f":"SUM(Y28+Z28)","v":42}]
["Maneuver Score =",{"$f":"$D$27","v":70},"Less Penalty Total",{"$f":"$D$25","v":0},null,null,"Reining Score",{"$f":"$J$21","v":28},"Plus Cattle Score",{"$f":"$J$27","v":10},null,null,null,null,null,null,null,null,null,null,null,null,null,null,"Ranch Cutting",{"$f":"IF(P31=\"\",0,P31)","v":0},"Ranch Rding",{"$f":"IF(D31=\"\",0,D31)","v":0}]
[null,null,null,null,null,null,null,null,null,null,null,null,null,null,null,null,null,null,null,null,null,null,null,null,"Working Ranch Horse",{"$f":"IF(J31=\"\",0,J31)","v":0},"Ranch Trail",{"$f":"IF(V31=\"\",0,V31)","v":0}]
["TOTAL SCORE",null,null,{"$f":"IF(D7=\"\",\"\",IF(B29+D29<0,0,B29+D29))","v":""},null,null,"TOTAL SCORE",null,null,{"$f":"IF($J$7=\"\",\"\",IF($H$29+$J$29<0,0,$H$29+$J$29))","v":""},null,null,"TOTAL SCORE",null,null,{"$f":"IF(P7=\"\",\"\",IF(70+N27+P27<0,0,70+N27+P27))","v":""},null,null,"TOTAL SCORE",null,null,{"$f":"IF(V7=\"\",\"\",IF(70+T27+V27<0,0,70+T27+V27))","v":""},null,null,"Function Total (3)",{"$f":"SUM(Z29+AB29+Z30+AB30)","v":0},"Function Score (4)",{"$f":"Z31*0.1","v":0}]
[null,null,null,null,null,null,null,null,null,null,null,null,null,null,null,null,null,null,null,null,null,null,null,null,"Judge Score (2) + Function Score (4) = CONFORMATION SCORE",null,null,{"$f":"IF(AB7=\"\",\"\",IF(AB28+AB31<0,0,AB28+AB31))","v":""}]
[null,null,"Return to Entry Page",null,null,null,null,null,"Return to Entry Page",null,null,null,null,null,"Return to Entry Page",null,null,null,null,null,"Return to Entry Page"]
[null,null,null,null,null,null,null,null,null,null,null,null,null,null,null,null,null,null,null,null,null,null,null,null,null,null,"Return to Entry Page"]

{"sheet":"Limited 13","index":52,"n_rows":34,"n_cols":28,"rows_kept":34,"cut":false,"hidden":false,"merged":[[31,24,31,26],[30,0,30,2],[30,6,30,8],[30,12,30,14],[30,18,30,20],[27,18,29,21],[29,0,29,3],[29,6,29,9],[23,0,24,0],[23,1,24,1],[23,18,25,21],[25,0,25,3],[26,6,26,8],[25,12,25,15],[27,0,27,3],[27,6,27,9],[27,12,29,15],[19,18,20,19],[19,20,20,20],[19,21,20,21],[20,2,20,3],[20,6,20,8],[20,14,20,15],[16,14,16,15],[16,20,16,21],[22,2,22,3],[22,12,23,13],[22,14,23,14],[22,15,23,15],[22,8,23,8],[21,2,21,3],[21,6,21,9],[21,14,21,15],[21,18,21,21],[18,2,18,3],[18,12,18,15],[18,20,18,21],[19,2,19,3],[19,14,19,15],[17,2,17,3],[17,14,17,15],[17,20,17,21],[13,2,13,3],[13,8,14,9],[13,12,13,15],[13,20,13,21],[14,2,14,3],[14,14,14,15],[14,20,14,21],[15,2,15,3],[15,8,15,9],[15,14,15,15],[15,20,15,21],[16,2,16,3],[16,8,16,9],[7,24,7,27],[11,2,11,3],[11,8,12,9],[11,14,11,15],[11,20,11,21],[12,2,12,3],[12,14,12,15],[12,20,12,21],[9,2,9,3],[9,8,10,9],[9,12,9,15],[9,20,9,21],[10,2,10,3],[10,14,10,15],[10,20,10,21],[8,2,8,3],[8,8,8,9],[8,14,8,15],[8,20,8,21],[7,0,7,3],[7,6,7,9],[7,12,7,15],[7,18,7,21]]}
["RIDERS SCORE WORK SHEET"]
[]
["Back Number:",{"$f":"'Entry Information'!B53","v":0},null,null,null,null,"Back Number:",{"$f":"'Entry Information'!B53","v":0},null,null,null,null,"Back Number:",{"$f":"'Entry Information'!B53","v":0},null,null,null,null,"Back Number:",null,null,null,null,null,"Back Number:",{"$f":"'Entry Information'!B53","v":0}]
["Name:",{"$f":"'Entry Information'!I53","v":0},{"$f":"'Entry Information'!H53","v":0},null,null,null,"Name:",{"$f":"'Entry Information'!I53","v":0},{"$f":"'Entry Information'!H53","v":0},null,null,null,"Name:",{"$f":"'Entry Information'!I53","v":0},{"$f":"'Entry Information'!H53","v":0},null,null,null,"Name:",{"$f":"'Entry Information'!I53","v":0},{"$f":"'Entry Information'!H53","v":0},null,null,null,"Name:",{"$f":"'Entry Information'!I53","v":0},{"$f":"'Entry Information'!H53","v":0}]
[null,{"$f":"'Entry Information'!J53","v":0},null,null,null,null,"Horse Name:",{"$f":"'Entry Information'!J53","v":0},null,null,null,null,"Horse Name:",{"$f":"'Entry Information'!J53","v":0},null,null,null,null,"Horse Name:",{"$f":"'Entry Information'!J53","v":0},null,null,null,null,"Horse Name:",{"$f":"'Entry Information'!J53","v":0}]
[]
["Check box when entering Ranch Riding scores",null,null,null,null,null,"Check box when entering Working Ranch Horse scores",null,null,null,null,null,"Check box when entering Ranch Cutting scores",null,null,null,null,null,"Check box when entering Ranch Trail scores",null,null,null,null,null,"Check box when entering Conformation scores"]
["Ranch Riding",null,null,null,null,null,"Working Ranch Horse",null,null,null,null,null,"Ranch Cutting",null,null,null,null,null,"Ranch Trail",null,null,null,null,null,"Ranch Conformation"]
["Maneuver","Judge's Score +/-","Penalty Points",null,null,null,"Maneuver","Judge's Score +/-","Penalty Points",null,null,null,"Maneuver","Judge's Score +/-","Penalty Points",null,null,null,"Maneuver","Judge's Score +/-","Penalty Points",null,null,null,"Front Legs, Feet"]
[1,null,null,null,null,null,1,null,null,null,null,null,"Herd Work",null,null,null,null,null,1,null,null,null,null,null,"Chest, Pectoral V"]
[2,null,null,null,null,null,2,null,null,null,null,null,1,null,null,null,null,null,2,null,null,null,null,null,"Head"]
[3,null,null,null,null,null,3,null,null,null,null,null,2,null,null,null,null,null,3,null,null,null,null,null,"Neck & Throat Latch"]
[4,null,null,null,null,null,4,null,null,null,null,null,3,null,null,null,null,null,4,null,null,null,null,null,"Shoulders & Withers"]
[5,null,null,null,null,null,5,null,null,null,null,null,"Cutting",null,null,null,null,null,5,null,null,null,null,null,"Heart Girth & Barrel"]
[6,null,null,null,null,null,6,null,null,null,null,null,1,null,null,null,null,null,6,null,null,null,null,null,"Back & Loin"]
[7,null,null,null,null,null,7,null,null,null,null,null,2,null,null,null,null,null,7,null,null,null,null,null,"Hip & Croup"]
[8,null,null,null,null,null,8,null,null,null,null,null,3,null,null,null,null,null,8,null,null,null,null,null,"Stife & Gaskin"]
[9,null,null,null,null,null,null,null,"Total Penalty Pts",{"$f":"SUM($I$10:$J$17)","v":0},null,null,4,null,null,null,null,null,9,null,null,null,null,null,"Hock, Hind Legs, Feet"]
[10,null,null,null,null,null,"56 +/- Judge Score",{"$f":"SUM($H$10:$H$17)","v":0},"Divided by 2",{"$f":"SUM((56+$H$19)/2)","v":28},null,null,"Penning",null,null,null,null,null,10,null,null,null,null,null,"Overall Muscling"]
[11,null,null,null,null,null,"Maneuver Score",{"$f":"$J$19","v":28},"Less Penalty Pts",{"$f":"$J$18","v":0},null,null,1,null,null,null,null,null,null,null,"Major Penalties",null,null,null,"Tracking","Lame: enter an \"x\""]
[12,null,null,null,null,null,"REINING SCORE",null,null,{"$f":"SUM($H$20+$J$20)","v":28},null,null,2,null,null,null,null,null,null,null,null,null,null,null,"Balance 1"]
[13,null,null,null,null,null,"LIMITED BOXING",null,null,null,null,null,3,null,null,null,null,null,null,null,null,null,null,null,"Balance 2"]
[14,null,null,null,null,null,1,null,"Penalty Points",null,null,null,null,null,"Major Penalties",null,null,null,"Maneuver Total",{"$f":"SUM($T$10:$T$19)","v":0},"Penalty Total",{"$f":"SUM(SUM($U$10:$V$19)+$V$20)","v":0},null,null,"Balance 3"]
["Maneuver Total",{"$f":"SUM($B$10:$B$23)","v":0},"Major Penalties",null,null,null,2,null,null,null,null,null,null,null,null,null,null,null,null,null,null,null,null,null,"Fitness & Condition"]
[null,null,"Penalty Total",{"$f":"SUM($C$10:$D$24)","v":0},null,null,"10 +/- Judge Score",{"$f":"SUM(10+SUM($H$23+$H$24))","v":10},"Total Penalty Pts",{"$f":"SUM($J$23:$J$24)","v":0},null,null,"Maneuver Total",{"$f":"SUM($N$10:$N$22)","v":0},"Penalty Total",{"$f":"SUM($O$11+$O$12+$O$13+$O$15+$O$16+$O$17+$O$18+$O$20+$O$21+$O$22+$P$23)","v":0},null,null,null,null,null,null,null,null,"Participant Showmanship"]
[null,null,null,null,null,null,"Maneuver Score",{"$f":"$H$25","v":10},"Less Penalty Pts",{"$f":"$J$25","v":0},null,null,null,null,null,null,null,null,null,null,null,null,null,null,"Horse Showmanship"]
["100 +/-Maneuver",{"$f":"$B$24","v":0},"x .70 =",{"$f":"SUM((100+$B$27)*0.7)","v":70},null,null,"CATTLE SCORE",null,null,{"$f":"SUM($H$26+$J$26)","v":10},null,null,"70 +/-Maneuver",{"$f":"$N$25","v":0},"Less Penalty Total",{"$f":"$P$25","v":0},null,null,"70 +/-Maneuver",{"$f":"$T$23","v":0},"Less Penalty Total",{"$f":"$V$23","v":0},null,null,"Form & Showmanship Judges Score",null,"Total (1)",{"$f":"SUM(AB9:AB26)","v":0}]
[null,null,null,null,null,null,null,null,null,null,null,null,null,null,null,null,null,null,null,null,null,null,null,null,{"$f":"SUM(AB27*0.33+42)","v":42},{"$f":"IF(AA20=\"x\",-10,0)","v":0},"Judge Score (2)",{"$f":"SUM(Y28+Z28)","v":42}]
["Maneuver Score =",{"$f":"$D$27","v":70},"Less Penalty Total",{"$f":"$D$25","v":0},null,null,"Reining Score",{"$f":"$J$21","v":28},"Plus Cattle Score",{"$f":"$J$27","v":10},null,null,null,null,null,null,null,null,null,null,null,null,null,null,"Ranch Cutting",{"$f":"IF(P31=\"\",0,P31)","v":0},"Ranch Rding",{"$f":"IF(D31=\"\",0,D31)","v":0}]
[null,null,null,null,null,null,null,null,null,null,null,null,null,null,null,null,null,null,null,null,null,null,null,null,"Working Ranch Horse",{"$f":"IF(J31=\"\",0,J31)","v":0},"Ranch Trail",{"$f":"IF(V31=\"\",0,V31)","v":0}]
["TOTAL SCORE",null,null,{"$f":"IF(D7=\"\",\"\",IF(B29+D29<0,0,B29+D29))","v":""},null,null,"TOTAL SCORE",null,null,{"$f":"IF($J$7=\"\",\"\",IF($H$29+$J$29<0,0,$H$29+$J$29))","v":""},null,null,"TOTAL SCORE",null,null,{"$f":"IF(P7=\"\",\"\",IF(70+N27+P27<0,0,70+N27+P27))","v":""},null,null,"TOTAL SCORE",null,null,{"$f":"IF(V7=\"\",\"\",IF(70+T27+V27<0,0,70+T27+V27))","v":""},null,null,"Function Total (3)",{"$f":"SUM(Z29+AB29+Z30+AB30)","v":0},"Function Score (4)",{"$f":"Z31*0.1","v":0}]
[null,null,null,null,null,null,null,null,null,null,null,null,null,null,null,null,null,null,null,null,null,null,null,null,"Judge Score (2) + Function Score (4) = CONFORMATION SCORE",null,null,{"$f":"IF(AB7=\"\",\"\",IF(AB28+AB31<0,0,AB28+AB31))","v":""}]
[null,null,"Return to Entry Page",null,null,null,null,null,"Return to Entry Page",null,null,null,null,null,"Return to Entry Page",null,null,null,null,null,"Return to Entry Page"]
[null,null,null,null,null,null,null,null,null,null,null,null,null,null,null,null,null,null,null,null,null,null,null,null,null,null,"Return to Entry Page"]

{"sheet":"Limited 14","index":53,"n_rows":34,"n_cols":28,"rows_kept":34,"cut":false,"hidden":false,"merged":[[31,24,31,26],[30,0,30,2],[30,6,30,8],[30,12,30,14],[30,18,30,20],[27,18,29,21],[29,0,29,3],[29,6,29,9],[23,0,24,0],[23,1,24,1],[23,18,25,21],[25,0,25,3],[26,6,26,8],[25,12,25,15],[27,0,27,3],[27,6,27,9],[27,12,29,15],[19,18,20,19],[19,20,20,20],[19,21,20,21],[20,2,20,3],[20,6,20,8],[20,14,20,15],[16,14,16,15],[16,20,16,21],[22,2,22,3],[22,12,23,13],[22,14,23,14],[22,15,23,15],[22,8,23,8],[21,2,21,3],[21,6,21,9],[21,14,21,15],[21,18,21,21],[18,2,18,3],[18,12,18,15],[18,20,18,21],[19,2,19,3],[19,14,19,15],[17,2,17,3],[17,14,17,15],[17,20,17,21],[13,2,13,3],[13,8,14,9],[13,12,13,15],[13,20,13,21],[14,2,14,3],[14,14,14,15],[14,20,14,21],[15,2,15,3],[15,8,15,9],[15,14,15,15],[15,20,15,21],[16,2,16,3],[16,8,16,9],[7,24,7,27],[11,2,11,3],[11,8,12,9],[11,14,11,15],[11,20,11,21],[12,2,12,3],[12,14,12,15],[12,20,12,21],[9,2,9,3],[9,8,10,9],[9,12,9,15],[9,20,9,21],[10,2,10,3],[10,14,10,15],[10,20,10,21],[8,2,8,3],[8,8,8,9],[8,14,8,15],[8,20,8,21],[7,0,7,3],[7,6,7,9],[7,12,7,15],[7,18,7,21]]}
["RIDERS SCORE WORK SHEET"]
[]
["Back Number:",{"$f":"'Entry Information'!B54","v":0},null,null,null,null,"Back Number:",{"$f":"'Entry Information'!B54","v":0},null,null,null,null,"Back Number:",{"$f":"'Entry Information'!B54","v":0},null,null,null,null,"Back Number:",null,null,null,null,null,"Back Number:",{"$f":"'Entry Information'!B54","v":0}]
["Name:",{"$f":"'Entry Information'!I54","v":0},{"$f":"'Entry Information'!H54","v":0},null,null,null,"Name:",{"$f":"'Entry Information'!I54","v":0},{"$f":"'Entry Information'!H54","v":0},null,null,null,"Name:",{"$f":"'Entry Information'!I54","v":0},{"$f":"'Entry Information'!H54","v":0},null,null,null,"Name:",{"$f":"'Entry Information'!I54","v":0},{"$f":"'Entry Information'!H54","v":0},null,null,null,"Name:",{"$f":"'Entry Information'!I54","v":0},{"$f":"'Entry Information'!H54","v":0}]
[null,{"$f":"'Entry Information'!J54","v":0},null,null,null,null,"Horse Name:",{"$f":"'Entry Information'!J54","v":0},null,null,null,null,"Horse Name:",{"$f":"'Entry Information'!J54","v":0},null,null,null,null,"Horse Name:",{"$f":"'Entry Information'!J54","v":0},null,null,null,null,"Horse Name:",{"$f":"'Entry Information'!J54","v":0}]
[]
["Check box when entering Ranch Riding scores",null,null,null,null,null,"Check box when entering Working Ranch Horse scores",null,null,null,null,null,"Check box when entering Ranch Cutting scores",null,null,null,null,null,"Check box when entering Ranch Trail scores",null,null,null,null,null,"Check box when entering Conformation scores"]
["Ranch Riding",null,null,null,null,null,"Working Ranch Horse",null,null,null,null,null,"Ranch Cutting",null,null,null,null,null,"Ranch Trail",null,null,null,null,null,"Ranch Conformation"]
["Maneuver","Judge's Score +/-","Penalty Points",null,null,null,"Maneuver","Judge's Score +/-","Penalty Points",null,null,null,"Maneuver","Judge's Score +/-","Penalty Points",null,null,null,"Maneuver","Judge's Score +/-","Penalty Points",null,null,null,"Front Legs, Feet"]
[1,null,null,null,null,null,1,null,null,null,null,null,"Herd Work",null,null,null,null,null,1,null,null,null,null,null,"Chest, Pectoral V"]
[2,null,null,null,null,null,2,null,null,null,null,null,1,null,null,null,null,null,2,null,null,null,null,null,"Head"]
[3,null,null,null,null,null,3,null,null,null,null,null,2,null,null,null,null,null,3,null,null,null,null,null,"Neck & Throat Latch"]
[4,null,null,null,null,null,4,null,null,null,null,null,3,null,null,null,null,null,4,null,null,null,null,null,"Shoulders & Withers"]
[5,null,null,null,null,null,5,null,null,null,null,null,"Cutting",null,null,null,null,null,5,null,null,null,null,null,"Heart Girth & Barrel"]
[6,null,null,null,null,null,6,null,null,null,null,null,1,null,null,null,null,null,6,null,null,null,null,null,"Back & Loin"]
[7,null,null,null,null,null,7,null,null,null,null,null,2,null,null,null,null,null,7,null,null,null,null,null,"Hip & Croup"]
[8,null,null,null,null,null,8,null,null,null,null,null,3,null,null,null,null,null,8,null,null,null,null,null,"Stife & Gaskin"]
[9,null,null,null,null,null,null,null,"Total Penalty Pts",{"$f":"SUM($I$10:$J$17)","v":0},null,null,4,null,null,null,null,null,9,null,null,null,null,null,"Hock, Hind Legs, Feet"]
[10,null,null,null,null,null,"56 +/- Judge Score",{"$f":"SUM($H$10:$H$17)","v":0},"Divided by 2",{"$f":"SUM((56+$H$19)/2)","v":28},null,null,"Penning",null,null,null,null,null,10,null,null,null,null,null,"Overall Muscling"]
[11,null,null,null,null,null,"Maneuver Score",{"$f":"$J$19","v":28},"Less Penalty Pts",{"$f":"$J$18","v":0},null,null,1,null,null,null,null,null,null,null,"Major Penalties",null,null,null,"Tracking","Lame: enter an \"x\""]
[12,null,null,null,null,null,"REINING SCORE",null,null,{"$f":"SUM($H$20+$J$20)","v":28},null,null,2,null,null,null,null,null,null,null,null,null,null,null,"Balance 1"]
[13,null,null,null,null,null,"LIMITED BOXING",null,null,null,null,null,3,null,null,null,null,null,null,null,null,null,null,null,"Balance 2"]
[14,null,null,null,null,null,1,null,"Penalty Points",null,null,null,null,null,"Major Penalties",null,null,null,"Maneuver Total",{"$f":"SUM($T$10:$T$19)","v":0},"Penalty Total",{"$f":"SUM(SUM($U$10:$V$19)+$V$20)","v":0},null,null,"Balance 3"]
["Maneuver Total",{"$f":"SUM($B$10:$B$23)","v":0},"Major Penalties",null,null,null,2,null,null,null,null,null,null,null,null,null,null,null,null,null,null,null,null,null,"Fitness & Condition"]
[null,null,"Penalty Total",{"$f":"SUM($C$10:$D$24)","v":0},null,null,"10 +/- Judge Score",{"$f":"SUM(10+SUM($H$23+$H$24))","v":10},"Total Penalty Pts",{"$f":"SUM($J$23:$J$24)","v":0},null,null,"Maneuver Total",{"$f":"SUM($N$10:$N$22)","v":0},"Penalty Total",{"$f":"SUM($O$11+$O$12+$O$13+$O$15+$O$16+$O$17+$O$18+$O$20+$O$21+$O$22+$P$23)","v":0},null,null,null,null,null,null,null,null,"Participant Showmanship"]
[null,null,null,null,null,null,"Maneuver Score",{"$f":"$H$25","v":10},"Less Penalty Pts",{"$f":"$J$25","v":0},null,null,null,null,null,null,null,null,null,null,null,null,null,null,"Horse Showmanship"]
["100 +/-Maneuver",{"$f":"$B$24","v":0},"x .70 =",{"$f":"SUM((100+$B$27)*0.7)","v":70},null,null,"CATTLE SCORE",null,null,{"$f":"SUM($H$26+$J$26)","v":10},null,null,"70 +/-Maneuver",{"$f":"$N$25","v":0},"Less Penalty Total",{"$f":"$P$25","v":0},null,null,"70 +/-Maneuver",{"$f":"$T$23","v":0},"Less Penalty Total",{"$f":"$V$23","v":0},null,null,"Form & Showmanship Judges Score",null,"Total (1)",{"$f":"SUM(AB9:AB26)","v":0}]
[null,null,null,null,null,null,null,null,null,null,null,null,null,null,null,null,null,null,null,null,null,null,null,null,{"$f":"SUM(AB27*0.33+42)","v":42},{"$f":"IF(AA20=\"x\",-10,0)","v":0},"Judge Score (2)",{"$f":"SUM(Y28+Z28)","v":42}]
["Maneuver Score =",{"$f":"$D$27","v":70},"Less Penalty Total",{"$f":"$D$25","v":0},null,null,"Reining Score",{"$f":"$J$21","v":28},"Plus Cattle Score",{"$f":"$J$27","v":10},null,null,null,null,null,null,null,null,null,null,null,null,null,null,"Ranch Cutting",{"$f":"IF(P31=\"\",0,P31)","v":0},"Ranch Rding",{"$f":"IF(D31=\"\",0,D31)","v":0}]
[null,null,null,null,null,null,null,null,null,null,null,null,null,null,null,null,null,null,null,null,null,null,null,null,"Working Ranch Horse",{"$f":"IF(J31=\"\",0,J31)","v":0},"Ranch Trail",{"$f":"IF(V31=\"\",0,V31)","v":0}]
["TOTAL SCORE",null,null,{"$f":"IF(D7=\"\",\"\",IF(B29+D29<0,0,B29+D29))","v":""},null,null,"TOTAL SCORE",null,null,{"$f":"IF($J$7=\"\",\"\",IF($H$29+$J$29<0,0,$H$29+$J$29))","v":""},null,null,"TOTAL SCORE",null,null,{"$f":"IF(P7=\"\",\"\",IF(70+N27+P27<0,0,70+N27+P27))","v":""},null,null,"TOTAL SCORE",null,null,{"$f":"IF(V7=\"\",\"\",IF(70+T27+V27<0,0,70+T27+V27))","v":""},null,null,"Function Total (3)",{"$f":"SUM(Z29+AB29+Z30+AB30)","v":0},"Function Score (4)",{"$f":"Z31*0.1","v":0}]
[null,null,null,null,null,null,null,null,null,null,null,null,null,null,null,null,null,null,null,null,null,null,null,null,"Judge Score (2) + Function Score (4) = CONFORMATION SCORE",null,null,{"$f":"IF(AB7=\"\",\"\",IF(AB28+AB31<0,0,AB28+AB31))","v":""}]
[null,null,"Return to Entry Page",null,null,null,null,null,"Return to Entry Page",null,null,null,null,null,"Return to Entry Page",null,null,null,null,null,"Return to Entry Page"]
[null,null,null,null,null,null,null,null,null,null,null,null,null,null,null,null,null,null,null,null,null,null,null,null,null,null,"Return to Entry Page"]

{"sheet":"Limited 15","index":54,"n_rows":34,"n_cols":28,"rows_kept":34,"cut":false,"hidden":false,"merged":[[31,24,31,26],[30,0,30,2],[30,6,30,8],[30,12,30,14],[30,18,30,20],[27,18,29,21],[29,0,29,3],[29,6,29,9],[23,0,24,0],[23,1,24,1],[23,18,25,21],[25,0,25,3],[26,6,26,8],[25,12,25,15],[27,0,27,3],[27,6,27,9],[27,12,29,15],[19,18,20,19],[19,20,20,20],[19,21,20,21],[20,2,20,3],[20,6,20,8],[20,14,20,15],[16,14,16,15],[16,20,16,21],[22,2,22,3],[22,12,23,13],[22,14,23,14],[22,15,23,15],[22,8,23,8],[21,2,21,3],[21,6,21,9],[21,14,21,15],[21,18,21,21],[18,2,18,3],[18,12,18,15],[18,20,18,21],[19,2,19,3],[19,14,19,15],[17,2,17,3],[17,14,17,15],[17,20,17,21],[13,2,13,3],[13,8,14,9],[13,12,13,15],[13,20,13,21],[14,2,14,3],[14,14,14,15],[14,20,14,21],[15,2,15,3],[15,8,15,9],[15,14,15,15],[15,20,15,21],[16,2,16,3],[16,8,16,9],[7,24,7,27],[11,2,11,3],[11,8,12,9],[11,14,11,15],[11,20,11,21],[12,2,12,3],[12,14,12,15],[12,20,12,21],[9,2,9,3],[9,8,10,9],[9,12,9,15],[9,20,9,21],[10,2,10,3],[10,14,10,15],[10,20,10,21],[8,2,8,3],[8,8,8,9],[8,14,8,15],[8,20,8,21],[7,0,7,3],[7,6,7,9],[7,12,7,15],[7,18,7,21]]}
["RIDERS SCORE WORK SHEET"]
[]
["Back Number:",{"$f":"'Entry Information'!B55","v":0},null,null,null,null,"Back Number:",{"$f":"'Entry Information'!B55","v":0},null,null,null,null,"Back Number:",{"$f":"'Entry Information'!B55","v":0},null,null,null,null,"Back Number:",null,null,null,null,null,"Back Number:",{"$f":"'Entry Information'!B55","v":0}]
["Name:",{"$f":"'Entry Information'!I55","v":0},{"$f":"'Entry Information'!H55","v":0},null,null,null,"Name:",{"$f":"'Entry Information'!I55","v":0},{"$f":"'Entry Information'!H55","v":0},null,null,null,"Name:",{"$f":"'Entry Information'!I55","v":0},{"$f":"'Entry Information'!H55","v":0},null,null,null,"Name:",{"$f":"'Entry Information'!I55","v":0},{"$f":"'Entry Information'!H55","v":0},null,null,null,"Name:",{"$f":"'Entry Information'!I55","v":0},{"$f":"'Entry Information'!H55","v":0}]
[null,{"$f":"'Entry Information'!J55","v":0},null,null,null,null,"Horse Name:",{"$f":"'Entry Information'!J55","v":0},null,null,null,null,"Horse Name:",{"$f":"'Entry Information'!J55","v":0},null,null,null,null,"Horse Name:",{"$f":"'Entry Information'!J55","v":0},null,null,null,null,"Horse Name:",{"$f":"'Entry Information'!J55","v":0}]
[]
["Check box when entering Ranch Riding scores",null,null,null,null,null,"Check box when entering Working Ranch Horse scores",null,null,null,null,null,"Check box when entering Ranch Cutting scores",null,null,null,null,null,"Check box when entering Ranch Trail scores",null,null,null,null,null,"Check box when entering Conformation scores"]
["Ranch Riding",null,null,null,null,null,"Working Ranch Horse",null,null,null,null,null,"Ranch Cutting",null,null,null,null,null,"Ranch Trail",null,null,null,null,null,"Ranch Conformation"]
["Maneuver","Judge's Score +/-","Penalty Points",null,null,null,"Maneuver","Judge's Score +/-","Penalty Points",null,null,null,"Maneuver","Judge's Score +/-","Penalty Points",null,null,null,"Maneuver","Judge's Score +/-","Penalty Points",null,null,null,"Front Legs, Feet"]
[1,null,null,null,null,null,1,null,null,null,null,null,"Herd Work",null,null,null,null,null,1,null,null,null,null,null,"Chest, Pectoral V"]
[2,null,null,null,null,null,2,null,null,null,null,null,1,null,null,null,null,null,2,null,null,null,null,null,"Head"]
[3,null,null,null,null,null,3,null,null,null,null,null,2,null,null,null,null,null,3,null,null,null,null,null,"Neck & Throat Latch"]
[4,null,null,null,null,null,4,null,null,null,null,null,3,null,null,null,null,null,4,null,null,null,null,null,"Shoulders & Withers"]
[5,null,null,null,null,null,5,null,null,null,null,null,"Cutting",null,null,null,null,null,5,null,null,null,null,null,"Heart Girth & Barrel"]
[6,null,null,null,null,null,6,null,null,null,null,null,1,null,null,null,null,null,6,null,null,null,null,null,"Back & Loin"]
[7,null,null,null,null,null,7,null,null,null,null,null,2,null,null,null,null,null,7,null,null,null,null,null,"Hip & Croup"]
[8,null,null,null,null,null,8,null,null,null,null,null,3,null,null,null,null,null,8,null,null,null,null,null,"Stife & Gaskin"]
[9,null,null,null,null,null,null,null,"Total Penalty Pts",{"$f":"SUM($I$10:$J$17)","v":0},null,null,4,null,null,null,null,null,9,null,null,null,null,null,"Hock, Hind Legs, Feet"]
[10,null,null,null,null,null,"56 +/- Judge Score",{"$f":"SUM($H$10:$H$17)","v":0},"Divided by 2",{"$f":"SUM((56+$H$19)/2)","v":28},null,null,"Penning",null,null,null,null,null,10,null,null,null,null,null,"Overall Muscling"]
[11,null,null,null,null,null,"Maneuver Score",{"$f":"$J$19","v":28},"Less Penalty Pts",{"$f":"$J$18","v":0},null,null,1,null,null,null,null,null,null,null,"Major Penalties",null,null,null,"Tracking","Lame: enter an \"x\""]
[12,null,null,null,null,null,"REINING SCORE",null,null,{"$f":"SUM($H$20+$J$20)","v":28},null,null,2,null,null,null,null,null,null,null,null,null,null,null,"Balance 1"]
[13,null,null,null,null,null,"LIMITED BOXING",null,null,null,null,null,3,null,null,null,null,null,null,null,null,null,null,null,"Balance 2"]
[14,null,null,null,null,null,1,null,"Penalty Points",null,null,null,null,null,"Major Penalties",null,null,null,"Maneuver Total",{"$f":"SUM($T$10:$T$19)","v":0},"Penalty Total",{"$f":"SUM(SUM($U$10:$V$19)+$V$20)","v":0},null,null,"Balance 3"]
["Maneuver Total",{"$f":"SUM($B$10:$B$23)","v":0},"Major Penalties",null,null,null,2,null,null,null,null,null,null,null,null,null,null,null,null,null,null,null,null,null,"Fitness & Condition"]
[null,null,"Penalty Total",{"$f":"SUM($C$10:$D$24)","v":0},null,null,"10 +/- Judge Score",{"$f":"SUM(10+SUM($H$23+$H$24))","v":10},"Total Penalty Pts",{"$f":"SUM($J$23:$J$24)","v":0},null,null,"Maneuver Total",{"$f":"SUM($N$10:$N$22)","v":0},"Penalty Total",{"$f":"SUM($O$11+$O$12+$O$13+$O$15+$O$16+$O$17+$O$18+$O$20+$O$21+$O$22+$P$23)","v":0},null,null,null,null,null,null,null,null,"Participant Showmanship"]
[null,null,null,null,null,null,"Maneuver Score",{"$f":"$H$25","v":10},"Less Penalty Pts",{"$f":"$J$25","v":0},null,null,null,null,null,null,null,null,null,null,null,null,null,null,"Horse Showmanship"]
["100 +/-Maneuver",{"$f":"$B$24","v":0},"x .70 =",{"$f":"SUM((100+$B$27)*0.7)","v":70},null,null,"CATTLE SCORE",null,null,{"$f":"SUM($H$26+$J$26)","v":10},null,null,"70 +/-Maneuver",{"$f":"$N$25","v":0},"Less Penalty Total",{"$f":"$P$25","v":0},null,null,"70 +/-Maneuver",{"$f":"$T$23","v":0},"Less Penalty Total",{"$f":"$V$23","v":0},null,null,"Form & Showmanship Judges Score",null,"Total (1)",{"$f":"SUM(AB9:AB26)","v":0}]
[null,null,null,null,null,null,null,null,null,null,null,null,null,null,null,null,null,null,null,null,null,null,null,null,{"$f":"SUM(AB27*0.33+42)","v":42},{"$f":"IF(AA20=\"x\",-10,0)","v":0},"Judge Score (2)",{"$f":"SUM(Y28+Z28)","v":42}]
["Maneuver Score =",{"$f":"$D$27","v":70},"Less Penalty Total",{"$f":"$D$25","v":0},null,null,"Reining Score",{"$f":"$J$21","v":28},"Plus Cattle Score",{"$f":"$J$27","v":10},null,null,null,null,null,null,null,null,null,null,null,null,null,null,"Ranch Cutting",{"$f":"IF(P31=\"\",0,P31)","v":0},"Ranch Rding",{"$f":"IF(D31=\"\",0,D31)","v":0}]
[null,null,null,null,null,null,null,null,null,null,null,null,null,null,null,null,null,null,null,null,null,null,null,null,"Working Ranch Horse",{"$f":"IF(J31=\"\",0,J31)","v":0},"Ranch Trail",{"$f":"IF(V31=\"\",0,V31)","v":0}]
["TOTAL SCORE",null,null,{"$f":"IF(D7=\"\",\"\",IF(B29+D29<0,0,B29+D29))","v":""},null,null,"TOTAL SCORE",null,null,{"$f":"IF($J$7=\"\",\"\",IF($H$29+$J$29<0,0,$H$29+$J$29))","v":""},null,null,"TOTAL SCORE",null,null,{"$f":"IF(P7=\"\",\"\",IF(70+N27+P27<0,0,70+N27+P27))","v":""},null,null,"TOTAL SCORE",null,null,{"$f":"IF(V7=\"\",\"\",IF(70+T27+V27<0,0,70+T27+V27))","v":""},null,null,"Function Total (3)",{"$f":"SUM(Z29+AB29+Z30+AB30)","v":0},"Function Score (4)",{"$f":"Z31*0.1","v":0}]
[null,null,null,null,null,null,null,null,null,null,null,null,null,null,null,null,null,null,null,null,null,null,null,null,"Judge Score (2) + Function Score (4) = CONFORMATION SCORE",null,null,{"$f":"IF(AB7=\"\",\"\",IF(AB28+AB31<0,0,AB28+AB31))","v":""}]
[null,null,"Return to Entry Page",null,null,null,null,null,"Return to Entry Page",null,null,null,null,null,"Return to Entry Page",null,null,null,null,null,"Return to Entry Page"]
[null,null,null,null,null,null,null,null,null,null,null,null,null,null,null,null,null,null,null,null,null,null,null,null,null,null,"Return to Entry Page"]

{"sheet":"Intermediate 1","index":55,"n_rows":38,"n_cols":28,"rows_kept":38,"cut":false,"hidden":false,"merged":[[34,6,34,8],[30,0,30,2],[35,6,35,8],[30,12,30,14],[30,18,30,20],[31,24,31,26],[23,0,24,0],[23,1,24,1],[23,18,25,21],[25,0,25,3],[27,6,27,8],[25,12,25,15],[27,0,27,3],[27,12,29,15],[27,18,29,21],[29,0,29,3],[29,8,31,8],[19,20,20,20],[19,21,20,21],[20,2,20,3],[20,6,20,8],[20,14,20,15],[16,14,16,15],[16,20,16,21],[22,2,22,3],[22,12,23,13],[22,14,23,14],[22,15,23,15],[22,8,24,8],[21,2,21,3],[21,14,21,15],[21,18,21,21],[18,2,18,3],[18,12,18,15],[18,20,18,21],[19,2,19,3],[19,14,19,15],[19,18,20,19],[17,2,17,3],[17,14,17,15],[17,20,17,21],[13,2,13,3],[13,8,14,9],[13,12,13,15],[13,20,13,21],[14,2,14,3],[14,14,14,15],[14,20,14,21],[15,2,15,3],[15,8,15,9],[15,14,15,15],[15,20,15,21],[16,2,16,3],[16,8,16,9],[7,24,7,27],[11,2,11,3],[11,8,12,9],[11,14,11,15],[11,20,11,21],[12,2,12,3],[12,14,12,15],[12,20,12,21],[9,2,9,3],[9,8,10,9],[9,12,9,15],[9,20,9,21],[10,2,10,3],[10,14,10,15],[10,20,10,21],[8,2,8,3],[8,8,8,9],[8,14,8,15],[8,20,8,21],[7,0,7,3],[7,6,7,9],[7,12,7,15],[7,18,7,21]]}
["RIDERS SCORE WORK SHEET"]
[]
["Back Number:",null,null,null,null,null,"Back Number:",{"$f":"'Entry Information'!B56","v":11},null,null,null,null,"Back Number:",{"$f":"'Entry Information'!B56","v":11},null,null,null,null,"Back Number:",{"$f":"'Entry Information'!B56","v":11},null,null,null,null,"Back Number:",{"$f":"'Entry Information'!B56","v":11}]
["Name:",{"$f":"'Entry Information'!I56","v":"Carlos"},{"$f":"'Entry Information'!H56","v":"Osorio"},null,null,null,"Name:",{"$f":"'Entry Information'!I56","v":"Carlos"},{"$f":"'Entry Information'!H56","v":"Osorio"},null,null,null,"Name:",{"$f":"'Entry Information'!I56","v":"Carlos"},{"$f":"'Entry Information'!H56","v":"Osorio"},null,null,null,"Name:",{"$f":"'Entry Information'!I56","v":"Carlos"},{"$f":"'Entry Information'!H56","v":"Osorio"},null,null,null,"Name:",{"$f":"'Entry Information'!H56","v":"Osorio"},{"$f":"'Entry Information'!I56","v":"Carlos"}]
["Horse Name",{"$f":"'Entry Information'!J56","v":"AR Especial"},null,null,null,null,"Horse Name",{"$f":"'Entry Information'!J56","v":"AR Especial"},null,null,null,null,"Horse Name",{"$f":"'Entry Information'!J56","v":"AR Especial"},null,null,null,null,"Horse Name",{"$f":"'Entry Information'!J56","v":"AR Especial"},null,null,null,null,"Horse Name",{"$f":"'Entry Information'!J56","v":"AR Especial"}]
[]
["Check box when entering Ranch Riding scores",null,null,"x",null,null,"Check box when entering Working Ranch Horse scores",null,null,"x",null,null,"Check box when entering Ranch Cutting scores",null,null,"x",null,null,"Check box when entering Ranch Trail scores",null,null,"x",null,null,"Check box when entering Conformation scores",null,null,"x"]
["Ranch Riding",null,null,null,null,null,"Working Ranch Horse",null,null,null,null,null,"Ranch Cutting",null,null,null,null,null,"Ranch Trail",null,null,null,null,null,"Ranch Conformation"]
["Maneuver","Judge's Score +/-","Penalty Points",null,null,null,"Maneuver","Judge's Score +/-","Penalty Points",null,null,null,"Maneuver","Judge's Score +/-","Penalty Points",null,null,null,"Maneuver","Judge's Score +/-","Penalty Points",null,null,null,"Front Legs, Feet",null,null,-1]
[1,0,null,null,null,null,1,-2,null,null,null,null,"Herd Work",null,null,null,null,null,1,0,null,null,null,null,"Chest, Pectoral V",null,null,1]
[2,0,null,null,null,null,2,0,null,null,null,null,1,0,null,null,null,null,2,2,null,null,null,null,"Head",null,null,1]
[3,2,null,null,null,null,3,-2,-4,null,null,null,2,1,null,null,null,null,3,-1,null,null,null,null,"Neck & Throat Latch",null,null,1]
[4,0,null,null,null,null,4,0,null,null,null,null,3,0,null,null,null,null,4,2,-1.5,null,null,null,"Shoulders & Withers",null,null,1]
[5,-1,null,null,null,null,5,1,null,null,null,null,"Cutting",null,null,null,null,null,5,0,null,null,null,null,"Heart Girth & Barrel",null,null,1]
[6,1,null,null,null,null,6,0,null,null,null,null,1,2,null,null,null,null,6,2,null,null,null,null,"Back & Loin",null,null,-1]
[7,2,null,null,null,null,7,-1,-1,null,null,null,2,0,null,null,null,null,7,1,null,null,null,null,"Hip & Croup",null,null,0]
[8,-2,null,null,null,null,8,-2,null,null,null,null,3,0,null,null,null,null,8,2,null,null,null,null,"Stife & Gaskin",null,null,0]
[9,0,-1,null,null,null,null,null,"Total Penalty Pts",{"$f":"SUM(I10:J17)","v":-5},null,null,4,0,null,null,null,null,9,-1,null,null,null,null,"Hock, Hind Legs, Feet",null,null,-1]
[10,0,null,null,null,null,"56 +/- Judge Score",{"$f":"SUM(H10:H17)","v":-6},"Divided by 2",{"$f":"SUM((56+H19)/2)","v":25},null,null,"Penning",null,null,null,null,null,10,1,null,null,null,null,"Overall Muscling",null,null,0]
[11,1,null,null,null,null,"Maneuver Score",{"$f":"J19","v":25},"Less Penalty Pts",{"$f":"J18","v":-5},null,null,1,2,null,null,null,null,null,null,"Major Penalties",null,null,null,"Tracking","Lame: enter an \"x\"",null,-1]
[12,2,null,null,null,null,"REINING SCORE",null,null,{"$f":"SUM(H20+J20)","v":20},null,null,2,1,null,null,null,null,null,null,null,null,null,null,"Balance 1",null,null,0]
[13,-2,-1,null,null,null,"Working Cow Horse",null,null,null,null,null,3,2,null,null,null,null,null,null,null,null,null,null,"Balance 2",null,null,0]
[14,1,null,null,null,null,1,0,"Penalty Points",null,null,null,null,null,"Major Penalties",null,null,null,"Maneuver Total",{"$f":"SUM(T10:T19)","v":8},"Penalty Total",{"$f":"SUM(SUM(U10:V19)+V20)","v":-1.5},null,null,"Balance 3",null,null,0]
["Maneuver Total",{"$f":"SUM(B10:B23)","v":4},"Major Penalties",null,null,null,2,0,null,null,null,null,null,null,null,null,null,null,null,null,null,null,null,null,"Fitness & Condition",null,null,1]
[null,null,"Penalty Total",{"$f":"SUM(C10:D24)","v":-2},null,null,3,0,null,-1,null,null,"Maneuver Total",{"$f":"SUM(N10:N22)","v":8},"Penalty Total",{"$f":"SUM(O11+O12+O13+O15+O16+O17+O18+O20+O21+O22+P23)","v":0},null,null,null,null,null,null,null,null,"Participant Showmanship",null,null,-1]
[null,null,null,null,null,null,"21 +/- Judge Score",{"$f":"SUM(H23:H25)","v":0},"Total Penalty Pts",{"$f":"SUM(J23:J25)","v":-1},null,null,null,null,null,null,null,null,null,null,null,null,null,null,"Horse Showmanship",null,null,0]
["100 +/-Maneuver",{"$f":"B24","v":4},"x .70 =",{"$f":"SUM((100+B27)*0.7)","v":72.8},null,null,"Maneuver Score",{"$f":"SUM(21+H26)","v":21},"Less Penalty Pts",{"$f":"J26","v":-1},null,null,"70 +/-Maneuver",{"$f":"N25","v":8},"Less Penalty Total",{"$f":"P25","v":0},null,null,"70 +/-Maneuver",{"$f":"T23","v":8},"Less Penalty Total",{"$f":"V23","v":-1.5},null,null,"Form & Showmanship Judges Score",null,"Total (1)",{"$f":"SUM(AB9:AB26)","v":1}]
[null,null,null,null,null,null,"CATTLE SCORE",null,null,{"$f":"SUM(H27+J27)","v":20},null,null,null,null,null,null,null,null,null,null,null,null,null,null,{"$f":"SUM(AB27*0.33+42)","v":42.33},{"$f":"IF(AA20=\"x\",-10,0)","v":0},"Judge Score (2)",{"$f":"SUM(Y28+Z28)","v":42.33}]
["Maneuver Score =",{"$f":"D27","v":72.8},"Less Penalty Total",{"$f":"D25","v":-2},null,null,"Roping",null,null,null,null,null,null,null,null,null,null,null,null,null,null,null,null,null,"Ranch Cutting",{"$f":"IF(P31=\"\",0,P31)","v":78},"Ranch Rding",{"$f":"IF(D31=\"\",0,D31)","v":70.8}]
[null,null,null,null,null,null,1,0,"Penalty Points",null,null,null,null,null,null,null,null,null,null,null,null,null,null,null,"Working Ranch Horse",{"$f":"IF(J36=\"\",0,J36)","v":49.8},"Ranch Trail",{"$f":"IF(V31=\"\",0,V31)","v":76.5}]
["TOTAL SCORE",null,null,{"$f":"IF(D7=\"\",\"\",IF(B29+D29<0,0,B29+D29))","v":70.8},null,null,2,0,null,null,null,null,"TOTAL SCORE",null,null,{"$f":"IF(P7=\"\",\"\",IF(70+N27+P27<0,0,70+N27+P27))","v":78},null,null,"TOTAL SCORE",null,null,{"$f":"IF(V7=\"\",\"\",IF(70+T27+V27<0,0,70+T27+V27))","v":76.5},null,null,"Function Total (3)",{"$f":"SUM(Z29+AB29+Z30+AB30)","v":275.10000000000002},"Function Score (4)",{"$f":"Z31*0.1","v":27.510000000000005}]
[null,null,null,null,null,null,3,-3,null,-10,null,null,null,null,null,null,null,null,null,null,null,null,null,null,"Judge Score (2) + Function Score (4) = CONFORMATION SCORE",null,null,{"$f":"IF(AB7=\"\",\"\",IF(AB28+AB31<0,0,AB28+AB31))","v":69.84}]
[null,null,null,null,null,null,"21 +/- Judge Score",{"$f":"SUM(H30:H32)","v":-3},"Total Penalty Pts",{"$f":"SUM(J30:J32)","v":-10},null,null,null,null,"Return to Entry Page",null,null,null,null,null,"Return to Entry Page"]
[null,null,null,null,null,null,"Maneuver Score",{"$f":"SUM(21+H33)*1.1","v":19.8},"Less Penalty Pts",{"$f":"J33","v":-10},null,null,null,null,null,null,null,null,null,null,null,null,null,null,null,null,"Return to Entry Page"]
[null,null,null,null,null,null,"ROPING SCORE",null,null,{"$f":"SUM(H34+J34)","v":9.8000000000000007}]
[null,null,null,null,null,null,"TOTAL SCORE",null,null,{"$f":"IF(J7=\"\",\"\",IF(J21+J28+J35<0,0,J21+J28+J35))","v":49.8}]
[]
[null,null,null,null,null,null,null,null,"Return to Entry Page"]

{"sheet":"Intermediate 2","index":56,"n_rows":38,"n_cols":28,"rows_kept":38,"cut":false,"hidden":false,"merged":[[34,6,34,8],[30,0,30,2],[35,6,35,8],[30,12,30,14],[30,18,30,20],[31,24,31,26],[23,0,24,0],[23,1,24,1],[23,18,25,21],[25,0,25,3],[27,6,27,8],[25,12,25,15],[27,0,27,3],[27,12,29,15],[27,18,29,21],[29,0,29,3],[29,8,31,8],[19,20,20,20],[19,21,20,21],[20,2,20,3],[20,6,20,8],[20,14,20,15],[16,14,16,15],[16,20,16,21],[22,2,22,3],[22,12,23,13],[22,14,23,14],[22,15,23,15],[22,8,24,8],[21,2,21,3],[21,14,21,15],[21,18,21,21],[18,2,18,3],[18,12,18,15],[18,20,18,21],[19,2,19,3],[19,14,19,15],[19,18,20,19],[17,2,17,3],[17,14,17,15],[17,20,17,21],[13,2,13,3],[13,8,14,9],[13,12,13,15],[13,20,13,21],[14,2,14,3],[14,14,14,15],[14,20,14,21],[15,2,15,3],[15,8,15,9],[15,14,15,15],[15,20,15,21],[16,2,16,3],[16,8,16,9],[7,24,7,27],[11,2,11,3],[11,8,12,9],[11,14,11,15],[11,20,11,21],[12,2,12,3],[12,14,12,15],[12,20,12,21],[9,2,9,3],[9,8,10,9],[9,12,9,15],[9,20,9,21],[10,2,10,3],[10,14,10,15],[10,20,10,21],[8,2,8,3],[8,8,8,9],[8,14,8,15],[8,20,8,21],[7,0,7,3],[7,6,7,9],[7,12,7,15],[7,18,7,21]]}
["RIDERS SCORE WORK SHEET"]
[]
["Back Number:",{"$f":"'Entry Information'!B57","v":0},null,null,null,null,"Back Number:",{"$f":"'Entry Information'!B57","v":0},null,null,null,null,"Back Number:",{"$f":"'Entry Information'!B57","v":0},null,null,null,null,"Back Number:",{"$f":"'Entry Information'!B57","v":0},null,null,null,null,"Back Number:",{"$f":"'Entry Information'!B57","v":0}]
["Name:",{"$f":"'Entry Information'!I57","v":0},{"$f":"'Entry Information'!H57","v":0},null,null,null,"Name:",{"$f":"'Entry Information'!I57","v":0},{"$f":"'Entry Information'!H57","v":0},null,null,null,"Name:",{"$f":"'Entry Information'!I57","v":0},{"$f":"'Entry Information'!H57","v":0},null,null,null,"Name:",{"$f":"'Entry Information'!I57","v":0},{"$f":"'Entry Information'!H57","v":0},null,null,null,"Name:",{"$f":"'Entry Information'!H57","v":0},{"$f":"'Entry Information'!I57","v":0}]
["Horse Name",{"$f":"'Entry Information'!J57","v":0},null,null,null,null,"Horse Name",{"$f":"'Entry Information'!J57","v":0},null,null,null,null,"Horse Name",{"$f":"'Entry Information'!J57","v":0},null,null,null,null,"Horse Name",{"$f":"'Entry Information'!J57","v":0},null,null,null,null,"Horse Name",{"$f":"'Entry Information'!J57","v":0}]
[]
["Check box when entering Ranch Riding scores",null,null,null,null,null,"Check box when entering Working Ranch Horse scores",null,null,null,null,null,"Check box when entering Ranch Cutting scores",null,null,null,null,null,"Check box when entering Ranch Trail scores",null,null,null,null,null,"Check box when entering Conformation scores"]
["Ranch Riding",null,null,null,null,null,"Working Ranch Horse",null,null,null,null,null,"Ranch Cutting",null,null,null,null,null,"Ranch Trail",null,null,null,null,null,"Ranch Conformation"]
["Maneuver","Judge's Score +/-","Penalty Points",null,null,null,"Maneuver","Judge's Score +/-","Penalty Points",null,null,null,"Maneuver","Judge's Score +/-","Penalty Points",null,null,null,"Maneuver","Judge's Score +/-","Penalty Points",null,null,null,"Front Legs, Feet"]
[1,null,null,null,null,null,1,null,null,null,null,null,"Herd Work",null,null,null,null,null,1,null,null,null,null,null,"Chest, Pectoral V"]
[2,null,null,null,null,null,2,null,null,null,null,null,1,null,null,null,null,null,2,null,null,null,null,null,"Head"]
[3,null,null,null,null,null,3,null,null,null,null,null,2,null,null,null,null,null,3,null,null,null,null,null,"Neck & Throat Latch"]
[4,null,null,null,null,null,4,null,null,null,null,null,3,null,null,null,null,null,4,null,null,null,null,null,"Shoulders & Withers"]
[5,null,null,null,null,null,5,null,null,null,null,null,"Cutting",null,null,null,null,null,5,null,null,null,null,null,"Heart Girth & Barrel"]
[6,null,null,null,null,null,6,null,null,null,null,null,1,null,null,null,null,null,6,null,null,null,null,null,"Back & Loin"]
[7,null,null,null,null,null,7,null,null,null,null,null,2,null,null,null,null,null,7,null,null,null,null,null,"Hip & Croup"]
[8,null,null,null,null,null,8,null,null,null,null,null,3,null,null,null,null,null,8,null,null,null,null,null,"Stife & Gaskin"]
[9,null,null,null,null,null,null,null,"Total Penalty Pts",{"$f":"SUM(I10:J17)","v":0},null,null,4,null,null,null,null,null,9,null,null,null,null,null,"Hock, Hind Legs, Feet"]
[10,null,null,null,null,null,"56 +/- Judge Score",{"$f":"SUM(H10:H17)","v":0},"Divided by 2",{"$f":"SUM((56+H19)/2)","v":28},null,null,"Penning",null,null,null,null,null,10,null,null,null,null,null,"Overall Muscling"]
[11,null,null,null,null,null,"Maneuver Score",{"$f":"J19","v":28},"Less Penalty Pts",{"$f":"J18","v":0},null,null,1,null,null,null,null,null,null,null,"Major Penalties",null,null,null,"Tracking","Lame: enter an \"x\""]
[12,null,null,null,null,null,"REINING SCORE",null,null,{"$f":"SUM(H20+J20)","v":28},null,null,2,null,null,null,null,null,null,null,null,null,null,null,"Balance 1"]
[13,null,null,null,null,null,"Working Cow Horse",null,null,null,null,null,3,null,null,null,null,null,null,null,null,null,null,null,"Balance 2"]
[14,null,null,null,null,null,1,null,"Penalty Points",null,null,null,null,null,"Major Penalties",null,null,null,"Maneuver Total",{"$f":"SUM(T10:T19)","v":0},"Penalty Total",{"$f":"SUM(SUM(U10:V19)+V20)","v":0},null,null,"Balance 3"]
["Maneuver Total",{"$f":"SUM(B10:B23)","v":0},"Major Penalties",null,null,null,2,null,null,null,null,null,null,null,null,null,null,null,null,null,null,null,null,null,"Fitness & Condition"]
[null,null,"Penalty Total",{"$f":"SUM(C10:D24)","v":0},null,null,3,null,null,null,null,null,"Maneuver Total",{"$f":"SUM(N10:N22)","v":0},"Penalty Total",{"$f":"SUM(O11+O12+O13+O15+O16+O17+O18+O20+O21+O22+P23)","v":0},null,null,null,null,null,null,null,null,"Participant Showmanship"]
[null,null,null,null,null,null,"21 +/- Judge Score",{"$f":"SUM(H23:H25)","v":0},"Total Penalty Pts",{"$f":"SUM(J23:J25)","v":0},null,null,null,null,null,null,null,null,null,null,null,null,null,null,"Horse Showmanship"]
["100 +/-Maneuver",{"$f":"B24","v":0},"x .70 =",{"$f":"SUM((100+B27)*0.7)","v":70},null,null,"Maneuver Score",{"$f":"SUM(21+H26)","v":21},"Less Penalty Pts",{"$f":"J26","v":0},null,null,"70 +/-Maneuver",{"$f":"N25","v":0},"Less Penalty Total",{"$f":"P25","v":0},null,null,"70 +/-Maneuver",{"$f":"T23","v":0},"Less Penalty Total",{"$f":"V23","v":0},null,null,"Form & Showmanship Judges Score",null,"Total (1)",{"$f":"SUM(AB9:AB26)","v":0}]
[null,null,null,null,null,null,"CATTLE SCORE",null,null,{"$f":"SUM(H27+J27)","v":21},null,null,null,null,null,null,null,null,null,null,null,null,null,null,{"$f":"SUM(AB27*0.33+42)","v":42},{"$f":"IF(AA20=\"x\",-10,0)","v":0},"Judge Score (2)",{"$f":"SUM(Y28+Z28)","v":42}]
["Maneuver Score =",{"$f":"D27","v":70},"Less Penalty Total",{"$f":"D25","v":0},null,null,"Roping",null,null,null,null,null,null,null,null,null,null,null,null,null,null,null,null,null,"Ranch Cutting",{"$f":"IF(P31=\"\",0,P31)","v":0},"Ranch Rding",{"$f":"IF(D31=\"\",0,D31)","v":0}]
[null,null,null,null,null,null,1,null,"Penalty Points",null,null,null,null,null,null,null,null,null,null,null,null,null,null,null,"Working Ranch Horse",{"$f":"IF(J36=\"\",0,J36)","v":0},"Ranch Trail",{"$f":"IF(V31=\"\",0,V31)","v":0}]
["TOTAL SCORE",null,null,{"$f":"IF(D7=\"\",\"\",IF(B29+D29<0,0,B29+D29))","v":""},null,null,2,null,null,null,null,null,"TOTAL SCORE",null,null,{"$f":"IF(P7=\"\",\"\",IF(70+N27+P27<0,0,70+N27+P27))","v":""},null,null,"TOTAL SCORE",null,null,{"$f":"IF(V7=\"\",\"\",IF(70+T27+V27<0,0,70+T27+V27))","v":""},null,null,"Function Total (3)",{"$f":"SUM(Z29+AB29+Z30+AB30)","v":0},"Function Score (4)",{"$f":"Z31*0.1","v":0}]
[null,null,null,null,null,null,3,null,null,null,null,null,null,null,null,null,null,null,null,null,null,null,null,null,"Judge Score (2) + Function Score (4) = CONFORMATION SCORE",null,null,{"$f":"IF(AB7=\"\",\"\",IF(AB28+AB31<0,0,AB28+AB31))","v":""}]
[null,null,"Return to Entry Page",null,null,null,"21 +/- Judge Score",{"$f":"SUM(H30:H32)","v":0},"Total Penalty Pts",{"$f":"SUM(J30:J32)","v":0},null,null,null,null,"Return to Entry Page",null,null,null,null,null,"Return to Entry Page"]
[null,null,null,null,null,null,"Maneuver Score",{"$f":"SUM(21+H33)*1.1","v":23.1},"Less Penalty Pts",{"$f":"J33","v":0},null,null,null,null,null,null,null,null,null,null,null,null,null,null,null,null,"Return to Entry Page"]
[null,null,null,null,null,null,"ROPING SCORE",null,null,{"$f":"SUM(H34+J34)","v":23.1}]
[null,null,null,null,null,null,"TOTAL SCORE",null,null,{"$f":"IF(J7=\"\",\"\",IF(J21+J28+J35<0,0,J21+J28+J35))","v":""}]
[]
[null,null,null,null,null,null,null,null,"Return to Entry Page"]

{"sheet":"Intermediate 3","index":57,"n_rows":38,"n_cols":28,"rows_kept":38,"cut":false,"hidden":false,"merged":[[35,6,35,8],[30,12,30,14],[30,18,30,20],[27,6,27,8],[25,12,25,15],[27,12,29,15],[27,18,29,21],[29,8,31,8],[7,24,7,27],[34,6,34,8],[30,0,30,2],[27,0,27,3],[29,0,29,3],[31,24,31,26],[23,0,24,0],[23,1,24,1],[19,21,20,21],[20,2,20,3],[20,6,20,8],[20,14,20,15],[21,2,21,3],[18,2,18,3],[18,12,18,15],[18,20,18,21],[17,2,17,3],[17,14,17,15],[17,20,17,21],[25,0,25,3],[19,2,19,3],[19,14,19,15],[19,18,20,19],[19,20,20,20],[21,14,21,15],[21,18,21,21],[22,15,23,15],[22,8,24,8],[23,18,25,21],[22,2,22,3],[22,12,23,13],[22,14,23,14],[13,2,13,3],[13,8,14,9],[13,12,13,15],[13,20,13,21],[14,2,14,3],[14,14,14,15],[14,20,14,21],[15,2,15,3],[15,8,15,9],[15,14,15,15],[15,20,15,21],[16,2,16,3],[16,8,16,9],[16,14,16,15],[16,20,16,21],[9,2,9,3],[9,8,10,9],[9,12,9,15],[9,20,9,21],[10,2,10,3],[10,14,10,15],[10,20,10,21],[11,2,11,3],[11,8,12,9],[11,14,11,15],[11,20,11,21],[12,2,12,3],[12,14,12,15],[12,20,12,21],[7,0,7,3],[7,6,7,9],[7,12,7,15],[7,18,7,21],[8,2,8,3],[8,8,8,9],[8,14,8,15],[8,20,8,21]]}
["RIDERS SCORE WORK SHEET"]
[]
["Back Number:",{"$f":"'Entry Information'!B58","v":0},null,null,null,null,"Back Number:",{"$f":"'Entry Information'!B58","v":0},null,null,null,null,"Back Number:",{"$f":"'Entry Information'!B58","v":0},null,null,null,null,"Back Number:",{"$f":"'Entry Information'!B58","v":0},null,null,null,null,"Back Number:",{"$f":"'Entry Information'!B58","v":0}]
["Name:",{"$f":"'Entry Information'!I58","v":0},{"$f":"'Entry Information'!H58","v":0},null,null,null,"Name:",{"$f":"'Entry Information'!I58","v":0},{"$f":"'Entry Information'!H58","v":0},null,null,null,"Name:",{"$f":"'Entry Information'!I58","v":0},{"$f":"'Entry Information'!H58","v":0},null,null,null,"Name:",{"$f":"'Entry Information'!I58","v":0},{"$f":"'Entry Information'!H58","v":0},null,null,null,"Name:",{"$f":"'Entry Information'!H58","v":0},{"$f":"'Entry Information'!I58","v":0}]
["Horse Name",{"$f":"'Entry Information'!J58","v":0},null,null,null,null,"Horse Name",{"$f":"'Entry Information'!J58","v":0},null,null,null,null,"Horse Name",{"$f":"'Entry Information'!J58","v":0},null,null,null,null,"Horse Name",{"$f":"'Entry Information'!J58","v":0},null,null,null,null,"Horse Name",{"$f":"'Entry Information'!J58","v":0}]
[]
["Check box when entering Ranch Riding scores",null,null,null,null,null,"Check box when entering Working Ranch Horse scores",null,null,null,null,null,"Check box when entering Ranch Cutting scores",null,null,null,null,null,"Check box when entering Ranch Trail scores",null,null,null,null,null,"Check box when entering Conformation scores"]
["Ranch Riding",null,null,null,null,null,"Working Ranch Horse",null,null,null,null,null,"Ranch Cutting",null,null,null,null,null,"Ranch Trail",null,null,null,null,null,"Ranch Conformation"]
["Maneuver","Judge's Score +/-","Penalty Points",null,null,null,"Maneuver","Judge's Score +/-","Penalty Points",null,null,null,"Maneuver","Judge's Score +/-","Penalty Points",null,null,null,"Maneuver","Judge's Score +/-","Penalty Points",null,null,null,"Front Legs, Feet"]
[1,null,null,null,null,null,1,null,null,null,null,null,"Herd Work",null,null,null,null,null,1,null,null,null,null,null,"Chest, Pectoral V"]
[2,null,null,null,null,null,2,null,null,null,null,null,1,null,null,null,null,null,2,null,null,null,null,null,"Head"]
[3,null,null,null,null,null,3,null,null,null,null,null,2,null,null,null,null,null,3,null,null,null,null,null,"Neck & Throat Latch"]
[4,null,null,null,null,null,4,null,null,null,null,null,3,null,null,null,null,null,4,null,null,null,null,null,"Shoulders & Withers"]
[5,null,null,null,null,null,5,null,null,null,null,null,"Cutting",null,null,null,null,null,5,null,null,null,null,null,"Heart Girth & Barrel"]
[6,null,null,null,null,null,6,null,null,null,null,null,1,null,null,null,null,null,6,null,null,null,null,null,"Back & Loin"]
[7,null,null,null,null,null,7,null,null,null,null,null,2,null,null,null,null,null,7,null,null,null,null,null,"Hip & Croup"]
[8,null,null,null,null,null,8,null,null,null,null,null,3,null,null,null,null,null,8,null,null,null,null,null,"Stife & Gaskin"]
[9,null,null,null,null,null,null,null,"Total Penalty Pts",{"$f":"SUM(I10:J17)","v":0},null,null,4,null,null,null,null,null,9,null,null,null,null,null,"Hock, Hind Legs, Feet"]
[10,null,null,null,null,null,"56 +/- Judge Score",{"$f":"SUM(H10:H17)","v":0},"Divided by 2",{"$f":"SUM((56+H19)/2)","v":28},null,null,"Penning",null,null,null,null,null,10,null,null,null,null,null,"Overall Muscling"]
[11,null,null,null,null,null,"Maneuver Score",{"$f":"J19","v":28},"Less Penalty Pts",{"$f":"J18","v":0},null,null,1,null,null,null,null,null,null,null,"Major Penalties",null,null,null,"Tracking","Lame: enter an \"x\""]
[12,null,null,null,null,null,"REINING SCORE",null,null,{"$f":"SUM(H20+J20)","v":28},null,null,2,null,null,null,null,null,null,null,null,null,null,null,"Balance 1"]
[13,null,null,null,null,null,"Working Cow Horse",null,null,null,null,null,3,null,null,null,null,null,null,null,null,null,null,null,"Balance 2"]
[14,null,null,null,null,null,1,null,"Penalty Points",null,null,null,null,null,"Major Penalties",null,null,null,"Maneuver Total",{"$f":"SUM(T10:T19)","v":0},"Penalty Total",{"$f":"SUM(SUM(U10:V19)+V20)","v":0},null,null,"Balance 3"]
["Maneuver Total",{"$f":"SUM(B10:B23)","v":0},"Major Penalties",null,null,null,2,null,null,null,null,null,null,null,null,null,null,null,null,null,null,null,null,null,"Fitness & Condition"]
[null,null,"Penalty Total",{"$f":"SUM(C10:D24)","v":0},null,null,3,null,null,null,null,null,"Maneuver Total",{"$f":"SUM(N10:N22)","v":0},"Penalty Total",{"$f":"SUM(O11+O12+O13+O15+O16+O17+O18+O20+O21+O22+P23)","v":0},null,null,null,null,null,null,null,null,"Participant Showmanship"]
[null,null,null,null,null,null,"21 +/- Judge Score",{"$f":"SUM(H23:H25)","v":0},"Total Penalty Pts",{"$f":"SUM(J23:J25)","v":0},null,null,null,null,null,null,null,null,null,null,null,null,null,null,"Horse Showmanship"]
["100 +/-Maneuver",{"$f":"B24","v":0},"x .70 =",{"$f":"SUM((100+B27)*0.7)","v":70},null,null,"Maneuver Score",{"$f":"SUM(21+H26)","v":21},"Less Penalty Pts",{"$f":"J26","v":0},null,null,"70 +/-Maneuver",{"$f":"N25","v":0},"Less Penalty Total",{"$f":"P25","v":0},null,null,"70 +/-Maneuver",{"$f":"T23","v":0},"Less Penalty Total",{"$f":"V23","v":0},null,null,"Form & Showmanship Judges Score",null,"Total (1)",{"$f":"SUM(AB9:AB26)","v":0}]
[null,null,null,null,null,null,"CATTLE SCORE",null,null,{"$f":"SUM(H27+J27)","v":21},null,null,null,null,null,null,null,null,null,null,null,null,null,null,{"$f":"SUM(AB27*0.33+42)","v":42},{"$f":"IF(AA20=\"x\",-10,0)","v":0},"Judge Score (2)",{"$f":"SUM(Y28+Z28)","v":42}]
["Maneuver Score =",{"$f":"D27","v":70},"Less Penalty Total",{"$f":"D25","v":0},null,null,"Roping",null,null,null,null,null,null,null,null,null,null,null,null,null,null,null,null,null,"Ranch Cutting",{"$f":"IF(P31=\"\",0,P31)","v":0},"Ranch Rding",{"$f":"IF(D31=\"\",0,D31)","v":0}]
[null,null,null,null,null,null,1,null,"Penalty Points",null,null,null,null,null,null,null,null,null,null,null,null,null,null,null,"Working Ranch Horse",{"$f":"IF(J36=\"\",0,J36)","v":0},"Ranch Trail",{"$f":"IF(V31=\"\",0,V31)","v":0}]
["TOTAL SCORE",null,null,{"$f":"IF(D7=\"\",\"\",IF(B29+D29<0,0,B29+D29))","v":""},null,null,2,null,null,null,null,null,"TOTAL SCORE",null,null,{"$f":"IF(P7=\"\",\"\",IF(70+N27+P27<0,0,70+N27+P27))","v":""},null,null,"TOTAL SCORE",null,null,{"$f":"IF(V7=\"\",\"\",IF(70+T27+V27<0,0,70+T27+V27))","v":""},null,null,"Function Total (3)",{"$f":"SUM(Z29+AB29+Z30+AB30)","v":0},"Function Score (4)",{"$f":"Z31*0.1","v":0}]
[null,null,null,null,null,null,3,null,null,null,null,null,null,null,null,null,null,null,null,null,null,null,null,null,"Judge Score (2) + Function Score (4) = CONFORMATION SCORE",null,null,{"$f":"IF(AB7=\"\",\"\",IF(AB28+AB31<0,0,AB28+AB31))","v":""}]
[null,null,"Return to Entry Page",null,null,null,"21 +/- Judge Score",{"$f":"SUM(H30:H32)","v":0},"Total Penalty Pts",{"$f":"SUM(J30:J32)","v":0},null,null,null,null,"Return to Entry Page",null,null,null,null,null,"Return to Entry Page"]
[null,null,null,null,null,null,"Maneuver Score",{"$f":"SUM(21+H33)*1.1","v":23.1},"Less Penalty Pts",{"$f":"J33","v":0},null,null,null,null,null,null,null,null,null,null,null,null,null,null,null,null,"Return to Entry Page"]
[null,null,null,null,null,null,"ROPING SCORE",null,null,{"$f":"SUM(H34+J34)","v":23.1}]
[null,null,null,null,null,null,"TOTAL SCORE",null,null,{"$f":"IF(J7=\"\",\"\",IF(J21+J28+J35<0,0,J21+J28+J35))","v":""}]
[]
[null,null,null,null,null,null,null,null,"Return to Entry Page"]

{"sheet":"Intermediate 4","index":58,"n_rows":38,"n_cols":28,"rows_kept":38,"cut":false,"hidden":false,"merged":[[35,6,35,8],[30,12,30,14],[30,18,30,20],[27,6,27,8],[25,12,25,15],[27,12,29,15],[27,18,29,21],[29,8,31,8],[7,24,7,27],[34,6,34,8],[30,0,30,2],[27,0,27,3],[29,0,29,3],[31,24,31,26],[23,0,24,0],[23,1,24,1],[19,21,20,21],[20,2,20,3],[20,6,20,8],[20,14,20,15],[21,2,21,3],[18,2,18,3],[18,12,18,15],[18,20,18,21],[17,2,17,3],[17,14,17,15],[17,20,17,21],[25,0,25,3],[19,2,19,3],[19,14,19,15],[19,18,20,19],[19,20,20,20],[21,14,21,15],[21,18,21,21],[22,15,23,15],[22,8,24,8],[23,18,25,21],[22,2,22,3],[22,12,23,13],[22,14,23,14],[13,2,13,3],[13,8,14,9],[13,12,13,15],[13,20,13,21],[14,2,14,3],[14,14,14,15],[14,20,14,21],[15,2,15,3],[15,8,15,9],[15,14,15,15],[15,20,15,21],[16,2,16,3],[16,8,16,9],[16,14,16,15],[16,20,16,21],[9,2,9,3],[9,8,10,9],[9,12,9,15],[9,20,9,21],[10,2,10,3],[10,14,10,15],[10,20,10,21],[11,2,11,3],[11,8,12,9],[11,14,11,15],[11,20,11,21],[12,2,12,3],[12,14,12,15],[12,20,12,21],[7,0,7,3],[7,6,7,9],[7,12,7,15],[7,18,7,21],[8,2,8,3],[8,8,8,9],[8,14,8,15],[8,20,8,21]]}
["RIDERS SCORE WORK SHEET"]
[]
["Back Number:",{"$f":"'Entry Information'!B59","v":0},null,null,null,null,"Back Number:",{"$f":"'Entry Information'!B59","v":0},null,null,null,null,"Back Number:",{"$f":"'Entry Information'!B59","v":0},null,null,null,null,"Back Number:",{"$f":"'Entry Information'!B59","v":0},null,null,null,null,"Back Number:",{"$f":"'Entry Information'!B59","v":0}]
["Name:",{"$f":"'Entry Information'!I59","v":0},{"$f":"'Entry Information'!H59","v":0},null,null,null,"Name:",{"$f":"'Entry Information'!I59","v":0},{"$f":"'Entry Information'!H59","v":0},null,null,null,"Name:",{"$f":"'Entry Information'!I59","v":0},{"$f":"'Entry Information'!H59","v":0},null,null,null,"Name:",{"$f":"'Entry Information'!I59","v":0},{"$f":"'Entry Information'!H59","v":0},null,null,null,"Name:",{"$f":"'Entry Information'!H59","v":0},{"$f":"'Entry Information'!I59","v":0}]
["Horse Name",{"$f":"'Entry Information'!J59","v":0},null,null,null,null,"Horse Name",{"$f":"'Entry Information'!J59","v":0},null,null,null,null,"Horse Name",{"$f":"'Entry Information'!J59","v":0},null,null,null,null,"Horse Name",{"$f":"'Entry Information'!J59","v":0},null,null,null,null,"Horse Name",{"$f":"'Entry Information'!J59","v":0}]
[]
["Check box when entering Ranch Riding scores",null,null,null,null,null,"Check box when entering Working Ranch Horse scores",null,null,null,null,null,"Check box when entering Ranch Cutting scores",null,null,null,null,null,"Check box when entering Ranch Trail scores",null,null,null,null,null,"Check box when entering Conformation scores"]
["Ranch Riding",null,null,null,null,null,"Working Ranch Horse",null,null,null,null,null,"Ranch Cutting",null,null,null,null,null,"Ranch Trail",null,null,null,null,null,"Ranch Conformation"]
["Maneuver","Judge's Score +/-","Penalty Points",null,null,null,"Maneuver","Judge's Score +/-","Penalty Points",null,null,null,"Maneuver","Judge's Score +/-","Penalty Points",null,null,null,"Maneuver","Judge's Score +/-","Penalty Points",null,null,null,"Front Legs, Feet"]
[1,null,null,null,null,null,1,null,null,null,null,null,"Herd Work",null,null,null,null,null,1,null,null,null,null,null,"Chest, Pectoral V"]
[2,null,null,null,null,null,2,null,null,null,null,null,1,null,null,null,null,null,2,null,null,null,null,null,"Head"]
[3,null,null,null,null,null,3,null,null,null,null,null,2,null,null,null,null,null,3,null,null,null,null,null,"Neck & Throat Latch"]
[4,null,null,null,null,null,4,null,null,null,null,null,3,null,null,null,null,null,4,null,null,null,null,null,"Shoulders & Withers"]
[5,null,null,null,null,null,5,null,null,null,null,null,"Cutting",null,null,null,null,null,5,null,null,null,null,null,"Heart Girth & Barrel"]
[6,null,null,null,null,null,6,null,null,null,null,null,1,null,null,null,null,null,6,null,null,null,null,null,"Back & Loin"]
[7,null,null,null,null,null,7,null,null,null,null,null,2,null,null,null,null,null,7,null,null,null,null,null,"Hip & Croup"]
[8,null,null,null,null,null,8,null,null,null,null,null,3,null,null,null,null,null,8,null,null,null,null,null,"Stife & Gaskin"]
[9,null,null,null,null,null,null,null,"Total Penalty Pts",{"$f":"SUM(I10:J17)","v":0},null,null,4,null,null,null,null,null,9,null,null,null,null,null,"Hock, Hind Legs, Feet"]
[10,null,null,null,null,null,"56 +/- Judge Score",{"$f":"SUM(H10:H17)","v":0},"Divided by 2",{"$f":"SUM((56+H19)/2)","v":28},null,null,"Penning",null,null,null,null,null,10,null,null,null,null,null,"Overall Muscling"]
[11,null,null,null,null,null,"Maneuver Score",{"$f":"J19","v":28},"Less Penalty Pts",{"$f":"J18","v":0},null,null,1,null,null,null,null,null,null,null,"Major Penalties",null,null,null,"Tracking","Lame: enter an \"x\""]
[12,null,null,null,null,null,"REINING SCORE",null,null,{"$f":"SUM(H20+J20)","v":28},null,null,2,null,null,null,null,null,null,null,null,null,null,null,"Balance 1"]
[13,null,null,null,null,null,"Working Cow Horse",null,null,null,null,null,3,null,null,null,null,null,null,null,null,null,null,null,"Balance 2"]
[14,null,null,null,null,null,1,null,"Penalty Points",null,null,null,null,null,"Major Penalties",null,null,null,"Maneuver Total",{"$f":"SUM(T10:T19)","v":0},"Penalty Total",{"$f":"SUM(SUM(U10:V19)+V20)","v":0},null,null,"Balance 3"]
["Maneuver Total",{"$f":"SUM(B10:B23)","v":0},"Major Penalties",null,null,null,2,null,null,null,null,null,null,null,null,null,null,null,null,null,null,null,null,null,"Fitness & Condition"]
[null,null,"Penalty Total",{"$f":"SUM(C10:D24)","v":0},null,null,3,null,null,null,null,null,"Maneuver Total",{"$f":"SUM(N10:N22)","v":0},"Penalty Total",{"$f":"SUM(O11+O12+O13+O15+O16+O17+O18+O20+O21+O22+P23)","v":0},null,null,null,null,null,null,null,null,"Participant Showmanship"]
[null,null,null,null,null,null,"21 +/- Judge Score",{"$f":"SUM(H23:H25)","v":0},"Total Penalty Pts",{"$f":"SUM(J23:J25)","v":0},null,null,null,null,null,null,null,null,null,null,null,null,null,null,"Horse Showmanship"]
["100 +/-Maneuver",{"$f":"B24","v":0},"x .70 =",{"$f":"SUM((100+B27)*0.7)","v":70},null,null,"Maneuver Score",{"$f":"SUM(21+H26)","v":21},"Less Penalty Pts",{"$f":"J26","v":0},null,null,"70 +/-Maneuver",{"$f":"N25","v":0},"Less Penalty Total",{"$f":"P25","v":0},null,null,"70 +/-Maneuver",{"$f":"T23","v":0},"Less Penalty Total",{"$f":"V23","v":0},null,null,"Form & Showmanship Judges Score",null,"Total (1)",{"$f":"SUM(AB9:AB26)","v":0}]
[null,null,null,null,null,null,"CATTLE SCORE",null,null,{"$f":"SUM(H27+J27)","v":21},null,null,null,null,null,null,null,null,null,null,null,null,null,null,{"$f":"SUM(AB27*0.33+42)","v":42},{"$f":"IF(AA20=\"x\",-10,0)","v":0},"Judge Score (2)",{"$f":"SUM(Y28+Z28)","v":42}]
["Maneuver Score =",{"$f":"D27","v":70},"Less Penalty Total",{"$f":"D25","v":0},null,null,"Roping",null,null,null,null,null,null,null,null,null,null,null,null,null,null,null,null,null,"Ranch Cutting",{"$f":"IF(P31=\"\",0,P31)","v":0},"Ranch Rding",{"$f":"IF(D31=\"\",0,D31)","v":0}]
[null,null,null,null,null,null,1,null,"Penalty Points",null,null,null,null,null,null,null,null,null,null,null,null,null,null,null,"Working Ranch Horse",{"$f":"IF(J36=\"\",0,J36)","v":0},"Ranch Trail",{"$f":"IF(V31=\"\",0,V31)","v":0}]
["TOTAL SCORE",null,null,{"$f":"IF(D7=\"\",\"\",IF(B29+D29<0,0,B29+D29))","v":""},null,null,2,null,null,null,null,null,"TOTAL SCORE",null,null,{"$f":"IF(P7=\"\",\"\",IF(70+N27+P27<0,0,70+N27+P27))","v":""},null,null,"TOTAL SCORE",null,null,{"$f":"IF(V7=\"\",\"\",IF(70+T27+V27<0,0,70+T27+V27))","v":""},null,null,"Function Total (3)",{"$f":"SUM(Z29+AB29+Z30+AB30)","v":0},"Function Score (4)",{"$f":"Z31*0.1","v":0}]
[null,null,null,null,null,null,3,null,null,null,null,null,null,null,null,null,null,null,null,null,null,null,null,null,"Judge Score (2) + Function Score (4) = CONFORMATION SCORE",null,null,{"$f":"IF(AB7=\"\",\"\",IF(AB28+AB31<0,0,AB28+AB31))","v":""}]
[null,null,"Return to Entry Page",null,null,null,"21 +/- Judge Score",{"$f":"SUM(H30:H32)","v":0},"Total Penalty Pts",{"$f":"SUM(J30:J32)","v":0},null,null,null,null,"Return to Entry Page",null,null,null,null,null,"Return to Entry Page"]
[null,null,null,null,null,null,"Maneuver Score",{"$f":"SUM(21+H33)*1.1","v":23.1},"Less Penalty Pts",{"$f":"J33","v":0},null,null,null,null,null,null,null,null,null,null,null,null,null,null,null,null,"Return to Entry Page"]
[null,null,null,null,null,null,"ROPING SCORE",null,null,{"$f":"SUM(H34+J34)","v":23.1}]
[null,null,null,null,null,null,"TOTAL SCORE",null,null,{"$f":"IF(J7=\"\",\"\",IF(J21+J28+J35<0,0,J21+J28+J35))","v":""}]
[]
[null,null,null,null,null,null,null,null,"Return to Entry Page"]

{"sheet":"Intermediate 5","index":59,"n_rows":38,"n_cols":28,"rows_kept":38,"cut":false,"hidden":false,"merged":[[35,6,35,8],[30,12,30,14],[30,18,30,20],[27,6,27,8],[25,12,25,15],[27,12,29,15],[27,18,29,21],[29,8,31,8],[7,24,7,27],[34,6,34,8],[30,0,30,2],[27,0,27,3],[29,0,29,3],[31,24,31,26],[23,0,24,0],[23,1,24,1],[19,21,20,21],[20,2,20,3],[20,6,20,8],[20,14,20,15],[21,2,21,3],[18,2,18,3],[18,12,18,15],[18,20,18,21],[17,2,17,3],[17,14,17,15],[17,20,17,21],[25,0,25,3],[19,2,19,3],[19,14,19,15],[19,18,20,19],[19,20,20,20],[21,14,21,15],[21,18,21,21],[22,15,23,15],[22,8,24,8],[23,18,25,21],[22,2,22,3],[22,12,23,13],[22,14,23,14],[13,2,13,3],[13,8,14,9],[13,12,13,15],[13,20,13,21],[14,2,14,3],[14,14,14,15],[14,20,14,21],[15,2,15,3],[15,8,15,9],[15,14,15,15],[15,20,15,21],[16,2,16,3],[16,8,16,9],[16,14,16,15],[16,20,16,21],[9,2,9,3],[9,8,10,9],[9,12,9,15],[9,20,9,21],[10,2,10,3],[10,14,10,15],[10,20,10,21],[11,2,11,3],[11,8,12,9],[11,14,11,15],[11,20,11,21],[12,2,12,3],[12,14,12,15],[12,20,12,21],[7,0,7,3],[7,6,7,9],[7,12,7,15],[7,18,7,21],[8,2,8,3],[8,8,8,9],[8,14,8,15],[8,20,8,21]]}
["RIDERS SCORE WORK SHEET"]
[]
["Back Number:",{"$f":"'Entry Information'!B60","v":0},null,null,null,null,"Back Number:",{"$f":"'Entry Information'!B60","v":0},null,null,null,null,"Back Number:",{"$f":"'Entry Information'!B60","v":0},null,null,null,null,"Back Number:",{"$f":"'Entry Information'!B60","v":0},null,null,null,null,"Back Number:",{"$f":"'Entry Information'!B60","v":0}]
["Name:",{"$f":"'Entry Information'!I60","v":0},{"$f":"'Entry Information'!H60","v":0},null,null,null,"Name:",{"$f":"'Entry Information'!I60","v":0},{"$f":"'Entry Information'!H60","v":0},null,null,null,"Name:",{"$f":"'Entry Information'!I60","v":0},{"$f":"'Entry Information'!H60","v":0},null,null,null,"Name:",{"$f":"'Entry Information'!I60","v":0},{"$f":"'Entry Information'!H60","v":0},null,null,null,"Name:",{"$f":"'Entry Information'!H60","v":0},{"$f":"'Entry Information'!I60","v":0}]
["Horse Name",{"$f":"'Entry Information'!J60","v":0},null,null,null,null,"Horse Name",{"$f":"'Entry Information'!J60","v":0},null,null,null,null,"Horse Name",{"$f":"'Entry Information'!J60","v":0},null,null,null,null,"Horse Name",{"$f":"'Entry Information'!J60","v":0},null,null,null,null,"Horse Name",{"$f":"'Entry Information'!J60","v":0}]
[]
["Check box when entering Ranch Riding scores",null,null,null,null,null,"Check box when entering Working Ranch Horse scores",null,null,null,null,null,"Check box when entering Ranch Cutting scores",null,null,null,null,null,"Check box when entering Ranch Trail scores",null,null,null,null,null,"Check box when entering Conformation scores"]
["Ranch Riding",null,null,null,null,null,"Working Ranch Horse",null,null,null,null,null,"Ranch Cutting",null,null,null,null,null,"Ranch Trail",null,null,null,null,null,"Ranch Conformation"]
["Maneuver","Judge's Score +/-","Penalty Points",null,null,null,"Maneuver","Judge's Score +/-","Penalty Points",null,null,null,"Maneuver","Judge's Score +/-","Penalty Points",null,null,null,"Maneuver","Judge's Score +/-","Penalty Points",null,null,null,"Front Legs, Feet"]
[1,null,null,null,null,null,1,null,null,null,null,null,"Herd Work",null,null,null,null,null,1,null,null,null,null,null,"Chest, Pectoral V"]
[2,null,null,null,null,null,2,null,null,null,null,null,1,null,null,null,null,null,2,null,null,null,null,null,"Head"]
[3,null,null,null,null,null,3,null,null,null,null,null,2,null,null,null,null,null,3,null,null,null,null,null,"Neck & Throat Latch"]
[4,null,null,null,null,null,4,null,null,null,null,null,3,null,null,null,null,null,4,null,null,null,null,null,"Shoulders & Withers"]
[5,null,null,null,null,null,5,null,null,null,null,null,"Cutting",null,null,null,null,null,5,null,null,null,null,null,"Heart Girth & Barrel"]
[6,null,null,null,null,null,6,null,null,null,null,null,1,null,null,null,null,null,6,null,null,null,null,null,"Back & Loin"]
[7,null,null,null,null,null,7,null,null,null,null,null,2,null,null,null,null,null,7,null,null,null,null,null,"Hip & Croup"]
[8,null,null,null,null,null,8,null,null,null,null,null,3,null,null,null,null,null,8,null,null,null,null,null,"Stife & Gaskin"]
[9,null,null,null,null,null,null,null,"Total Penalty Pts",{"$f":"SUM(I10:J17)","v":0},null,null,4,null,null,null,null,null,9,null,null,null,null,null,"Hock, Hind Legs, Feet"]
[10,null,null,null,null,null,"56 +/- Judge Score",{"$f":"SUM(H10:H17)","v":0},"Divided by 2",{"$f":"SUM((56+H19)/2)","v":28},null,null,"Penning",null,null,null,null,null,10,null,null,null,null,null,"Overall Muscling"]
[11,null,null,null,null,null,"Maneuver Score",{"$f":"J19","v":28},"Less Penalty Pts",{"$f":"J18","v":0},null,null,1,null,null,null,null,null,null,null,"Major Penalties",null,null,null,"Tracking","Lame: enter an \"x\""]
[12,null,null,null,null,null,"REINING SCORE",null,null,{"$f":"SUM(H20+J20)","v":28},null,null,2,null,null,null,null,null,null,null,null,null,null,null,"Balance 1"]
[13,null,null,null,null,null,"Working Cow Horse",null,null,null,null,null,3,null,null,null,null,null,null,null,null,null,null,null,"Balance 2"]
[14,null,null,null,null,null,1,null,"Penalty Points",null,null,null,null,null,"Major Penalties",null,null,null,"Maneuver Total",{"$f":"SUM(T10:T19)","v":0},"Penalty Total",{"$f":"SUM(SUM(U10:V19)+V20)","v":0},null,null,"Balance 3"]
["Maneuver Total",{"$f":"SUM(B10:B23)","v":0},"Major Penalties",null,null,null,2,null,null,null,null,null,null,null,null,null,null,null,null,null,null,null,null,null,"Fitness & Condition"]
[null,null,"Penalty Total",{"$f":"SUM(C10:D24)","v":0},null,null,3,null,null,null,null,null,"Maneuver Total",{"$f":"SUM(N10:N22)","v":0},"Penalty Total",{"$f":"SUM(O11+O12+O13+O15+O16+O17+O18+O20+O21+O22+P23)","v":0},null,null,null,null,null,null,null,null,"Participant Showmanship"]
[null,null,null,null,null,null,"21 +/- Judge Score",{"$f":"SUM(H23:H25)","v":0},"Total Penalty Pts",{"$f":"SUM(J23:J25)","v":0},null,null,null,null,null,null,null,null,null,null,null,null,null,null,"Horse Showmanship"]
["100 +/-Maneuver",{"$f":"B24","v":0},"x .70 =",{"$f":"SUM((100+B27)*0.7)","v":70},null,null,"Maneuver Score",{"$f":"SUM(21+H26)","v":21},"Less Penalty Pts",{"$f":"J26","v":0},null,null,"70 +/-Maneuver",{"$f":"N25","v":0},"Less Penalty Total",{"$f":"P25","v":0},null,null,"70 +/-Maneuver",{"$f":"T23","v":0},"Less Penalty Total",{"$f":"V23","v":0},null,null,"Form & Showmanship Judges Score",null,"Total (1)",{"$f":"SUM(AB9:AB26)","v":0}]
[null,null,null,null,null,null,"CATTLE SCORE",null,null,{"$f":"SUM(H27+J27)","v":21},null,null,null,null,null,null,null,null,null,null,null,null,null,null,{"$f":"SUM(AB27*0.33+42)","v":42},{"$f":"IF(AA20=\"x\",-10,0)","v":0},"Judge Score (2)",{"$f":"SUM(Y28+Z28)","v":42}]
["Maneuver Score =",{"$f":"D27","v":70},"Less Penalty Total",{"$f":"D25","v":0},null,null,"Roping",null,null,null,null,null,null,null,null,null,null,null,null,null,null,null,null,null,"Ranch Cutting",{"$f":"IF(P31=\"\",0,P31)","v":0},"Ranch Rding",{"$f":"IF(D31=\"\",0,D31)","v":0}]
[null,null,null,null,null,null,1,null,"Penalty Points",null,null,null,null,null,null,null,null,null,null,null,null,null,null,null,"Working Ranch Horse",{"$f":"IF(J36=\"\",0,J36)","v":0},"Ranch Trail",{"$f":"IF(V31=\"\",0,V31)","v":0}]
["TOTAL SCORE",null,null,{"$f":"IF(D7=\"\",\"\",IF(B29+D29<0,0,B29+D29))","v":""},null,null,2,null,null,null,null,null,"TOTAL SCORE",null,null,{"$f":"IF(P7=\"\",\"\",IF(70+N27+P27<0,0,70+N27+P27))","v":""},null,null,"TOTAL SCORE",null,null,{"$f":"IF(V7=\"\",\"\",IF(70+T27+V27<0,0,70+T27+V27))","v":""},null,null,"Function Total (3)",{"$f":"SUM(Z29+AB29+Z30+AB30)","v":0},"Function Score (4)",{"$f":"Z31*0.1","v":0}]
[null,null,null,null,null,null,3,null,null,null,null,null,null,null,null,null,null,null,null,null,null,null,null,null,"Judge Score (2) + Function Score (4) = CONFORMATION SCORE",null,null,{"$f":"IF(AB7=\"\",\"\",IF(AB28+AB31<0,0,AB28+AB31))","v":""}]
[null,null,"Return to Entry Page",null,null,null,"21 +/- Judge Score",{"$f":"SUM(H30:H32)","v":0},"Total Penalty Pts",{"$f":"SUM(J30:J32)","v":0},null,null,null,null,"Return to Entry Page",null,null,null,null,null,"Return to Entry Page"]
[null,null,null,null,null,null,"Maneuver Score",{"$f":"SUM(21+H33)*1.1","v":23.1},"Less Penalty Pts",{"$f":"J33","v":0},null,null,null,null,null,null,null,null,null,null,null,null,null,null,null,null,"Return to Entry Page"]
[null,null,null,null,null,null,"ROPING SCORE",null,null,{"$f":"SUM(H34+J34)","v":23.1}]
[null,null,null,null,null,null,"TOTAL SCORE",null,null,{"$f":"IF(J7=\"\",\"\",IF(J21+J28+J35<0,0,J21+J28+J35))","v":""}]
[]
[null,null,null,null,null,null,null,null,"Return to Entry Page"]

{"sheet":"Intermediate 6","index":60,"n_rows":38,"n_cols":28,"rows_kept":38,"cut":false,"hidden":false,"merged":[[35,6,35,8],[30,12,30,14],[30,18,30,20],[27,6,27,8],[25,12,25,15],[27,12,29,15],[27,18,29,21],[29,8,31,8],[7,24,7,27],[34,6,34,8],[30,0,30,2],[27,0,27,3],[29,0,29,3],[31,24,31,26],[23,0,24,0],[23,1,24,1],[19,21,20,21],[20,2,20,3],[20,6,20,8],[20,14,20,15],[21,2,21,3],[18,2,18,3],[18,12,18,15],[18,20,18,21],[17,2,17,3],[17,14,17,15],[17,20,17,21],[25,0,25,3],[19,2,19,3],[19,14,19,15],[19,18,20,19],[19,20,20,20],[21,14,21,15],[21,18,21,21],[22,15,23,15],[22,8,24,8],[23,18,25,21],[22,2,22,3],[22,12,23,13],[22,14,23,14],[13,2,13,3],[13,8,14,9],[13,12,13,15],[13,20,13,21],[14,2,14,3],[14,14,14,15],[14,20,14,21],[15,2,15,3],[15,8,15,9],[15,14,15,15],[15,20,15,21],[16,2,16,3],[16,8,16,9],[16,14,16,15],[16,20,16,21],[9,2,9,3],[9,8,10,9],[9,12,9,15],[9,20,9,21],[10,2,10,3],[10,14,10,15],[10,20,10,21],[11,2,11,3],[11,8,12,9],[11,14,11,15],[11,20,11,21],[12,2,12,3],[12,14,12,15],[12,20,12,21],[7,0,7,3],[7,6,7,9],[7,12,7,15],[7,18,7,21],[8,2,8,3],[8,8,8,9],[8,14,8,15],[8,20,8,21]]}
["RIDERS SCORE WORK SHEET"]
[]
["Back Number:",{"$f":"'Entry Information'!B61","v":0},null,null,null,null,"Back Number:",{"$f":"'Entry Information'!B61","v":0},null,null,null,null,"Back Number:",{"$f":"'Entry Information'!B61","v":0},null,null,null,null,"Back Number:",{"$f":"'Entry Information'!B61","v":0},null,null,null,null,"Back Number:",{"$f":"'Entry Information'!B61","v":0}]
["Name:",{"$f":"'Entry Information'!I61","v":0},{"$f":"'Entry Information'!H61","v":0},null,null,null,"Name:",{"$f":"'Entry Information'!I61","v":0},{"$f":"'Entry Information'!H61","v":0},null,null,null,"Name:",{"$f":"'Entry Information'!I61","v":0},{"$f":"'Entry Information'!H61","v":0},null,null,null,"Name:",{"$f":"'Entry Information'!I61","v":0},{"$f":"'Entry Information'!H61","v":0},null,null,null,"Name:",{"$f":"'Entry Information'!H61","v":0},{"$f":"'Entry Information'!I61","v":0}]
["Horse Name",{"$f":"'Entry Information'!J61","v":0},null,null,null,null,"Horse Name",{"$f":"'Entry Information'!J61","v":0},null,null,null,null,"Horse Name",{"$f":"'Entry Information'!J61","v":0},null,null,null,null,"Horse Name",{"$f":"'Entry Information'!J61","v":0},null,null,null,null,"Horse Name",{"$f":"'Entry Information'!J61","v":0}]
[]
["Check box when entering Ranch Riding scores",null,null,null,null,null,"Check box when entering Working Ranch Horse scores",null,null,null,null,null,"Check box when entering Ranch Cutting scores",null,null,null,null,null,"Check box when entering Ranch Trail scores",null,null,null,null,null,"Check box when entering Conformation scores"]
["Ranch Riding",null,null,null,null,null,"Working Ranch Horse",null,null,null,null,null,"Ranch Cutting",null,null,null,null,null,"Ranch Trail",null,null,null,null,null,"Ranch Conformation"]
["Maneuver","Judge's Score +/-","Penalty Points",null,null,null,"Maneuver","Judge's Score +/-","Penalty Points",null,null,null,"Maneuver","Judge's Score +/-","Penalty Points",null,null,null,"Maneuver","Judge's Score +/-","Penalty Points",null,null,null,"Front Legs, Feet"]
[1,null,null,null,null,null,1,null,null,null,null,null,"Herd Work",null,null,null,null,null,1,null,null,null,null,null,"Chest, Pectoral V"]
[2,null,null,null,null,null,2,null,null,null,null,null,1,null,null,null,null,null,2,null,null,null,null,null,"Head"]
[3,null,null,null,null,null,3,null,null,null,null,null,2,null,null,null,null,null,3,null,null,null,null,null,"Neck & Throat Latch"]
[4,null,null,null,null,null,4,null,null,null,null,null,3,null,null,null,null,null,4,null,null,null,null,null,"Shoulders & Withers"]
[5,null,null,null,null,null,5,null,null,null,null,null,"Cutting",null,null,null,null,null,5,null,null,null,null,null,"Heart Girth & Barrel"]
[6,null,null,null,null,null,6,null,null,null,null,null,1,null,null,null,null,null,6,null,null,null,null,null,"Back & Loin"]
[7,null,null,null,null,null,7,null,null,null,null,null,2,null,null,null,null,null,7,null,null,null,null,null,"Hip & Croup"]
[8,null,null,null,null,null,8,null,null,null,null,null,3,null,null,null,null,null,8,null,null,null,null,null,"Stife & Gaskin"]
[9,null,null,null,null,null,null,null,"Total Penalty Pts",{"$f":"SUM(I10:J17)","v":0},null,null,4,null,null,null,null,null,9,null,null,null,null,null,"Hock, Hind Legs, Feet"]
[10,null,null,null,null,null,"56 +/- Judge Score",{"$f":"SUM(H10:H17)","v":0},"Divided by 2",{"$f":"SUM((56+H19)/2)","v":28},null,null,"Penning",null,null,null,null,null,10,null,null,null,null,null,"Overall Muscling"]
[11,null,null,null,null,null,"Maneuver Score",{"$f":"J19","v":28},"Less Penalty Pts",{"$f":"J18","v":0},null,null,1,null,null,null,null,null,null,null,"Major Penalties",null,null,null,"Tracking","Lame: enter an \"x\""]
[12,null,null,null,null,null,"REINING SCORE",null,null,{"$f":"SUM(H20+J20)","v":28},null,null,2,null,null,null,null,null,null,null,null,null,null,null,"Balance 1"]
[13,null,null,null,null,null,"Working Cow Horse",null,null,null,null,null,3,null,null,null,null,null,null,null,null,null,null,null,"Balance 2"]
[14,null,null,null,null,null,1,null,"Penalty Points",null,null,null,null,null,"Major Penalties",null,null,null,"Maneuver Total",{"$f":"SUM(T10:T19)","v":0},"Penalty Total",{"$f":"SUM(SUM(U10:V19)+V20)","v":0},null,null,"Balance 3"]
["Maneuver Total",{"$f":"SUM(B10:B23)","v":0},"Major Penalties",null,null,null,2,null,null,null,null,null,null,null,null,null,null,null,null,null,null,null,null,null,"Fitness & Condition"]
[null,null,"Penalty Total",{"$f":"SUM(C10:D24)","v":0},null,null,3,null,null,null,null,null,"Maneuver Total",{"$f":"SUM(N10:N22)","v":0},"Penalty Total",{"$f":"SUM(O11+O12+O13+O15+O16+O17+O18+O20+O21+O22+P23)","v":0},null,null,null,null,null,null,null,null,"Participant Showmanship"]
[null,null,null,null,null,null,"21 +/- Judge Score",{"$f":"SUM(H23:H25)","v":0},"Total Penalty Pts",{"$f":"SUM(J23:J25)","v":0},null,null,null,null,null,null,null,null,null,null,null,null,null,null,"Horse Showmanship"]
["100 +/-Maneuver",{"$f":"B24","v":0},"x .70 =",{"$f":"SUM((100+B27)*0.7)","v":70},null,null,"Maneuver Score",{"$f":"SUM(21+H26)","v":21},"Less Penalty Pts",{"$f":"J26","v":0},null,null,"70 +/-Maneuver",{"$f":"N25","v":0},"Less Penalty Total",{"$f":"P25","v":0},null,null,"70 +/-Maneuver",{"$f":"T23","v":0},"Less Penalty Total",{"$f":"V23","v":0},null,null,"Form & Showmanship Judges Score",null,"Total (1)",{"$f":"SUM(AB9:AB26)","v":0}]
[null,null,null,null,null,null,"CATTLE SCORE",null,null,{"$f":"SUM(H27+J27)","v":21},null,null,null,null,null,null,null,null,null,null,null,null,null,null,{"$f":"SUM(AB27*0.33+42)","v":42},{"$f":"IF(AA20=\"x\",-10,0)","v":0},"Judge Score (2)",{"$f":"SUM(Y28+Z28)","v":42}]
["Maneuver Score =",{"$f":"D27","v":70},"Less Penalty Total",{"$f":"D25","v":0},null,null,"Roping",null,null,null,null,null,null,null,null,null,null,null,null,null,null,null,null,null,"Ranch Cutting",{"$f":"IF(P30=\"\",0,P30)","v":0},"Ranch Rding",{"$f":"IF(D30=\"\",0,D30)","v":0}]
[null,null,null,null,null,null,1,null,"Penalty Points",null,null,null,null,null,null,null,null,null,null,null,null,null,null,null,"Working Ranch Horse",{"$f":"IF(J36=\"\",0,J36)","v":0},"Ranch Trail",{"$f":"IF(V30=\"\",0,V30)","v":0}]
["TOTAL SCORE",null,null,{"$f":"IF(D7=\"\",\"\",IF(B29+D29<0,0,B29+D29))","v":""},null,null,2,null,null,null,null,null,"TOTAL SCORE",null,null,{"$f":"IF(P7=\"\",\"\",IF(70+N27+P27<0,0,70+N27+P27))","v":""},null,null,"TOTAL SCORE",null,null,{"$f":"IF(V7=\"\",\"\",IF(70+T27+V27<0,0,70+T27+V27))","v":""},null,null,"Function Total (3)",{"$f":"SUM(Z29+AB29+Z30+AB30)","v":0},"Function Score (4)",{"$f":"Z31*0.1","v":0}]
[null,null,null,null,null,null,3,null,null,null,null,null,null,null,null,null,null,null,null,null,null,null,null,null,"Judge Score (2) + Function Score (4) = CONFORMATION SCORE",null,null,{"$f":"IF(AB7=\"\",\"\",IF(AB28+AB31<0,0,AB28+AB31))","v":""}]
[null,null,"Return to Entry Page",null,null,null,"21 +/- Judge Score",{"$f":"SUM(H30:H32)","v":0},"Total Penalty Pts",{"$f":"SUM(J30:J32)","v":0},null,null,null,null,"Return to Entry Page",null,null,null,null,null,"Return to Entry Page"]
[null,null,null,null,null,null,"Maneuver Score",{"$f":"SUM(21+H33)*1.1","v":23.1},"Less Penalty Pts",{"$f":"J33","v":0},null,null,null,null,null,null,null,null,null,null,null,null,null,null,null,null,"Return to Entry Page"]
[null,null,null,null,null,null,"ROPING SCORE",null,null,{"$f":"SUM(H34+J34)","v":23.1}]
[null,null,null,null,null,null,"TOTAL SCORE",null,null,{"$f":"IF(J7=\"\",\"\",IF(J21+J28+J35<0,0,J21+J28+J35))","v":""}]
[]
[null,null,null,null,null,null,null,null,"Return to Entry Page"]

{"sheet":"Intermediate 7","index":61,"n_rows":38,"n_cols":28,"rows_kept":38,"cut":false,"hidden":false,"merged":[[35,6,35,8],[30,12,30,14],[30,18,30,20],[27,6,27,8],[25,12,25,15],[27,12,29,15],[27,18,29,21],[29,8,31,8],[7,24,7,27],[34,6,34,8],[30,0,30,2],[27,0,27,3],[29,0,29,3],[31,24,31,26],[23,0,24,0],[23,1,24,1],[19,21,20,21],[20,2,20,3],[20,6,20,8],[20,14,20,15],[21,2,21,3],[18,2,18,3],[18,12,18,15],[18,20,18,21],[17,2,17,3],[17,14,17,15],[17,20,17,21],[25,0,25,3],[19,2,19,3],[19,14,19,15],[19,18,20,19],[19,20,20,20],[21,14,21,15],[21,18,21,21],[22,15,23,15],[22,8,24,8],[23,18,25,21],[22,2,22,3],[22,12,23,13],[22,14,23,14],[13,2,13,3],[13,8,14,9],[13,12,13,15],[13,20,13,21],[14,2,14,3],[14,14,14,15],[14,20,14,21],[15,2,15,3],[15,8,15,9],[15,14,15,15],[15,20,15,21],[16,2,16,3],[16,8,16,9],[16,14,16,15],[16,20,16,21],[9,2,9,3],[9,8,10,9],[9,12,9,15],[9,20,9,21],[10,2,10,3],[10,14,10,15],[10,20,10,21],[11,2,11,3],[11,8,12,9],[11,14,11,15],[11,20,11,21],[12,2,12,3],[12,14,12,15],[12,20,12,21],[7,0,7,3],[7,6,7,9],[7,12,7,15],[7,18,7,21],[8,2,8,3],[8,8,8,9],[8,14,8,15],[8,20,8,21]]}
["RIDERS SCORE WORK SHEET"]
[]
["Back Number:",{"$f":"'Entry Information'!B62","v":0},null,null,null,null,"Back Number:",{"$f":"'Entry Information'!B62","v":0},null,null,null,null,"Back Number:",{"$f":"'Entry Information'!B62","v":0},null,null,null,null,"Back Number:",{"$f":"'Entry Information'!B62","v":0},null,null,null,null,"Back Number:",{"$f":"'Entry Information'!B62","v":0}]
["Name:",{"$f":"'Entry Information'!I62","v":0},{"$f":"'Entry Information'!H62","v":0},null,null,null,"Name:",{"$f":"'Entry Information'!I62","v":0},{"$f":"'Entry Information'!H62","v":0},null,null,null,"Name:",{"$f":"'Entry Information'!I62","v":0},{"$f":"'Entry Information'!H62","v":0},null,null,null,"Name:",{"$f":"'Entry Information'!I62","v":0},{"$f":"'Entry Information'!H62","v":0},null,null,null,"Name:",{"$f":"'Entry Information'!H62","v":0},{"$f":"'Entry Information'!I62","v":0}]
["Horse Name",{"$f":"'Entry Information'!J62","v":0},null,null,null,null,"Horse Name",{"$f":"'Entry Information'!J62","v":0},null,null,null,null,"Horse Name",{"$f":"'Entry Information'!J62","v":0},null,null,null,null,"Horse Name",{"$f":"'Entry Information'!J62","v":0},null,null,null,null,"Horse Name",{"$f":"'Entry Information'!J62","v":0}]
[]
["Check box when entering Ranch Riding scores",null,null,null,null,null,"Check box when entering Working Ranch Horse scores",null,null,null,null,null,"Check box when entering Ranch Cutting scores",null,null,null,null,null,"Check box when entering Ranch Trail scores",null,null,null,null,null,"Check box when entering Conformation scores"]
["Ranch Riding",null,null,null,null,null,"Working Ranch Horse",null,null,null,null,null,"Ranch Cutting",null,null,null,null,null,"Ranch Trail",null,null,null,null,null,"Ranch Conformation"]
["Maneuver","Judge's Score +/-","Penalty Points",null,null,null,"Maneuver","Judge's Score +/-","Penalty Points",null,null,null,"Maneuver","Judge's Score +/-","Penalty Points",null,null,null,"Maneuver","Judge's Score +/-","Penalty Points",null,null,null,"Front Legs, Feet"]
[1,null,null,null,null,null,1,null,null,null,null,null,"Herd Work",null,null,null,null,null,1,null,null,null,null,null,"Chest, Pectoral V"]
[2,null,null,null,null,null,2,null,null,null,null,null,1,null,null,null,null,null,2,null,null,null,null,null,"Head"]
[3,null,null,null,null,null,3,null,null,null,null,null,2,null,null,null,null,null,3,null,null,null,null,null,"Neck & Throat Latch"]
[4,null,null,null,null,null,4,null,null,null,null,null,3,null,null,null,null,null,4,null,null,null,null,null,"Shoulders & Withers"]
[5,null,null,null,null,null,5,null,null,null,null,null,"Cutting",null,null,null,null,null,5,null,null,null,null,null,"Heart Girth & Barrel"]
[6,null,null,null,null,null,6,null,null,null,null,null,1,null,null,null,null,null,6,null,null,null,null,null,"Back & Loin"]
[7,null,null,null,null,null,7,null,null,null,null,null,2,null,null,null,null,null,7,null,null,null,null,null,"Hip & Croup"]
[8,null,null,null,null,null,8,null,null,null,null,null,3,null,null,null,null,null,8,null,null,null,null,null,"Stife & Gaskin"]
[9,null,null,null,null,null,null,null,"Total Penalty Pts",{"$f":"SUM(I10:J17)","v":0},null,null,4,null,null,null,null,null,9,null,null,null,null,null,"Hock, Hind Legs, Feet"]
[10,null,null,null,null,null,"56 +/- Judge Score",{"$f":"SUM(H10:H17)","v":0},"Divided by 2",{"$f":"SUM((56+H19)/2)","v":28},null,null,"Penning",null,null,null,null,null,10,null,null,null,null,null,"Overall Muscling"]
[11,null,null,null,null,null,"Maneuver Score",{"$f":"J19","v":28},"Less Penalty Pts",{"$f":"J18","v":0},null,null,1,null,null,null,null,null,null,null,"Major Penalties",null,null,null,"Tracking","Lame: enter an \"x\""]
[12,null,null,null,null,null,"REINING SCORE",null,null,{"$f":"SUM(H20+J20)","v":28},null,null,2,null,null,null,null,null,null,null,null,null,null,null,"Balance 1"]
[13,null,null,null,null,null,"Working Cow Horse",null,null,null,null,null,3,null,null,null,null,null,null,null,null,null,null,null,"Balance 2"]
[14,null,null,null,null,null,1,null,"Penalty Points",null,null,null,null,null,"Major Penalties",null,null,null,"Maneuver Total",{"$f":"SUM(T10:T19)","v":0},"Penalty Total",{"$f":"SUM(SUM(U10:V19)+V20)","v":0},null,null,"Balance 3"]
["Maneuver Total",{"$f":"SUM(B10:B23)","v":0},"Major Penalties",null,null,null,2,null,null,null,null,null,null,null,null,null,null,null,null,null,null,null,null,null,"Fitness & Condition"]
[null,null,"Penalty Total",{"$f":"SUM(C10:D24)","v":0},null,null,3,null,null,null,null,null,"Maneuver Total",{"$f":"SUM(N10:N22)","v":0},"Penalty Total",{"$f":"SUM(O11+O12+O13+O15+O16+O17+O18+O20+O21+O22+P23)","v":0},null,null,null,null,null,null,null,null,"Participant Showmanship"]
[null,null,null,null,null,null,"21 +/- Judge Score",{"$f":"SUM(H23:H25)","v":0},"Total Penalty Pts",{"$f":"SUM(J23:J25)","v":0},null,null,null,null,null,null,null,null,null,null,null,null,null,null,"Horse Showmanship"]
["100 +/-Maneuver",{"$f":"B24","v":0},"x .70 =",{"$f":"SUM((100+B27)*0.7)","v":70},null,null,"Maneuver Score",{"$f":"SUM(21+H26)","v":21},"Less Penalty Pts",{"$f":"J26","v":0},null,null,"70 +/-Maneuver",{"$f":"N25","v":0},"Less Penalty Total",{"$f":"P25","v":0},null,null,"70 +/-Maneuver",{"$f":"T23","v":0},"Less Penalty Total",{"$f":"V23","v":0},null,null,"Form & Showmanship Judges Score",null,"Total (1)",{"$f":"SUM(AB9:AB26)","v":0}]
[null,null,null,null,null,null,"CATTLE SCORE",null,null,{"$f":"SUM(H27+J27)","v":21},null,null,null,null,null,null,null,null,null,null,null,null,null,null,{"$f":"SUM(AB27*0.33+42)","v":42},{"$f":"IF(AA20=\"x\",-10,0)","v":0},"Judge Score (2)",{"$f":"SUM(Y28+Z28)","v":42}]
["Maneuver Score =",{"$f":"D27","v":70},"Less Penalty Total",{"$f":"D25","v":0},null,null,"Roping",null,null,null,null,null,null,null,null,null,null,null,null,null,null,null,null,null,"Ranch Cutting",{"$f":"IF(P30=\"\",0,P30)","v":0},"Ranch Rding",{"$f":"IF(D30=\"\",0,D30)","v":0}]
[null,null,null,null,null,null,1,null,"Penalty Points",null,null,null,null,null,null,null,null,null,null,null,null,null,null,null,"Working Ranch Horse",{"$f":"IF(J36=\"\",0,J36)","v":0},"Ranch Trail",{"$f":"IF(V30=\"\",0,V30)","v":0}]
["TOTAL SCORE",null,null,{"$f":"IF(D7=\"\",\"\",IF(B29+D29<0,0,B29+D29))","v":""},null,null,2,null,null,null,null,null,"TOTAL SCORE",null,null,{"$f":"IF(P7=\"\",\"\",IF(70+N27+P27<0,0,70+N27+P27))","v":""},null,null,"TOTAL SCORE",null,null,{"$f":"IF(V7=\"\",\"\",IF(70+T27+V27<0,0,70+T27+V27))","v":""},null,null,"Function Total (3)",{"$f":"SUM(Z29+AB29+Z30+AB30)","v":0},"Function Score (4)",{"$f":"Z31*0.1","v":0}]
[null,null,null,null,null,null,3,null,null,null,null,null,null,null,null,null,null,null,null,null,null,null,null,null,"Judge Score (2) + Function Score (4) = CONFORMATION SCORE",null,null,{"$f":"IF(AB7=\"\",\"\",IF(AB28+AB31<0,0,AB28+AB31))","v":""}]
[null,null,"Return to Entry Page",null,null,null,"21 +/- Judge Score",{"$f":"SUM(H30:H32)","v":0},"Total Penalty Pts",{"$f":"SUM(J30:J32)","v":0},null,null,null,null,"Return to Entry Page",null,null,null,null,null,"Return to Entry Page"]
[null,null,null,null,null,null,"Maneuver Score",{"$f":"SUM(21+H33)*1.1","v":23.1},"Less Penalty Pts",{"$f":"J33","v":0},null,null,null,null,null,null,null,null,null,null,null,null,null,null,null,null,"Return to Entry Page"]
[null,null,null,null,null,null,"ROPING SCORE",null,null,{"$f":"SUM(H34+J34)","v":23.1}]
[null,null,null,null,null,null,"TOTAL SCORE",null,null,{"$f":"IF(J7=\"\",\"\",IF(J21+J28+J35<0,0,J21+J28+J35))","v":""}]
[]
[null,null,null,null,null,null,null,null,"Return to Entry Page"]

{"sheet":"Intermediate 8","index":62,"n_rows":38,"n_cols":28,"rows_kept":38,"cut":false,"hidden":false,"merged":[[35,6,35,8],[30,12,30,14],[30,18,30,20],[27,6,27,8],[25,12,25,15],[27,12,29,15],[27,18,29,21],[29,8,31,8],[7,24,7,27],[34,6,34,8],[30,0,30,2],[27,0,27,3],[29,0,29,3],[31,24,31,26],[23,0,24,0],[23,1,24,1],[19,21,20,21],[20,2,20,3],[20,6,20,8],[20,14,20,15],[21,2,21,3],[18,2,18,3],[18,12,18,15],[18,20,18,21],[17,2,17,3],[17,14,17,15],[17,20,17,21],[25,0,25,3],[19,2,19,3],[19,14,19,15],[19,18,20,19],[19,20,20,20],[21,14,21,15],[21,18,21,21],[22,15,23,15],[22,8,24,8],[23,18,25,21],[22,2,22,3],[22,12,23,13],[22,14,23,14],[13,2,13,3],[13,8,14,9],[13,12,13,15],[13,20,13,21],[14,2,14,3],[14,14,14,15],[14,20,14,21],[15,2,15,3],[15,8,15,9],[15,14,15,15],[15,20,15,21],[16,2,16,3],[16,8,16,9],[16,14,16,15],[16,20,16,21],[9,2,9,3],[9,8,10,9],[9,12,9,15],[9,20,9,21],[10,2,10,3],[10,14,10,15],[10,20,10,21],[11,2,11,3],[11,8,12,9],[11,14,11,15],[11,20,11,21],[12,2,12,3],[12,14,12,15],[12,20,12,21],[7,0,7,3],[7,6,7,9],[7,12,7,15],[7,18,7,21],[8,2,8,3],[8,8,8,9],[8,14,8,15],[8,20,8,21]]}
["RIDERS SCORE WORK SHEET"]
[]
["Back Number:",{"$f":"'Entry Information'!B63","v":0},null,null,null,null,"Back Number:",{"$f":"'Entry Information'!B63","v":0},null,null,null,null,"Back Number:",{"$f":"'Entry Information'!B63","v":0},null,null,null,null,"Back Number:",{"$f":"'Entry Information'!B63","v":0},null,null,null,null,"Back Number:",{"$f":"'Entry Information'!B63","v":0}]
["Name:",{"$f":"'Entry Information'!I63","v":0},{"$f":"'Entry Information'!H63","v":0},null,null,null,"Name:",{"$f":"'Entry Information'!I63","v":0},{"$f":"'Entry Information'!H63","v":0},null,null,null,"Name:",{"$f":"'Entry Information'!I63","v":0},{"$f":"'Entry Information'!H63","v":0},null,null,null,"Name:",{"$f":"'Entry Information'!I63","v":0},{"$f":"'Entry Information'!H63","v":0},null,null,null,"Name:",{"$f":"'Entry Information'!H63","v":0},{"$f":"'Entry Information'!I63","v":0}]
["Horse Name",{"$f":"'Entry Information'!J63","v":0},null,null,null,null,"Horse Name",{"$f":"'Entry Information'!J63","v":0},null,null,null,null,"Horse Name",{"$f":"'Entry Information'!J63","v":0},null,null,null,null,"Horse Name",{"$f":"'Entry Information'!J63","v":0},null,null,null,null,"Horse Name",{"$f":"'Entry Information'!J63","v":0}]
[]
["Check box when entering Ranch Riding scores",null,null,null,null,null,"Check box when entering Working Ranch Horse scores",null,null,null,null,null,"Check box when entering Ranch Cutting scores",null,null,null,null,null,"Check box when entering Ranch Trail scores",null,null,null,null,null,"Check box when entering Conformation scores"]
["Ranch Riding",null,null,null,null,null,"Working Ranch Horse",null,null,null,null,null,"Ranch Cutting",null,null,null,null,null,"Ranch Trail",null,null,null,null,null,"Ranch Conformation"]
["Maneuver","Judge's Score +/-","Penalty Points",null,null,null,"Maneuver","Judge's Score +/-","Penalty Points",null,null,null,"Maneuver","Judge's Score +/-","Penalty Points",null,null,null,"Maneuver","Judge's Score +/-","Penalty Points",null,null,null,"Front Legs, Feet"]
[1,null,null,null,null,null,1,null,null,null,null,null,"Herd Work",null,null,null,null,null,1,null,null,null,null,null,"Chest, Pectoral V"]
[2,null,null,null,null,null,2,null,null,null,null,null,1,null,null,null,null,null,2,null,null,null,null,null,"Head"]
[3,null,null,null,null,null,3,null,null,null,null,null,2,null,null,null,null,null,3,null,null,null,null,null,"Neck & Throat Latch"]
[4,null,null,null,null,null,4,null,null,null,null,null,3,null,null,null,null,null,4,null,null,null,null,null,"Shoulders & Withers"]
[5,null,null,null,null,null,5,null,null,null,null,null,"Cutting",null,null,null,null,null,5,null,null,null,null,null,"Heart Girth & Barrel"]
[6,null,null,null,null,null,6,null,null,null,null,null,1,null,null,null,null,null,6,null,null,null,null,null,"Back & Loin"]
[7,null,null,null,null,null,7,null,null,null,null,null,2,null,null,null,null,null,7,null,null,null,null,null,"Hip & Croup"]
[8,null,null,null,null,null,8,null,null,null,null,null,3,null,null,null,null,null,8,null,null,null,null,null,"Stife & Gaskin"]
[9,null,null,null,null,null,null,null,"Total Penalty Pts",{"$f":"SUM(I10:J17)","v":0},null,null,4,null,null,null,null,null,9,null,null,null,null,null,"Hock, Hind Legs, Feet"]
[10,null,null,null,null,null,"56 +/- Judge Score",{"$f":"SUM(H10:H17)","v":0},"Divided by 2",{"$f":"SUM((56+H19)/2)","v":28},null,null,"Penning",null,null,null,null,null,10,null,null,null,null,null,"Overall Muscling"]
[11,null,null,null,null,null,"Maneuver Score",{"$f":"J19","v":28},"Less Penalty Pts",{"$f":"J18","v":0},null,null,1,null,null,null,null,null,null,null,"Major Penalties",null,null,null,"Tracking","Lame: enter an \"x\""]
[12,null,null,null,null,null,"REINING SCORE",null,null,{"$f":"SUM(H20+J20)","v":28},null,null,2,null,null,null,null,null,null,null,null,null,null,null,"Balance 1"]
[13,null,null,null,null,null,"Working Cow Horse",null,null,null,null,null,3,null,null,null,null,null,null,null,null,null,null,null,"Balance 2"]
[14,null,null,null,null,null,1,null,"Penalty Points",null,null,null,null,null,"Major Penalties",null,null,null,"Maneuver Total",{"$f":"SUM(T10:T19)","v":0},"Penalty Total",{"$f":"SUM(SUM(U10:V19)+V20)","v":0},null,null,"Balance 3"]
["Maneuver Total",{"$f":"SUM(B10:B23)","v":0},"Major Penalties",null,null,null,2,null,null,null,null,null,null,null,null,null,null,null,null,null,null,null,null,null,"Fitness & Condition"]
[null,null,"Penalty Total",{"$f":"SUM(C10:D24)","v":0},null,null,3,null,null,null,null,null,"Maneuver Total",{"$f":"SUM(N10:N22)","v":0},"Penalty Total",{"$f":"SUM(O11+O12+O13+O15+O16+O17+O18+O20+O21+O22+P23)","v":0},null,null,null,null,null,null,null,null,"Participant Showmanship"]
[null,null,null,null,null,null,"21 +/- Judge Score",{"$f":"SUM(H23:H25)","v":0},"Total Penalty Pts",{"$f":"SUM(J23:J25)","v":0},null,null,null,null,null,null,null,null,null,null,null,null,null,null,"Horse Showmanship"]
["100 +/-Maneuver",{"$f":"B24","v":0},"x .70 =",{"$f":"SUM((100+B27)*0.7)","v":70},null,null,"Maneuver Score",{"$f":"SUM(21+H26)","v":21},"Less Penalty Pts",{"$f":"J26","v":0},null,null,"70 +/-Maneuver",{"$f":"N25","v":0},"Less Penalty Total",{"$f":"P25","v":0},null,null,"70 +/-Maneuver",{"$f":"T23","v":0},"Less Penalty Total",{"$f":"V23","v":0},null,null,"Form & Showmanship Judges Score",null,"Total (1)",{"$f":"SUM(AB9:AB26)","v":0}]
[null,null,null,null,null,null,"CATTLE SCORE",null,null,{"$f":"SUM(H27+J27)","v":21},null,null,null,null,null,null,null,null,null,null,null,null,null,null,{"$f":"SUM(AB27*0.33+42)","v":42},{"$f":"IF(AA20=\"x\",-10,0)","v":0},"Judge Score (2)",{"$f":"SUM(Y28+Z28)","v":42}]
["Maneuver Score =",{"$f":"D27","v":70},"Less Penalty Total",{"$f":"D25","v":0},null,null,"Roping",null,null,null,null,null,null,null,null,null,null,null,null,null,null,null,null,null,"Ranch Cutting",{"$f":"IF(P30=\"\",0,P30)","v":0},"Ranch Rding",{"$f":"IF(D30=\"\",0,D30)","v":0}]
[null,null,null,null,null,null,1,null,"Penalty Points",null,null,null,null,null,null,null,null,null,null,null,null,null,null,null,"Working Ranch Horse",{"$f":"IF(J36=\"\",0,J36)","v":0},"Ranch Trail",{"$f":"IF(V30=\"\",0,V30)","v":0}]
["TOTAL SCORE",null,null,{"$f":"IF(D7=\"\",\"\",IF(B29+D29<0,0,B29+D29))","v":""},null,null,2,null,null,null,null,null,"TOTAL SCORE",null,null,{"$f":"IF(P7=\"\",\"\",IF(70+N27+P27<0,0,70+N27+P27))","v":""},null,null,"TOTAL SCORE",null,null,{"$f":"IF(V7=\"\",\"\",IF(70+T27+V27<0,0,70+T27+V27))","v":""},null,null,"Function Total (3)",{"$f":"SUM(Z29+AB29+Z30+AB30)","v":0},"Function Score (4)",{"$f":"Z31*0.1","v":0}]
[null,null,null,null,null,null,3,null,null,null,null,null,null,null,null,null,null,null,null,null,null,null,null,null,"Judge Score (2) + Function Score (4) = CONFORMATION SCORE",null,null,{"$f":"IF(AB7=\"\",\"\",IF(AB28+AB31<0,0,AB28+AB31))","v":""}]
[null,null,"Return to Entry Page",null,null,null,"21 +/- Judge Score",{"$f":"SUM(H30:H32)","v":0},"Total Penalty Pts",{"$f":"SUM(J30:J32)","v":0},null,null,null,null,"Return to Entry Page",null,null,null,null,null,"Return to Entry Page"]
[null,null,null,null,null,null,"Maneuver Score",{"$f":"SUM(21+H33)*1.1","v":23.1},"Less Penalty Pts",{"$f":"J33","v":0},null,null,null,null,null,null,null,null,null,null,null,null,null,null,null,null,"Return to Entry Page"]
[null,null,null,null,null,null,"ROPING SCORE",null,null,{"$f":"SUM(H34+J34)","v":23.1}]
[null,null,null,null,null,null,"TOTAL SCORE",null,null,{"$f":"IF(J7=\"\",\"\",IF(J21+J28+J35<0,0,J21+J28+J35))","v":""}]
[]
[null,null,null,null,null,null,null,null,"Return to Entry Page"]

{"sheet":"Intermediate 9","index":63,"n_rows":38,"n_cols":28,"rows_kept":38,"cut":false,"hidden":false,"merged":[[35,6,35,8],[30,12,30,14],[30,18,30,20],[27,6,27,8],[25,12,25,15],[27,12,29,15],[27,18,29,21],[29,8,31,8],[7,24,7,27],[34,6,34,8],[30,0,30,2],[27,0,27,3],[29,0,29,3],[31,24,31,26],[23,0,24,0],[23,1,24,1],[19,21,20,21],[20,2,20,3],[20,6,20,8],[20,14,20,15],[21,2,21,3],[18,2,18,3],[18,12,18,15],[18,20,18,21],[17,2,17,3],[17,14,17,15],[17,20,17,21],[25,0,25,3],[19,2,19,3],[19,14,19,15],[19,18,20,19],[19,20,20,20],[21,14,21,15],[21,18,21,21],[22,15,23,15],[22,8,24,8],[23,18,25,21],[22,2,22,3],[22,12,23,13],[22,14,23,14],[13,2,13,3],[13,8,14,9],[13,12,13,15],[13,20,13,21],[14,2,14,3],[14,14,14,15],[14,20,14,21],[15,2,15,3],[15,8,15,9],[15,14,15,15],[15,20,15,21],[16,2,16,3],[16,8,16,9],[16,14,16,15],[16,20,16,21],[9,2,9,3],[9,8,10,9],[9,12,9,15],[9,20,9,21],[10,2,10,3],[10,14,10,15],[10,20,10,21],[11,2,11,3],[11,8,12,9],[11,14,11,15],[11,20,11,21],[12,2,12,3],[12,14,12,15],[12,20,12,21],[7,0,7,3],[7,6,7,9],[7,12,7,15],[7,18,7,21],[8,2,8,3],[8,8,8,9],[8,14,8,15],[8,20,8,21]]}
["RIDERS SCORE WORK SHEET"]
[]
["Back Number:",{"$f":"'Entry Information'!B64","v":0},null,null,null,null,"Back Number:",{"$f":"'Entry Information'!B64","v":0},null,null,null,null,"Back Number:",{"$f":"'Entry Information'!B64","v":0},null,null,null,null,"Back Number:",{"$f":"'Entry Information'!B64","v":0},null,null,null,null,"Back Number:",{"$f":"'Entry Information'!B64","v":0}]
["Name:",{"$f":"'Entry Information'!I64","v":0},{"$f":"'Entry Information'!H64","v":0},null,null,null,"Name:",{"$f":"'Entry Information'!I64","v":0},{"$f":"'Entry Information'!H64","v":0},null,null,null,"Name:",{"$f":"'Entry Information'!I64","v":0},{"$f":"'Entry Information'!H64","v":0},null,null,null,"Name:",{"$f":"'Entry Information'!I64","v":0},{"$f":"'Entry Information'!H64","v":0},null,null,null,"Name:",{"$f":"'Entry Information'!H64","v":0},{"$f":"'Entry Information'!I64","v":0}]
["Horse Name",{"$f":"'Entry Information'!J64","v":0},null,null,null,null,"Horse Name",{"$f":"'Entry Information'!J64","v":0},null,null,null,null,"Horse Name",{"$f":"'Entry Information'!J64","v":0},null,null,null,null,"Horse Name",{"$f":"'Entry Information'!J64","v":0},null,null,null,null,"Horse Name",{"$f":"'Entry Information'!J64","v":0}]
[]
["Check box when entering Ranch Riding scores",null,null,null,null,null,"Check box when entering Working Ranch Horse scores",null,null,null,null,null,"Check box when entering Ranch Cutting scores",null,null,null,null,null,"Check box when entering Ranch Trail scores",null,null,null,null,null,"Check box when entering Conformation scores"]
["Ranch Riding",null,null,null,null,null,"Working Ranch Horse",null,null,null,null,null,"Ranch Cutting",null,null,null,null,null,"Ranch Trail",null,null,null,null,null,"Ranch Conformation"]
["Maneuver","Judge's Score +/-","Penalty Points",null,null,null,"Maneuver","Judge's Score +/-","Penalty Points",null,null,null,"Maneuver","Judge's Score +/-","Penalty Points",null,null,null,"Maneuver","Judge's Score +/-","Penalty Points",null,null,null,"Front Legs, Feet"]
[1,null,null,null,null,null,1,null,null,null,null,null,"Herd Work",null,null,null,null,null,1,null,null,null,null,null,"Chest, Pectoral V"]
[2,null,null,null,null,null,2,null,null,null,null,null,1,null,null,null,null,null,2,null,null,null,null,null,"Head"]
[3,null,null,null,null,null,3,null,null,null,null,null,2,null,null,null,null,null,3,null,null,null,null,null,"Neck & Throat Latch"]
[4,null,null,null,null,null,4,null,null,null,null,null,3,null,null,null,null,null,4,null,null,null,null,null,"Shoulders & Withers"]
[5,null,null,null,null,null,5,null,null,null,null,null,"Cutting",null,null,null,null,null,5,null,null,null,null,null,"Heart Girth & Barrel"]
[6,null,null,null,null,null,6,null,null,null,null,null,1,null,null,null,null,null,6,null,null,null,null,null,"Back & Loin"]
[7,null,null,null,null,null,7,null,null,null,null,null,2,null,null,null,null,null,7,null,null,null,null,null,"Hip & Croup"]
[8,null,null,null,null,null,8,null,null,null,null,null,3,null,null,null,null,null,8,null,null,null,null,null,"Stife & Gaskin"]
[9,null,null,null,null,null,null,null,"Total Penalty Pts",{"$f":"SUM(I10:J17)","v":0},null,null,4,null,null,null,null,null,9,null,null,null,null,null,"Hock, Hind Legs, Feet"]
[10,null,null,null,null,null,"56 +/- Judge Score",{"$f":"SUM(H10:H17)","v":0},"Divided by 2",{"$f":"SUM((56+H19)/2)","v":28},null,null,"Penning",null,null,null,null,null,10,null,null,null,null,null,"Overall Muscling"]
[11,null,null,null,null,null,"Maneuver Score",{"$f":"J19","v":28},"Less Penalty Pts",{"$f":"J18","v":0},null,null,1,null,null,null,null,null,null,null,"Major Penalties",null,null,null,"Tracking","Lame: enter an \"x\""]
[12,null,null,null,null,null,"REINING SCORE",null,null,{"$f":"SUM(H20+J20)","v":28},null,null,2,null,null,null,null,null,null,null,null,null,null,null,"Balance 1"]
[13,null,null,null,null,null,"Working Cow Horse",null,null,null,null,null,3,null,null,null,null,null,null,null,null,null,null,null,"Balance 2"]
[14,null,null,null,null,null,1,null,"Penalty Points",null,null,null,null,null,"Major Penalties",null,null,null,"Maneuver Total",{"$f":"SUM(T10:T19)","v":0},"Penalty Total",{"$f":"SUM(SUM(U10:V19)+V20)","v":0},null,null,"Balance 3"]
["Maneuver Total",{"$f":"SUM(B10:B23)","v":0},"Major Penalties",null,null,null,2,null,null,null,null,null,null,null,null,null,null,null,null,null,null,null,null,null,"Fitness & Condition"]
[null,null,"Penalty Total",{"$f":"SUM(C10:D24)","v":0},null,null,3,null,null,null,null,null,"Maneuver Total",{"$f":"SUM(N10:N22)","v":0},"Penalty Total",{"$f":"SUM(O11+O12+O13+O15+O16+O17+O18+O20+O21+O22+P23)","v":0},null,null,null,null,null,null,null,null,"Participant Showmanship"]
[null,null,null,null,null,null,"21 +/- Judge Score",{"$f":"SUM(H23:H25)","v":0},"Total Penalty Pts",{"$f":"SUM(J23:J25)","v":0},null,null,null,null,null,null,null,null,null,null,null,null,null,null,"Horse Showmanship"]
["100 +/-Maneuver",{"$f":"B24","v":0},"x .70 =",{"$f":"SUM((100+B27)*0.7)","v":70},null,null,"Maneuver Score",{"$f":"SUM(21+H26)","v":21},"Less Penalty Pts",{"$f":"J26","v":0},null,null,"70 +/-Maneuver",{"$f":"N25","v":0},"Less Penalty Total",{"$f":"P25","v":0},null,null,"70 +/-Maneuver",{"$f":"T23","v":0},"Less Penalty Total",{"$f":"V23","v":0},null,null,"Form & Showmanship Judges Score",null,"Total (1)",{"$f":"SUM(AB9:AB26)","v":0}]
[null,null,null,null,null,null,"CATTLE SCORE",null,null,{"$f":"SUM(H27+J27)","v":21},null,null,null,null,null,null,null,null,null,null,null,null,null,null,{"$f":"SUM(AB27*0.33+42)","v":42},{"$f":"IF(AA20=\"x\",-10,0)","v":0},"Judge Score (2)",{"$f":"SUM(Y28+Z28)","v":42}]
["Maneuver Score =",{"$f":"D27","v":70},"Less Penalty Total",{"$f":"D25","v":0},null,null,"Roping",null,null,null,null,null,null,null,null,null,null,null,null,null,null,null,null,null,"Ranch Cutting",{"$f":"IF(P30=\"\",0,P30)","v":0},"Ranch Rding",{"$f":"IF(D30=\"\",0,D30)","v":0}]
[null,null,null,null,null,null,1,null,"Penalty Points",null,null,null,null,null,null,null,null,null,null,null,null,null,null,null,"Working Ranch Horse",{"$f":"IF(J36=\"\",0,J36)","v":0},"Ranch Trail",{"$f":"IF(V30=\"\",0,V30)","v":0}]
["TOTAL SCORE",null,null,{"$f":"IF(D7=\"\",\"\",IF(B29+D29<0,0,B29+D29))","v":""},null,null,2,null,null,null,null,null,"TOTAL SCORE",null,null,{"$f":"IF(P7=\"\",\"\",IF(70+N27+P27<0,0,70+N27+P27))","v":""},null,null,"TOTAL SCORE",null,null,{"$f":"IF(V7=\"\",\"\",IF(70+T27+V27<0,0,70+T27+V27))","v":""},null,null,"Function Total (3)",{"$f":"SUM(Z29+AB29+Z30+AB30)","v":0},"Function Score (4)",{"$f":"Z31*0.1","v":0}]
[null,null,null,null,null,null,3,null,null,null,null,null,null,null,null,null,null,null,null,null,null,null,null,null,"Judge Score (2) + Function Score (4) = CONFORMATION SCORE",null,null,{"$f":"IF(AB7=\"\",\"\",IF(AB28+AB31<0,0,AB28+AB31))","v":""}]
[null,null,"Return to Entry Page",null,null,null,"21 +/- Judge Score",{"$f":"SUM(H30:H32)","v":0},"Total Penalty Pts",{"$f":"SUM(J30:J32)","v":0},null,null,null,null,"Return to Entry Page",null,null,null,null,null,"Return to Entry Page"]
[null,null,null,null,null,null,"Maneuver Score",{"$f":"SUM(21+H33)*1.1","v":23.1},"Less Penalty Pts",{"$f":"J33","v":0},null,null,null,null,null,null,null,null,null,null,null,null,null,null,null,null,"Return to Entry Page"]
[null,null,null,null,null,null,"ROPING SCORE",null,null,{"$f":"SUM(H34+J34)","v":23.1}]
[null,null,null,null,null,null,"TOTAL SCORE",null,null,{"$f":"IF(J7=\"\",\"\",IF(J21+J28+J35<0,0,J21+J28+J35))","v":""}]
[]
[null,null,null,null,null,null,null,null,"Return to Entry Page"]

{"sheet":"Intermediate 10","index":64,"n_rows":38,"n_cols":28,"rows_kept":38,"cut":false,"hidden":false,"merged":[[35,6,35,8],[30,12,30,14],[30,18,30,20],[27,6,27,8],[25,12,25,15],[27,12,29,15],[27,18,29,21],[29,8,31,8],[7,24,7,27],[34,6,34,8],[30,0,30,2],[27,0,27,3],[29,0,29,3],[31,24,31,26],[23,0,24,0],[23,1,24,1],[19,21,20,21],[20,2,20,3],[20,6,20,8],[20,14,20,15],[21,2,21,3],[18,2,18,3],[18,12,18,15],[18,20,18,21],[17,2,17,3],[17,14,17,15],[17,20,17,21],[25,0,25,3],[19,2,19,3],[19,14,19,15],[19,18,20,19],[19,20,20,20],[21,14,21,15],[21,18,21,21],[22,15,23,15],[22,8,24,8],[23,18,25,21],[22,2,22,3],[22,12,23,13],[22,14,23,14],[13,2,13,3],[13,8,14,9],[13,12,13,15],[13,20,13,21],[14,2,14,3],[14,14,14,15],[14,20,14,21],[15,2,15,3],[15,8,15,9],[15,14,15,15],[15,20,15,21],[16,2,16,3],[16,8,16,9],[16,14,16,15],[16,20,16,21],[9,2,9,3],[9,8,10,9],[9,12,9,15],[9,20,9,21],[10,2,10,3],[10,14,10,15],[10,20,10,21],[11,2,11,3],[11,8,12,9],[11,14,11,15],[11,20,11,21],[12,2,12,3],[12,14,12,15],[12,20,12,21],[7,0,7,3],[7,6,7,9],[7,12,7,15],[7,18,7,21],[8,2,8,3],[8,8,8,9],[8,14,8,15],[8,20,8,21]]}
["RIDERS SCORE WORK SHEET"]
[]
["Back Number:",{"$f":"'Entry Information'!B65","v":0},null,null,null,null,"Back Number:",{"$f":"'Entry Information'!B65","v":0},null,null,null,null,"Back Number:",{"$f":"'Entry Information'!B65","v":0},null,null,null,null,"Back Number:",{"$f":"'Entry Information'!B65","v":0},null,null,null,null,"Back Number:",{"$f":"'Entry Information'!B65","v":0}]
["Name:",{"$f":"'Entry Information'!I65","v":0},{"$f":"'Entry Information'!H65","v":0},null,null,null,"Name:",{"$f":"'Entry Information'!I65","v":0},{"$f":"'Entry Information'!H65","v":0},null,null,null,"Name:",{"$f":"'Entry Information'!I65","v":0},{"$f":"'Entry Information'!H65","v":0},null,null,null,"Name:",{"$f":"'Entry Information'!I65","v":0},{"$f":"'Entry Information'!H65","v":0},null,null,null,"Name:",{"$f":"'Entry Information'!H65","v":0},{"$f":"'Entry Information'!I65","v":0}]
["Horse Name",{"$f":"'Entry Information'!J65","v":0},null,null,null,null,"Horse Name",{"$f":"'Entry Information'!J65","v":0},null,null,null,null,"Horse Name",{"$f":"'Entry Information'!J65","v":0},null,null,null,null,"Horse Name",{"$f":"'Entry Information'!J65","v":0},null,null,null,null,"Horse Name",{"$f":"'Entry Information'!J65","v":0}]
[]
["Check box when entering Ranch Riding scores",null,null,null,null,null,"Check box when entering Working Ranch Horse scores",null,null,null,null,null,"Check box when entering Ranch Cutting scores",null,null,null,null,null,"Check box when entering Ranch Trail scores",null,null,null,null,null,"Check box when entering Conformation scores"]
["Ranch Riding",null,null,null,null,null,"Working Ranch Horse",null,null,null,null,null,"Ranch Cutting",null,null,null,null,null,"Ranch Trail",null,null,null,null,null,"Ranch Conformation"]
["Maneuver","Judge's Score +/-","Penalty Points",null,null,null,"Maneuver","Judge's Score +/-","Penalty Points",null,null,null,"Maneuver","Judge's Score +/-","Penalty Points",null,null,null,"Maneuver","Judge's Score +/-","Penalty Points",null,null,null,"Front Legs, Feet"]
[1,null,null,null,null,null,1,null,null,null,null,null,"Herd Work",null,null,null,null,null,1,null,null,null,null,null,"Chest, Pectoral V"]
[2,null,null,null,null,null,2,null,null,null,null,null,1,null,null,null,null,null,2,null,null,null,null,null,"Head"]
[3,null,null,null,null,null,3,null,null,null,null,null,2,null,null,null,null,null,3,null,null,null,null,null,"Neck & Throat Latch"]
[4,null,null,null,null,null,4,null,null,null,null,null,3,null,null,null,null,null,4,null,null,null,null,null,"Shoulders & Withers"]
[5,null,null,null,null,null,5,null,null,null,null,null,"Cutting",null,null,null,null,null,5,null,null,null,null,null,"Heart Girth & Barrel"]
[6,null,null,null,null,null,6,null,null,null,null,null,1,null,null,null,null,null,6,null,null,null,null,null,"Back & Loin"]
[7,null,null,null,null,null,7,null,null,null,null,null,2,null,null,null,null,null,7,null,null,null,null,null,"Hip & Croup"]
[8,null,null,null,null,null,8,null,null,null,null,null,3,null,null,null,null,null,8,null,null,null,null,null,"Stife & Gaskin"]
[9,null,null,null,null,null,null,null,"Total Penalty Pts",{"$f":"SUM(I10:J17)","v":0},null,null,4,null,null,null,null,null,9,null,null,null,null,null,"Hock, Hind Legs, Feet"]
[10,null,null,null,null,null,"56 +/- Judge Score",{"$f":"SUM(H10:H17)","v":0},"Divided by 2",{"$f":"SUM((56+H19)/2)","v":28},null,null,"Penning",null,null,null,null,null,10,null,null,null,null,null,"Overall Muscling"]
[11,null,null,null,null,null,"Maneuver Score",{"$f":"J19","v":28},"Less Penalty Pts",{"$f":"J18","v":0},null,null,1,null,null,null,null,null,null,null,"Major Penalties",null,null,null,"Tracking","Lame: enter an \"x\""]
[12,null,null,null,null,null,"REINING SCORE",null,null,{"$f":"SUM(H20+J20)","v":28},null,null,2,null,null,null,null,null,null,null,null,null,null,null,"Balance 1"]
[13,null,null,null,null,null,"Working Cow Horse",null,null,null,null,null,3,null,null,null,null,null,null,null,null,null,null,null,"Balance 2"]
[14,null,null,null,null,null,1,null,"Penalty Points",null,null,null,null,null,"Major Penalties",null,null,null,"Maneuver Total",{"$f":"SUM(T10:T19)","v":0},"Penalty Total",{"$f":"SUM(SUM(U10:V19)+V20)","v":0},null,null,"Balance 3"]
["Maneuver Total",{"$f":"SUM(B10:B23)","v":0},"Major Penalties",null,null,null,2,null,null,null,null,null,null,null,null,null,null,null,null,null,null,null,null,null,"Fitness & Condition"]
[null,null,"Penalty Total",{"$f":"SUM(C10:D24)","v":0},null,null,3,null,null,null,null,null,"Maneuver Total",{"$f":"SUM(N10:N22)","v":0},"Penalty Total",{"$f":"SUM(O11+O12+O13+O15+O16+O17+O18+O20+O21+O22+P23)","v":0},null,null,null,null,null,null,null,null,"Participant Showmanship"]
[null,null,null,null,null,null,"21 +/- Judge Score",{"$f":"SUM(H23:H25)","v":0},"Total Penalty Pts",{"$f":"SUM(J23:J25)","v":0},null,null,null,null,null,null,null,null,null,null,null,null,null,null,"Horse Showmanship"]
["100 +/-Maneuver",{"$f":"B24","v":0},"x .70 =",{"$f":"SUM((100+B27)*0.7)","v":70},null,null,"Maneuver Score",{"$f":"SUM(21+H26)","v":21},"Less Penalty Pts",{"$f":"J26","v":0},null,null,"70 +/-Maneuver",{"$f":"N25","v":0},"Less Penalty Total",{"$f":"P25","v":0},null,null,"70 +/-Maneuver",{"$f":"T23","v":0},"Less Penalty Total",{"$f":"V23","v":0},null,null,"Form & Showmanship Judges Score",null,"Total (1)",{"$f":"SUM(AB9:AB26)","v":0}]
[null,null,null,null,null,null,"CATTLE SCORE",null,null,{"$f":"SUM(H27+J27)","v":21},null,null,null,null,null,null,null,null,null,null,null,null,null,null,{"$f":"SUM(AB27*0.33+42)","v":42},{"$f":"IF(AA20=\"x\",-10,0)","v":0},"Judge Score (2)",{"$f":"SUM(Y28+Z28)","v":42}]
["Maneuver Score =",{"$f":"D27","v":70},"Less Penalty Total",{"$f":"D25","v":0},null,null,"Roping",null,null,null,null,null,null,null,null,null,null,null,null,null,null,null,null,null,"Ranch Cutting",{"$f":"IF(P30=\"\",0,P30)","v":0},"Ranch Rding",{"$f":"IF(D30=\"\",0,D30)","v":0}]
[null,null,null,null,null,null,1,null,"Penalty Points",null,null,null,null,null,null,null,null,null,null,null,null,null,null,null,"Working Ranch Horse",{"$f":"IF(J36=\"\",0,J36)","v":0},"Ranch Trail",{"$f":"IF(V30=\"\",0,V30)","v":0}]
["TOTAL SCORE",null,null,{"$f":"IF(D7=\"\",\"\",IF(B29+D29<0,0,B29+D29))","v":""},null,null,2,null,null,null,null,null,"TOTAL SCORE",null,null,{"$f":"IF(P7=\"\",\"\",IF(70+N27+P27<0,0,70+N27+P27))","v":""},null,null,"TOTAL SCORE",null,null,{"$f":"IF(V7=\"\",\"\",IF(70+T27+V27<0,0,70+T27+V27))","v":""},null,null,"Function Total (3)",{"$f":"SUM(Z29+AB29+Z30+AB30)","v":0},"Function Score (4)",{"$f":"Z31*0.1","v":0}]
[null,null,null,null,null,null,3,null,null,null,null,null,null,null,null,null,null,null,null,null,null,null,null,null,"Judge Score (2) + Function Score (4) = CONFORMATION SCORE",null,null,{"$f":"IF(AB7=\"\",\"\",IF(AB28+AB31<0,0,AB28+AB31))","v":""}]
[null,null,"Return to Entry Page",null,null,null,"21 +/- Judge Score",{"$f":"SUM(H30:H32)","v":0},"Total Penalty Pts",{"$f":"SUM(J30:J32)","v":0},null,null,null,null,"Return to Entry Page",null,null,null,null,null,"Return to Entry Page"]
[null,null,null,null,null,null,"Maneuver Score",{"$f":"SUM(21+H33)*1.1","v":23.1},"Less Penalty Pts",{"$f":"J33","v":0},null,null,null,null,null,null,null,null,null,null,null,null,null,null,null,null,"Return to Entry Page"]
[null,null,null,null,null,null,"ROPING SCORE",null,null,{"$f":"SUM(H34+J34)","v":23.1}]
[null,null,null,null,null,null,"TOTAL SCORE",null,null,{"$f":"IF(J7=\"\",\"\",IF(J21+J28+J35<0,0,J21+J28+J35))","v":""}]
[]
[null,null,null,null,null,null,null,null,"Return to Entry Page"]

{"sheet":"Intermediate 11","index":65,"n_rows":38,"n_cols":28,"rows_kept":38,"cut":false,"hidden":false,"merged":[[35,6,35,8],[30,12,30,14],[30,18,30,20],[27,6,27,8],[25,12,25,15],[27,12,29,15],[27,18,29,21],[29,8,31,8],[7,24,7,27],[34,6,34,8],[30,0,30,2],[27,0,27,3],[29,0,29,3],[31,24,31,26],[23,0,24,0],[23,1,24,1],[19,21,20,21],[20,2,20,3],[20,6,20,8],[20,14,20,15],[21,2,21,3],[18,2,18,3],[18,12,18,15],[18,20,18,21],[17,2,17,3],[17,14,17,15],[17,20,17,21],[25,0,25,3],[19,2,19,3],[19,14,19,15],[19,18,20,19],[19,20,20,20],[21,14,21,15],[21,18,21,21],[22,15,23,15],[22,8,24,8],[23,18,25,21],[22,2,22,3],[22,12,23,13],[22,14,23,14],[13,2,13,3],[13,8,14,9],[13,12,13,15],[13,20,13,21],[14,2,14,3],[14,14,14,15],[14,20,14,21],[15,2,15,3],[15,8,15,9],[15,14,15,15],[15,20,15,21],[16,2,16,3],[16,8,16,9],[16,14,16,15],[16,20,16,21],[9,2,9,3],[9,8,10,9],[9,12,9,15],[9,20,9,21],[10,2,10,3],[10,14,10,15],[10,20,10,21],[11,2,11,3],[11,8,12,9],[11,14,11,15],[11,20,11,21],[12,2,12,3],[12,14,12,15],[12,20,12,21],[7,0,7,3],[7,6,7,9],[7,12,7,15],[7,18,7,21],[8,2,8,3],[8,8,8,9],[8,14,8,15],[8,20,8,21]]}
["RIDERS SCORE WORK SHEET"]
[]
["Back Number:",{"$f":"'Entry Information'!B66","v":0},null,null,null,null,"Back Number:",{"$f":"'Entry Information'!B66","v":0},null,null,null,null,"Back Number:",{"$f":"'Entry Information'!B66","v":0},null,null,null,null,"Back Number:",{"$f":"'Entry Information'!B66","v":0},null,null,null,null,"Back Number:",{"$f":"'Entry Information'!B66","v":0}]
["Name:",{"$f":"'Entry Information'!I66","v":0},{"$f":"'Entry Information'!H66","v":0},null,null,null,"Name:",{"$f":"'Entry Information'!I66","v":0},{"$f":"'Entry Information'!H66","v":0},null,null,null,"Name:",{"$f":"'Entry Information'!I66","v":0},{"$f":"'Entry Information'!H66","v":0},null,null,null,"Name:",{"$f":"'Entry Information'!I66","v":0},{"$f":"'Entry Information'!H66","v":0},null,null,null,"Name:",{"$f":"'Entry Information'!H66","v":0},{"$f":"'Entry Information'!I66","v":0}]
["Horse Name",{"$f":"'Entry Information'!J66","v":0},null,null,null,null,"Horse Name",{"$f":"'Entry Information'!J66","v":0},null,null,null,null,"Horse Name",{"$f":"'Entry Information'!J66","v":0},null,null,null,null,"Horse Name",{"$f":"'Entry Information'!J66","v":0},null,null,null,null,"Horse Name",{"$f":"'Entry Information'!J66","v":0}]
[]
["Check box when entering Ranch Riding scores",null,null,null,null,null,"Check box when entering Working Ranch Horse scores",null,null,null,null,null,"Check box when entering Ranch Cutting scores",null,null,null,null,null,"Check box when entering Ranch Trail scores",null,null,null,null,null,"Check box when entering Conformation scores"]
["Ranch Riding",null,null,null,null,null,"Working Ranch Horse",null,null,null,null,null,"Ranch Cutting",null,null,null,null,null,"Ranch Trail",null,null,null,null,null,"Ranch Conformation"]
["Maneuver","Judge's Score +/-","Penalty Points",null,null,null,"Maneuver","Judge's Score +/-","Penalty Points",null,null,null,"Maneuver","Judge's Score +/-","Penalty Points",null,null,null,"Maneuver","Judge's Score +/-","Penalty Points",null,null,null,"Front Legs, Feet"]
[1,null,null,null,null,null,1,null,null,null,null,null,"Herd Work",null,null,null,null,null,1,null,null,null,null,null,"Chest, Pectoral V"]
[2,null,null,null,null,null,2,null,null,null,null,null,1,null,null,null,null,null,2,null,null,null,null,null,"Head"]
[3,null,null,null,null,null,3,null,null,null,null,null,2,null,null,null,null,null,3,null,null,null,null,null,"Neck & Throat Latch"]
[4,null,null,null,null,null,4,null,null,null,null,null,3,null,null,null,null,null,4,null,null,null,null,null,"Shoulders & Withers"]
[5,null,null,null,null,null,5,null,null,null,null,null,"Cutting",null,null,null,null,null,5,null,null,null,null,null,"Heart Girth & Barrel"]
[6,null,null,null,null,null,6,null,null,null,null,null,1,null,null,null,null,null,6,null,null,null,null,null,"Back & Loin"]
[7,null,null,null,null,null,7,null,null,null,null,null,2,null,null,null,null,null,7,null,null,null,null,null,"Hip & Croup"]
[8,null,null,null,null,null,8,null,null,null,null,null,3,null,null,null,null,null,8,null,null,null,null,null,"Stife & Gaskin"]
[9,null,null,null,null,null,null,null,"Total Penalty Pts",{"$f":"SUM(I10:J17)","v":0},null,null,4,null,null,null,null,null,9,null,null,null,null,null,"Hock, Hind Legs, Feet"]
[10,null,null,null,null,null,"56 +/- Judge Score",{"$f":"SUM(H10:H17)","v":0},"Divided by 2",{"$f":"SUM((56+H19)/2)","v":28},null,null,"Penning",null,null,null,null,null,10,null,null,null,null,null,"Overall Muscling"]
[11,null,null,null,null,null,"Maneuver Score",{"$f":"J19","v":28},"Less Penalty Pts",{"$f":"J18","v":0},null,null,1,null,null,null,null,null,null,null,"Major Penalties",null,null,null,"Tracking","Lame: enter an \"x\""]
[12,null,null,null,null,null,"REINING SCORE",null,null,{"$f":"SUM(H20+J20)","v":28},null,null,2,null,null,null,null,null,null,null,null,null,null,null,"Balance 1"]
[13,null,null,null,null,null,"Working Cow Horse",null,null,null,null,null,3,null,null,null,null,null,null,null,null,null,null,null,"Balance 2"]
[14,null,null,null,null,null,1,null,"Penalty Points",null,null,null,null,null,"Major Penalties",null,null,null,"Maneuver Total",{"$f":"SUM(T10:T19)","v":0},"Penalty Total",{"$f":"SUM(SUM(U10:V19)+V20)","v":0},null,null,"Balance 3"]
["Maneuver Total",{"$f":"SUM(B10:B23)","v":0},"Major Penalties",null,null,null,2,null,null,null,null,null,null,null,null,null,null,null,null,null,null,null,null,null,"Fitness & Condition"]
[null,null,"Penalty Total",{"$f":"SUM(C10:D24)","v":0},null,null,3,null,null,null,null,null,"Maneuver Total",{"$f":"SUM(N10:N22)","v":0},"Penalty Total",{"$f":"SUM(O11+O12+O13+O15+O16+O17+O18+O20+O21+O22+P23)","v":0},null,null,null,null,null,null,null,null,"Participant Showmanship"]
[null,null,null,null,null,null,"21 +/- Judge Score",{"$f":"SUM(H23:H25)","v":0},"Total Penalty Pts",{"$f":"SUM(J23:J25)","v":0},null,null,null,null,null,null,null,null,null,null,null,null,null,null,"Horse Showmanship"]
["100 +/-Maneuver",{"$f":"B24","v":0},"x .70 =",{"$f":"SUM((100+B27)*0.7)","v":70},null,null,"Maneuver Score",{"$f":"SUM(21+H26)","v":21},"Less Penalty Pts",{"$f":"J26","v":0},null,null,"70 +/-Maneuver",{"$f":"N25","v":0},"Less Penalty Total",{"$f":"P25","v":0},null,null,"70 +/-Maneuver",{"$f":"T23","v":0},"Less Penalty Total",{"$f":"V23","v":0},null,null,"Form & Showmanship Judges Score",null,"Total (1)",{"$f":"SUM(AB9:AB26)","v":0}]
[null,null,null,null,null,null,"CATTLE SCORE",null,null,{"$f":"SUM(H27+J27)","v":21},null,null,null,null,null,null,null,null,null,null,null,null,null,null,{"$f":"SUM(AB27*0.33+42)","v":42},{"$f":"IF(AA20=\"x\",-10,0)","v":0},"Judge Score (2)",{"$f":"SUM(Y28+Z28)","v":42}]
["Maneuver Score =",{"$f":"D27","v":70},"Less Penalty Total",{"$f":"D25","v":0},null,null,"Roping",null,null,null,null,null,null,null,null,null,null,null,null,null,null,null,null,null,"Ranch Cutting",{"$f":"IF(P30=\"\",0,P30)","v":0},"Ranch Rding",{"$f":"IF(D30=\"\",0,D30)","v":0}]
[null,null,null,null,null,null,1,null,"Penalty Points",null,null,null,null,null,null,null,null,null,null,null,null,null,null,null,"Working Ranch Horse",{"$f":"IF(J36=\"\",0,J36)","v":0},"Ranch Trail",{"$f":"IF(V30=\"\",0,V30)","v":0}]
["TOTAL SCORE",null,null,{"$f":"IF(D7=\"\",\"\",IF(B29+D29<0,0,B29+D29))","v":""},null,null,2,null,null,null,null,null,"TOTAL SCORE",null,null,{"$f":"IF(P7=\"\",\"\",IF(70+N27+P27<0,0,70+N27+P27))","v":""},null,null,"TOTAL SCORE",null,null,{"$f":"IF(V7=\"\",\"\",IF(70+T27+V27<0,0,70+T27+V27))","v":""},null,null,"Function Total (3)",{"$f":"SUM(Z29+AB29+Z30+AB30)","v":0},"Function Score (4)",{"$f":"Z31*0.1","v":0}]
[null,null,null,null,null,null,3,null,null,null,null,null,null,null,null,null,null,null,null,null,null,null,null,null,"Judge Score (2) + Function Score (4) = CONFORMATION SCORE",null,null,{"$f":"IF(AB7=\"\",\"\",IF(AB28+AB31<0,0,AB28+AB31))","v":""}]
[null,null,"Return to Entry Page",null,null,null,"21 +/- Judge Score",{"$f":"SUM(H30:H32)","v":0},"Total Penalty Pts",{"$f":"SUM(J30:J32)","v":0},null,null,null,null,"Return to Entry Page",null,null,null,null,null,"Return to Entry Page"]
[null,null,null,null,null,null,"Maneuver Score",{"$f":"SUM(21+H33)*1.1","v":23.1},"Less Penalty Pts",{"$f":"J33","v":0},null,null,null,null,null,null,null,null,null,null,null,null,null,null,null,null,"Return to Entry Page"]
[null,null,null,null,null,null,"ROPING SCORE",null,null,{"$f":"SUM(H34+J34)","v":23.1}]
[null,null,null,null,null,null,"TOTAL SCORE",null,null,{"$f":"IF(J7=\"\",\"\",IF(J21+J28+J35<0,0,J21+J28+J35))","v":""}]
[]
[null,null,null,null,null,null,null,null,"Return to Entry Page"]

{"sheet":"Intermediate 12","index":66,"n_rows":38,"n_cols":28,"rows_kept":38,"cut":false,"hidden":false,"merged":[[35,6,35,8],[30,12,30,14],[30,18,30,20],[27,6,27,8],[25,12,25,15],[27,12,29,15],[27,18,29,21],[29,8,31,8],[7,24,7,27],[34,6,34,8],[30,0,30,2],[27,0,27,3],[29,0,29,3],[31,24,31,26],[23,0,24,0],[23,1,24,1],[19,21,20,21],[20,2,20,3],[20,6,20,8],[20,14,20,15],[21,2,21,3],[18,2,18,3],[18,12,18,15],[18,20,18,21],[17,2,17,3],[17,14,17,15],[17,20,17,21],[25,0,25,3],[19,2,19,3],[19,14,19,15],[19,18,20,19],[19,20,20,20],[21,14,21,15],[21,18,21,21],[22,15,23,15],[22,8,24,8],[23,18,25,21],[22,2,22,3],[22,12,23,13],[22,14,23,14],[13,2,13,3],[13,8,14,9],[13,12,13,15],[13,20,13,21],[14,2,14,3],[14,14,14,15],[14,20,14,21],[15,2,15,3],[15,8,15,9],[15,14,15,15],[15,20,15,21],[16,2,16,3],[16,8,16,9],[16,14,16,15],[16,20,16,21],[9,2,9,3],[9,8,10,9],[9,12,9,15],[9,20,9,21],[10,2,10,3],[10,14,10,15],[10,20,10,21],[11,2,11,3],[11,8,12,9],[11,14,11,15],[11,20,11,21],[12,2,12,3],[12,14,12,15],[12,20,12,21],[7,0,7,3],[7,6,7,9],[7,12,7,15],[7,18,7,21],[8,2,8,3],[8,8,8,9],[8,14,8,15],[8,20,8,21]]}
["RIDERS SCORE WORK SHEET"]
[]
["Back Number:",{"$f":"'Entry Information'!B67","v":0},null,null,null,null,"Back Number:",{"$f":"'Entry Information'!B67","v":0},null,null,null,null,"Back Number:",{"$f":"'Entry Information'!B67","v":0},null,null,null,null,"Back Number:",{"$f":"'Entry Information'!B67","v":0},null,null,null,null,"Back Number:",{"$f":"'Entry Information'!B67","v":0}]
["Name:",{"$f":"'Entry Information'!I67","v":0},{"$f":"'Entry Information'!H67","v":0},null,null,null,"Name:",{"$f":"'Entry Information'!I67","v":0},{"$f":"'Entry Information'!H67","v":0},null,null,null,"Name:",{"$f":"'Entry Information'!I67","v":0},{"$f":"'Entry Information'!H67","v":0},null,null,null,"Name:",{"$f":"'Entry Information'!I67","v":0},{"$f":"'Entry Information'!H67","v":0},null,null,null,"Name:",{"$f":"'Entry Information'!H67","v":0},{"$f":"'Entry Information'!I67","v":0}]
["Horse Name",{"$f":"'Entry Information'!J67","v":0},null,null,null,null,"Horse Name",{"$f":"'Entry Information'!J67","v":0},null,null,null,null,"Horse Name",{"$f":"'Entry Information'!J67","v":0},null,null,null,null,"Horse Name",{"$f":"'Entry Information'!J67","v":0},null,null,null,null,"Horse Name",{"$f":"'Entry Information'!J67","v":0}]
[]
["Check box when entering Ranch Riding scores",null,null,null,null,null,"Check box when entering Working Ranch Horse scores",null,null,null,null,null,"Check box when entering Ranch Cutting scores",null,null,null,null,null,"Check box when entering Ranch Trail scores",null,null,null,null,null,"Check box when entering Conformation scores"]
["Ranch Riding",null,null,null,null,null,"Working Ranch Horse",null,null,null,null,null,"Ranch Cutting",null,null,null,null,null,"Ranch Trail",null,null,null,null,null,"Ranch Conformation"]
["Maneuver","Judge's Score +/-","Penalty Points",null,null,null,"Maneuver","Judge's Score +/-","Penalty Points",null,null,null,"Maneuver","Judge's Score +/-","Penalty Points",null,null,null,"Maneuver","Judge's Score +/-","Penalty Points",null,null,null,"Front Legs, Feet"]
[1,null,null,null,null,null,1,null,null,null,null,null,"Herd Work",null,null,null,null,null,1,null,null,null,null,null,"Chest, Pectoral V"]
[2,null,null,null,null,null,2,null,null,null,null,null,1,null,null,null,null,null,2,null,null,null,null,null,"Head"]
[3,null,null,null,null,null,3,null,null,null,null,null,2,null,null,null,null,null,3,null,null,null,null,null,"Neck & Throat Latch"]
[4,null,null,null,null,null,4,null,null,null,null,null,3,null,null,null,null,null,4,null,null,null,null,null,"Shoulders & Withers"]
[5,null,null,null,null,null,5,null,null,null,null,null,"Cutting",null,null,null,null,null,5,null,null,null,null,null,"Heart Girth & Barrel"]
[6,null,null,null,null,null,6,null,null,null,null,null,1,null,null,null,null,null,6,null,null,null,null,null,"Back & Loin"]
[7,null,null,null,null,null,7,null,null,null,null,null,2,null,null,null,null,null,7,null,null,null,null,null,"Hip & Croup"]
[8,null,null,null,null,null,8,null,null,null,null,null,3,null,null,null,null,null,8,null,null,null,null,null,"Stife & Gaskin"]
[9,null,null,null,null,null,null,null,"Total Penalty Pts",{"$f":"SUM(I10:J17)","v":0},null,null,4,null,null,null,null,null,9,null,null,null,null,null,"Hock, Hind Legs, Feet"]
[10,null,null,null,null,null,"56 +/- Judge Score",{"$f":"SUM(H10:H17)","v":0},"Divided by 2",{"$f":"SUM((56+H19)/2)","v":28},null,null,"Penning",null,null,null,null,null,10,null,null,null,null,null,"Overall Muscling"]
[11,null,null,null,null,null,"Maneuver Score",{"$f":"J19","v":28},"Less Penalty Pts",{"$f":"J18","v":0},null,null,1,null,null,null,null,null,null,null,"Major Penalties",null,null,null,"Tracking","Lame: enter an \"x\""]
[12,null,null,null,null,null,"REINING SCORE",null,null,{"$f":"SUM(H20+J20)","v":28},null,null,2,null,null,null,null,null,null,null,null,null,null,null,"Balance 1"]
[13,null,null,null,null,null,"Working Cow Horse",null,null,null,null,null,3,null,null,null,null,null,null,null,null,null,null,null,"Balance 2"]
[14,null,null,null,null,null,1,null,"Penalty Points",null,null,null,null,null,"Major Penalties",null,null,null,"Maneuver Total",{"$f":"SUM(T10:T19)","v":0},"Penalty Total",{"$f":"SUM(SUM(U10:V19)+V20)","v":0},null,null,"Balance 3"]
["Maneuver Total",{"$f":"SUM(B10:B23)","v":0},"Major Penalties",null,null,null,2,null,null,null,null,null,null,null,null,null,null,null,null,null,null,null,null,null,"Fitness & Condition"]
[null,null,"Penalty Total",{"$f":"SUM(C10:D24)","v":0},null,null,3,null,null,null,null,null,"Maneuver Total",{"$f":"SUM(N10:N22)","v":0},"Penalty Total",{"$f":"SUM(O11+O12+O13+O15+O16+O17+O18+O20+O21+O22+P23)","v":0},null,null,null,null,null,null,null,null,"Participant Showmanship"]
[null,null,null,null,null,null,"21 +/- Judge Score",{"$f":"SUM(H23:H25)","v":0},"Total Penalty Pts",{"$f":"SUM(J23:J25)","v":0},null,null,null,null,null,null,null,null,null,null,null,null,null,null,"Horse Showmanship"]
["100 +/-Maneuver",{"$f":"B24","v":0},"x .70 =",{"$f":"SUM((100+B27)*0.7)","v":70},null,null,"Maneuver Score",{"$f":"SUM(21+H26)","v":21},"Less Penalty Pts",{"$f":"J26","v":0},null,null,"70 +/-Maneuver",{"$f":"N25","v":0},"Less Penalty Total",{"$f":"P25","v":0},null,null,"70 +/-Maneuver",{"$f":"T23","v":0},"Less Penalty Total",{"$f":"V23","v":0},null,null,"Form & Showmanship Judges Score",null,"Total (1)",{"$f":"SUM(AB9:AB26)","v":0}]
[null,null,null,null,null,null,"CATTLE SCORE",null,null,{"$f":"SUM(H27+J27)","v":21},null,null,null,null,null,null,null,null,null,null,null,null,null,null,{"$f":"SUM(AB27*0.33+42)","v":42},{"$f":"IF(AA20=\"x\",-10,0)","v":0},"Judge Score (2)",{"$f":"SUM(Y28+Z28)","v":42}]
["Maneuver Score =",{"$f":"D27","v":70},"Less Penalty Total",{"$f":"D25","v":0},null,null,"Roping",null,null,null,null,null,null,null,null,null,null,null,null,null,null,null,null,null,"Ranch Cutting",{"$f":"IF(P30=\"\",0,P30)","v":0},"Ranch Rding",{"$f":"IF(D30=\"\",0,D30)","v":0}]
[null,null,null,null,null,null,1,null,"Penalty Points",null,null,null,null,null,null,null,null,null,null,null,null,null,null,null,"Working Ranch Horse",{"$f":"IF(J36=\"\",0,J36)","v":0},"Ranch Trail",{"$f":"IF(V30=\"\",0,V30)","v":0}]
["TOTAL SCORE",null,null,{"$f":"IF(D7=\"\",\"\",IF(B29+D29<0,0,B29+D29))","v":""},null,null,2,null,null,null,null,null,"TOTAL SCORE",null,null,{"$f":"IF(P7=\"\",\"\",IF(70+N27+P27<0,0,70+N27+P27))","v":""},null,null,"TOTAL SCORE",null,null,{"$f":"IF(V7=\"\",\"\",IF(70+T27+V27<0,0,70+T27+V27))","v":""},null,null,"Function Total (3)",{"$f":"SUM(Z29+AB29+Z30+AB30)","v":0},"Function Score (4)",{"$f":"Z31*0.1","v":0}]
[null,null,null,null,null,null,3,null,null,null,null,null,null,null,null,null,null,null,null,null,null,null,null,null,"Judge Score (2) + Function Score (4) = CONFORMATION SCORE",null,null,{"$f":"IF(AB7=\"\",\"\",IF(AB28+AB31<0,0,AB28+AB31))","v":""}]
[null,null,"Return to Entry Page",null,null,null,"21 +/- Judge Score",{"$f":"SUM(H30:H32)","v":0},"Total Penalty Pts",{"$f":"SUM(J30:J32)","v":0},null,null,null,null,"Return to Entry Page",null,null,null,null,null,"Return to Entry Page"]
[null,null,null,null,null,null,"Maneuver Score",{"$f":"SUM(21+H33)*1.1","v":23.1},"Less Penalty Pts",{"$f":"J33","v":0},null,null,null,null,null,null,null,null,null,null,null,null,null,null,null,null,"Return to Entry Page"]
[null,null,null,null,null,null,"ROPING SCORE",null,null,{"$f":"SUM(H34+J34)","v":23.1}]
[null,null,null,null,null,null,"TOTAL SCORE",null,null,{"$f":"IF(J7=\"\",\"\",IF(J21+J28+J35<0,0,J21+J28+J35))","v":""}]
[]
[null,null,null,null,null,null,null,null,"Return to Entry Page"]

{"sheet":"Intermediate 13","index":67,"n_rows":38,"n_cols":28,"rows_kept":38,"cut":false,"hidden":false,"merged":[[35,6,35,8],[30,12,30,14],[30,18,30,20],[27,6,27,8],[25,12,25,15],[27,12,29,15],[27,18,29,21],[29,8,31,8],[7,24,7,27],[34,6,34,8],[30,0,30,2],[27,0,27,3],[29,0,29,3],[31,24,31,26],[23,0,24,0],[23,1,24,1],[19,21,20,21],[20,2,20,3],[20,6,20,8],[20,14,20,15],[21,2,21,3],[18,2,18,3],[18,12,18,15],[18,20,18,21],[17,2,17,3],[17,14,17,15],[17,20,17,21],[25,0,25,3],[19,2,19,3],[19,14,19,15],[19,18,20,19],[19,20,20,20],[21,14,21,15],[21,18,21,21],[22,15,23,15],[22,8,24,8],[23,18,25,21],[22,2,22,3],[22,12,23,13],[22,14,23,14],[13,2,13,3],[13,8,14,9],[13,12,13,15],[13,20,13,21],[14,2,14,3],[14,14,14,15],[14,20,14,21],[15,2,15,3],[15,8,15,9],[15,14,15,15],[15,20,15,21],[16,2,16,3],[16,8,16,9],[16,14,16,15],[16,20,16,21],[9,2,9,3],[9,8,10,9],[9,12,9,15],[9,20,9,21],[10,2,10,3],[10,14,10,15],[10,20,10,21],[11,2,11,3],[11,8,12,9],[11,14,11,15],[11,20,11,21],[12,2,12,3],[12,14,12,15],[12,20,12,21],[7,0,7,3],[7,6,7,9],[7,12,7,15],[7,18,7,21],[8,2,8,3],[8,8,8,9],[8,14,8,15],[8,20,8,21]]}
["RIDERS SCORE WORK SHEET"]
[]
["Back Number:",{"$f":"'Entry Information'!B68","v":0},null,null,null,null,"Back Number:",{"$f":"'Entry Information'!B68","v":0},null,null,null,null,"Back Number:",{"$f":"'Entry Information'!B68","v":0},null,null,null,null,"Back Number:",{"$f":"'Entry Information'!B68","v":0},null,null,null,null,"Back Number:",{"$f":"'Entry Information'!B68","v":0}]
["Name:",{"$f":"'Entry Information'!I68","v":0},{"$f":"'Entry Information'!H68","v":0},null,null,null,"Name:",{"$f":"'Entry Information'!I68","v":0},{"$f":"'Entry Information'!H68","v":0},null,null,null,"Name:",{"$f":"'Entry Information'!I68","v":0},{"$f":"'Entry Information'!H68","v":0},null,null,null,"Name:",{"$f":"'Entry Information'!I68","v":0},{"$f":"'Entry Information'!H68","v":0},null,null,null,"Name:",{"$f":"'Entry Information'!H68","v":0},{"$f":"'Entry Information'!I68","v":0}]
["Horse Name",{"$f":"'Entry Information'!J68","v":0},null,null,null,null,"Horse Name",{"$f":"'Entry Information'!J68","v":0},null,null,null,null,"Horse Name",{"$f":"'Entry Information'!J68","v":0},null,null,null,null,"Horse Name",{"$f":"'Entry Information'!J68","v":0},null,null,null,null,"Horse Name",{"$f":"'Entry Information'!J68","v":0}]
[]
["Check box when entering Ranch Riding scores",null,null,null,null,null,"Check box when entering Working Ranch Horse scores",null,null,null,null,null,"Check box when entering Ranch Cutting scores",null,null,null,null,null,"Check box when entering Ranch Trail scores",null,null,null,null,null,"Check box when entering Conformation scores"]
["Ranch Riding",null,null,null,null,null,"Working Ranch Horse",null,null,null,null,null,"Ranch Cutting",null,null,null,null,null,"Ranch Trail",null,null,null,null,null,"Ranch Conformation"]
["Maneuver","Judge's Score +/-","Penalty Points",null,null,null,"Maneuver","Judge's Score +/-","Penalty Points",null,null,null,"Maneuver","Judge's Score +/-","Penalty Points",null,null,null,"Maneuver","Judge's Score +/-","Penalty Points",null,null,null,"Front Legs, Feet"]
[1,null,null,null,null,null,1,null,null,null,null,null,"Herd Work",null,null,null,null,null,1,null,null,null,null,null,"Chest, Pectoral V"]
[2,null,null,null,null,null,2,null,null,null,null,null,1,null,null,null,null,null,2,null,null,null,null,null,"Head"]
[3,null,null,null,null,null,3,null,null,null,null,null,2,null,null,null,null,null,3,null,null,null,null,null,"Neck & Throat Latch"]
[4,null,null,null,null,null,4,null,null,null,null,null,3,null,null,null,null,null,4,null,null,null,null,null,"Shoulders & Withers"]
[5,null,null,null,null,null,5,null,null,null,null,null,"Cutting",null,null,null,null,null,5,null,null,null,null,null,"Heart Girth & Barrel"]
[6,null,null,null,null,null,6,null,null,null,null,null,1,null,null,null,null,null,6,null,null,null,null,null,"Back & Loin"]
[7,null,null,null,null,null,7,null,null,null,null,null,2,null,null,null,null,null,7,null,null,null,null,null,"Hip & Croup"]
[8,null,null,null,null,null,8,null,null,null,null,null,3,null,null,null,null,null,8,null,null,null,null,null,"Stife & Gaskin"]
[9,null,null,null,null,null,null,null,"Total Penalty Pts",{"$f":"SUM(I10:J17)","v":0},null,null,4,null,null,null,null,null,9,null,null,null,null,null,"Hock, Hind Legs, Feet"]
[10,null,null,null,null,null,"56 +/- Judge Score",{"$f":"SUM(H10:H17)","v":0},"Divided by 2",{"$f":"SUM((56+H19)/2)","v":28},null,null,"Penning",null,null,null,null,null,10,null,null,null,null,null,"Overall Muscling"]
[11,null,null,null,null,null,"Maneuver Score",{"$f":"J19","v":28},"Less Penalty Pts",{"$f":"J18","v":0},null,null,1,null,null,null,null,null,null,null,"Major Penalties",null,null,null,"Tracking","Lame: enter an \"x\""]
[12,null,null,null,null,null,"REINING SCORE",null,null,{"$f":"SUM(H20+J20)","v":28},null,null,2,null,null,null,null,null,null,null,null,null,null,null,"Balance 1"]
[13,null,null,null,null,null,"Working Cow Horse",null,null,null,null,null,3,null,null,null,null,null,null,null,null,null,null,null,"Balance 2"]
[14,null,null,null,null,null,1,null,"Penalty Points",null,null,null,null,null,"Major Penalties",null,null,null,"Maneuver Total",{"$f":"SUM(T10:T19)","v":0},"Penalty Total",{"$f":"SUM(SUM(U10:V19)+V20)","v":0},null,null,"Balance 3"]
["Maneuver Total",{"$f":"SUM(B10:B23)","v":0},"Major Penalties",null,null,null,2,null,null,null,null,null,null,null,null,null,null,null,null,null,null,null,null,null,"Fitness & Condition"]
[null,null,"Penalty Total",{"$f":"SUM(C10:D24)","v":0},null,null,3,null,null,null,null,null,"Maneuver Total",{"$f":"SUM(N10:N22)","v":0},"Penalty Total",{"$f":"SUM(O11+O12+O13+O15+O16+O17+O18+O20+O21+O22+P23)","v":0},null,null,null,null,null,null,null,null,"Participant Showmanship"]
[null,null,null,null,null,null,"21 +/- Judge Score",{"$f":"SUM(H23:H25)","v":0},"Total Penalty Pts",{"$f":"SUM(J23:J25)","v":0},null,null,null,null,null,null,null,null,null,null,null,null,null,null,"Horse Showmanship"]
["100 +/-Maneuver",{"$f":"B24","v":0},"x .70 =",{"$f":"SUM((100+B27)*0.7)","v":70},null,null,"Maneuver Score",{"$f":"SUM(21+H26)","v":21},"Less Penalty Pts",{"$f":"J26","v":0},null,null,"70 +/-Maneuver",{"$f":"N25","v":0},"Less Penalty Total",{"$f":"P25","v":0},null,null,"70 +/-Maneuver",{"$f":"T23","v":0},"Less Penalty Total",{"$f":"V23","v":0},null,null,"Form & Showmanship Judges Score",null,"Total (1)",{"$f":"SUM(AB9:AB26)","v":0}]
[null,null,null,null,null,null,"CATTLE SCORE",null,null,{"$f":"SUM(H27+J27)","v":21},null,null,null,null,null,null,null,null,null,null,null,null,null,null,{"$f":"SUM(AB27*0.33+42)","v":42},{"$f":"IF(AA20=\"x\",-10,0)","v":0},"Judge Score (2)",{"$f":"SUM(Y28+Z28)","v":42}]
["Maneuver Score =",{"$f":"D27","v":70},"Less Penalty Total",{"$f":"D25","v":0},null,null,"Roping",null,null,null,null,null,null,null,null,null,null,null,null,null,null,null,null,null,"Ranch Cutting",{"$f":"IF(P30=\"\",0,P30)","v":0},"Ranch Rding",{"$f":"IF(D30=\"\",0,D30)","v":0}]
[null,null,null,null,null,null,1,null,"Penalty Points",null,null,null,null,null,null,null,null,null,null,null,null,null,null,null,"Working Ranch Horse",{"$f":"IF(J36=\"\",0,J36)","v":0},"Ranch Trail",{"$f":"IF(V30=\"\",0,V30)","v":0}]
["TOTAL SCORE",null,null,{"$f":"IF(D7=\"\",\"\",IF(B29+D29<0,0,B29+D29))","v":""},null,null,2,null,null,null,null,null,"TOTAL SCORE",null,null,{"$f":"IF(P7=\"\",\"\",IF(70+N27+P27<0,0,70+N27+P27))","v":""},null,null,"TOTAL SCORE",null,null,{"$f":"IF(V7=\"\",\"\",IF(70+T27+V27<0,0,70+T27+V27))","v":""},null,null,"Function Total (3)",{"$f":"SUM(Z29+AB29+Z30+AB30)","v":0},"Function Score (4)",{"$f":"Z31*0.1","v":0}]
[null,null,null,null,null,null,3,null,null,null,null,null,null,null,null,null,null,null,null,null,null,null,null,null,"Judge Score (2) + Function Score (4) = CONFORMATION SCORE",null,null,{"$f":"IF(AB7=\"\",\"\",IF(AB28+AB31<0,0,AB28+AB31))","v":""}]
[null,null,"Return to Entry Page",null,null,null,"21 +/- Judge Score",{"$f":"SUM(H30:H32)","v":0},"Total Penalty Pts",{"$f":"SUM(J30:J32)","v":0},null,null,null,null,"Return to Entry Page",null,null,null,null,null,"Return to Entry Page"]
[null,null,null,null,null,null,"Maneuver Score",{"$f":"SUM(21+H33)*1.1","v":23.1},"Less Penalty Pts",{"$f":"J33","v":0},null,null,null,null,null,null,null,null,null,null,null,null,null,null,null,null,"Return to Entry Page"]
[null,null,null,null,null,null,"ROPING SCORE",null,null,{"$f":"SUM(H34+J34)","v":23.1}]
[null,null,null,null,null,null,"TOTAL SCORE",null,null,{"$f":"IF(J7=\"\",\"\",IF(J21+J28+J35<0,0,J21+J28+J35))","v":""}]
[]
[null,null,null,null,null,null,null,null,"Return to Entry Page"]

{"sheet":"Intermediate 14","index":68,"n_rows":38,"n_cols":28,"rows_kept":38,"cut":false,"hidden":false,"merged":[[35,6,35,8],[30,12,30,14],[30,18,30,20],[27,6,27,8],[25,12,25,15],[27,12,29,15],[27,18,29,21],[29,8,31,8],[7,24,7,27],[34,6,34,8],[30,0,30,2],[27,0,27,3],[29,0,29,3],[31,24,31,26],[23,0,24,0],[23,1,24,1],[19,21,20,21],[20,2,20,3],[20,6,20,8],[20,14,20,15],[21,2,21,3],[18,2,18,3],[18,12,18,15],[18,20,18,21],[17,2,17,3],[17,14,17,15],[17,20,17,21],[25,0,25,3],[19,2,19,3],[19,14,19,15],[19,18,20,19],[19,20,20,20],[21,14,21,15],[21,18,21,21],[22,15,23,15],[22,8,24,8],[23,18,25,21],[22,2,22,3],[22,12,23,13],[22,14,23,14],[13,2,13,3],[13,8,14,9],[13,12,13,15],[13,20,13,21],[14,2,14,3],[14,14,14,15],[14,20,14,21],[15,2,15,3],[15,8,15,9],[15,14,15,15],[15,20,15,21],[16,2,16,3],[16,8,16,9],[16,14,16,15],[16,20,16,21],[9,2,9,3],[9,8,10,9],[9,12,9,15],[9,20,9,21],[10,2,10,3],[10,14,10,15],[10,20,10,21],[11,2,11,3],[11,8,12,9],[11,14,11,15],[11,20,11,21],[12,2,12,3],[12,14,12,15],[12,20,12,21],[7,0,7,3],[7,6,7,9],[7,12,7,15],[7,18,7,21],[8,2,8,3],[8,8,8,9],[8,14,8,15],[8,20,8,21]]}
["RIDERS SCORE WORK SHEET"]
[]
["Back Number:",{"$f":"'Entry Information'!B69","v":0},null,null,null,null,"Back Number:",{"$f":"'Entry Information'!B69","v":0},null,null,null,null,"Back Number:",{"$f":"'Entry Information'!B69","v":0},null,null,null,null,"Back Number:",{"$f":"'Entry Information'!B69","v":0},null,null,null,null,"Back Number:",{"$f":"'Entry Information'!B69","v":0}]
["Name:",{"$f":"'Entry Information'!I69","v":0},{"$f":"'Entry Information'!H69","v":0},null,null,null,"Name:",{"$f":"'Entry Information'!I69","v":0},{"$f":"'Entry Information'!H69","v":0},null,null,null,"Name:",{"$f":"'Entry Information'!I69","v":0},{"$f":"'Entry Information'!H69","v":0},null,null,null,"Name:",{"$f":"'Entry Information'!I69","v":0},{"$f":"'Entry Information'!H69","v":0},null,null,null,"Name:",{"$f":"'Entry Information'!H69","v":0},{"$f":"'Entry Information'!I69","v":0}]
["Horse Name",{"$f":"'Entry Information'!J69","v":0},null,null,null,null,"Horse Name",{"$f":"'Entry Information'!J69","v":0},null,null,null,null,"Horse Name",{"$f":"'Entry Information'!J69","v":0},null,null,null,null,"Horse Name",{"$f":"'Entry Information'!J69","v":0},null,null,null,null,"Horse Name",{"$f":"'Entry Information'!J69","v":0}]
[]
["Check box when entering Ranch Riding scores",null,null,null,null,null,"Check box when entering Working Ranch Horse scores",null,null,null,null,null,"Check box when entering Ranch Cutting scores",null,null,null,null,null,"Check box when entering Ranch Trail scores",null,null,null,null,null,"Check box when entering Conformation scores"]
["Ranch Riding",null,null,null,null,null,"Working Ranch Horse",null,null,null,null,null,"Ranch Cutting",null,null,null,null,null,"Ranch Trail",null,null,null,null,null,"Ranch Conformation"]
["Maneuver","Judge's Score +/-","Penalty Points",null,null,null,"Maneuver","Judge's Score +/-","Penalty Points",null,null,null,"Maneuver","Judge's Score +/-","Penalty Points",null,null,null,"Maneuver","Judge's Score +/-","Penalty Points",null,null,null,"Front Legs, Feet"]
[1,null,null,null,null,null,1,null,null,null,null,null,"Herd Work",null,null,null,null,null,1,null,null,null,null,null,"Chest, Pectoral V"]
[2,null,null,null,null,null,2,null,null,null,null,null,1,null,null,null,null,null,2,null,null,null,null,null,"Head"]
[3,null,null,null,null,null,3,null,null,null,null,null,2,null,null,null,null,null,3,null,null,null,null,null,"Neck & Throat Latch"]
[4,null,null,null,null,null,4,null,null,null,null,null,3,null,null,null,null,null,4,null,null,null,null,null,"Shoulders & Withers"]
[5,null,null,null,null,null,5,null,null,null,null,null,"Cutting",null,null,null,null,null,5,null,null,null,null,null,"Heart Girth & Barrel"]
[6,null,null,null,null,null,6,null,null,null,null,null,1,null,null,null,null,null,6,null,null,null,null,null,"Back & Loin"]
[7,null,null,null,null,null,7,null,null,null,null,null,2,null,null,null,null,null,7,null,null,null,null,null,"Hip & Croup"]
[8,null,null,null,null,null,8,null,null,null,null,null,3,null,null,null,null,null,8,null,null,null,null,null,"Stife & Gaskin"]
[9,null,null,null,null,null,null,null,"Total Penalty Pts",{"$f":"SUM(I10:J17)","v":0},null,null,4,null,null,null,null,null,9,null,null,null,null,null,"Hock, Hind Legs, Feet"]
[10,null,null,null,null,null,"56 +/- Judge Score",{"$f":"SUM(H10:H17)","v":0},"Divided by 2",{"$f":"SUM((56+H19)/2)","v":28},null,null,"Penning",null,null,null,null,null,10,null,null,null,null,null,"Overall Muscling"]
[11,null,null,null,null,null,"Maneuver Score",{"$f":"J19","v":28},"Less Penalty Pts",{"$f":"J18","v":0},null,null,1,null,null,null,null,null,null,null,"Major Penalties",null,null,null,"Tracking","Lame: enter an \"x\""]
[12,null,null,null,null,null,"REINING SCORE",null,null,{"$f":"SUM(H20+J20)","v":28},null,null,2,null,null,null,null,null,null,null,null,null,null,null,"Balance 1"]
[13,null,null,null,null,null,"Working Cow Horse",null,null,null,null,null,3,null,null,null,null,null,null,null,null,null,null,null,"Balance 2"]
[14,null,null,null,null,null,1,null,"Penalty Points",null,null,null,null,null,"Major Penalties",null,null,null,"Maneuver Total",{"$f":"SUM(T10:T19)","v":0},"Penalty Total",{"$f":"SUM(SUM(U10:V19)+V20)","v":0},null,null,"Balance 3"]
["Maneuver Total",{"$f":"SUM(B10:B23)","v":0},"Major Penalties",null,null,null,2,null,null,null,null,null,null,null,null,null,null,null,null,null,null,null,null,null,"Fitness & Condition"]
[null,null,"Penalty Total",{"$f":"SUM(C10:D24)","v":0},null,null,3,null,null,null,null,null,"Maneuver Total",{"$f":"SUM(N10:N22)","v":0},"Penalty Total",{"$f":"SUM(O11+O12+O13+O15+O16+O17+O18+O20+O21+O22+P23)","v":0},null,null,null,null,null,null,null,null,"Participant Showmanship"]
[null,null,null,null,null,null,"21 +/- Judge Score",{"$f":"SUM(H23:H25)","v":0},"Total Penalty Pts",{"$f":"SUM(J23:J25)","v":0},null,null,null,null,null,null,null,null,null,null,null,null,null,null,"Horse Showmanship"]
["100 +/-Maneuver",{"$f":"B24","v":0},"x .70 =",{"$f":"SUM((100+B27)*0.7)","v":70},null,null,"Maneuver Score",{"$f":"SUM(21+H26)","v":21},"Less Penalty Pts",{"$f":"J26","v":0},null,null,"70 +/-Maneuver",{"$f":"N25","v":0},"Less Penalty Total",{"$f":"P25","v":0},null,null,"70 +/-Maneuver",{"$f":"T23","v":0},"Less Penalty Total",{"$f":"V23","v":0},null,null,"Form & Showmanship Judges Score",null,"Total (1)",{"$f":"SUM(AB9:AB26)","v":0}]
[null,null,null,null,null,null,"CATTLE SCORE",null,null,{"$f":"SUM(H27+J27)","v":21},null,null,null,null,null,null,null,null,null,null,null,null,null,null,{"$f":"SUM(AB27*0.33+42)","v":42},{"$f":"IF(AA20=\"x\",-10,0)","v":0},"Judge Score (2)",{"$f":"SUM(Y28+Z28)","v":42}]
["Maneuver Score =",{"$f":"D27","v":70},"Less Penalty Total",{"$f":"D25","v":0},null,null,"Roping",null,null,null,null,null,null,null,null,null,null,null,null,null,null,null,null,null,"Ranch Cutting",{"$f":"IF(P30=\"\",0,P30)","v":0},"Ranch Rding",{"$f":"IF(D30=\"\",0,D30)","v":0}]
[null,null,null,null,null,null,1,null,"Penalty Points",null,null,null,null,null,null,null,null,null,null,null,null,null,null,null,"Working Ranch Horse",{"$f":"IF(J36=\"\",0,J36)","v":0},"Ranch Trail",{"$f":"IF(V30=\"\",0,V30)","v":0}]
["TOTAL SCORE",null,null,{"$f":"IF(D7=\"\",\"\",IF(B29+D29<0,0,B29+D29))","v":""},null,null,2,null,null,null,null,null,"TOTAL SCORE",null,null,{"$f":"IF(P7=\"\",\"\",IF(70+N27+P27<0,0,70+N27+P27))","v":""},null,null,"TOTAL SCORE",null,null,{"$f":"IF(V7=\"\",\"\",IF(70+T27+V27<0,0,70+T27+V27))","v":""},null,null,"Function Total (3)",{"$f":"SUM(Z29+AB29+Z30+AB30)","v":0},"Function Score (4)",{"$f":"Z31*0.1","v":0}]
[null,null,null,null,null,null,3,null,null,null,null,null,null,null,null,null,null,null,null,null,null,null,null,null,"Judge Score (2) + Function Score (4) = CONFORMATION SCORE",null,null,{"$f":"IF(AB7=\"\",\"\",IF(AB28+AB31<0,0,AB28+AB31))","v":""}]
[null,null,"Return to Entry Page",null,null,null,"21 +/- Judge Score",{"$f":"SUM(H30:H32)","v":0},"Total Penalty Pts",{"$f":"SUM(J30:J32)","v":0},null,null,null,null,"Return to Entry Page",null,null,null,null,null,"Return to Entry Page"]
[null,null,null,null,null,null,"Maneuver Score",{"$f":"SUM(21+H33)*1.1","v":23.1},"Less Penalty Pts",{"$f":"J33","v":0},null,null,null,null,null,null,null,null,null,null,null,null,null,null,null,null,"Return to Entry Page"]
[null,null,null,null,null,null,"ROPING SCORE",null,null,{"$f":"SUM(H34+J34)","v":23.1}]
[null,null,null,null,null,null,"TOTAL SCORE",null,null,{"$f":"IF(J7=\"\",\"\",IF(J21+J28+J35<0,0,J21+J28+J35))","v":""}]
[]
[null,null,null,null,null,null,null,null,"Return to Entry Page"]

{"sheet":"Intermediate 15","index":69,"n_rows":38,"n_cols":28,"rows_kept":38,"cut":false,"hidden":false,"merged":[[35,6,35,8],[30,12,30,14],[30,18,30,20],[27,6,27,8],[25,12,25,15],[27,12,29,15],[27,18,29,21],[29,8,31,8],[7,24,7,27],[34,6,34,8],[30,0,30,2],[27,0,27,3],[29,0,29,3],[31,24,31,26],[23,0,24,0],[23,1,24,1],[19,21,20,21],[20,2,20,3],[20,6,20,8],[20,14,20,15],[21,2,21,3],[18,2,18,3],[18,12,18,15],[18,20,18,21],[17,2,17,3],[17,14,17,15],[17,20,17,21],[25,0,25,3],[19,2,19,3],[19,14,19,15],[19,18,20,19],[19,20,20,20],[21,14,21,15],[21,18,21,21],[22,15,23,15],[22,8,24,8],[23,18,25,21],[22,2,22,3],[22,12,23,13],[22,14,23,14],[13,2,13,3],[13,8,14,9],[13,12,13,15],[13,20,13,21],[14,2,14,3],[14,14,14,15],[14,20,14,21],[15,2,15,3],[15,8,15,9],[15,14,15,15],[15,20,15,21],[16,2,16,3],[16,8,16,9],[16,14,16,15],[16,20,16,21],[9,2,9,3],[9,8,10,9],[9,12,9,15],[9,20,9,21],[10,2,10,3],[10,14,10,15],[10,20,10,21],[11,2,11,3],[11,8,12,9],[11,14,11,15],[11,20,11,21],[12,2,12,3],[12,14,12,15],[12,20,12,21],[7,0,7,3],[7,6,7,9],[7,12,7,15],[7,18,7,21],[8,2,8,3],[8,8,8,9],[8,14,8,15],[8,20,8,21]]}
["RIDERS SCORE WORK SHEET"]
[]
["Back Number:",{"$f":"'Entry Information'!B70","v":0},null,null,null,null,"Back Number:",{"$f":"'Entry Information'!B70","v":0},null,null,null,null,"Back Number:",{"$f":"'Entry Information'!B70","v":0},null,null,null,null,"Back Number:",{"$f":"'Entry Information'!B70","v":0},null,null,null,null,"Back Number:",{"$f":"'Entry Information'!B70","v":0}]
["Name:",{"$f":"'Entry Information'!I70","v":0},{"$f":"'Entry Information'!H70","v":0},null,null,null,"Name:",{"$f":"'Entry Information'!I70","v":0},{"$f":"'Entry Information'!H70","v":0},null,null,null,"Name:",{"$f":"'Entry Information'!I70","v":0},{"$f":"'Entry Information'!H70","v":0},null,null,null,"Name:",{"$f":"'Entry Information'!I70","v":0},{"$f":"'Entry Information'!H70","v":0},null,null,null,"Name:",{"$f":"'Entry Information'!H70","v":0},{"$f":"'Entry Information'!I70","v":0}]
["Horse Name",{"$f":"'Entry Information'!J70","v":0},null,null,null,null,"Horse Name",{"$f":"'Entry Information'!J70","v":0},null,null,null,null,"Horse Name",{"$f":"'Entry Information'!J70","v":0},null,null,null,null,"Horse Name",{"$f":"'Entry Information'!J70","v":0},null,null,null,null,"Horse Name",{"$f":"'Entry Information'!J70","v":0}]
[]
["Check box when entering Ranch Riding scores",null,null,null,null,null,"Check box when entering Working Ranch Horse scores",null,null,null,null,null,"Check box when entering Ranch Cutting scores",null,null,null,null,null,"Check box when entering Ranch Trail scores",null,null,null,null,null,"Check box when entering Conformation scores"]
["Ranch Riding",null,null,null,null,null,"Working Ranch Horse",null,null,null,null,null,"Ranch Cutting",null,null,null,null,null,"Ranch Trail",null,null,null,null,null,"Ranch Conformation"]
["Maneuver","Judge's Score +/-","Penalty Points",null,null,null,"Maneuver","Judge's Score +/-","Penalty Points",null,null,null,"Maneuver","Judge's Score +/-","Penalty Points",null,null,null,"Maneuver","Judge's Score +/-","Penalty Points",null,null,null,"Front Legs, Feet"]
[1,null,null,null,null,null,1,null,null,null,null,null,"Herd Work",null,null,null,null,null,1,null,null,null,null,null,"Chest, Pectoral V"]
[2,null,null,null,null,null,2,null,null,null,null,null,1,null,null,null,null,null,2,null,null,null,null,null,"Head"]
[3,null,null,null,null,null,3,null,null,null,null,null,2,null,null,null,null,null,3,null,null,null,null,null,"Neck & Throat Latch"]
[4,null,null,null,null,null,4,null,null,null,null,null,3,null,null,null,null,null,4,null,null,null,null,null,"Shoulders & Withers"]
[5,null,null,null,null,null,5,null,null,null,null,null,"Cutting",null,null,null,null,null,5,null,null,null,null,null,"Heart Girth & Barrel"]
[6,null,null,null,null,null,6,null,null,null,null,null,1,null,null,null,null,null,6,null,null,null,null,null,"Back & Loin"]
[7,null,null,null,null,null,7,null,null,null,null,null,2,null,null,null,null,null,7,null,null,null,null,null,"Hip & Croup"]
[8,null,null,null,null,null,8,null,null,null,null,null,3,null,null,null,null,null,8,null,null,null,null,null,"Stife & Gaskin"]
[9,null,null,null,null,null,null,null,"Total Penalty Pts",{"$f":"SUM(I10:J17)","v":0},null,null,4,null,null,null,null,null,9,null,null,null,null,null,"Hock, Hind Legs, Feet"]
[10,null,null,null,null,null,"56 +/- Judge Score",{"$f":"SUM(H10:H17)","v":0},"Divided by 2",{"$f":"SUM((56+H19)/2)","v":28},null,null,"Penning",null,null,null,null,null,10,null,null,null,null,null,"Overall Muscling"]
[11,null,null,null,null,null,"Maneuver Score",{"$f":"J19","v":28},"Less Penalty Pts",{"$f":"J18","v":0},null,null,1,null,null,null,null,null,null,null,"Major Penalties",null,null,null,"Tracking","Lame: enter an \"x\""]
[12,null,null,null,null,null,"REINING SCORE",null,null,{"$f":"SUM(H20+J20)","v":28},null,null,2,null,null,null,null,null,null,null,null,null,null,null,"Balance 1"]
[13,null,null,null,null,null,"Working Cow Horse",null,null,null,null,null,3,null,null,null,null,null,null,null,null,null,null,null,"Balance 2"]
[14,null,null,null,null,null,1,null,"Penalty Points",null,null,null,null,null,"Major Penalties",null,null,null,"Maneuver Total",{"$f":"SUM(T10:T19)","v":0},"Penalty Total",{"$f":"SUM(SUM(U10:V19)+V20)","v":0},null,null,"Balance 3"]
["Maneuver Total",{"$f":"SUM(B10:B23)","v":0},"Major Penalties",null,null,null,2,null,null,null,null,null,null,null,null,null,null,null,null,null,null,null,null,null,"Fitness & Condition"]
[null,null,"Penalty Total",{"$f":"SUM(C10:D24)","v":0},null,null,3,null,null,null,null,null,"Maneuver Total",{"$f":"SUM(N10:N22)","v":0},"Penalty Total",{"$f":"SUM(O11+O12+O13+O15+O16+O17+O18+O20+O21+O22+P23)","v":0},null,null,null,null,null,null,null,null,"Participant Showmanship"]
[null,null,null,null,null,null,"21 +/- Judge Score",{"$f":"SUM(H23:H25)","v":0},"Total Penalty Pts",{"$f":"SUM(J23:J25)","v":0},null,null,null,null,null,null,null,null,null,null,null,null,null,null,"Horse Showmanship"]
["100 +/-Maneuver",{"$f":"B24","v":0},"x .70 =",{"$f":"SUM((100+B27)*0.7)","v":70},null,null,"Maneuver Score",{"$f":"SUM(21+H26)","v":21},"Less Penalty Pts",{"$f":"J26","v":0},null,null,"70 +/-Maneuver",{"$f":"N25","v":0},"Less Penalty Total",{"$f":"P25","v":0},null,null,"70 +/-Maneuver",{"$f":"T23","v":0},"Less Penalty Total",{"$f":"V23","v":0},null,null,"Form & Showmanship Judges Score",null,"Total (1)",{"$f":"SUM(AB9:AB26)","v":0}]
[null,null,null,null,null,null,"CATTLE SCORE",null,null,{"$f":"SUM(H27+J27)","v":21},null,null,null,null,null,null,null,null,null,null,null,null,null,null,{"$f":"SUM(AB27*0.33+42)","v":42},{"$f":"IF(AA20=\"x\",-10,0)","v":0},"Judge Score (2)",{"$f":"SUM(Y28+Z28)","v":42}]
["Maneuver Score =",{"$f":"D27","v":70},"Less Penalty Total",{"$f":"D25","v":0},null,null,"Roping",null,null,null,null,null,null,null,null,null,null,null,null,null,null,null,null,null,"Ranch Cutting",{"$f":"IF(P30=\"\",0,P30)","v":0},"Ranch Rding",{"$f":"IF(D30=\"\",0,D30)","v":0}]
[null,null,null,null,null,null,1,null,"Penalty Points",null,null,null,null,null,null,null,null,null,null,null,null,null,null,null,"Working Ranch Horse",{"$f":"IF(J36=\"\",0,J36)","v":0},"Ranch Trail",{"$f":"IF(V30=\"\",0,V30)","v":0}]
["TOTAL SCORE",null,null,{"$f":"IF(D7=\"\",\"\",IF(B29+D29<0,0,B29+D29))","v":""},null,null,2,null,null,null,null,null,"TOTAL SCORE",null,null,{"$f":"IF(P7=\"\",\"\",IF(70+N27+P27<0,0,70+N27+P27))","v":""},null,null,"TOTAL SCORE",null,null,{"$f":"IF(V7=\"\",\"\",IF(70+T27+V27<0,0,70+T27+V27))","v":""},null,null,"Function Total (3)",{"$f":"SUM(Z29+AB29+Z30+AB30)","v":0},"Function Score (4)",{"$f":"Z31*0.1","v":0}]
[null,null,null,null,null,null,3,null,null,null,null,null,null,null,null,null,null,null,null,null,null,null,null,null,"Judge Score (2) + Function Score (4) = CONFORMATION SCORE",null,null,{"$f":"IF(AB7=\"\",\"\",IF(AB28+AB31<0,0,AB28+AB31))","v":""}]
[null,null,"Return to Entry Page",null,null,null,"21 +/- Judge Score",{"$f":"SUM(H30:H32)","v":0},"Total Penalty Pts",{"$f":"SUM(J30:J32)","v":0},null,null,null,null,"Return to Entry Page",null,null,null,null,null,"Return to Entry Page"]
[null,null,null,null,null,null,"Maneuver Score",{"$f":"SUM(21+H33)*1.1","v":23.1},"Less Penalty Pts",{"$f":"J33","v":0},null,null,null,null,null,null,null,null,null,null,null,null,null,null,null,null,"Return to Entry Page"]
[null,null,null,null,null,null,"ROPING SCORE",null,null,{"$f":"SUM(H34+J34)","v":23.1}]
[null,null,null,null,null,null,"TOTAL SCORE",null,null,{"$f":"IF(J7=\"\",\"\",IF(J21+J28+J35<0,0,J21+J28+J35))","v":""}]
[]
[null,null,null,null,null,null,null,null,"Return to Entry Page"]

{"sheet":"Advanced 1","index":70,"n_rows":38,"n_cols":28,"rows_kept":38,"cut":false,"hidden":false,"merged":[[34,6,34,8],[30,0,30,2],[35,6,35,8],[30,12,30,14],[30,18,30,20],[31,24,31,26],[23,0,24,0],[23,1,24,1],[23,18,25,21],[25,0,25,3],[27,6,27,8],[25,12,25,15],[27,0,27,3],[27,12,29,15],[27,18,29,21],[29,0,29,3],[29,8,31,8],[19,20,20,20],[19,21,20,21],[20,2,20,3],[20,6,20,8],[20,14,20,15],[16,14,16,15],[16,20,16,21],[22,2,22,3],[22,12,23,13],[22,14,23,14],[22,15,23,15],[22,8,24,8],[21,2,21,3],[21,14,21,15],[21,18,21,21],[18,2,18,3],[18,12,18,15],[18,20,18,21],[19,2,19,3],[19,14,19,15],[19,18,20,19],[17,2,17,3],[17,14,17,15],[17,20,17,21],[13,2,13,3],[13,8,14,9],[13,12,13,15],[13,20,13,21],[14,2,14,3],[14,14,14,15],[14,20,14,21],[15,2,15,3],[15,8,15,9],[15,14,15,15],[15,20,15,21],[16,2,16,3],[16,8,16,9],[7,24,7,27],[11,2,11,3],[11,8,12,9],[11,14,11,15],[11,20,11,21],[12,2,12,3],[12,14,12,15],[12,20,12,21],[9,2,9,3],[9,8,10,9],[9,12,9,15],[9,20,9,21],[10,2,10,3],[10,14,10,15],[10,20,10,21],[8,2,8,3],[8,8,8,9],[8,14,8,15],[8,20,8,21],[7,0,7,3],[7,6,7,9],[7,12,7,15],[7,18,7,21]]}
["RIDERS SCORE WORK SHEET"]
[]
["Back Number:",{"$f":"'Entry Information'!B71","v":5},null,null,null,null,"Back Number:",{"$f":"'Entry Information'!B71","v":5},null,null,null,null,"Back Number:",{"$f":"'Entry Information'!B71","v":5},null,null,null,null,"Back Number:",{"$f":"'Entry Information'!B71","v":5},null,null,null,null,"Back Number:",{"$f":"'Entry Information'!B71","v":5}]
["Name:",{"$f":"'Entry Information'!I71","v":"Vicky"},{"$f":"'Entry Information'!H71","v":"Henderson"},null,null,null,"Name:",{"$f":"'Entry Information'!I71","v":"Vicky"},{"$f":"'Entry Information'!H71","v":"Henderson"},null,null,null,"Name:",{"$f":"'Entry Information'!I71","v":"Vicky"},{"$f":"'Entry Information'!H71","v":"Henderson"},null,null,null,"Name:",{"$f":"'Entry Information'!I71","v":"Vicky"},{"$f":"'Entry Information'!H71","v":"Henderson"},null,null,null,"Name:",{"$f":"'Entry Information'!H71","v":"Henderson"},{"$f":"'Entry Information'!I71","v":"Vicky"}]
["Horse Name",{"$f":"'Entry Information'!J71","v":"Tatanka"},null,null,null,null,"Horse Name",{"$f":"'Entry Information'!J71","v":"Tatanka"},null,null,null,null,"Horse Name",{"$f":"'Entry Information'!J71","v":"Tatanka"},null,null,null,null,"Horse Name",{"$f":"'Entry Information'!J71","v":"Tatanka"},null,null,null,null,"Horse Name",{"$f":"'Entry Information'!J71","v":"Tatanka"}]
[]
["Check box when entering Ranch Riding scores",null,null,"x",null,null,"Check box when entering Working Ranch Horse scores",null,null,"x",null,null,"Check box when entering Ranch Cutting scores",null,null,"x",null,null,"Check box when entering Ranch Trail scores",null,null,"x",null,null,"Check box when entering Conformation scores",null,null,"x"]
["Ranch Riding",null,null,null,null,null,"Working Ranch Horse",null,null,null,null,null,"Ranch Cutting",null,null,null,null,null,"Ranch Trail",null,null,null,null,null,"Ranch Conformation"]
["Maneuver","Judge's Score +/-","Penalty Points",null,null,null,"Maneuver","Judge's Score +/-","Penalty Points",null,null,null,"Maneuver","Judge's Score +/-","Penalty Points",null,null,null,"Maneuver","Judge's Score +/-","Penalty Points",null,null,null,"Front Legs, Feet",null,null,-1]
[1,0,null,null,null,null,1,1,-1.5,null,null,null,"Herd Work",null,null,null,null,null,1,2,null,null,null,null,"Chest, Pectoral V",null,null,0]
[2,2,null,null,null,null,2,-1,null,null,null,null,1,1,null,null,null,null,2,3,null,null,null,null,"Head",null,null,0]
[3,2,null,null,null,null,3,-1,null,null,null,null,2,-1,null,null,null,null,3,0,null,null,null,null,"Neck & Throat Latch",null,null,0]
[4,2,null,null,null,null,4,0,null,null,null,null,3,-2,null,null,null,null,4,2,-1,null,null,null,"Shoulders & Withers",null,null,-1]
[5,2,null,null,null,null,5,0,null,null,null,null,"Cutting",null,null,null,null,null,5,3,null,null,null,null,"Heart Girth & Barrel",null,null,-1]
[6,1,null,null,null,null,6,-1,null,null,null,null,1,1,null,null,null,null,6,2,null,null,null,null,"Back & Loin",null,null,0]
[7,1,null,null,null,null,7,2,null,null,null,null,2,-1,null,null,null,null,7,1,null,null,null,null,"Hip & Croup",null,null,0]
[8,-1,null,null,null,null,8,-1,null,null,null,null,3,-3,null,null,null,null,8,2,null,null,null,null,"Stife & Gaskin",null,null,0]
[9,0,-1,null,null,null,null,null,"Total Penalty Pts",{"$f":"SUM(I10:J17)","v":-1.5},null,null,4,-2,null,null,null,null,9,3,null,null,null,null,"Hock, Hind Legs, Feet",null,null,-1]
[10,2,null,null,null,null,"56 +/- Judge Score",{"$f":"SUM(H10:H17)","v":-1},"Divided by 2",{"$f":"SUM((56+H19)/2)","v":27.5},null,null,"Penning",null,null,null,null,null,10,2,null,null,null,null,"Overall Muscling",null,null,0]
[11,1,null,null,null,null,"Maneuver Score",{"$f":"J19","v":27.5},"Less Penalty Pts",{"$f":"J18","v":-1.5},null,null,1,-1,null,null,null,null,null,null,"Major Penalties",null,null,null,"Tracking","Lame: enter an \"x\"",null,-1]
[12,2,null,null,null,null,"REINING SCORE",null,null,{"$f":"SUM(H20+J20)","v":26},null,null,2,1,null,null,null,null,null,null,null,null,null,null,"Balance 1",null,null,-1]
[13,1,null,null,null,null,"Working Cow Horse",null,null,null,null,null,3,0,null,null,null,null,null,null,null,null,null,null,"Balance 2",null,null,-1]
[14,1,null,null,null,null,1,0,"Penalty Points",null,null,null,null,null,"Major Penalties",null,null,null,"Maneuver Total",{"$f":"SUM(T10:T19)","v":20},"Penalty Total",{"$f":"SUM(SUM(U10:V19)+V20)","v":-1},null,null,"Balance 3",null,null,-1]
["Maneuver Total",{"$f":"SUM(B10:B23)","v":16},"Major Penalties",null,null,null,2,2,null,null,null,null,null,null,null,null,null,null,null,null,null,null,null,null,"Fitness & Condition",null,null,1]
[null,null,"Penalty Total",{"$f":"SUM(C10:D24)","v":-1},null,null,3,2,null,null,null,null,"Maneuver Total",{"$f":"SUM(N10:N22)","v":-7},"Penalty Total",{"$f":"SUM(O11+O12+O13+O15+O16+O17+O18+O20+O21+O22+P23)","v":0},null,null,null,null,null,null,null,null,"Participant Showmanship",null,null,-1]
[null,null,null,null,null,null,"21 +/- Judge Score",{"$f":"SUM(H23:H25)","v":4},"Total Penalty Pts",{"$f":"SUM(J23:J25)","v":0},null,null,null,null,null,null,null,null,null,null,null,null,null,null,"Horse Showmanship",null,null,0]
["100 +/-Maneuver",{"$f":"B24","v":16},"x .70 =",{"$f":"SUM((100+B27)*0.7)","v":81.199999999999989},null,null,"Maneuver Score",{"$f":"SUM(21+H26)","v":25},"Less Penalty Pts",{"$f":"J26","v":0},null,null,"70 +/-Maneuver",{"$f":"N25","v":-7},"Less Penalty Total",{"$f":"P25","v":0},null,null,"70 +/-Maneuver",{"$f":"T23","v":20},"Less Penalty Total",{"$f":"V23","v":-1},null,null,"Form & Showmanship Judges Score",null,"Total (1)",{"$f":"SUM(AB9:AB26)","v":-8}]
[null,null,null,null,null,null,"CATTLE SCORE",null,null,{"$f":"SUM(H27+J27)","v":25},null,null,null,null,null,null,null,null,null,null,null,null,null,null,{"$f":"SUM(AB27*0.33+42)","v":39.36},{"$f":"IF(AA20=\"x\",-10,0)","v":0},"Judge Score (2)",{"$f":"SUM(Y28+Z28)","v":39.36}]
["Maneuver Score =",{"$f":"D27","v":81.199999999999989},"Less Penalty Total",{"$f":"D25","v":-1},null,null,"Roping",null,null,null,null,null,null,null,null,null,null,null,null,null,null,null,null,null,"Ranch Cutting",{"$f":"IF(P31=\"\",0,P31)","v":63},"Ranch Rding",{"$f":"IF(D31=\"\",0,D31)","v":80.199999999999989}]
[null,null,null,null,null,null,1,0,"Penalty Points",null,null,null,null,null,null,null,null,null,null,null,null,null,null,null,"Working Ranch Horse",{"$f":"IF(J36=\"\",0,J36)","v":60.8},"Ranch Trail",{"$f":"IF(V31=\"\",0,V31)","v":89}]
["TOTAL SCORE",null,null,{"$f":"IF(D7=\"\",\"\",IF(B29+D29<0,0,B29+D29))","v":80.199999999999989},null,null,2,0,null,null,null,null,"TOTAL SCORE",null,null,{"$f":"IF(P7=\"\",\"\",IF(70+N27+P27<0,0,70+N27+P27))","v":63},null,null,"TOTAL SCORE",null,null,{"$f":"IF(V7=\"\",\"\",IF(70+T27+V27<0,0,70+T27+V27))","v":89},null,null,"Function Total (3)",{"$f":"SUM(Z29+AB29+Z30+AB30)","v":293},"Function Score (4)",{"$f":"Z31*0.1","v":29.3}]
[null,null,null,null,null,null,3,-3,null,-10,null,null,null,null,null,null,null,null,null,null,null,null,null,null,"Judge Score (2) + Function Score (4) = CONFORMATION SCORE",null,null,{"$f":"IF(AB7=\"\",\"\",IF(AB28+AB31<0,0,AB28+AB31))","v":68.66}]
[null,null,"Return to Entry Page",null,null,null,"21 +/- Judge Score",{"$f":"SUM(H30:H32)","v":-3},"Total Penalty Pts",{"$f":"SUM(J30:J32)","v":-10},null,null,null,null,"Return to Entry Page",null,null,null,null,null,"Return to Entry Page"]
[null,null,null,null,null,null,"Maneuver Score",{"$f":"SUM(21+H33)*1.1","v":19.8},"Less Penalty Pts",{"$f":"J33","v":-10},null,null,null,null,null,null,null,null,null,null,null,null,null,null,null,null,"Return to Entry Page"]
[null,null,null,null,null,null,"ROPING SCORE",null,null,{"$f":"SUM(H34+J34)","v":9.8000000000000007}]
[null,null,null,null,null,null,"TOTAL SCORE",null,null,{"$f":"IF(J7=\"\",\"\",IF(J21+J28+J35<0,0,J21+J28+J35))","v":60.8}]
[]
[null,null,null,null,null,null,null,null,"Return to Entry Page"]

{"sheet":"Advanced 2","index":71,"n_rows":38,"n_cols":28,"rows_kept":38,"cut":false,"hidden":false,"merged":[[34,6,34,8],[30,0,30,2],[35,6,35,8],[30,12,30,14],[30,18,30,20],[31,24,31,26],[23,0,24,0],[23,1,24,1],[23,18,25,21],[25,0,25,3],[27,6,27,8],[25,12,25,15],[27,0,27,3],[27,12,29,15],[27,18,29,21],[29,0,29,3],[29,8,31,8],[19,20,20,20],[19,21,20,21],[20,2,20,3],[20,6,20,8],[20,14,20,15],[16,14,16,15],[16,20,16,21],[22,2,22,3],[22,12,23,13],[22,14,23,14],[22,15,23,15],[22,8,24,8],[21,2,21,3],[21,14,21,15],[21,18,21,21],[18,2,18,3],[18,12,18,15],[18,20,18,21],[19,2,19,3],[19,14,19,15],[19,18,20,19],[17,2,17,3],[17,14,17,15],[17,20,17,21],[13,2,13,3],[13,8,14,9],[13,12,13,15],[13,20,13,21],[14,2,14,3],[14,14,14,15],[14,20,14,21],[15,2,15,3],[15,8,15,9],[15,14,15,15],[15,20,15,21],[16,2,16,3],[16,8,16,9],[7,24,7,27],[11,2,11,3],[11,8,12,9],[11,14,11,15],[11,20,11,21],[12,2,12,3],[12,14,12,15],[12,20,12,21],[9,2,9,3],[9,8,10,9],[9,12,9,15],[9,20,9,21],[10,2,10,3],[10,14,10,15],[10,20,10,21],[8,2,8,3],[8,8,8,9],[8,14,8,15],[8,20,8,21],[7,0,7,3],[7,6,7,9],[7,12,7,15],[7,18,7,21]]}
["RIDERS SCORE WORK SHEET"]
[]
["Back Number:",{"$f":"'Entry Information'!B72","v":3},null,null,null,null,"Back Number:",{"$f":"'Entry Information'!B72","v":3},null,null,null,null,"Back Number:",{"$f":"'Entry Information'!B72","v":3},null,null,null,null,"Back Number:",{"$f":"'Entry Information'!B72","v":3},null,null,null,null,"Back Number:",{"$f":"'Entry Information'!B72","v":3}]
["Name:",{"$f":"'Entry Information'!I72","v":"Shelley"},{"$f":"'Entry Information'!H72","v":"Johnsen"},null,null,null,"Name:",{"$f":"'Entry Information'!I72","v":"Shelley"},{"$f":"'Entry Information'!H72","v":"Johnsen"},null,null,null,"Name:",{"$f":"'Entry Information'!I72","v":"Shelley"},{"$f":"'Entry Information'!H72","v":"Johnsen"},null,null,null,"Name:",{"$f":"'Entry Information'!I72","v":"Shelley"},{"$f":"'Entry Information'!H72","v":"Johnsen"},null,null,null,"Name:",{"$f":"'Entry Information'!H72","v":"Johnsen"},{"$f":"'Entry Information'!I72","v":"Shelley"}]
["Horse Name",{"$f":"'Entry Information'!J72","v":"Unbranded"},null,null,null,null,"Horse Name",{"$f":"'Entry Information'!J72","v":"Unbranded"},null,null,null,null,"Horse Name",{"$f":"'Entry Information'!J72","v":"Unbranded"},null,null,null,null,"Horse Name",{"$f":"'Entry Information'!J72","v":"Unbranded"},null,null,null,null,"Horse Name",{"$f":"'Entry Information'!J72","v":"Unbranded"}]
[]
["Check box when entering Ranch Riding scores",null,null,"x",null,null,"Check box when entering Working Ranch Horse scores",null,null,"x",null,null,"Check box when entering Ranch Cutting scores",null,null,"x",null,null,"Check box when entering Ranch Trail scores",null,null,"x",null,null,"Check box when entering Conformation scores",null,null,"x"]
["Ranch Riding",null,null,null,null,null,"Working Ranch Horse",null,null,null,null,null,"Ranch Cutting",null,null,null,null,null,"Ranch Trail",null,null,null,null,null,"Ranch Conformation"]
["Maneuver","Judge's Score +/-","Penalty Points",null,null,null,"Maneuver","Judge's Score +/-","Penalty Points",null,null,null,"Maneuver","Judge's Score +/-","Penalty Points",null,null,null,"Maneuver","Judge's Score +/-","Penalty Points",null,null,null,"Front Legs, Feet",null,null,0]
[1,0,null,null,null,null,1,-1,null,null,null,null,"Herd Work",null,null,null,null,null,1,2,null,null,null,null,"Chest, Pectoral V",null,null,2]
[2,1,null,null,null,null,2,0,null,null,null,null,1,0,null,null,null,null,2,3,null,null,null,null,"Head",null,null,2]
[3,0,null,null,null,null,3,-2,null,null,null,null,2,0,null,null,null,null,3,-2,null,null,null,null,"Neck & Throat Latch",null,null,3]
[4,2,null,null,null,null,4,0,null,null,null,null,3,1,null,null,null,null,4,2,-1.5,null,null,null,"Shoulders & Withers",null,null,2]
[5,1,null,null,null,null,5,0,null,null,null,null,"Cutting",null,null,null,null,null,5,3,null,null,null,null,"Heart Girth & Barrel",null,null,1]
[6,1,null,null,null,null,6,0,null,null,null,null,1,0,null,null,null,null,6,3,null,null,null,null,"Back & Loin",null,null,2]
[7,1,null,null,null,null,7,1,null,null,null,null,2,-1,null,null,null,null,7,3,null,null,null,null,"Hip & Croup",null,null,2]
[8,3,null,null,null,null,8,-1,null,null,null,null,3,1,null,null,null,null,8,3,null,null,null,null,"Stife & Gaskin",null,null,1]
[9,2,null,null,null,null,null,null,"Total Penalty Pts",{"$f":"SUM(I10:J17)","v":0},null,null,4,0,null,null,null,null,9,2,null,null,null,null,"Hock, Hind Legs, Feet",null,null,1]
[10,1,null,null,null,null,"56 +/- Judge Score",{"$f":"SUM(H10:H17)","v":-3},"Divided by 2",{"$f":"SUM((56+H19)/2)","v":26.5},null,null,"Penning",null,null,null,null,null,10,3,null,null,null,null,"Overall Muscling",null,null,2]
[11,-1,null,null,null,null,"Maneuver Score",{"$f":"J19","v":26.5},"Less Penalty Pts",{"$f":"J18","v":0},null,null,1,1,null,null,null,null,null,null,"Major Penalties",null,null,null,"Tracking","Lame: enter an \"x\"",null,1]
[12,1,null,null,null,null,"REINING SCORE",null,null,{"$f":"SUM(H20+J20)","v":26.5},null,null,2,1,null,null,null,null,null,null,null,null,null,null,"Balance 1",null,null,3]
[13,1,null,null,null,null,"Working Cow Horse",null,null,null,null,null,3,2,null,null,null,null,null,null,null,null,null,null,"Balance 2",null,null,3]
[14,2,null,null,null,null,1,-2,"Penalty Points",-2,null,null,null,null,"Major Penalties",null,null,null,"Maneuver Total",{"$f":"SUM(T10:T19)","v":22},"Penalty Total",{"$f":"SUM(SUM(U10:V19)+V20)","v":-1.5},null,null,"Balance 3",null,null,3]
["Maneuver Total",{"$f":"SUM(B10:B23)","v":15},"Major Penalties",null,null,null,2,0,null,null,null,null,null,null,null,null,null,null,null,null,null,null,null,null,"Fitness & Condition",null,null,1]
[null,null,"Penalty Total",{"$f":"SUM(C10:D24)","v":0},null,null,3,0,null,null,null,null,"Maneuver Total",{"$f":"SUM(N10:N22)","v":5},"Penalty Total",{"$f":"SUM(O11+O12+O13+O15+O16+O17+O18+O20+O21+O22+P23)","v":0},null,null,null,null,null,null,null,null,"Participant Showmanship",null,null,1]
[null,null,null,null,null,null,"21 +/- Judge Score",{"$f":"SUM(H23:H25)","v":-2},"Total Penalty Pts",{"$f":"SUM(J23:J25)","v":-2},null,null,null,null,null,null,null,null,null,null,null,null,null,null,"Horse Showmanship",null,null,1]
["100 +/-Maneuver",{"$f":"B24","v":15},"x .70 =",{"$f":"SUM((100+B27)*0.7)","v":80.5},null,null,"Maneuver Score",{"$f":"SUM(21+H26)","v":19},"Less Penalty Pts",{"$f":"J26","v":-2},null,null,"70 +/-Maneuver",{"$f":"N25","v":5},"Less Penalty Total",{"$f":"P25","v":0},null,null,"70 +/-Maneuver",{"$f":"T23","v":22},"Less Penalty Total",{"$f":"V23","v":-1.5},null,null,"Form & Showmanship Judges Score",null,"Total (1)",{"$f":"SUM(AB9:AB26)","v":31}]
[null,null,null,null,null,null,"CATTLE SCORE",null,null,{"$f":"SUM(H27+J27)","v":17},null,null,null,null,null,null,null,null,null,null,null,null,null,null,{"$f":"SUM(AB27*0.33+42)","v":52.230000000000004},{"$f":"IF(AA20=\"x\",-10,0)","v":0},"Judge Score (2)",{"$f":"SUM(Y28+Z28)","v":52.230000000000004}]
["Maneuver Score =",{"$f":"D27","v":80.5},"Less Penalty Total",{"$f":"D25","v":0},null,null,"Roping",null,null,null,null,null,null,null,null,null,null,null,null,null,null,null,null,null,"Ranch Cutting",{"$f":"IF(P31=\"\",0,P31)","v":75},"Ranch Rding",{"$f":"IF(D31=\"\",0,D31)","v":80.5}]
[null,null,null,null,null,null,1,-2,"Penalty Points",null,null,null,null,null,null,null,null,null,null,null,null,null,null,null,"Working Ranch Horse",{"$f":"IF(J36=\"\",0,J36)","v":48.900000000000006},"Ranch Trail",{"$f":"IF(V31=\"\",0,V31)","v":90.5}]
["TOTAL SCORE",null,null,{"$f":"IF(D7=\"\",\"\",IF(B29+D29<0,0,B29+D29))","v":80.5},null,null,2,-2,null,null,null,null,"TOTAL SCORE",null,null,{"$f":"IF(P7=\"\",\"\",IF(70+N27+P27<0,0,70+N27+P27))","v":75},null,null,"TOTAL SCORE",null,null,{"$f":"IF(V7=\"\",\"\",IF(70+T27+V27<0,0,70+T27+V27))","v":90.5},null,null,"Function Total (3)",{"$f":"SUM(Z29+AB29+Z30+AB30)","v":294.89999999999998},"Function Score (4)",{"$f":"Z31*0.1","v":29.49}]
[null,null,null,null,null,null,3,-3,null,-10,null,null,null,null,null,null,null,null,null,null,null,null,null,null,"Judge Score (2) + Function Score (4) = CONFORMATION SCORE",null,null,{"$f":"IF(AB7=\"\",\"\",IF(AB28+AB31<0,0,AB28+AB31))","v":81.72}]
[null,null,"Return to Entry Page",null,null,null,"21 +/- Judge Score",{"$f":"SUM(H30:H32)","v":-7},"Total Penalty Pts",{"$f":"SUM(J30:J32)","v":-10},null,null,null,null,"Return to Entry Page",null,null,null,null,null,"Return to Entry Page"]
[null,null,null,null,null,null,"Maneuver Score",{"$f":"SUM(21+H33)*1.1","v":15.400000000000002},"Less Penalty Pts",{"$f":"J33","v":-10},null,null,null,null,null,null,null,null,null,null,null,null,null,null,null,null,"Return to Entry Page"]
[null,null,null,null,null,null,"ROPING SCORE",null,null,{"$f":"SUM(H34+J34)","v":5.4000000000000021}]
[null,null,null,null,null,null,"TOTAL SCORE",null,null,{"$f":"IF(J7=\"\",\"\",IF(J21+J28+J35<0,0,J21+J28+J35))","v":48.900000000000006}]
[]
[null,null,null,null,null,null,null,null,"Return to Entry Page"]

{"sheet":"Advanced 3","index":72,"n_rows":38,"n_cols":28,"rows_kept":38,"cut":false,"hidden":false,"merged":[[34,6,34,8],[30,0,30,2],[35,6,35,8],[30,12,30,14],[30,18,30,20],[31,24,31,26],[23,0,24,0],[23,1,24,1],[23,18,25,21],[25,0,25,3],[27,6,27,8],[25,12,25,15],[27,0,27,3],[27,12,29,15],[27,18,29,21],[29,0,29,3],[29,8,31,8],[19,20,20,20],[19,21,20,21],[20,2,20,3],[20,6,20,8],[20,14,20,15],[16,14,16,15],[16,20,16,21],[22,2,22,3],[22,12,23,13],[22,14,23,14],[22,15,23,15],[22,8,24,8],[21,2,21,3],[21,14,21,15],[21,18,21,21],[18,2,18,3],[18,12,18,15],[18,20,18,21],[19,2,19,3],[19,14,19,15],[19,18,20,19],[17,2,17,3],[17,14,17,15],[17,20,17,21],[13,2,13,3],[13,8,14,9],[13,12,13,15],[13,20,13,21],[14,2,14,3],[14,14,14,15],[14,20,14,21],[15,2,15,3],[15,8,15,9],[15,14,15,15],[15,20,15,21],[16,2,16,3],[16,8,16,9],[7,24,7,27],[11,2,11,3],[11,8,12,9],[11,14,11,15],[11,20,11,21],[12,2,12,3],[12,14,12,15],[12,20,12,21],[9,2,9,3],[9,8,10,9],[9,12,9,15],[9,20,9,21],[10,2,10,3],[10,14,10,15],[10,20,10,21],[8,2,8,3],[8,8,8,9],[8,14,8,15],[8,20,8,21],[7,0,7,3],[7,6,7,9],[7,12,7,15],[7,18,7,21]]}
["RIDERS SCORE WORK SHEET"]
[]
["Back Number:",null,null,null,null,null,"Back Number:",{"$f":"'Entry Information'!B73","v":0},null,null,null,null,"Back Number:",{"$f":"'Entry Information'!B73","v":0},null,null,null,null,"Back Number:",{"$f":"'Entry Information'!B73","v":0},null,null,null,null,"Back Number:",{"$f":"'Entry Information'!B73","v":0}]
["Name:",{"$f":"'Entry Information'!I73","v":0},{"$f":"'Entry Information'!H73","v":0},null,null,null,"Name:",{"$f":"'Entry Information'!I73","v":0},{"$f":"'Entry Information'!H73","v":0},null,null,null,"Name:",{"$f":"'Entry Information'!I73","v":0},{"$f":"'Entry Information'!H73","v":0},null,null,null,"Name:",{"$f":"'Entry Information'!I73","v":0},{"$f":"'Entry Information'!H73","v":0},null,null,null,"Name:",{"$f":"'Entry Information'!H73","v":0},{"$f":"'Entry Information'!I73","v":0}]
["Horse Name",{"$f":"'Entry Information'!J73","v":0},null,null,null,null,"Horse Name",{"$f":"'Entry Information'!J73","v":0},null,null,null,null,"Horse Name",{"$f":"'Entry Information'!J73","v":0},null,null,null,null,"Horse Name",{"$f":"'Entry Information'!J73","v":0},null,null,null,null,"Horse Name",{"$f":"'Entry Information'!J73","v":0}]
[]
["Check box when entering Ranch Riding scores",null,null,null,null,null,"Check box when entering Working Ranch Horse scores",null,null,null,null,null,"Check box when entering Ranch Cutting scores",null,null,null,null,null,"Check box when entering Ranch Trail scores",null,null,null,null,null,"Check box when entering Conformation scores"]
["Ranch Riding",null,null,null,null,null,"Working Ranch Horse",null,null,null,null,null,"Ranch Cutting",null,null,null,null,null,"Ranch Trail",null,null,null,null,null,"Ranch Conformation"]
["Maneuver","Judge's Score +/-","Penalty Points",null,null,null,"Maneuver","Judge's Score +/-","Penalty Points",null,null,null,"Maneuver","Judge's Score +/-","Penalty Points",null,null,null,"Maneuver","Judge's Score +/-","Penalty Points",null,null,null,"Front Legs, Feet"]
[1,null,null,null,null,null,1,null,null,null,null,null,"Herd Work",null,null,null,null,null,1,null,null,null,null,null,"Chest, Pectoral V"]
[2,null,null,null,null,null,2,null,null,null,null,null,1,null,null,null,null,null,2,null,null,null,null,null,"Head"]
[3,null,null,null,null,null,3,null,null,null,null,null,2,null,null,null,null,null,3,null,null,null,null,null,"Neck & Throat Latch"]
[4,null,null,null,null,null,4,null,null,null,null,null,3,null,null,null,null,null,4,null,null,null,null,null,"Shoulders & Withers"]
[5,null,null,null,null,null,5,null,null,null,null,null,"Cutting",null,null,null,null,null,5,null,null,null,null,null,"Heart Girth & Barrel"]
[6,null,null,null,null,null,6,null,null,null,null,null,1,null,null,null,null,null,6,null,null,null,null,null,"Back & Loin"]
[7,null,null,null,null,null,7,null,null,null,null,null,2,null,null,null,null,null,7,null,null,null,null,null,"Hip & Croup"]
[8,null,null,null,null,null,8,null,null,null,null,null,3,null,null,null,null,null,8,null,null,null,null,null,"Stife & Gaskin"]
[9,null,null,null,null,null,null,null,"Total Penalty Pts",{"$f":"SUM(I10:J17)","v":0},null,null,4,null,null,null,null,null,9,null,null,null,null,null,"Hock, Hind Legs, Feet"]
[10,null,null,null,null,null,"56 +/- Judge Score",{"$f":"SUM(H10:H17)","v":0},"Divided by 2",{"$f":"SUM((56+H19)/2)","v":28},null,null,"Penning",null,null,null,null,null,10,null,null,null,null,null,"Overall Muscling"]
[11,null,null,null,null,null,"Maneuver Score",{"$f":"J19","v":28},"Less Penalty Pts",{"$f":"J18","v":0},null,null,1,null,null,null,null,null,null,null,"Major Penalties",null,null,null,"Tracking","Lame: enter an \"x\""]
[12,null,null,null,null,null,"REINING SCORE",null,null,{"$f":"SUM(H20+J20)","v":28},null,null,2,null,null,null,null,null,null,null,null,null,null,null,"Balance 1"]
[13,null,null,null,null,null,"Working Cow Horse",null,null,null,null,null,3,null,null,null,null,null,null,null,null,null,null,null,"Balance 2"]
[14,null,null,null,null,null,1,null,"Penalty Points",null,null,null,null,null,"Major Penalties",null,null,null,"Maneuver Total",{"$f":"SUM(T10:T19)","v":0},"Penalty Total",{"$f":"SUM(SUM(U10:V19)+V20)","v":0},null,null,"Balance 3"]
["Maneuver Total",{"$f":"SUM(B10:B23)","v":0},"Major Penalties",null,null,null,2,null,null,null,null,null,null,null,null,null,null,null,null,null,null,null,null,null,"Fitness & Condition"]
[null,null,"Penalty Total",{"$f":"SUM(C10:D24)","v":0},null,null,3,null,null,null,null,null,"Maneuver Total",{"$f":"SUM(N10:N22)","v":0},"Penalty Total",{"$f":"SUM(O11+O12+O13+O15+O16+O17+O18+O20+O21+O22+P23)","v":0},null,null,null,null,null,null,null,null,"Participant Showmanship"]
[null,null,null,null,null,null,"21 +/- Judge Score",{"$f":"SUM(H23:H25)","v":0},"Total Penalty Pts",{"$f":"SUM(J23:J25)","v":0},null,null,null,null,null,null,null,null,null,null,null,null,null,null,"Horse Showmanship"]
["100 +/-Maneuver",{"$f":"B24","v":0},"x .70 =",{"$f":"SUM((100+B27)*0.7)","v":70},null,null,"Maneuver Score",{"$f":"SUM(21+H26)","v":21},"Less Penalty Pts",{"$f":"J26","v":0},null,null,"70 +/-Maneuver",{"$f":"N25","v":0},"Less Penalty Total",{"$f":"P25","v":0},null,null,"70 +/-Maneuver",{"$f":"T23","v":0},"Less Penalty Total",{"$f":"V23","v":0},null,null,"Form & Showmanship Judges Score",null,"Total (1)",{"$f":"SUM(AB9:AB26)","v":0}]
[null,null,null,null,null,null,"CATTLE SCORE",null,null,{"$f":"SUM(H27+J27)","v":21},null,null,null,null,null,null,null,null,null,null,null,null,null,null,{"$f":"SUM(AB27*0.33+42)","v":42},{"$f":"IF(AA20=\"x\",-10,0)","v":0},"Judge Score (2)",{"$f":"SUM(Y28+Z28)","v":42}]
["Maneuver Score =",{"$f":"D27","v":70},"Less Penalty Total",{"$f":"D25","v":0},null,null,"Roping",null,null,null,null,null,null,null,null,null,null,null,null,null,null,null,null,null,"Ranch Cutting",{"$f":"IF(P31=\"\",0,P31)","v":0},"Ranch Rding",{"$f":"IF(D31=\"\",0,D31)","v":0}]
[null,null,null,null,null,null,1,null,"Penalty Points",null,null,null,null,null,null,null,null,null,null,null,null,null,null,null,"Working Ranch Horse",{"$f":"IF(J36=\"\",0,J36)","v":0},"Ranch Trail",{"$f":"IF(V31=\"\",0,V31)","v":0}]
["TOTAL SCORE",null,null,{"$f":"IF(D7=\"\",\"\",IF(B29+D29<0,0,B29+D29))","v":""},null,null,2,null,null,null,null,null,"TOTAL SCORE",null,null,{"$f":"IF(P7=\"\",\"\",IF(70+N27+P27<0,0,70+N27+P27))","v":""},null,null,"TOTAL SCORE",null,null,{"$f":"IF(V7=\"\",\"\",IF(70+T27+V27<0,0,70+T27+V27))","v":""},null,null,"Function Total (3)",{"$f":"SUM(Z29+AB29+Z30+AB30)","v":0},"Function Score (4)",{"$f":"Z31*0.1","v":0}]
[null,null,null,null,null,null,3,null,null,null,null,null,null,null,null,null,null,null,null,null,null,null,null,null,"Judge Score (2) + Function Score (4) = CONFORMATION SCORE",null,null,{"$f":"IF(AB7=\"\",\"\",IF(AB28+AB31<0,0,AB28+AB31))","v":""}]
[null,null,"Return to Entry Page",null,null,null,"21 +/- Judge Score",{"$f":"SUM(H30:H32)","v":0},"Total Penalty Pts",{"$f":"SUM(J30:J32)","v":0},null,null,null,null,"Return to Entry Page",null,null,null,null,null,"Return to Entry Page"]
[null,null,null,null,null,null,"Maneuver Score",{"$f":"SUM(21+H33)*1.1","v":23.1},"Less Penalty Pts",{"$f":"J33","v":0},null,null,null,null,null,null,null,null,null,null,null,null,null,null,null,null,"Return to Entry Page"]
[null,null,null,null,null,null,"ROPING SCORE",null,null,{"$f":"SUM(H34+J34)","v":23.1}]
[null,null,null,null,null,null,"TOTAL SCORE",null,null,{"$f":"IF(J7=\"\",\"\",IF(J21+J28+J35<0,0,J21+J28+J35))","v":""}]
[]
[null,null,null,null,null,null,null,null,"Return to Entry Page"]

{"sheet":"Advanced 4","index":73,"n_rows":38,"n_cols":28,"rows_kept":38,"cut":false,"hidden":false,"merged":[[34,6,34,8],[30,0,30,2],[35,6,35,8],[30,12,30,14],[30,18,30,20],[31,24,31,26],[23,0,24,0],[23,1,24,1],[23,18,25,21],[25,0,25,3],[27,6,27,8],[25,12,25,15],[27,0,27,3],[27,12,29,15],[27,18,29,21],[29,0,29,3],[29,8,31,8],[19,20,20,20],[19,21,20,21],[20,2,20,3],[20,6,20,8],[20,14,20,15],[16,14,16,15],[16,20,16,21],[22,2,22,3],[22,12,23,13],[22,14,23,14],[22,15,23,15],[22,8,24,8],[21,2,21,3],[21,14,21,15],[21,18,21,21],[18,2,18,3],[18,12,18,15],[18,20,18,21],[19,2,19,3],[19,14,19,15],[19,18,20,19],[17,2,17,3],[17,14,17,15],[17,20,17,21],[13,2,13,3],[13,8,14,9],[13,12,13,15],[13,20,13,21],[14,2,14,3],[14,14,14,15],[14,20,14,21],[15,2,15,3],[15,8,15,9],[15,14,15,15],[15,20,15,21],[16,2,16,3],[16,8,16,9],[7,24,7,27],[11,2,11,3],[11,8,12,9],[11,14,11,15],[11,20,11,21],[12,2,12,3],[12,14,12,15],[12,20,12,21],[9,2,9,3],[9,8,10,9],[9,12,9,15],[9,20,9,21],[10,2,10,3],[10,14,10,15],[10,20,10,21],[8,2,8,3],[8,8,8,9],[8,14,8,15],[8,20,8,21],[7,0,7,3],[7,6,7,9],[7,12,7,15],[7,18,7,21]]}
["RIDERS SCORE WORK SHEET"]
[null,null,null,null,null,null,null,null,null,null,null,null,null,null,null,null,null,null,null,"Entry Information'!A72"]
["Back Number:",{"$f":"'Entry Information'!B74","v":0},null,null,null,null,"Back Number:",{"$f":"'Entry Information'!B74","v":0},null,null,null,null,"Back Number:",{"$f":"'Entry Information'!B74","v":0},null,null,null,null,"Back Number:",{"$f":"'Entry Information'!B74","v":0},null,null,null,null,"Back Number:",{"$f":"'Entry Information'!B74","v":0}]
["Name:",{"$f":"'Entry Information'!I74","v":0},{"$f":"'Entry Information'!H74","v":0},null,null,null,"Name:",{"$f":"'Entry Information'!I74","v":0},{"$f":"'Entry Information'!H74","v":0},null,null,null,"Name:",{"$f":"'Entry Information'!I74","v":0},{"$f":"'Entry Information'!H74","v":0},null,null,null,"Name:",{"$f":"'Entry Information'!I74","v":0},{"$f":"'Entry Information'!H74","v":0},null,null,null,"Name:",{"$f":"'Entry Information'!H74","v":0},{"$f":"'Entry Information'!I74","v":0}]
["Horse Name",{"$f":"'Entry Information'!J74","v":0},null,null,null,null,"Horse Name",{"$f":"'Entry Information'!J74","v":0},null,null,null,null,"Horse Name",{"$f":"'Entry Information'!J74","v":0},null,null,null,null,"Horse Name",{"$f":"'Entry Information'!J74","v":0},null,null,null,null,"Horse Name",{"$f":"'Entry Information'!J74","v":0}]
[]
["Check box when entering Ranch Riding scores",null,null,null,null,null,"Check box when entering Working Ranch Horse scores",null,null,null,null,null,"Check box when entering Ranch Cutting scores",null,null,null,null,null,"Check box when entering Ranch Trail scores",null,null,null,null,null,"Check box when entering Conformation scores"]
["Ranch Riding",null,null,null,null,null,"Working Ranch Horse",null,null,null,null,null,"Ranch Cutting",null,null,null,null,null,"Ranch Trail",null,null,null,null,null,"Ranch Conformation"]
["Maneuver","Judge's Score +/-","Penalty Points",null,null,null,"Maneuver","Judge's Score +/-","Penalty Points",null,null,null,"Maneuver","Judge's Score +/-","Penalty Points",null,null,null,"Maneuver","Judge's Score +/-","Penalty Points",null,null,null,"Front Legs, Feet"]
[1,null,null,null,null,null,1,null,null,null,null,null,"Herd Work",null,null,null,null,null,1,null,null,null,null,null,"Chest, Pectoral V"]
[2,null,null,null,null,null,2,null,null,null,null,null,1,null,null,null,null,null,2,null,null,null,null,null,"Head"]
[3,null,null,null,null,null,3,null,null,null,null,null,2,null,null,null,null,null,3,null,null,null,null,null,"Neck & Throat Latch"]
[4,null,null,null,null,null,4,null,null,null,null,null,3,null,null,null,null,null,4,null,null,null,null,null,"Shoulders & Withers"]
[5,null,null,null,null,null,5,null,null,null,null,null,"Cutting",null,null,null,null,null,5,null,null,null,null,null,"Heart Girth & Barrel"]
[6,null,null,null,null,null,6,null,null,null,null,null,1,null,null,null,null,null,6,null,null,null,null,null,"Back & Loin"]
[7,null,null,null,null,null,7,null,null,null,null,null,2,null,null,null,null,null,7,null,null,null,null,null,"Hip & Croup"]
[8,null,null,null,null,null,8,null,null,null,null,null,3,null,null,null,null,null,8,null,null,null,null,null,"Stife & Gaskin"]
[9,null,null,null,null,null,null,null,"Total Penalty Pts",{"$f":"SUM(I10:J17)","v":0},null,null,4,null,null,null,null,null,9,null,null,null,null,null,"Hock, Hind Legs, Feet"]
[10,null,null,null,null,null,"56 +/- Judge Score",{"$f":"SUM(H10:H17)","v":0},"Divided by 2",{"$f":"SUM((56+H19)/2)","v":28},null,null,"Penning",null,null,null,null,null,10,null,null,null,null,null,"Overall Muscling"]
[11,null,null,null,null,null,"Maneuver Score",{"$f":"J19","v":28},"Less Penalty Pts",{"$f":"J18","v":0},null,null,1,null,null,null,null,null,null,null,"Major Penalties",null,null,null,"Tracking","Lame: enter an \"x\""]
[12,null,null,null,null,null,"REINING SCORE",null,null,{"$f":"SUM(H20+J20)","v":28},null,null,2,null,null,null,null,null,null,null,null,null,null,null,"Balance 1"]
[13,null,null,null,null,null,"Working Cow Horse",null,null,null,null,null,3,null,null,null,null,null,null,null,null,null,null,null,"Balance 2"]
[14,null,null,null,null,null,1,null,"Penalty Points",null,null,null,null,null,"Major Penalties",null,null,null,"Maneuver Total",{"$f":"SUM(T10:T19)","v":0},"Penalty Total",{"$f":"SUM(SUM(U10:V19)+V20)","v":0},null,null,"Balance 3"]
["Maneuver Total",{"$f":"SUM(B10:B23)","v":0},"Major Penalties",null,null,null,2,null,null,null,null,null,null,null,null,null,null,null,null,null,null,null,null,null,"Fitness & Condition"]
[null,null,"Penalty Total",{"$f":"SUM(C10:D24)","v":0},null,null,3,null,null,null,null,null,"Maneuver Total",{"$f":"SUM(N10:N22)","v":0},"Penalty Total",{"$f":"SUM(O11+O12+O13+O15+O16+O17+O18+O20+O21+O22+P23)","v":0},null,null,null,null,null,null,null,null,"Participant Showmanship"]
[null,null,null,null,null,null,"21 +/- Judge Score",{"$f":"SUM(H23:H25)","v":0},"Total Penalty Pts",{"$f":"SUM(J23:J25)","v":0},null,null,null,null,null,null,null,null,null,null,null,null,null,null,"Horse Showmanship"]
["100 +/-Maneuver",{"$f":"B24","v":0},"x .70 =",{"$f":"SUM((100+B27)*0.7)","v":70},null,null,"Maneuver Score",{"$f":"SUM(21+H26)","v":21},"Less Penalty Pts",{"$f":"J26","v":0},null,null,"70 +/-Maneuver",{"$f":"N25","v":0},"Less Penalty Total",{"$f":"P25","v":0},null,null,"70 +/-Maneuver",{"$f":"T23","v":0},"Less Penalty Total",{"$f":"V23","v":0},null,null,"Form & Showmanship Judges Score",null,"Total (1)",{"$f":"SUM(AB9:AB26)","v":0}]
[null,null,null,null,null,null,"CATTLE SCORE",null,null,{"$f":"SUM(H27+J27)","v":21},null,null,null,null,null,null,null,null,null,null,null,null,null,null,{"$f":"SUM(AB27*0.33+42)","v":42},{"$f":"IF(AA20=\"x\",-10,0)","v":0},"Judge Score (2)",{"$f":"SUM(Y28+Z28)","v":42}]
["Maneuver Score =",{"$f":"D27","v":70},"Less Penalty Total",{"$f":"D25","v":0},null,null,"Roping",null,null,null,null,null,null,null,null,null,null,null,null,null,null,null,null,null,"Ranch Cutting",{"$f":"IF(P31=\"\",0,P31)","v":0},"Ranch Rding",{"$f":"IF(D31=\"\",0,D31)","v":0}]
[null,null,null,null,null,null,1,null,"Penalty Points",null,null,null,null,null,null,null,null,null,null,null,null,null,null,null,"Working Ranch Horse",{"$f":"IF(J36=\"\",0,J36)","v":0},"Ranch Trail",{"$f":"IF(V31=\"\",0,V31)","v":0}]
["TOTAL SCORE",null,null,{"$f":"IF(D7=\"\",\"\",IF(B29+D29<0,0,B29+D29))","v":""},null,null,2,null,null,null,null,null,"TOTAL SCORE",null,null,{"$f":"IF(P7=\"\",\"\",IF(70+N27+P27<0,0,70+N27+P27))","v":""},null,null,"TOTAL SCORE",null,null,{"$f":"IF(V7=\"\",\"\",IF(70+T27+V27<0,0,70+T27+V27))","v":""},null,null,"Function Total (3)",{"$f":"SUM(Z29+AB29+Z30+AB30)","v":0},"Function Score (4)",{"$f":"Z31*0.1","v":0}]
[null,null,null,null,null,null,3,null,null,null,null,null,null,null,null,null,null,null,null,null,null,null,null,null,"Judge Score (2) + Function Score (4) = CONFORMATION SCORE",null,null,{"$f":"IF(AB7=\"\",\"\",IF(AB28+AB31<0,0,AB28+AB31))","v":""}]
[null,null,"Return to Entry Page",null,null,null,"21 +/- Judge Score",{"$f":"SUM(H30:H32)","v":0},"Total Penalty Pts",{"$f":"SUM(J30:J32)","v":0},null,null,null,null,"Return to Entry Page",null,null,null,null,null,"Return to Entry Page"]
[null,null,null,null,null,null,"Maneuver Score",{"$f":"SUM(21+H33)*1.1","v":23.1},"Less Penalty Pts",{"$f":"J33","v":0},null,null,null,null,null,null,null,null,null,null,null,null,null,null,null,null,"Return to Entry Page"]
[null,null,null,null,null,null,"ROPING SCORE",null,null,{"$f":"SUM(H34+J34)","v":23.1}]
[null,null,null,null,null,null,"TOTAL SCORE",null,null,{"$f":"IF(J7=\"\",\"\",IF(J21+J28+J35<0,0,J21+J28+J35))","v":""}]
[]
[null,null,null,null,null,null,null,null,"Return to Entry Page"]

{"sheet":"Advanced 5","index":74,"n_rows":38,"n_cols":28,"rows_kept":38,"cut":false,"hidden":false,"merged":[[34,6,34,8],[30,0,30,2],[35,6,35,8],[30,12,30,14],[30,18,30,20],[31,24,31,26],[23,0,24,0],[23,1,24,1],[23,18,25,21],[25,0,25,3],[27,6,27,8],[25,12,25,15],[27,0,27,3],[27,12,29,15],[27,18,29,21],[29,0,29,3],[29,8,31,8],[19,20,20,20],[19,21,20,21],[20,2,20,3],[20,6,20,8],[20,14,20,15],[16,14,16,15],[16,20,16,21],[22,2,22,3],[22,12,23,13],[22,14,23,14],[22,15,23,15],[22,8,24,8],[21,2,21,3],[21,14,21,15],[21,18,21,21],[18,2,18,3],[18,12,18,15],[18,20,18,21],[19,2,19,3],[19,14,19,15],[19,18,20,19],[17,2,17,3],[17,14,17,15],[17,20,17,21],[13,2,13,3],[13,8,14,9],[13,12,13,15],[13,20,13,21],[14,2,14,3],[14,14,14,15],[14,20,14,21],[15,2,15,3],[15,8,15,9],[15,14,15,15],[15,20,15,21],[16,2,16,3],[16,8,16,9],[7,24,7,27],[11,2,11,3],[11,8,12,9],[11,14,11,15],[11,20,11,21],[12,2,12,3],[12,14,12,15],[12,20,12,21],[9,2,9,3],[9,8,10,9],[9,12,9,15],[9,20,9,21],[10,2,10,3],[10,14,10,15],[10,20,10,21],[8,2,8,3],[8,8,8,9],[8,14,8,15],[8,20,8,21],[7,0,7,3],[7,6,7,9],[7,12,7,15],[7,18,7,21]]}
["RIDERS SCORE WORK SHEET"]
[]
["Back Number:",{"$f":"'Entry Information'!B75","v":0},null,null,null,null,"Back Number:",{"$f":"'Entry Information'!B75","v":0},null,null,null,null,"Back Number:",{"$f":"'Entry Information'!B75","v":0},null,null,null,null,"Back Number:",{"$f":"'Entry Information'!B75","v":0},null,null,null,null,"Back Number:",{"$f":"'Entry Information'!B75","v":0}]
["Name:",{"$f":"'Entry Information'!I75","v":0},{"$f":"'Entry Information'!H75","v":0},null,null,null,"Name:",{"$f":"'Entry Information'!I75","v":0},{"$f":"'Entry Information'!H75","v":0},null,null,null,"Name:",{"$f":"'Entry Information'!I75","v":0},{"$f":"'Entry Information'!H75","v":0},null,null,null,"Name:",{"$f":"'Entry Information'!I75","v":0},{"$f":"'Entry Information'!H75","v":0},null,null,null,"Name:",{"$f":"'Entry Information'!H75","v":0},{"$f":"'Entry Information'!I75","v":0}]
["Horse Name",{"$f":"'Entry Information'!J75","v":0},null,null,null,null,"Horse Name",{"$f":"'Entry Information'!J75","v":0},null,null,null,null,"Horse Name",{"$f":"'Entry Information'!J75","v":0},null,null,null,null,"Horse Name",{"$f":"'Entry Information'!J75","v":0},null,null,null,null,"Horse Name",{"$f":"'Entry Information'!J75","v":0}]
[]
["Check box when entering Ranch Riding scores",null,null,null,null,null,"Check box when entering Working Ranch Horse scores",null,null,null,null,null,"Check box when entering Ranch Cutting scores",null,null,null,null,null,"Check box when entering Ranch Trail scores",null,null,null,null,null,"Check box when entering Conformation scores"]
["Ranch Riding",null,null,null,null,null,"Working Ranch Horse",null,null,null,null,null,"Ranch Cutting",null,null,null,null,null,"Ranch Trail",null,null,null,null,null,"Ranch Conformation"]
["Maneuver","Judge's Score +/-","Penalty Points",null,null,null,"Maneuver","Judge's Score +/-","Penalty Points",null,null,null,"Maneuver","Judge's Score +/-","Penalty Points",null,null,null,"Maneuver","Judge's Score +/-","Penalty Points",null,null,null,"Front Legs, Feet"]
[1,null,null,null,null,null,1,null,null,null,null,null,"Herd Work",null,null,null,null,null,1,null,null,null,null,null,"Chest, Pectoral V"]
[2,null,null,null,null,null,2,null,null,null,null,null,1,null,null,null,null,null,2,null,null,null,null,null,"Head"]
[3,null,null,null,null,null,3,null,null,null,null,null,2,null,null,null,null,null,3,null,null,null,null,null,"Neck & Throat Latch"]
[4,null,null,null,null,null,4,null,null,null,null,null,3,null,null,null,null,null,4,null,null,null,null,null,"Shoulders & Withers"]
[5,null,null,null,null,null,5,null,null,null,null,null,"Cutting",null,null,null,null,null,5,null,null,null,null,null,"Heart Girth & Barrel"]
[6,null,null,null,null,null,6,null,null,null,null,null,1,null,null,null,null,null,6,null,null,null,null,null,"Back & Loin"]
[7,null,null,null,null,null,7,null,null,null,null,null,2,null,null,null,null,null,7,null,null,null,null,null,"Hip & Croup"]
[8,null,null,null,null,null,8,null,null,null,null,null,3,null,null,null,null,null,8,null,null,null,null,null,"Stife & Gaskin"]
[9,null,null,null,null,null,null,null,"Total Penalty Pts",{"$f":"SUM(I10:J17)","v":0},null,null,4,null,null,null,null,null,9,null,null,null,null,null,"Hock, Hind Legs, Feet"]
[10,null,null,null,null,null,"56 +/- Judge Score",{"$f":"SUM(H10:H17)","v":0},"Divided by 2",{"$f":"SUM((56+H19)/2)","v":28},null,null,"Penning",null,null,null,null,null,10,null,null,null,null,null,"Overall Muscling"]
[11,null,null,null,null,null,"Maneuver Score",{"$f":"J19","v":28},"Less Penalty Pts",{"$f":"J18","v":0},null,null,1,null,null,null,null,null,null,null,"Major Penalties",null,null,null,"Tracking","Lame: enter an \"x\""]
[12,null,null,null,null,null,"REINING SCORE",null,null,{"$f":"SUM(H20+J20)","v":28},null,null,2,null,null,null,null,null,null,null,null,null,null,null,"Balance 1"]
[13,null,null,null,null,null,"Working Cow Horse",null,null,null,null,null,3,null,null,null,null,null,null,null,null,null,null,null,"Balance 2"]
[14,null,null,null,null,null,1,null,"Penalty Points",null,null,null,null,null,"Major Penalties",null,null,null,"Maneuver Total",{"$f":"SUM(T10:T19)","v":0},"Penalty Total",{"$f":"SUM(SUM(U10:V19)+V20)","v":0},null,null,"Balance 3"]
["Maneuver Total",{"$f":"SUM(B10:B23)","v":0},"Major Penalties",null,null,null,2,null,null,null,null,null,null,null,null,null,null,null,null,null,null,null,null,null,"Fitness & Condition"]
[null,null,"Penalty Total",{"$f":"SUM(C10:D24)","v":0},null,null,3,null,null,null,null,null,"Maneuver Total",{"$f":"SUM(N10:N22)","v":0},"Penalty Total",{"$f":"SUM(O11+O12+O13+O15+O16+O17+O18+O20+O21+O22+P23)","v":0},null,null,null,null,null,null,null,null,"Participant Showmanship"]
[null,null,null,null,null,null,"21 +/- Judge Score",{"$f":"SUM(H23:H25)","v":0},"Total Penalty Pts",{"$f":"SUM(J23:J25)","v":0},null,null,null,null,null,null,null,null,null,null,null,null,null,null,"Horse Showmanship"]
["100 +/-Maneuver",{"$f":"B24","v":0},"x .70 =",{"$f":"SUM((100+B27)*0.7)","v":70},null,null,"Maneuver Score",{"$f":"SUM(21+H26)","v":21},"Less Penalty Pts",{"$f":"J26","v":0},null,null,"70 +/-Maneuver",{"$f":"N25","v":0},"Less Penalty Total",{"$f":"P25","v":0},null,null,"70 +/-Maneuver",{"$f":"T23","v":0},"Less Penalty Total",{"$f":"V23","v":0},null,null,"Form & Showmanship Judges Score",null,"Total (1)",{"$f":"SUM(AB9:AB26)","v":0}]
[null,null,null,null,null,null,"CATTLE SCORE",null,null,{"$f":"SUM(H27+J27)","v":21},null,null,null,null,null,null,null,null,null,null,null,null,null,null,{"$f":"SUM(AB27*0.33+42)","v":42},{"$f":"IF(AA20=\"x\",-10,0)","v":0},"Judge Score (2)",{"$f":"SUM(Y28+Z28)","v":42}]
["Maneuver Score =",{"$f":"D27","v":70},"Less Penalty Total",{"$f":"D25","v":0},null,null,"Roping",null,null,null,null,null,null,null,null,null,null,null,null,null,null,null,null,null,"Ranch Cutting",{"$f":"IF(P31=\"\",0,P31)","v":0},"Ranch Rding",{"$f":"IF(D31=\"\",0,D31)","v":0}]
[null,null,null,null,null,null,1,null,"Penalty Points",null,null,null,null,null,null,null,null,null,null,null,null,null,null,null,"Working Ranch Horse",{"$f":"IF(J36=\"\",0,J36)","v":0},"Ranch Trail",{"$f":"IF(V31=\"\",0,V31)","v":0}]
["TOTAL SCORE",null,null,{"$f":"IF(D7=\"\",\"\",IF(B29+D29<0,0,B29+D29))","v":""},null,null,2,null,null,null,null,null,"TOTAL SCORE",null,null,{"$f":"IF(P7=\"\",\"\",IF(70+N27+P27<0,0,70+N27+P27))","v":""},null,null,"TOTAL SCORE",null,null,{"$f":"IF(V7=\"\",\"\",IF(70+T27+V27<0,0,70+T27+V27))","v":""},null,null,"Function Total (3)",{"$f":"SUM(Z29+AB29+Z30+AB30)","v":0},"Function Score (4)",{"$f":"Z31*0.1","v":0}]
[null,null,null,null,null,null,3,null,null,null,null,null,null,null,null,null,null,null,null,null,null,null,null,null,"Judge Score (2) + Function Score (4) = CONFORMATION SCORE",null,null,{"$f":"IF(AB7=\"\",\"\",IF(AB28+AB31<0,0,AB28+AB31))","v":""}]
[null,null,"Return to Entry Page",null,null,null,"21 +/- Judge Score",{"$f":"SUM(H30:H32)","v":0},"Total Penalty Pts",{"$f":"SUM(J30:J32)","v":0},null,null,null,null,"Return to Entry Page",null,null,null,null,null,"Return to Entry Page"]
[null,null,null,null,null,null,"Maneuver Score",{"$f":"SUM(21+H33)*1.1","v":23.1},"Less Penalty Pts",{"$f":"J33","v":0},null,null,null,null,null,null,null,null,null,null,null,null,null,null,null,null,"Return to Entry Page"]
[null,null,null,null,null,null,"ROPING SCORE",null,null,{"$f":"SUM(H34+J34)","v":23.1}]
[null,null,null,null,null,null,"TOTAL SCORE",null,null,{"$f":"IF(J7=\"\",\"\",IF(J21+J28+J35<0,0,J21+J28+J35))","v":""}]
[]
[null,null,null,null,null,null,null,null,"Return to Entry Page"]

{"sheet":"Advanced 6","index":75,"n_rows":38,"n_cols":28,"rows_kept":38,"cut":false,"hidden":false,"merged":[[34,6,34,8],[30,0,30,2],[35,6,35,8],[30,12,30,14],[30,18,30,20],[31,24,31,26],[23,0,24,0],[23,1,24,1],[23,18,25,21],[25,0,25,3],[27,6,27,8],[25,12,25,15],[27,0,27,3],[27,12,29,15],[27,18,29,21],[29,0,29,3],[29,8,31,8],[19,20,20,20],[19,21,20,21],[20,2,20,3],[20,6,20,8],[20,14,20,15],[16,14,16,15],[16,20,16,21],[22,2,22,3],[22,12,23,13],[22,14,23,14],[22,15,23,15],[22,8,24,8],[21,2,21,3],[21,14,21,15],[21,18,21,21],[18,2,18,3],[18,12,18,15],[18,20,18,21],[19,2,19,3],[19,14,19,15],[19,18,20,19],[17,2,17,3],[17,14,17,15],[17,20,17,21],[13,2,13,3],[13,8,14,9],[13,12,13,15],[13,20,13,21],[14,2,14,3],[14,14,14,15],[14,20,14,21],[15,2,15,3],[15,8,15,9],[15,14,15,15],[15,20,15,21],[16,2,16,3],[16,8,16,9],[7,24,7,27],[11,2,11,3],[11,8,12,9],[11,14,11,15],[11,20,11,21],[12,2,12,3],[12,14,12,15],[12,20,12,21],[9,2,9,3],[9,8,10,9],[9,12,9,15],[9,20,9,21],[10,2,10,3],[10,14,10,15],[10,20,10,21],[8,2,8,3],[8,8,8,9],[8,14,8,15],[8,20,8,21],[7,0,7,3],[7,6,7,9],[7,12,7,15],[7,18,7,21]]}
["RIDERS SCORE WORK SHEET"]
[]
["Back Number:",{"$f":"'Entry Information'!B76","v":0},null,null,null,null,"Back Number:",{"$f":"'Entry Information'!B76","v":0},null,null,null,null,"Back Number:",{"$f":"'Entry Information'!B76","v":0},null,null,null,null,"Back Number:",{"$f":"'Entry Information'!B76","v":0},null,null,null,null,"Back Number:",{"$f":"'Entry Information'!B76","v":0}]
["Name:",{"$f":"'Entry Information'!I76","v":0},{"$f":"'Entry Information'!H76","v":0},null,null,null,"Name:",{"$f":"'Entry Information'!I76","v":0},{"$f":"'Entry Information'!H76","v":0},null,null,null,"Name:",{"$f":"'Entry Information'!I76","v":0},{"$f":"'Entry Information'!H76","v":0},null,null,null,"Name:",{"$f":"'Entry Information'!I76","v":0},{"$f":"'Entry Information'!H76","v":0},null,null,null,"Name:",{"$f":"'Entry Information'!H76","v":0},{"$f":"'Entry Information'!I76","v":0}]
["Horse Name",{"$f":"'Entry Information'!J76","v":0},null,null,null,null,"Horse Name",{"$f":"'Entry Information'!J76","v":0},null,null,null,null,"Horse Name",{"$f":"'Entry Information'!J76","v":0},null,null,null,null,"Horse Name",{"$f":"'Entry Information'!J76","v":0},null,null,null,null,"Horse Name",{"$f":"'Entry Information'!J76","v":0}]
[]
["Check box when entering Ranch Riding scores",null,null,null,null,null,"Check box when entering Working Ranch Horse scores",null,null,null,null,null,"Check box when entering Ranch Cutting scores",null,null,null,null,null,"Check box when entering Ranch Trail scores",null,null,null,null,null,"Check box when entering Conformation scores"]
["Ranch Riding",null,null,null,null,null,"Working Ranch Horse",null,null,null,null,null,"Ranch Cutting",null,null,null,null,null,"Ranch Trail",null,null,null,null,null,"Ranch Conformation"]
["Maneuver","Judge's Score +/-","Penalty Points",null,null,null,"Maneuver","Judge's Score +/-","Penalty Points",null,null,null,"Maneuver","Judge's Score +/-","Penalty Points",null,null,null,"Maneuver","Judge's Score +/-","Penalty Points",null,null,null,"Front Legs, Feet"]
[1,null,null,null,null,null,1,null,null,null,null,null,"Herd Work",null,null,null,null,null,1,null,null,null,null,null,"Chest, Pectoral V"]
[2,null,null,null,null,null,2,null,null,null,null,null,1,null,null,null,null,null,2,null,null,null,null,null,"Head"]
[3,null,null,null,null,null,3,null,null,null,null,null,2,null,null,null,null,null,3,null,null,null,null,null,"Neck & Throat Latch"]
[4,null,null,null,null,null,4,null,null,null,null,null,3,null,null,null,null,null,4,null,null,null,null,null,"Shoulders & Withers"]
[5,null,null,null,null,null,5,null,null,null,null,null,"Cutting",null,null,null,null,null,5,null,null,null,null,null,"Heart Girth & Barrel"]
[6,null,null,null,null,null,6,null,null,null,null,null,1,null,null,null,null,null,6,null,null,null,null,null,"Back & Loin"]
[7,null,null,null,null,null,7,null,null,null,null,null,2,null,null,null,null,null,7,null,null,null,null,null,"Hip & Croup"]
[8,null,null,null,null,null,8,null,null,null,null,null,3,null,null,null,null,null,8,null,null,null,null,null,"Stife & Gaskin"]
[9,null,null,null,null,null,null,null,"Total Penalty Pts",{"$f":"SUM(I10:J17)","v":0},null,null,4,null,null,null,null,null,9,null,null,null,null,null,"Hock, Hind Legs, Feet"]
[10,null,null,null,null,null,"56 +/- Judge Score",{"$f":"SUM(H10:H17)","v":0},"Divided by 2",{"$f":"SUM((56+H19)/2)","v":28},null,null,"Penning",null,null,null,null,null,10,null,null,null,null,null,"Overall Muscling"]
[11,null,null,null,null,null,"Maneuver Score",{"$f":"J19","v":28},"Less Penalty Pts",{"$f":"J18","v":0},null,null,1,null,null,null,null,null,null,null,"Major Penalties",null,null,null,"Tracking","Lame: enter an \"x\""]
[12,null,null,null,null,null,"REINING SCORE",null,null,{"$f":"SUM(H20+J20)","v":28},null,null,2,null,null,null,null,null,null,null,null,null,null,null,"Balance 1"]
[13,null,null,null,null,null,"Working Cow Horse",null,null,null,null,null,3,null,null,null,null,null,null,null,null,null,null,null,"Balance 2"]
[14,null,null,null,null,null,1,null,"Penalty Points",null,null,null,null,null,"Major Penalties",null,null,null,"Maneuver Total",{"$f":"SUM(T10:T19)","v":0},"Penalty Total",{"$f":"SUM(SUM(U10:V19)+V20)","v":0},null,null,"Balance 3"]
["Maneuver Total",{"$f":"SUM(B10:B23)","v":0},"Major Penalties",null,null,null,2,null,null,null,null,null,null,null,null,null,null,null,null,null,null,null,null,null,"Fitness & Condition"]
[null,null,"Penalty Total",{"$f":"SUM(C10:D24)","v":0},null,null,3,null,null,null,null,null,"Maneuver Total",{"$f":"SUM(N10:N22)","v":0},"Penalty Total",{"$f":"SUM(O11+O12+O13+O15+O16+O17+O18+O20+O21+O22+P23)","v":0},null,null,null,null,null,null,null,null,"Participant Showmanship"]
[null,null,null,null,null,null,"21 +/- Judge Score",{"$f":"SUM(H23:H25)","v":0},"Total Penalty Pts",{"$f":"SUM(J23:J25)","v":0},null,null,null,null,null,null,null,null,null,null,null,null,null,null,"Horse Showmanship"]
["100 +/-Maneuver",{"$f":"B24","v":0},"x .70 =",{"$f":"SUM((100+B27)*0.7)","v":70},null,null,"Maneuver Score",{"$f":"SUM(21+H26)","v":21},"Less Penalty Pts",{"$f":"J26","v":0},null,null,"70 +/-Maneuver",{"$f":"N25","v":0},"Less Penalty Total",{"$f":"P25","v":0},null,null,"70 +/-Maneuver",{"$f":"T23","v":0},"Less Penalty Total",{"$f":"V23","v":0},null,null,"Form & Showmanship Judges Score",null,"Total (1)",{"$f":"SUM(AB9:AB26)","v":0}]
[null,null,null,null,null,null,"CATTLE SCORE",null,null,{"$f":"SUM(H27+J27)","v":21},null,null,null,null,null,null,null,null,null,null,null,null,null,null,{"$f":"SUM(AB27*0.33+42)","v":42},{"$f":"IF(AA20=\"x\",-10,0)","v":0},"Judge Score (2)",{"$f":"SUM(Y28+Z28)","v":42}]
["Maneuver Score =",{"$f":"D27","v":70},"Less Penalty Total",{"$f":"D25","v":0},null,null,"Roping",null,null,null,null,null,null,null,null,null,null,null,null,null,null,null,null,null,"Ranch Cutting",{"$f":"IF(P31=\"\",0,P31)","v":0},"Ranch Rding",{"$f":"IF(D31=\"\",0,D31)","v":0}]
[null,null,null,null,null,null,1,null,"Penalty Points",null,null,null,null,null,null,null,null,null,null,null,null,null,null,null,"Working Ranch Horse",{"$f":"IF(J36=\"\",0,J36)","v":0},"Ranch Trail",{"$f":"IF(V31=\"\",0,V31)","v":0}]
["TOTAL SCORE",null,null,{"$f":"IF(D7=\"\",\"\",IF(B29+D29<0,0,B29+D29))","v":""},null,null,2,null,null,null,null,null,"TOTAL SCORE",null,null,{"$f":"IF(P7=\"\",\"\",IF(70+N27+P27<0,0,70+N27+P27))","v":""},null,null,"TOTAL SCORE",null,null,{"$f":"IF(V7=\"\",\"\",IF(70+T27+V27<0,0,70+T27+V27))","v":""},null,null,"Function Total (3)",{"$f":"SUM(Z29+AB29+Z30+AB30)","v":0},"Function Score (4)",{"$f":"Z31*0.1","v":0}]
[null,null,null,null,null,null,3,null,null,null,null,null,null,null,null,null,null,null,null,null,null,null,null,null,"Judge Score (2) + Function Score (4) = CONFORMATION SCORE",null,null,{"$f":"IF(AB7=\"\",\"\",IF(AB28+AB31<0,0,AB28+AB31))","v":""}]
[null,null,"Return to Entry Page",null,null,null,"21 +/- Judge Score",{"$f":"SUM(H30:H32)","v":0},"Total Penalty Pts",{"$f":"SUM(J30:J32)","v":0},null,null,null,null,"Return to Entry Page",null,null,null,null,null,"Return to Entry Page"]
[null,null,null,null,null,null,"Maneuver Score",{"$f":"SUM(21+H33)*1.1","v":23.1},"Less Penalty Pts",{"$f":"J33","v":0},null,null,null,null,null,null,null,null,null,null,null,null,null,null,null,null,"Return to Entry Page"]
[null,null,null,null,null,null,"ROPING SCORE",null,null,{"$f":"SUM(H34+J34)","v":23.1}]
[null,null,null,null,null,null,"TOTAL SCORE",null,null,{"$f":"IF(J7=\"\",\"\",IF(J21+J28+J35<0,0,J21+J28+J35))","v":""}]
[]
[null,null,null,null,null,null,null,null,"Return to Entry Page"]

{"sheet":"Advanced 7","index":76,"n_rows":38,"n_cols":28,"rows_kept":38,"cut":false,"hidden":false,"merged":[[34,6,34,8],[30,0,30,2],[35,6,35,8],[30,12,30,14],[30,18,30,20],[31,24,31,26],[23,0,24,0],[23,1,24,1],[23,18,25,21],[25,0,25,3],[27,6,27,8],[25,12,25,15],[27,0,27,3],[27,12,29,15],[27,18,29,21],[29,0,29,3],[29,8,31,8],[19,20,20,20],[19,21,20,21],[20,2,20,3],[20,6,20,8],[20,14,20,15],[16,14,16,15],[16,20,16,21],[22,2,22,3],[22,12,23,13],[22,14,23,14],[22,15,23,15],[22,8,24,8],[21,2,21,3],[21,14,21,15],[21,18,21,21],[18,2,18,3],[18,12,18,15],[18,20,18,21],[19,2,19,3],[19,14,19,15],[19,18,20,19],[17,2,17,3],[17,14,17,15],[17,20,17,21],[13,2,13,3],[13,8,14,9],[13,12,13,15],[13,20,13,21],[14,2,14,3],[14,14,14,15],[14,20,14,21],[15,2,15,3],[15,8,15,9],[15,14,15,15],[15,20,15,21],[16,2,16,3],[16,8,16,9],[7,24,7,27],[11,2,11,3],[11,8,12,9],[11,14,11,15],[11,20,11,21],[12,2,12,3],[12,14,12,15],[12,20,12,21],[9,2,9,3],[9,8,10,9],[9,12,9,15],[9,20,9,21],[10,2,10,3],[10,14,10,15],[10,20,10,21],[8,2,8,3],[8,8,8,9],[8,14,8,15],[8,20,8,21],[7,0,7,3],[7,6,7,9],[7,12,7,15],[7,18,7,21]]}
["RIDERS SCORE WORK SHEET"]
[]
["Back Number:",{"$f":"'Entry Information'!B77","v":0},null,null,null,null,"Back Number:",{"$f":"'Entry Information'!B77","v":0},null,null,null,null,"Back Number:",{"$f":"'Entry Information'!B77","v":0},null,null,null,null,"Back Number:",{"$f":"'Entry Information'!B77","v":0},null,null,null,null,"Back Number:",{"$f":"'Entry Information'!B77","v":0}]
["Name:",{"$f":"'Entry Information'!I77","v":0},{"$f":"'Entry Information'!H77","v":0},null,null,null,"Name:",{"$f":"'Entry Information'!I77","v":0},{"$f":"'Entry Information'!H77","v":0},null,null,null,"Name:",{"$f":"'Entry Information'!I77","v":0},{"$f":"'Entry Information'!H77","v":0},null,null,null,"Name:",{"$f":"'Entry Information'!I77","v":0},{"$f":"'Entry Information'!H77","v":0},null,null,null,"Name:",{"$f":"'Entry Information'!H77","v":0},{"$f":"'Entry Information'!I77","v":0}]
["Horse Name",{"$f":"'Entry Information'!J77","v":0},null,null,null,null,"Horse Name",{"$f":"'Entry Information'!J77","v":0},null,null,null,null,"Horse Name",{"$f":"'Entry Information'!J77","v":0},null,null,null,null,"Horse Name",{"$f":"'Entry Information'!J77","v":0},null,null,null,null,"Horse Name",{"$f":"'Entry Information'!J77","v":0}]
[]
["Check box when entering Ranch Riding scores",null,null,null,null,null,"Check box when entering Working Ranch Horse scores",null,null,null,null,null,"Check box when entering Ranch Cutting scores",null,null,null,null,null,"Check box when entering Ranch Trail scores",null,null,null,null,null,"Check box when entering Conformation scores"]
["Ranch Riding",null,null,null,null,null,"Working Ranch Horse",null,null,null,null,null,"Ranch Cutting",null,null,null,null,null,"Ranch Trail",null,null,null,null,null,"Ranch Conformation"]
["Maneuver","Judge's Score +/-","Penalty Points",null,null,null,"Maneuver","Judge's Score +/-","Penalty Points",null,null,null,"Maneuver","Judge's Score +/-","Penalty Points",null,null,null,"Maneuver","Judge's Score +/-","Penalty Points",null,null,null,"Front Legs, Feet"]
[1,null,null,null,null,null,1,null,null,null,null,null,"Herd Work",null,null,null,null,null,1,null,null,null,null,null,"Chest, Pectoral V"]
[2,null,null,null,null,null,2,null,null,null,null,null,1,null,null,null,null,null,2,null,null,null,null,null,"Head"]
[3,null,null,null,null,null,3,null,null,null,null,null,2,null,null,null,null,null,3,null,null,null,null,null,"Neck & Throat Latch"]
[4,null,null,null,null,null,4,null,null,null,null,null,3,null,null,null,null,null,4,null,null,null,null,null,"Shoulders & Withers"]
[5,null,null,null,null,null,5,null,null,null,null,null,"Cutting",null,null,null,null,null,5,null,null,null,null,null,"Heart Girth & Barrel"]
[6,null,null,null,null,null,6,null,null,null,null,null,1,null,null,null,null,null,6,null,null,null,null,null,"Back & Loin"]
[7,null,null,null,null,null,7,null,null,null,null,null,2,null,null,null,null,null,7,null,null,null,null,null,"Hip & Croup"]
[8,null,null,null,null,null,8,null,null,null,null,null,3,null,null,null,null,null,8,null,null,null,null,null,"Stife & Gaskin"]
[9,null,null,null,null,null,null,null,"Total Penalty Pts",{"$f":"SUM(I10:J17)","v":0},null,null,4,null,null,null,null,null,9,null,null,null,null,null,"Hock, Hind Legs, Feet"]
[10,null,null,null,null,null,"56 +/- Judge Score",{"$f":"SUM(H10:H17)","v":0},"Divided by 2",{"$f":"SUM((56+H19)/2)","v":28},null,null,"Penning",null,null,null,null,null,10,null,null,null,null,null,"Overall Muscling"]
[11,null,null,null,null,null,"Maneuver Score",{"$f":"J19","v":28},"Less Penalty Pts",{"$f":"J18","v":0},null,null,1,null,null,null,null,null,null,null,"Major Penalties",null,null,null,"Tracking","Lame: enter an \"x\""]
[12,null,null,null,null,null,"REINING SCORE",null,null,{"$f":"SUM(H20+J20)","v":28},null,null,2,null,null,null,null,null,null,null,null,null,null,null,"Balance 1"]
[13,null,null,null,null,null,"Working Cow Horse",null,null,null,null,null,3,null,null,null,null,null,null,null,null,null,null,null,"Balance 2"]
[14,null,null,null,null,null,1,null,"Penalty Points",null,null,null,null,null,"Major Penalties",null,null,null,"Maneuver Total",{"$f":"SUM(T10:T19)","v":0},"Penalty Total",{"$f":"SUM(SUM(U10:V19)+V20)","v":0},null,null,"Balance 3"]
["Maneuver Total",{"$f":"SUM(B10:B23)","v":0},"Major Penalties",null,null,null,2,null,null,null,null,null,null,null,null,null,null,null,null,null,null,null,null,null,"Fitness & Condition"]
[null,null,"Penalty Total",{"$f":"SUM(C10:D24)","v":0},null,null,3,null,null,null,null,null,"Maneuver Total",{"$f":"SUM(N10:N22)","v":0},"Penalty Total",{"$f":"SUM(O11+O12+O13+O15+O16+O17+O18+O20+O21+O22+P23)","v":0},null,null,null,null,null,null,null,null,"Participant Showmanship"]
[null,null,null,null,null,null,"21 +/- Judge Score",{"$f":"SUM(H23:H25)","v":0},"Total Penalty Pts",{"$f":"SUM(J23:J25)","v":0},null,null,null,null,null,null,null,null,null,null,null,null,null,null,"Horse Showmanship"]
["100 +/-Maneuver",{"$f":"B24","v":0},"x .70 =",{"$f":"SUM((100+B27)*0.7)","v":70},null,null,"Maneuver Score",{"$f":"SUM(21+H26)","v":21},"Less Penalty Pts",{"$f":"J26","v":0},null,null,"70 +/-Maneuver",{"$f":"N25","v":0},"Less Penalty Total",{"$f":"P25","v":0},null,null,"70 +/-Maneuver",{"$f":"T23","v":0},"Less Penalty Total",{"$f":"V23","v":0},null,null,"Form & Showmanship Judges Score",null,"Total (1)",{"$f":"SUM(AB9:AB26)","v":0}]
[null,null,null,null,null,null,"CATTLE SCORE",null,null,{"$f":"SUM(H27+J27)","v":21},null,null,null,null,null,null,null,null,null,null,null,null,null,null,{"$f":"SUM(AB27*0.33+42)","v":42},{"$f":"IF(AA20=\"x\",-10,0)","v":0},"Judge Score (2)",{"$f":"SUM(Y28+Z28)","v":42}]
["Maneuver Score =",{"$f":"D27","v":70},"Less Penalty Total",{"$f":"D25","v":0},null,null,"Roping",null,null,null,null,null,null,null,null,null,null,null,null,null,null,null,null,null,"Ranch Cutting",{"$f":"IF(P31=\"\",0,P31)","v":0},"Ranch Rding",{"$f":"IF(D31=\"\",0,D31)","v":0}]
[null,null,null,null,null,null,1,null,"Penalty Points",null,null,null,null,null,null,null,null,null,null,null,null,null,null,null,"Working Ranch Horse",{"$f":"IF(J36=\"\",0,J36)","v":0},"Ranch Trail",{"$f":"IF(V31=\"\",0,V31)","v":0}]
["TOTAL SCORE",null,null,{"$f":"IF(D7=\"\",\"\",IF(B29+D29<0,0,B29+D29))","v":""},null,null,2,null,null,null,null,null,"TOTAL SCORE",null,null,{"$f":"IF(P7=\"\",\"\",IF(70+N27+P27<0,0,70+N27+P27))","v":""},null,null,"TOTAL SCORE",null,null,{"$f":"IF(V7=\"\",\"\",IF(70+T27+V27<0,0,70+T27+V27))","v":""},null,null,"Function Total (3)",{"$f":"SUM(Z29+AB29+Z30+AB30)","v":0},"Function Score (4)",{"$f":"Z31*0.1","v":0}]
[null,null,null,null,null,null,3,null,null,null,null,null,null,null,null,null,null,null,null,null,null,null,null,null,"Judge Score (2) + Function Score (4) = CONFORMATION SCORE",null,null,{"$f":"IF(AB7=\"\",\"\",IF(AB28+AB31<0,0,AB28+AB31))","v":""}]
[null,null,"Return to Entry Page",null,null,null,"21 +/- Judge Score",{"$f":"SUM(H30:H32)","v":0},"Total Penalty Pts",{"$f":"SUM(J30:J32)","v":0},null,null,null,null,"Return to Entry Page",null,null,null,null,null,"Return to Entry Page"]
[null,null,null,null,null,null,"Maneuver Score",{"$f":"SUM(21+H33)*1.1","v":23.1},"Less Penalty Pts",{"$f":"J33","v":0},null,null,null,null,null,null,null,null,null,null,null,null,null,null,null,null,"Return to Entry Page"]
[null,null,null,null,null,null,"ROPING SCORE",null,null,{"$f":"SUM(H34+J34)","v":23.1}]
[null,null,null,null,null,null,"TOTAL SCORE",null,null,{"$f":"IF(J7=\"\",\"\",IF(J21+J28+J35<0,0,J21+J28+J35))","v":""}]
[]
[null,null,null,null,null,null,null,null,"Return to Entry Page"]

{"sheet":"Advanced 8","index":77,"n_rows":38,"n_cols":28,"rows_kept":38,"cut":false,"hidden":false,"merged":[[34,6,34,8],[30,0,30,2],[35,6,35,8],[30,12,30,14],[30,18,30,20],[31,24,31,26],[23,0,24,0],[23,1,24,1],[23,18,25,21],[25,0,25,3],[27,6,27,8],[25,12,25,15],[27,0,27,3],[27,12,29,15],[27,18,29,21],[29,0,29,3],[29,8,31,8],[19,20,20,20],[19,21,20,21],[20,2,20,3],[20,6,20,8],[20,14,20,15],[16,14,16,15],[16,20,16,21],[22,2,22,3],[22,12,23,13],[22,14,23,14],[22,15,23,15],[22,8,24,8],[21,2,21,3],[21,14,21,15],[21,18,21,21],[18,2,18,3],[18,12,18,15],[18,20,18,21],[19,2,19,3],[19,14,19,15],[19,18,20,19],[17,2,17,3],[17,14,17,15],[17,20,17,21],[13,2,13,3],[13,8,14,9],[13,12,13,15],[13,20,13,21],[14,2,14,3],[14,14,14,15],[14,20,14,21],[15,2,15,3],[15,8,15,9],[15,14,15,15],[15,20,15,21],[16,2,16,3],[16,8,16,9],[7,24,7,27],[11,2,11,3],[11,8,12,9],[11,14,11,15],[11,20,11,21],[12,2,12,3],[12,14,12,15],[12,20,12,21],[9,2,9,3],[9,8,10,9],[9,12,9,15],[9,20,9,21],[10,2,10,3],[10,14,10,15],[10,20,10,21],[8,2,8,3],[8,8,8,9],[8,14,8,15],[8,20,8,21],[7,0,7,3],[7,6,7,9],[7,12,7,15],[7,18,7,21]]}
["RIDERS SCORE WORK SHEET"]
[]
["Back Number:",{"$f":"'Entry Information'!B78","v":0},null,null,null,null,"Back Number:",{"$f":"'Entry Information'!B78","v":0},null,null,null,null,"Back Number:",{"$f":"'Entry Information'!B78","v":0},null,null,null,null,"Back Number:",{"$f":"'Entry Information'!B78","v":0},null,null,null,null,"Back Number:",{"$f":"'Entry Information'!B78","v":0}]
["Name:",{"$f":"'Entry Information'!I78","v":0},{"$f":"'Entry Information'!H78","v":0},null,null,null,"Name:",{"$f":"'Entry Information'!I78","v":0},{"$f":"'Entry Information'!H78","v":0},null,null,null,"Name:",{"$f":"'Entry Information'!I78","v":0},{"$f":"'Entry Information'!H78","v":0},null,null,null,"Name:",{"$f":"'Entry Information'!I78","v":0},{"$f":"'Entry Information'!H78","v":0},null,null,null,"Name:",{"$f":"'Entry Information'!H78","v":0},{"$f":"'Entry Information'!I78","v":0}]
["Horse Name",{"$f":"'Entry Information'!J78","v":0},null,null,null,null,"Horse Name",{"$f":"'Entry Information'!J78","v":0},null,null,null,null,"Horse Name",{"$f":"'Entry Information'!J78","v":0},null,null,null,null,"Horse Name",{"$f":"'Entry Information'!J78","v":0},null,null,null,null,"Horse Name",{"$f":"'Entry Information'!J78","v":0}]
[]
["Check box when entering Ranch Riding scores",null,null,null,null,null,"Check box when entering Working Ranch Horse scores",null,null,null,null,null,"Check box when entering Ranch Cutting scores",null,null,null,null,null,"Check box when entering Ranch Trail scores",null,null,null,null,null,"Check box when entering Conformation scores"]
["Ranch Riding",null,null,null,null,null,"Working Ranch Horse",null,null,null,null,null,"Ranch Cutting",null,null,null,null,null,"Ranch Trail",null,null,null,null,null,"Ranch Conformation"]
["Maneuver","Judge's Score +/-","Penalty Points",null,null,null,"Maneuver","Judge's Score +/-","Penalty Points",null,null,null,"Maneuver","Judge's Score +/-","Penalty Points",null,null,null,"Maneuver","Judge's Score +/-","Penalty Points",null,null,null,"Front Legs, Feet"]
[1,null,null,null,null,null,1,null,null,null,null,null,"Herd Work",null,null,null,null,null,1,null,null,null,null,null,"Chest, Pectoral V"]
[2,null,null,null,null,null,2,null,null,null,null,null,1,null,null,null,null,null,2,null,null,null,null,null,"Head"]
[3,null,null,null,null,null,3,null,null,null,null,null,2,null,null,null,null,null,3,null,null,null,null,null,"Neck & Throat Latch"]
[4,null,null,null,null,null,4,null,null,null,null,null,3,null,null,null,null,null,4,null,null,null,null,null,"Shoulders & Withers"]
[5,null,null,null,null,null,5,null,null,null,null,null,"Cutting",null,null,null,null,null,5,null,null,null,null,null,"Heart Girth & Barrel"]
[6,null,null,null,null,null,6,null,null,null,null,null,1,null,null,null,null,null,6,null,null,null,null,null,"Back & Loin"]
[7,null,null,null,null,null,7,null,null,null,null,null,2,null,null,null,null,null,7,null,null,null,null,null,"Hip & Croup"]
[8,null,null,null,null,null,8,null,null,null,null,null,3,null,null,null,null,null,8,null,null,null,null,null,"Stife & Gaskin"]
[9,null,null,null,null,null,null,null,"Total Penalty Pts",{"$f":"SUM(I10:J17)","v":0},null,null,4,null,null,null,null,null,9,null,null,null,null,null,"Hock, Hind Legs, Feet"]
[10,null,null,null,null,null,"56 +/- Judge Score",{"$f":"SUM(H10:H17)","v":0},"Divided by 2",{"$f":"SUM((56+H19)/2)","v":28},null,null,"Penning",null,null,null,null,null,10,null,null,null,null,null,"Overall Muscling"]
[11,null,null,null,null,null,"Maneuver Score",{"$f":"J19","v":28},"Less Penalty Pts",{"$f":"J18","v":0},null,null,1,null,null,null,null,null,null,null,"Major Penalties",null,null,null,"Tracking","Lame: enter an \"x\""]
[12,null,null,null,null,null,"REINING SCORE",null,null,{"$f":"SUM(H20+J20)","v":28},null,null,2,null,null,null,null,null,null,null,null,null,null,null,"Balance 1"]
[13,null,null,null,null,null,"Working Cow Horse",null,null,null,null,null,3,null,null,null,null,null,null,null,null,null,null,null,"Balance 2"]
[14,null,null,null,null,null,1,null,"Penalty Points",null,null,null,null,null,"Major Penalties",null,null,null,"Maneuver Total",{"$f":"SUM(T10:T19)","v":0},"Penalty Total",{"$f":"SUM(SUM(U10:V19)+V20)","v":0},null,null,"Balance 3"]
["Maneuver Total",{"$f":"SUM(B10:B23)","v":0},"Major Penalties",null,null,null,2,null,null,null,null,null,null,null,null,null,null,null,null,null,null,null,null,null,"Fitness & Condition"]
[null,null,"Penalty Total",{"$f":"SUM(C10:D24)","v":0},null,null,3,null,null,null,null,null,"Maneuver Total",{"$f":"SUM(N10:N22)","v":0},"Penalty Total",{"$f":"SUM(O11+O12+O13+O15+O16+O17+O18+O20+O21+O22+P23)","v":0},null,null,null,null,null,null,null,null,"Participant Showmanship"]
[null,null,null,null,null,null,"21 +/- Judge Score",{"$f":"SUM(H23:H25)","v":0},"Total Penalty Pts",{"$f":"SUM(J23:J25)","v":0},null,null,null,null,null,null,null,null,null,null,null,null,null,null,"Horse Showmanship"]
["100 +/-Maneuver",{"$f":"B24","v":0},"x .70 =",{"$f":"SUM((100+B27)*0.7)","v":70},null,null,"Maneuver Score",{"$f":"SUM(21+H26)","v":21},"Less Penalty Pts",{"$f":"J26","v":0},null,null,"70 +/-Maneuver",{"$f":"N25","v":0},"Less Penalty Total",{"$f":"P25","v":0},null,null,"70 +/-Maneuver",{"$f":"T23","v":0},"Less Penalty Total",{"$f":"V23","v":0},null,null,"Form & Showmanship Judges Score",null,"Total (1)",{"$f":"SUM(AB9:AB26)","v":0}]
[null,null,null,null,null,null,"CATTLE SCORE",null,null,{"$f":"SUM(H27+J27)","v":21},null,null,null,null,null,null,null,null,null,null,null,null,null,null,{"$f":"SUM(AB27*0.33+42)","v":42},{"$f":"IF(AA20=\"x\",-10,0)","v":0},"Judge Score (2)",{"$f":"SUM(Y28+Z28)","v":42}]
["Maneuver Score =",{"$f":"D27","v":70},"Less Penalty Total",{"$f":"D25","v":0},null,null,"Roping",null,null,null,null,null,null,null,null,null,null,null,null,null,null,null,null,null,"Ranch Cutting",{"$f":"IF(P31=\"\",0,P31)","v":0},"Ranch Rding",{"$f":"IF(D31=\"\",0,D31)","v":0}]
[null,null,null,null,null,null,1,null,"Penalty Points",null,null,null,null,null,null,null,null,null,null,null,null,null,null,null,"Working Ranch Horse",{"$f":"IF(J36=\"\",0,J36)","v":0},"Ranch Trail",{"$f":"IF(V31=\"\",0,V31)","v":0}]
["TOTAL SCORE",null,null,{"$f":"IF(D7=\"\",\"\",IF(B29+D29<0,0,B29+D29))","v":""},null,null,2,null,null,null,null,null,"TOTAL SCORE",null,null,{"$f":"IF(P7=\"\",\"\",IF(70+N27+P27<0,0,70+N27+P27))","v":""},null,null,"TOTAL SCORE",null,null,{"$f":"IF(V7=\"\",\"\",IF(70+T27+V27<0,0,70+T27+V27))","v":""},null,null,"Function Total (3)",{"$f":"SUM(Z29+AB29+Z30+AB30)","v":0},"Function Score (4)",{"$f":"Z31*0.1","v":0}]
[null,null,null,null,null,null,3,null,null,null,null,null,null,null,null,null,null,null,null,null,null,null,null,null,"Judge Score (2) + Function Score (4) = CONFORMATION SCORE",null,null,{"$f":"IF(AB7=\"\",\"\",IF(AB28+AB31<0,0,AB28+AB31))","v":""}]
[null,null,"Return to Entry Page",null,null,null,"21 +/- Judge Score",{"$f":"SUM(H30:H32)","v":0},"Total Penalty Pts",{"$f":"SUM(J30:J32)","v":0},null,null,null,null,"Return to Entry Page",null,null,null,null,null,"Return to Entry Page"]
[null,null,null,null,null,null,"Maneuver Score",{"$f":"SUM(21+H33)*1.1","v":23.1},"Less Penalty Pts",{"$f":"J33","v":0},null,null,null,null,null,null,null,null,null,null,null,null,null,null,null,null,"Return to Entry Page"]
[null,null,null,null,null,null,"ROPING SCORE",null,null,{"$f":"SUM(H34+J34)","v":23.1}]
[null,null,null,null,null,null,"TOTAL SCORE",null,null,{"$f":"IF(J7=\"\",\"\",IF(J21+J28+J35<0,0,J21+J28+J35))","v":""}]
[]
[null,null,null,null,null,null,null,null,"Return to Entry Page"]

{"sheet":"Advanced 9","index":78,"n_rows":38,"n_cols":28,"rows_kept":38,"cut":false,"hidden":false,"merged":[[34,6,34,8],[30,0,30,2],[35,6,35,8],[30,12,30,14],[30,18,30,20],[31,24,31,26],[23,0,24,0],[23,1,24,1],[23,18,25,21],[25,0,25,3],[27,6,27,8],[25,12,25,15],[27,0,27,3],[27,12,29,15],[27,18,29,21],[29,0,29,3],[29,8,31,8],[19,20,20,20],[19,21,20,21],[20,2,20,3],[20,6,20,8],[20,14,20,15],[16,14,16,15],[16,20,16,21],[22,2,22,3],[22,12,23,13],[22,14,23,14],[22,15,23,15],[22,8,24,8],[21,2,21,3],[21,14,21,15],[21,18,21,21],[18,2,18,3],[18,12,18,15],[18,20,18,21],[19,2,19,3],[19,14,19,15],[19,18,20,19],[17,2,17,3],[17,14,17,15],[17,20,17,21],[13,2,13,3],[13,8,14,9],[13,12,13,15],[13,20,13,21],[14,2,14,3],[14,14,14,15],[14,20,14,21],[15,2,15,3],[15,8,15,9],[15,14,15,15],[15,20,15,21],[16,2,16,3],[16,8,16,9],[7,24,7,27],[11,2,11,3],[11,8,12,9],[11,14,11,15],[11,20,11,21],[12,2,12,3],[12,14,12,15],[12,20,12,21],[9,2,9,3],[9,8,10,9],[9,12,9,15],[9,20,9,21],[10,2,10,3],[10,14,10,15],[10,20,10,21],[8,2,8,3],[8,8,8,9],[8,14,8,15],[8,20,8,21],[7,0,7,3],[7,6,7,9],[7,12,7,15],[7,18,7,21]]}
["RIDERS SCORE WORK SHEET"]
[]
["Back Number:",{"$f":"'Entry Information'!B79","v":0},null,null,null,null,"Back Number:",{"$f":"'Entry Information'!B79","v":0},null,null,null,null,"Back Number:",{"$f":"'Entry Information'!B79","v":0},null,null,null,null,"Back Number:",{"$f":"'Entry Information'!B79","v":0},null,null,null,null,"Back Number:",{"$f":"'Entry Information'!B79","v":0}]
["Name:",{"$f":"'Entry Information'!I79","v":0},{"$f":"'Entry Information'!H79","v":0},null,null,null,"Name:",{"$f":"'Entry Information'!I79","v":0},{"$f":"'Entry Information'!H79","v":0},null,null,null,"Name:",{"$f":"'Entry Information'!I79","v":0},{"$f":"'Entry Information'!H79","v":0},null,null,null,"Name:",{"$f":"'Entry Information'!I79","v":0},{"$f":"'Entry Information'!H79","v":0},null,null,null,"Name:",{"$f":"'Entry Information'!H79","v":0},{"$f":"'Entry Information'!I79","v":0}]
["Horse Name",{"$f":"'Entry Information'!J79","v":0},null,null,null,null,"Horse Name",{"$f":"'Entry Information'!J79","v":0},null,null,null,null,"Horse Name",{"$f":"'Entry Information'!J79","v":0},null,null,null,null,"Horse Name",{"$f":"'Entry Information'!J79","v":0},null,null,null,null,"Horse Name",{"$f":"'Entry Information'!J79","v":0}]
[]
["Check box when entering Ranch Riding scores",null,null,null,null,null,"Check box when entering Working Ranch Horse scores",null,null,null,null,null,"Check box when entering Ranch Cutting scores",null,null,null,null,null,"Check box when entering Ranch Trail scores",null,null,null,null,null,"Check box when entering Conformation scores"]
["Ranch Riding",null,null,null,null,null,"Working Ranch Horse",null,null,null,null,null,"Ranch Cutting",null,null,null,null,null,"Ranch Trail",null,null,null,null,null,"Ranch Conformation"]
["Maneuver","Judge's Score +/-","Penalty Points",null,null,null,"Maneuver","Judge's Score +/-","Penalty Points",null,null,null,"Maneuver","Judge's Score +/-","Penalty Points",null,null,null,"Maneuver","Judge's Score +/-","Penalty Points",null,null,null,"Front Legs, Feet"]
[1,null,null,null,null,null,1,null,null,null,null,null,"Herd Work",null,null,null,null,null,1,null,null,null,null,null,"Chest, Pectoral V"]
[2,null,null,null,null,null,2,null,null,null,null,null,1,null,null,null,null,null,2,null,null,null,null,null,"Head"]
[3,null,null,null,null,null,3,null,null,null,null,null,2,null,null,null,null,null,3,null,null,null,null,null,"Neck & Throat Latch"]
[4,null,null,null,null,null,4,null,null,null,null,null,3,null,null,null,null,null,4,null,null,null,null,null,"Shoulders & Withers"]
[5,null,null,null,null,null,5,null,null,null,null,null,"Cutting",null,null,null,null,null,5,null,null,null,null,null,"Heart Girth & Barrel"]
[6,null,null,null,null,null,6,null,null,null,null,null,1,null,null,null,null,null,6,null,null,null,null,null,"Back & Loin"]
[7,null,null,null,null,null,7,null,null,null,null,null,2,null,null,null,null,null,7,null,null,null,null,null,"Hip & Croup"]
[8,null,null,null,null,null,8,null,null,null,null,null,3,null,null,null,null,null,8,null,null,null,null,null,"Stife & Gaskin"]
[9,null,null,null,null,null,null,null,"Total Penalty Pts",{"$f":"SUM(I10:J17)","v":0},null,null,4,null,null,null,null,null,9,null,null,null,null,null,"Hock, Hind Legs, Feet"]
[10,null,null,null,null,null,"56 +/- Judge Score",{"$f":"SUM(H10:H17)","v":0},"Divided by 2",{"$f":"SUM((56+H19)/2)","v":28},null,null,"Penning",null,null,null,null,null,10,null,null,null,null,null,"Overall Muscling"]
[11,null,null,null,null,null,"Maneuver Score",{"$f":"J19","v":28},"Less Penalty Pts",{"$f":"J18","v":0},null,null,1,null,null,null,null,null,null,null,"Major Penalties",null,null,null,"Tracking","Lame: enter an \"x\""]
[12,null,null,null,null,null,"REINING SCORE",null,null,{"$f":"SUM(H20+J20)","v":28},null,null,2,null,null,null,null,null,null,null,null,null,null,null,"Balance 1"]
[13,null,null,null,null,null,"Working Cow Horse",null,null,null,null,null,3,null,null,null,null,null,null,null,null,null,null,null,"Balance 2"]
[14,null,null,null,null,null,1,null,"Penalty Points",null,null,null,null,null,"Major Penalties",null,null,null,"Maneuver Total",{"$f":"SUM(T10:T19)","v":0},"Penalty Total",{"$f":"SUM(SUM(U10:V19)+V20)","v":0},null,null,"Balance 3"]
["Maneuver Total",{"$f":"SUM(B10:B23)","v":0},"Major Penalties",null,null,null,2,null,null,null,null,null,null,null,null,null,null,null,null,null,null,null,null,null,"Fitness & Condition"]
[null,null,"Penalty Total",{"$f":"SUM(C10:D24)","v":0},null,null,3,null,null,null,null,null,"Maneuver Total",{"$f":"SUM(N10:N22)","v":0},"Penalty Total",{"$f":"SUM(O11+O12+O13+O15+O16+O17+O18+O20+O21+O22+P23)","v":0},null,null,null,null,null,null,null,null,"Participant Showmanship"]
[null,null,null,null,null,null,"21 +/- Judge Score",{"$f":"SUM(H23:H25)","v":0},"Total Penalty Pts",{"$f":"SUM(J23:J25)","v":0},null,null,null,null,null,null,null,null,null,null,null,null,null,null,"Horse Showmanship"]
["100 +/-Maneuver",{"$f":"B24","v":0},"x .70 =",{"$f":"SUM((100+B27)*0.7)","v":70},null,null,"Maneuver Score",{"$f":"SUM(21+H26)","v":21},"Less Penalty Pts",{"$f":"J26","v":0},null,null,"70 +/-Maneuver",{"$f":"N25","v":0},"Less Penalty Total",{"$f":"P25","v":0},null,null,"70 +/-Maneuver",{"$f":"T23","v":0},"Less Penalty Total",{"$f":"V23","v":0},null,null,"Form & Showmanship Judges Score",null,"Total (1)",{"$f":"SUM(AB9:AB26)","v":0}]
[null,null,null,null,null,null,"CATTLE SCORE",null,null,{"$f":"SUM(H27+J27)","v":21},null,null,null,null,null,null,null,null,null,null,null,null,null,null,{"$f":"SUM(AB27*0.33+42)","v":42},{"$f":"IF(AA20=\"x\",-10,0)","v":0},"Judge Score (2)",{"$f":"SUM(Y28+Z28)","v":42}]
["Maneuver Score =",{"$f":"D27","v":70},"Less Penalty Total",{"$f":"D25","v":0},null,null,"Roping",null,null,null,null,null,null,null,null,null,null,null,null,null,null,null,null,null,"Ranch Cutting",{"$f":"IF(P31=\"\",0,P31)","v":0},"Ranch Rding",{"$f":"IF(D31=\"\",0,D31)","v":0}]
[null,null,null,null,null,null,1,null,"Penalty Points",null,null,null,null,null,null,null,null,null,null,null,null,null,null,null,"Working Ranch Horse",{"$f":"IF(J36=\"\",0,J36)","v":0},"Ranch Trail",{"$f":"IF(V31=\"\",0,V31)","v":0}]
["TOTAL SCORE",null,null,{"$f":"IF(D7=\"\",\"\",IF(B29+D29<0,0,B29+D29))","v":""},null,null,2,null,null,null,null,null,"TOTAL SCORE",null,null,{"$f":"IF(P7=\"\",\"\",IF(70+N27+P27<0,0,70+N27+P27))","v":""},null,null,"TOTAL SCORE",null,null,{"$f":"IF(V7=\"\",\"\",IF(70+T27+V27<0,0,70+T27+V27))","v":""},null,null,"Function Total (3)",{"$f":"SUM(Z29+AB29+Z30+AB30)","v":0},"Function Score (4)",{"$f":"Z31*0.1","v":0}]
[null,null,null,null,null,null,3,null,null,null,null,null,null,null,null,null,null,null,null,null,null,null,null,null,"Judge Score (2) + Function Score (4) = CONFORMATION SCORE",null,null,{"$f":"IF(AB7=\"\",\"\",IF(AB28+AB31<0,0,AB28+AB31))","v":""}]
[null,null,"Return to Entry Page",null,null,null,"21 +/- Judge Score",{"$f":"SUM(H30:H32)","v":0},"Total Penalty Pts",{"$f":"SUM(J30:J32)","v":0},null,null,null,null,"Return to Entry Page",null,null,null,null,null,"Return to Entry Page"]
[null,null,null,null,null,null,"Maneuver Score",{"$f":"SUM(21+H33)*1.1","v":23.1},"Less Penalty Pts",{"$f":"J33","v":0},null,null,null,null,null,null,null,null,null,null,null,null,null,null,null,null,"Return to Entry Page"]
[null,null,null,null,null,null,"ROPING SCORE",null,null,{"$f":"SUM(H34+J34)","v":23.1}]
[null,null,null,null,null,null,"TOTAL SCORE",null,null,{"$f":"IF(J7=\"\",\"\",IF(J21+J28+J35<0,0,J21+J28+J35))","v":""}]
[]
[null,null,null,null,null,null,null,null,"Return to Entry Page"]

{"sheet":"Advanced 10","index":79,"n_rows":38,"n_cols":28,"rows_kept":38,"cut":false,"hidden":false,"merged":[[34,6,34,8],[30,0,30,2],[35,6,35,8],[30,12,30,14],[30,18,30,20],[31,24,31,26],[23,0,24,0],[23,1,24,1],[23,18,25,21],[25,0,25,3],[27,6,27,8],[25,12,25,15],[27,0,27,3],[27,12,29,15],[27,18,29,21],[29,0,29,3],[29,8,31,8],[19,20,20,20],[19,21,20,21],[20,2,20,3],[20,6,20,8],[20,14,20,15],[16,14,16,15],[16,20,16,21],[22,2,22,3],[22,12,23,13],[22,14,23,14],[22,15,23,15],[22,8,24,8],[21,2,21,3],[21,14,21,15],[21,18,21,21],[18,2,18,3],[18,12,18,15],[18,20,18,21],[19,2,19,3],[19,14,19,15],[19,18,20,19],[17,2,17,3],[17,14,17,15],[17,20,17,21],[13,2,13,3],[13,8,14,9],[13,12,13,15],[13,20,13,21],[14,2,14,3],[14,14,14,15],[14,20,14,21],[15,2,15,3],[15,8,15,9],[15,14,15,15],[15,20,15,21],[16,2,16,3],[16,8,16,9],[7,24,7,27],[11,2,11,3],[11,8,12,9],[11,14,11,15],[11,20,11,21],[12,2,12,3],[12,14,12,15],[12,20,12,21],[9,2,9,3],[9,8,10,9],[9,12,9,15],[9,20,9,21],[10,2,10,3],[10,14,10,15],[10,20,10,21],[8,2,8,3],[8,8,8,9],[8,14,8,15],[8,20,8,21],[7,0,7,3],[7,6,7,9],[7,12,7,15],[7,18,7,21]]}
["RIDERS SCORE WORK SHEET"]
[]
["Back Number:",{"$f":"'Entry Information'!B80","v":0},null,null,null,null,"Back Number:",{"$f":"'Entry Information'!B80","v":0},null,null,null,null,"Back Number:",{"$f":"'Entry Information'!B80","v":0},null,null,null,null,"Back Number:",{"$f":"'Entry Information'!B80","v":0},null,null,null,null,"Back Number:",{"$f":"'Entry Information'!B80","v":0}]
["Name:",{"$f":"'Entry Information'!I80","v":0},{"$f":"'Entry Information'!H80","v":0},null,null,null,"Name:",{"$f":"'Entry Information'!I80","v":0},{"$f":"'Entry Information'!H80","v":0},null,null,null,"Name:",{"$f":"'Entry Information'!I80","v":0},{"$f":"'Entry Information'!H80","v":0},null,null,null,"Name:",{"$f":"'Entry Information'!I80","v":0},{"$f":"'Entry Information'!H80","v":0},null,null,null,"Name:",{"$f":"'Entry Information'!H80","v":0},{"$f":"'Entry Information'!I80","v":0}]
["Horse Name",{"$f":"'Entry Information'!J80","v":0},null,null,null,null,"Horse Name",{"$f":"'Entry Information'!J80","v":0},null,null,null,null,"Horse Name",{"$f":"'Entry Information'!J80","v":0},null,null,null,null,"Horse Name",{"$f":"'Entry Information'!J80","v":0},null,null,null,null,"Horse Name",{"$f":"'Entry Information'!J80","v":0}]
[]
["Check box when entering Ranch Riding scores",null,null,null,null,null,"Check box when entering Working Ranch Horse scores",null,null,null,null,null,"Check box when entering Ranch Cutting scores",null,null,null,null,null,"Check box when entering Ranch Trail scores",null,null,null,null,null,"Check box when entering Conformation scores"]
["Ranch Riding",null,null,null,null,null,"Working Ranch Horse",null,null,null,null,null,"Ranch Cutting",null,null,null,null,null,"Ranch Trail",null,null,null,null,null,"Ranch Conformation"]
["Maneuver","Judge's Score +/-","Penalty Points",null,null,null,"Maneuver","Judge's Score +/-","Penalty Points",null,null,null,"Maneuver","Judge's Score +/-","Penalty Points",null,null,null,"Maneuver","Judge's Score +/-","Penalty Points",null,null,null,"Front Legs, Feet"]
[1,null,null,null,null,null,1,null,null,null,null,null,"Herd Work",null,null,null,null,null,1,null,null,null,null,null,"Chest, Pectoral V"]
[2,null,null,null,null,null,2,null,null,null,null,null,1,null,null,null,null,null,2,null,null,null,null,null,"Head"]
[3,null,null,null,null,null,3,null,null,null,null,null,2,null,null,null,null,null,3,null,null,null,null,null,"Neck & Throat Latch"]
[4,null,null,null,null,null,4,null,null,null,null,null,3,null,null,null,null,null,4,null,null,null,null,null,"Shoulders & Withers"]
[5,null,null,null,null,null,5,null,null,null,null,null,"Cutting",null,null,null,null,null,5,null,null,null,null,null,"Heart Girth & Barrel"]
[6,null,null,null,null,null,6,null,null,null,null,null,1,null,null,null,null,null,6,null,null,null,null,null,"Back & Loin"]
[7,null,null,null,null,null,7,null,null,null,null,null,2,null,null,null,null,null,7,null,null,null,null,null,"Hip & Croup"]
[8,null,null,null,null,null,8,null,null,null,null,null,3,null,null,null,null,null,8,null,null,null,null,null,"Stife & Gaskin"]
[9,null,null,null,null,null,null,null,"Total Penalty Pts",{"$f":"SUM(I10:J17)","v":0},null,null,4,null,null,null,null,null,9,null,null,null,null,null,"Hock, Hind Legs, Feet"]
[10,null,null,null,null,null,"56 +/- Judge Score",{"$f":"SUM(H10:H17)","v":0},"Divided by 2",{"$f":"SUM((56+H19)/2)","v":28},null,null,"Penning",null,null,null,null,null,10,null,null,null,null,null,"Overall Muscling"]
[11,null,null,null,null,null,"Maneuver Score",{"$f":"J19","v":28},"Less Penalty Pts",{"$f":"J18","v":0},null,null,1,null,null,null,null,null,null,null,"Major Penalties",null,null,null,"Tracking","Lame: enter an \"x\""]
[12,null,null,null,null,null,"REINING SCORE",null,null,{"$f":"SUM(H20+J20)","v":28},null,null,2,null,null,null,null,null,null,null,null,null,null,null,"Balance 1"]
[13,null,null,null,null,null,"Working Cow Horse",null,null,null,null,null,3,null,null,null,null,null,null,null,null,null,null,null,"Balance 2"]
[14,null,null,null,null,null,1,null,"Penalty Points",null,null,null,null,null,"Major Penalties",null,null,null,"Maneuver Total",{"$f":"SUM(T10:T19)","v":0},"Penalty Total",{"$f":"SUM(SUM(U10:V19)+V20)","v":0},null,null,"Balance 3"]
["Maneuver Total",{"$f":"SUM(B10:B23)","v":0},"Major Penalties",null,null,null,2,null,null,null,null,null,null,null,null,null,null,null,null,null,null,null,null,null,"Fitness & Condition"]
[null,null,"Penalty Total",{"$f":"SUM(C10:D24)","v":0},null,null,3,null,null,null,null,null,"Maneuver Total",{"$f":"SUM(N10:N22)","v":0},"Penalty Total",{"$f":"SUM(O11+O12+O13+O15+O16+O17+O18+O20+O21+O22+P23)","v":0},null,null,null,null,null,null,null,null,"Participant Showmanship"]
[null,null,null,null,null,null,"21 +/- Judge Score",{"$f":"SUM(H23:H25)","v":0},"Total Penalty Pts",{"$f":"SUM(J23:J25)","v":0},null,null,null,null,null,null,null,null,null,null,null,null,null,null,"Horse Showmanship"]
["100 +/-Maneuver",{"$f":"B24","v":0},"x .70 =",{"$f":"SUM((100+B27)*0.7)","v":70},null,null,"Maneuver Score",{"$f":"SUM(21+H26)","v":21},"Less Penalty Pts",{"$f":"J26","v":0},null,null,"70 +/-Maneuver",{"$f":"N25","v":0},"Less Penalty Total",{"$f":"P25","v":0},null,null,"70 +/-Maneuver",{"$f":"T23","v":0},"Less Penalty Total",{"$f":"V23","v":0},null,null,"Form & Showmanship Judges Score",null,"Total (1)",{"$f":"SUM(AB9:AB26)","v":0}]
[null,null,null,null,null,null,"CATTLE SCORE",null,null,{"$f":"SUM(H27+J27)","v":21},null,null,null,null,null,null,null,null,null,null,null,null,null,null,{"$f":"SUM(AB27*0.33+42)","v":42},{"$f":"IF(AA20=\"x\",-10,0)","v":0},"Judge Score (2)",{"$f":"SUM(Y28+Z28)","v":42}]
["Maneuver Score =",{"$f":"D27","v":70},"Less Penalty Total",{"$f":"D25","v":0},null,null,"Roping",null,null,null,null,null,null,null,null,null,null,null,null,null,null,null,null,null,"Ranch Cutting",{"$f":"IF(P31=\"\",0,P31)","v":0},"Ranch Rding",{"$f":"IF(D31=\"\",0,D31)","v":0}]
[null,null,null,null,null,null,1,null,"Penalty Points",null,null,null,null,null,null,null,null,null,null,null,null,null,null,null,"Working Ranch Horse",{"$f":"IF(J36=\"\",0,J36)","v":0},"Ranch Trail",{"$f":"IF(V31=\"\",0,V31)","v":0}]
["TOTAL SCORE",null,null,{"$f":"IF(D7=\"\",\"\",IF(B29+D29<0,0,B29+D29))","v":""},null,null,2,null,null,null,null,null,"TOTAL SCORE",null,null,{"$f":"IF(P7=\"\",\"\",IF(70+N27+P27<0,0,70+N27+P27))","v":""},null,null,"TOTAL SCORE",null,null,{"$f":"IF(V7=\"\",\"\",IF(70+T27+V27<0,0,70+T27+V27))","v":""},null,null,"Function Total (3)",{"$f":"SUM(Z29+AB29+Z30+AB30)","v":0},"Function Score (4)",{"$f":"Z31*0.1","v":0}]
[null,null,null,null,null,null,3,null,null,null,null,null,null,null,null,null,null,null,null,null,null,null,null,null,"Judge Score (2) + Function Score (4) = CONFORMATION SCORE",null,null,{"$f":"IF(AB7=\"\",\"\",IF(AB28+AB31<0,0,AB28+AB31))","v":""}]
[null,null,"Return to Entry Page",null,null,null,"21 +/- Judge Score",{"$f":"SUM(H30:H32)","v":0},"Total Penalty Pts",{"$f":"SUM(J30:J32)","v":0},null,null,null,null,"Return to Entry Page",null,null,null,null,null,"Return to Entry Page"]
[null,null,null,null,null,null,"Maneuver Score",{"$f":"SUM(21+H33)*1.1","v":23.1},"Less Penalty Pts",{"$f":"J33","v":0},null,null,null,null,null,null,null,null,null,null,null,null,null,null,null,null,"Return to Entry Page"]
[null,null,null,null,null,null,"ROPING SCORE",null,null,{"$f":"SUM(H34+J34)","v":23.1}]
[null,null,null,null,null,null,"TOTAL SCORE",null,null,{"$f":"IF(J7=\"\",\"\",IF(J21+J28+J35<0,0,J21+J28+J35))","v":""}]
[]
[null,null,null,null,null,null,null,null,"Return to Entry Page"]

{"sheet":"Advanced 11","index":80,"n_rows":38,"n_cols":28,"rows_kept":38,"cut":false,"hidden":false,"merged":[[34,6,34,8],[30,0,30,2],[35,6,35,8],[30,12,30,14],[30,18,30,20],[31,24,31,26],[23,0,24,0],[23,1,24,1],[23,18,25,21],[25,0,25,3],[27,6,27,8],[25,12,25,15],[27,0,27,3],[27,12,29,15],[27,18,29,21],[29,0,29,3],[29,8,31,8],[19,20,20,20],[19,21,20,21],[20,2,20,3],[20,6,20,8],[20,14,20,15],[16,14,16,15],[16,20,16,21],[22,2,22,3],[22,12,23,13],[22,14,23,14],[22,15,23,15],[22,8,24,8],[21,2,21,3],[21,14,21,15],[21,18,21,21],[18,2,18,3],[18,12,18,15],[18,20,18,21],[19,2,19,3],[19,14,19,15],[19,18,20,19],[17,2,17,3],[17,14,17,15],[17,20,17,21],[13,2,13,3],[13,8,14,9],[13,12,13,15],[13,20,13,21],[14,2,14,3],[14,14,14,15],[14,20,14,21],[15,2,15,3],[15,8,15,9],[15,14,15,15],[15,20,15,21],[16,2,16,3],[16,8,16,9],[7,24,7,27],[11,2,11,3],[11,8,12,9],[11,14,11,15],[11,20,11,21],[12,2,12,3],[12,14,12,15],[12,20,12,21],[9,2,9,3],[9,8,10,9],[9,12,9,15],[9,20,9,21],[10,2,10,3],[10,14,10,15],[10,20,10,21],[8,2,8,3],[8,8,8,9],[8,14,8,15],[8,20,8,21],[7,0,7,3],[7,6,7,9],[7,12,7,15],[7,18,7,21]]}
["RIDERS SCORE WORK SHEET"]
[]
["Back Number:",{"$f":"'Entry Information'!B81","v":0},null,null,null,null,"Back Number:",{"$f":"'Entry Information'!B81","v":0},null,null,null,null,"Back Number:",{"$f":"'Entry Information'!B81","v":0},null,null,null,null,"Back Number:",{"$f":"'Entry Information'!B81","v":0},null,null,null,null,"Back Number:",{"$f":"'Entry Information'!B81","v":0}]
["Name:",{"$f":"'Entry Information'!I81","v":0},{"$f":"'Entry Information'!H81","v":0},null,null,null,"Name:",{"$f":"'Entry Information'!I81","v":0},{"$f":"'Entry Information'!H81","v":0},null,null,null,"Name:",{"$f":"'Entry Information'!I81","v":0},{"$f":"'Entry Information'!H81","v":0},null,null,null,"Name:",{"$f":"'Entry Information'!I81","v":0},{"$f":"'Entry Information'!H81","v":0},null,null,null,"Name:",{"$f":"'Entry Information'!H81","v":0},{"$f":"'Entry Information'!I81","v":0}]
["Horse Name",{"$f":"'Entry Information'!J81","v":0},null,null,null,null,"Horse Name",{"$f":"'Entry Information'!J81","v":0},null,null,null,null,"Horse Name",{"$f":"'Entry Information'!J81","v":0},null,null,null,null,"Horse Name",{"$f":"'Entry Information'!J81","v":0},null,null,null,null,"Horse Name",{"$f":"'Entry Information'!J81","v":0}]
[]
["Check box when entering Ranch Riding scores",null,null,null,null,null,"Check box when entering Working Ranch Horse scores",null,null,null,null,null,"Check box when entering Ranch Cutting scores",null,null,null,null,null,"Check box when entering Ranch Trail scores",null,null,null,null,null,"Check box when entering Conformation scores"]
["Ranch Riding",null,null,null,null,null,"Working Ranch Horse",null,null,null,null,null,"Ranch Cutting",null,null,null,null,null,"Ranch Trail",null,null,null,null,null,"Ranch Conformation"]
["Maneuver","Judge's Score +/-","Penalty Points",null,null,null,"Maneuver","Judge's Score +/-","Penalty Points",null,null,null,"Maneuver","Judge's Score +/-","Penalty Points",null,null,null,"Maneuver","Judge's Score +/-","Penalty Points",null,null,null,"Front Legs, Feet"]
[1,null,null,null,null,null,1,null,null,null,null,null,"Herd Work",null,null,null,null,null,1,null,null,null,null,null,"Chest, Pectoral V"]
[2,null,null,null,null,null,2,null,null,null,null,null,1,null,null,null,null,null,2,null,null,null,null,null,"Head"]
[3,null,null,null,null,null,3,null,null,null,null,null,2,null,null,null,null,null,3,null,null,null,null,null,"Neck & Throat Latch"]
[4,null,null,null,null,null,4,null,null,null,null,null,3,null,null,null,null,null,4,null,null,null,null,null,"Shoulders & Withers"]
[5,null,null,null,null,null,5,null,null,null,null,null,"Cutting",null,null,null,null,null,5,null,null,null,null,null,"Heart Girth & Barrel"]
[6,null,null,null,null,null,6,null,null,null,null,null,1,null,null,null,null,null,6,null,null,null,null,null,"Back & Loin"]
[7,null,null,null,null,null,7,null,null,null,null,null,2,null,null,null,null,null,7,null,null,null,null,null,"Hip & Croup"]
[8,null,null,null,null,null,8,null,null,null,null,null,3,null,null,null,null,null,8,null,null,null,null,null,"Stife & Gaskin"]
[9,null,null,null,null,null,null,null,"Total Penalty Pts",{"$f":"SUM(I10:J17)","v":0},null,null,4,null,null,null,null,null,9,null,null,null,null,null,"Hock, Hind Legs, Feet"]
[10,null,null,null,null,null,"56 +/- Judge Score",{"$f":"SUM(H10:H17)","v":0},"Divided by 2",{"$f":"SUM((56+H19)/2)","v":28},null,null,"Penning",null,null,null,null,null,10,null,null,null,null,null,"Overall Muscling"]
[11,null,null,null,null,null,"Maneuver Score",{"$f":"J19","v":28},"Less Penalty Pts",{"$f":"J18","v":0},null,null,1,null,null,null,null,null,null,null,"Major Penalties",null,null,null,"Tracking","Lame: enter an \"x\""]
[12,null,null,null,null,null,"REINING SCORE",null,null,{"$f":"SUM(H20+J20)","v":28},null,null,2,null,null,null,null,null,null,null,null,null,null,null,"Balance 1"]
[13,null,null,null,null,null,"Working Cow Horse",null,null,null,null,null,3,null,null,null,null,null,null,null,null,null,null,null,"Balance 2"]
[14,null,null,null,null,null,1,null,"Penalty Points",null,null,null,null,null,"Major Penalties",null,null,null,"Maneuver Total",{"$f":"SUM(T10:T19)","v":0},"Penalty Total",{"$f":"SUM(SUM(U10:V19)+V20)","v":0},null,null,"Balance 3"]
["Maneuver Total",{"$f":"SUM(B10:B23)","v":0},"Major Penalties",null,null,null,2,null,null,null,null,null,null,null,null,null,null,null,null,null,null,null,null,null,"Fitness & Condition"]
[null,null,"Penalty Total",{"$f":"SUM(C10:D24)","v":0},null,null,3,null,null,null,null,null,"Maneuver Total",{"$f":"SUM(N10:N22)","v":0},"Penalty Total",{"$f":"SUM(O11+O12+O13+O15+O16+O17+O18+O20+O21+O22+P23)","v":0},null,null,null,null,null,null,null,null,"Participant Showmanship"]
[null,null,null,null,null,null,"21 +/- Judge Score",{"$f":"SUM(H23:H25)","v":0},"Total Penalty Pts",{"$f":"SUM(J23:J25)","v":0},null,null,null,null,null,null,null,null,null,null,null,null,null,null,"Horse Showmanship"]
["100 +/-Maneuver",{"$f":"B24","v":0},"x .70 =",{"$f":"SUM((100+B27)*0.7)","v":70},null,null,"Maneuver Score",{"$f":"SUM(21+H26)","v":21},"Less Penalty Pts",{"$f":"J26","v":0},null,null,"70 +/-Maneuver",{"$f":"N25","v":0},"Less Penalty Total",{"$f":"P25","v":0},null,null,"70 +/-Maneuver",{"$f":"T23","v":0},"Less Penalty Total",{"$f":"V23","v":0},null,null,"Form & Showmanship Judges Score",null,"Total (1)",{"$f":"SUM(AB9:AB26)","v":0}]
[null,null,null,null,null,null,"CATTLE SCORE",null,null,{"$f":"SUM(H27+J27)","v":21},null,null,null,null,null,null,null,null,null,null,null,null,null,null,{"$f":"SUM(AB27*0.33+42)","v":42},{"$f":"IF(AA20=\"x\",-10,0)","v":0},"Judge Score (2)",{"$f":"SUM(Y28+Z28)","v":42}]
["Maneuver Score =",{"$f":"D27","v":70},"Less Penalty Total",{"$f":"D25","v":0},null,null,"Roping",null,null,null,null,null,null,null,null,null,null,null,null,null,null,null,null,null,"Ranch Cutting",{"$f":"IF(P31=\"\",0,P31)","v":0},"Ranch Rding",{"$f":"IF(D31=\"\",0,D31)","v":0}]
[null,null,null,null,null,null,1,null,"Penalty Points",null,null,null,null,null,null,null,null,null,null,null,null,null,null,null,"Working Ranch Horse",{"$f":"IF(J36=\"\",0,J36)","v":0},"Ranch Trail",{"$f":"IF(V31=\"\",0,V31)","v":0}]
["TOTAL SCORE",null,null,{"$f":"IF(D7=\"\",\"\",IF(B29+D29<0,0,B29+D29))","v":""},null,null,2,null,null,null,null,null,"TOTAL SCORE",null,null,{"$f":"IF(P7=\"\",\"\",IF(70+N27+P27<0,0,70+N27+P27))","v":""},null,null,"TOTAL SCORE",null,null,{"$f":"IF(V7=\"\",\"\",IF(70+T27+V27<0,0,70+T27+V27))","v":""},null,null,"Function Total (3)",{"$f":"SUM(Z29+AB29+Z30+AB30)","v":0},"Function Score (4)",{"$f":"Z31*0.1","v":0}]
[null,null,null,null,null,null,3,null,null,null,null,null,null,null,null,null,null,null,null,null,null,null,null,null,"Judge Score (2) + Function Score (4) = CONFORMATION SCORE",null,null,{"$f":"IF(AB7=\"\",\"\",IF(AB28+AB31<0,0,AB28+AB31))","v":""}]
[null,null,"Return to Entry Page",null,null,null,"21 +/- Judge Score",{"$f":"SUM(H30:H32)","v":0},"Total Penalty Pts",{"$f":"SUM(J30:J32)","v":0},null,null,null,null,"Return to Entry Page",null,null,null,null,null,"Return to Entry Page"]
[null,null,null,null,null,null,"Maneuver Score",{"$f":"SUM(21+H33)*1.1","v":23.1},"Less Penalty Pts",{"$f":"J33","v":0},null,null,null,null,null,null,null,null,null,null,null,null,null,null,null,null,"Return to Entry Page"]
[null,null,null,null,null,null,"ROPING SCORE",null,null,{"$f":"SUM(H34+J34)","v":23.1}]
[null,null,null,null,null,null,"TOTAL SCORE",null,null,{"$f":"IF(J7=\"\",\"\",IF(J21+J28+J35<0,0,J21+J28+J35))","v":""}]
[]
[null,null,null,null,null,null,null,null,"Return to Entry Page"]

{"sheet":"Advanced 12","index":81,"n_rows":38,"n_cols":28,"rows_kept":38,"cut":false,"hidden":false,"merged":[[34,6,34,8],[30,0,30,2],[35,6,35,8],[30,12,30,14],[30,18,30,20],[31,24,31,26],[23,0,24,0],[23,1,24,1],[23,18,25,21],[25,0,25,3],[27,6,27,8],[25,12,25,15],[27,0,27,3],[27,12,29,15],[27,18,29,21],[29,0,29,3],[29,8,31,8],[19,20,20,20],[19,21,20,21],[20,2,20,3],[20,6,20,8],[20,14,20,15],[16,14,16,15],[16,20,16,21],[22,2,22,3],[22,12,23,13],[22,14,23,14],[22,15,23,15],[22,8,24,8],[21,2,21,3],[21,14,21,15],[21,18,21,21],[18,2,18,3],[18,12,18,15],[18,20,18,21],[19,2,19,3],[19,14,19,15],[19,18,20,19],[17,2,17,3],[17,14,17,15],[17,20,17,21],[13,2,13,3],[13,8,14,9],[13,12,13,15],[13,20,13,21],[14,2,14,3],[14,14,14,15],[14,20,14,21],[15,2,15,3],[15,8,15,9],[15,14,15,15],[15,20,15,21],[16,2,16,3],[16,8,16,9],[7,24,7,27],[11,2,11,3],[11,8,12,9],[11,14,11,15],[11,20,11,21],[12,2,12,3],[12,14,12,15],[12,20,12,21],[9,2,9,3],[9,8,10,9],[9,12,9,15],[9,20,9,21],[10,2,10,3],[10,14,10,15],[10,20,10,21],[8,2,8,3],[8,8,8,9],[8,14,8,15],[8,20,8,21],[7,0,7,3],[7,6,7,9],[7,12,7,15],[7,18,7,21]]}
["RIDERS SCORE WORK SHEET"]
[]
["Back Number:",{"$f":"'Entry Information'!B82","v":0},null,null,null,null,"Back Number:",{"$f":"'Entry Information'!B82","v":0},null,null,null,null,"Back Number:",{"$f":"'Entry Information'!B82","v":0},null,null,null,null,"Back Number:",{"$f":"'Entry Information'!B82","v":0},null,null,null,null,"Back Number:",{"$f":"'Entry Information'!B82","v":0}]
["Name:",{"$f":"'Entry Information'!I82","v":0},{"$f":"'Entry Information'!H82","v":0},null,null,null,"Name:",{"$f":"'Entry Information'!I82","v":0},{"$f":"'Entry Information'!H82","v":0},null,null,null,"Name:",{"$f":"'Entry Information'!I82","v":0},{"$f":"'Entry Information'!H82","v":0},null,null,null,"Name:",{"$f":"'Entry Information'!I82","v":0},{"$f":"'Entry Information'!H82","v":0},null,null,null,"Name:",{"$f":"'Entry Information'!H82","v":0},{"$f":"'Entry Information'!I82","v":0}]
["Horse Name",{"$f":"'Entry Information'!J82","v":0},null,null,null,null,"Horse Name",{"$f":"'Entry Information'!J82","v":0},null,null,null,null,"Horse Name",{"$f":"'Entry Information'!J82","v":0},null,null,null,null,"Horse Name",{"$f":"'Entry Information'!J82","v":0},null,null,null,null,"Horse Name",{"$f":"'Entry Information'!J82","v":0}]
[]
["Check box when entering Ranch Riding scores",null,null,null,null,null,"Check box when entering Working Ranch Horse scores",null,null,null,null,null,"Check box when entering Ranch Cutting scores",null,null,null,null,null,"Check box when entering Ranch Trail scores",null,null,null,null,null,"Check box when entering Conformation scores"]
["Ranch Riding",null,null,null,null,null,"Working Ranch Horse",null,null,null,null,null,"Ranch Cutting",null,null,null,null,null,"Ranch Trail",null,null,null,null,null,"Ranch Conformation"]
["Maneuver","Judge's Score +/-","Penalty Points",null,null,null,"Maneuver","Judge's Score +/-","Penalty Points",null,null,null,"Maneuver","Judge's Score +/-","Penalty Points",null,null,null,"Maneuver","Judge's Score +/-","Penalty Points",null,null,null,"Front Legs, Feet"]
[1,null,null,null,null,null,1,null,null,null,null,null,"Herd Work",null,null,null,null,null,1,null,null,null,null,null,"Chest, Pectoral V"]
[2,null,null,null,null,null,2,null,null,null,null,null,1,null,null,null,null,null,2,null,null,null,null,null,"Head"]
[3,null,null,null,null,null,3,null,null,null,null,null,2,null,null,null,null,null,3,null,null,null,null,null,"Neck & Throat Latch"]
[4,null,null,null,null,null,4,null,null,null,null,null,3,null,null,null,null,null,4,null,null,null,null,null,"Shoulders & Withers"]
[5,null,null,null,null,null,5,null,null,null,null,null,"Cutting",null,null,null,null,null,5,null,null,null,null,null,"Heart Girth & Barrel"]
[6,null,null,null,null,null,6,null,null,null,null,null,1,null,null,null,null,null,6,null,null,null,null,null,"Back & Loin"]
[7,null,null,null,null,null,7,null,null,null,null,null,2,null,null,null,null,null,7,null,null,null,null,null,"Hip & Croup"]
[8,null,null,null,null,null,8,null,null,null,null,null,3,null,null,null,null,null,8,null,null,null,null,null,"Stife & Gaskin"]
[9,null,null,null,null,null,null,null,"Total Penalty Pts",{"$f":"SUM(I10:J17)","v":0},null,null,4,null,null,null,null,null,9,null,null,null,null,null,"Hock, Hind Legs, Feet"]
[10,null,null,null,null,null,"56 +/- Judge Score",{"$f":"SUM(H10:H17)","v":0},"Divided by 2",{"$f":"SUM((56+H19)/2)","v":28},null,null,"Penning",null,null,null,null,null,10,null,null,null,null,null,"Overall Muscling"]
[11,null,null,null,null,null,"Maneuver Score",{"$f":"J19","v":28},"Less Penalty Pts",{"$f":"J18","v":0},null,null,1,null,null,null,null,null,null,null,"Major Penalties",null,null,null,"Tracking","Lame: enter an \"x\""]
[12,null,null,null,null,null,"REINING SCORE",null,null,{"$f":"SUM(H20+J20)","v":28},null,null,2,null,null,null,null,null,null,null,null,null,null,null,"Balance 1"]
[13,null,null,null,null,null,"Working Cow Horse",null,null,null,null,null,3,null,null,null,null,null,null,null,null,null,null,null,"Balance 2"]
[14,null,null,null,null,null,1,null,"Penalty Points",null,null,null,null,null,"Major Penalties",null,null,null,"Maneuver Total",{"$f":"SUM(T10:T19)","v":0},"Penalty Total",{"$f":"SUM(SUM(U10:V19)+V20)","v":0},null,null,"Balance 3"]
["Maneuver Total",{"$f":"SUM(B10:B23)","v":0},"Major Penalties",null,null,null,2,null,null,null,null,null,null,null,null,null,null,null,null,null,null,null,null,null,"Fitness & Condition"]
[null,null,"Penalty Total",{"$f":"SUM(C10:D24)","v":0},null,null,3,null,null,null,null,null,"Maneuver Total",{"$f":"SUM(N10:N22)","v":0},"Penalty Total",{"$f":"SUM(O11+O12+O13+O15+O16+O17+O18+O20+O21+O22+P23)","v":0},null,null,null,null,null,null,null,null,"Participant Showmanship"]
[null,null,null,null,null,null,"21 +/- Judge Score",{"$f":"SUM(H23:H25)","v":0},"Total Penalty Pts",{"$f":"SUM(J23:J25)","v":0},null,null,null,null,null,null,null,null,null,null,null,null,null,null,"Horse Showmanship"]
["100 +/-Maneuver",{"$f":"B24","v":0},"x .70 =",{"$f":"SUM((100+B27)*0.7)","v":70},null,null,"Maneuver Score",{"$f":"SUM(21+H26)","v":21},"Less Penalty Pts",{"$f":"J26","v":0},null,null,"70 +/-Maneuver",{"$f":"N25","v":0},"Less Penalty Total",{"$f":"P25","v":0},null,null,"70 +/-Maneuver",{"$f":"T23","v":0},"Less Penalty Total",{"$f":"V23","v":0},null,null,"Form & Showmanship Judges Score",null,"Total (1)",{"$f":"SUM(AB9:AB26)","v":0}]
[null,null,null,null,null,null,"CATTLE SCORE",null,null,{"$f":"SUM(H27+J27)","v":21},null,null,null,null,null,null,null,null,null,null,null,null,null,null,{"$f":"SUM(AB27*0.33+42)","v":42},{"$f":"IF(AA20=\"x\",-10,0)","v":0},"Judge Score (2)",{"$f":"SUM(Y28+Z28)","v":42}]
["Maneuver Score =",{"$f":"D27","v":70},"Less Penalty Total",{"$f":"D25","v":0},null,null,"Roping",null,null,null,null,null,null,null,null,null,null,null,null,null,null,null,null,null,"Ranch Cutting",{"$f":"IF(P31=\"\",0,P31)","v":0},"Ranch Rding",{"$f":"IF(D31=\"\",0,D31)","v":0}]
[null,null,null,null,null,null,1,null,"Penalty Points",null,null,null,null,null,null,null,null,null,null,null,null,null,null,null,"Working Ranch Horse",{"$f":"IF(J36=\"\",0,J36)","v":0},"Ranch Trail",{"$f":"IF(V31=\"\",0,V31)","v":0}]
["TOTAL SCORE",null,null,{"$f":"IF(D7=\"\",\"\",IF(B29+D29<0,0,B29+D29))","v":""},null,null,2,null,null,null,null,null,"TOTAL SCORE",null,null,{"$f":"IF(P7=\"\",\"\",IF(70+N27+P27<0,0,70+N27+P27))","v":""},null,null,"TOTAL SCORE",null,null,{"$f":"IF(V7=\"\",\"\",IF(70+T27+V27<0,0,70+T27+V27))","v":""},null,null,"Function Total (3)",{"$f":"SUM(Z29+AB29+Z30+AB30)","v":0},"Function Score (4)",{"$f":"Z31*0.1","v":0}]
[null,null,null,null,null,null,3,null,null,null,null,null,null,null,null,null,null,null,null,null,null,null,null,null,"Judge Score (2) + Function Score (4) = CONFORMATION SCORE",null,null,{"$f":"IF(AB7=\"\",\"\",IF(AB28+AB31<0,0,AB28+AB31))","v":""}]
[null,null,"Return to Entry Page",null,null,null,"21 +/- Judge Score",{"$f":"SUM(H30:H32)","v":0},"Total Penalty Pts",{"$f":"SUM(J30:J32)","v":0},null,null,null,null,"Return to Entry Page",null,null,null,null,null,"Return to Entry Page"]
[null,null,null,null,null,null,"Maneuver Score",{"$f":"SUM(21+H33)*1.1","v":23.1},"Less Penalty Pts",{"$f":"J33","v":0},null,null,null,null,null,null,null,null,null,null,null,null,null,null,null,null,"Return to Entry Page"]
[null,null,null,null,null,null,"ROPING SCORE",null,null,{"$f":"SUM(H34+J34)","v":23.1}]
[null,null,null,null,null,null,"TOTAL SCORE",null,null,{"$f":"IF(J7=\"\",\"\",IF(J21+J28+J35<0,0,J21+J28+J35))","v":""}]
[]
[null,null,null,null,null,null,null,null,"Return to Entry Page"]

{"sheet":"Advanced 13","index":82,"n_rows":38,"n_cols":28,"rows_kept":38,"cut":false,"hidden":false,"merged":[[34,6,34,8],[30,0,30,2],[35,6,35,8],[30,12,30,14],[30,18,30,20],[31,24,31,26],[23,0,24,0],[23,1,24,1],[23,18,25,21],[25,0,25,3],[27,6,27,8],[25,12,25,15],[27,0,27,3],[27,12,29,15],[27,18,29,21],[29,0,29,3],[29,8,31,8],[19,20,20,20],[19,21,20,21],[20,2,20,3],[20,6,20,8],[20,14,20,15],[16,14,16,15],[16,20,16,21],[22,2,22,3],[22,12,23,13],[22,14,23,14],[22,15,23,15],[22,8,24,8],[21,2,21,3],[21,14,21,15],[21,18,21,21],[18,2,18,3],[18,12,18,15],[18,20,18,21],[19,2,19,3],[19,14,19,15],[19,18,20,19],[17,2,17,3],[17,14,17,15],[17,20,17,21],[13,2,13,3],[13,8,14,9],[13,12,13,15],[13,20,13,21],[14,2,14,3],[14,14,14,15],[14,20,14,21],[15,2,15,3],[15,8,15,9],[15,14,15,15],[15,20,15,21],[16,2,16,3],[16,8,16,9],[7,24,7,27],[11,2,11,3],[11,8,12,9],[11,14,11,15],[11,20,11,21],[12,2,12,3],[12,14,12,15],[12,20,12,21],[9,2,9,3],[9,8,10,9],[9,12,9,15],[9,20,9,21],[10,2,10,3],[10,14,10,15],[10,20,10,21],[8,2,8,3],[8,8,8,9],[8,14,8,15],[8,20,8,21],[7,0,7,3],[7,6,7,9],[7,12,7,15],[7,18,7,21]]}
["RIDERS SCORE WORK SHEET"]
[]
["Back Number:",{"$f":"'Entry Information'!B83","v":0},null,null,null,null,"Back Number:",{"$f":"'Entry Information'!B83","v":0},null,null,null,null,"Back Number:",{"$f":"'Entry Information'!B83","v":0},null,null,null,null,"Back Number:",{"$f":"'Entry Information'!B83","v":0},null,null,null,null,"Back Number:",{"$f":"'Entry Information'!B83","v":0}]
["Name:",{"$f":"'Entry Information'!I83","v":0},{"$f":"'Entry Information'!H83","v":0},null,null,null,"Name:",{"$f":"'Entry Information'!I83","v":0},{"$f":"'Entry Information'!H83","v":0},null,null,null,"Name:",{"$f":"'Entry Information'!I83","v":0},{"$f":"'Entry Information'!H83","v":0},null,null,null,"Name:",{"$f":"'Entry Information'!I83","v":0},{"$f":"'Entry Information'!H83","v":0},null,null,null,"Name:",{"$f":"'Entry Information'!H83","v":0},{"$f":"'Entry Information'!I83","v":0}]
["Horse Name",{"$f":"'Entry Information'!J83","v":0},null,null,null,null,"Horse Name",{"$f":"'Entry Information'!J83","v":0},null,null,null,null,"Horse Name",{"$f":"'Entry Information'!J83","v":0},null,null,null,null,"Horse Name",{"$f":"'Entry Information'!J83","v":0},null,null,null,null,"Horse Name",{"$f":"'Entry Information'!J83","v":0}]
[]
["Check box when entering Ranch Riding scores",null,null,null,null,null,"Check box when entering Working Ranch Horse scores",null,null,null,null,null,"Check box when entering Ranch Cutting scores",null,null,null,null,null,"Check box when entering Ranch Trail scores",null,null,null,null,null,"Check box when entering Conformation scores"]
["Ranch Riding",null,null,null,null,null,"Working Ranch Horse",null,null,null,null,null,"Ranch Cutting",null,null,null,null,null,"Ranch Trail",null,null,null,null,null,"Ranch Conformation"]
["Maneuver","Judge's Score +/-","Penalty Points",null,null,null,"Maneuver","Judge's Score +/-","Penalty Points",null,null,null,"Maneuver","Judge's Score +/-","Penalty Points",null,null,null,"Maneuver","Judge's Score +/-","Penalty Points",null,null,null,"Front Legs, Feet"]
[1,null,null,null,null,null,1,null,null,null,null,null,"Herd Work",null,null,null,null,null,1,null,null,null,null,null,"Chest, Pectoral V"]
[2,null,null,null,null,null,2,null,null,null,null,null,1,null,null,null,null,null,2,null,null,null,null,null,"Head"]
[3,null,null,null,null,null,3,null,null,null,null,null,2,null,null,null,null,null,3,null,null,null,null,null,"Neck & Throat Latch"]
[4,null,null,null,null,null,4,null,null,null,null,null,3,null,null,null,null,null,4,null,null,null,null,null,"Shoulders & Withers"]
[5,null,null,null,null,null,5,null,null,null,null,null,"Cutting",null,null,null,null,null,5,null,null,null,null,null,"Heart Girth & Barrel"]
[6,null,null,null,null,null,6,null,null,null,null,null,1,null,null,null,null,null,6,null,null,null,null,null,"Back & Loin"]
[7,null,null,null,null,null,7,null,null,null,null,null,2,null,null,null,null,null,7,null,null,null,null,null,"Hip & Croup"]
[8,null,null,null,null,null,8,null,null,null,null,null,3,null,null,null,null,null,8,null,null,null,null,null,"Stife & Gaskin"]
[9,null,null,null,null,null,null,null,"Total Penalty Pts",{"$f":"SUM(I10:J17)","v":0},null,null,4,null,null,null,null,null,9,null,null,null,null,null,"Hock, Hind Legs, Feet"]
[10,null,null,null,null,null,"56 +/- Judge Score",{"$f":"SUM(H10:H17)","v":0},"Divided by 2",{"$f":"SUM((56+H19)/2)","v":28},null,null,"Penning",null,null,null,null,null,10,null,null,null,null,null,"Overall Muscling"]
[11,null,null,null,null,null,"Maneuver Score",{"$f":"J19","v":28},"Less Penalty Pts",{"$f":"J18","v":0},null,null,1,null,null,null,null,null,null,null,"Major Penalties",null,null,null,"Tracking","Lame: enter an \"x\""]
[12,null,null,null,null,null,"REINING SCORE",null,null,{"$f":"SUM(H20+J20)","v":28},null,null,2,null,null,null,null,null,null,null,null,null,null,null,"Balance 1"]
[13,null,null,null,null,null,"Working Cow Horse",null,null,null,null,null,3,null,null,null,null,null,null,null,null,null,null,null,"Balance 2"]
[14,null,null,null,null,null,1,null,"Penalty Points",null,null,null,null,null,"Major Penalties",null,null,null,"Maneuver Total",{"$f":"SUM(T10:T19)","v":0},"Penalty Total",{"$f":"SUM(SUM(U10:V19)+V20)","v":0},null,null,"Balance 3"]
["Maneuver Total",{"$f":"SUM(B10:B23)","v":0},"Major Penalties",null,null,null,2,null,null,null,null,null,null,null,null,null,null,null,null,null,null,null,null,null,"Fitness & Condition"]
[null,null,"Penalty Total",{"$f":"SUM(C10:D24)","v":0},null,null,3,null,null,null,null,null,"Maneuver Total",{"$f":"SUM(N10:N22)","v":0},"Penalty Total",{"$f":"SUM(O11+O12+O13+O15+O16+O17+O18+O20+O21+O22+P23)","v":0},null,null,null,null,null,null,null,null,"Participant Showmanship"]
[null,null,null,null,null,null,"21 +/- Judge Score",{"$f":"SUM(H23:H25)","v":0},"Total Penalty Pts",{"$f":"SUM(J23:J25)","v":0},null,null,null,null,null,null,null,null,null,null,null,null,null,null,"Horse Showmanship"]
["100 +/-Maneuver",{"$f":"B24","v":0},"x .70 =",{"$f":"SUM((100+B27)*0.7)","v":70},null,null,"Maneuver Score",{"$f":"SUM(21+H26)","v":21},"Less Penalty Pts",{"$f":"J26","v":0},null,null,"70 +/-Maneuver",{"$f":"N25","v":0},"Less Penalty Total",{"$f":"P25","v":0},null,null,"70 +/-Maneuver",{"$f":"T23","v":0},"Less Penalty Total",{"$f":"V23","v":0},null,null,"Form & Showmanship Judges Score",null,"Total (1)",{"$f":"SUM(AB9:AB26)","v":0}]
[null,null,null,null,null,null,"CATTLE SCORE",null,null,{"$f":"SUM(H27+J27)","v":21},null,null,null,null,null,null,null,null,null,null,null,null,null,null,{"$f":"SUM(AB27*0.33+42)","v":42},{"$f":"IF(AA20=\"x\",-10,0)","v":0},"Judge Score (2)",{"$f":"SUM(Y28+Z28)","v":42}]
["Maneuver Score =",{"$f":"D27","v":70},"Less Penalty Total",{"$f":"D25","v":0},null,null,"Roping",null,null,null,null,null,null,null,null,null,null,null,null,null,null,null,null,null,"Ranch Cutting",{"$f":"IF(P31=\"\",0,P31)","v":0},"Ranch Rding",{"$f":"IF(D31=\"\",0,D31)","v":0}]
[null,null,null,null,null,null,1,null,"Penalty Points",null,null,null,null,null,null,null,null,null,null,null,null,null,null,null,"Working Ranch Horse",{"$f":"IF(J36=\"\",0,J36)","v":0},"Ranch Trail",{"$f":"IF(V31=\"\",0,V31)","v":0}]
["TOTAL SCORE",null,null,{"$f":"IF(D7=\"\",\"\",IF(B29+D29<0,0,B29+D29))","v":""},null,null,2,null,null,null,null,null,"TOTAL SCORE",null,null,{"$f":"IF(P7=\"\",\"\",IF(70+N27+P27<0,0,70+N27+P27))","v":""},null,null,"TOTAL SCORE",null,null,{"$f":"IF(V7=\"\",\"\",IF(70+T27+V27<0,0,70+T27+V27))","v":""},null,null,"Function Total (3)",{"$f":"SUM(Z29+AB29+Z30+AB30)","v":0},"Function Score (4)",{"$f":"Z31*0.1","v":0}]
[null,null,null,null,null,null,3,null,null,null,null,null,null,null,null,null,null,null,null,null,null,null,null,null,"Judge Score (2) + Function Score (4) = CONFORMATION SCORE",null,null,{"$f":"IF(AB7=\"\",\"\",IF(AB28+AB31<0,0,AB28+AB31))","v":""}]
[null,null,"Return to Entry Page",null,null,null,"21 +/- Judge Score",{"$f":"SUM(H30:H32)","v":0},"Total Penalty Pts",{"$f":"SUM(J30:J32)","v":0},null,null,null,null,"Return to Entry Page",null,null,null,null,null,"Return to Entry Page"]
[null,null,null,null,null,null,"Maneuver Score",{"$f":"SUM(21+H33)*1.1","v":23.1},"Less Penalty Pts",{"$f":"J33","v":0},null,null,null,null,null,null,null,null,null,null,null,null,null,null,null,null,"Return to Entry Page"]
[null,null,null,null,null,null,"ROPING SCORE",null,null,{"$f":"SUM(H34+J34)","v":23.1}]
[null,null,null,null,null,null,"TOTAL SCORE",null,null,{"$f":"IF(J7=\"\",\"\",IF(J21+J28+J35<0,0,J21+J28+J35))","v":""}]
[]
[null,null,null,null,null,null,null,null,"Return to Entry Page"]

{"sheet":"Advanced 14","index":83,"n_rows":38,"n_cols":28,"rows_kept":38,"cut":false,"hidden":false,"merged":[[34,6,34,8],[30,0,30,2],[35,6,35,8],[30,12,30,14],[30,18,30,20],[31,24,31,26],[23,0,24,0],[23,1,24,1],[23,18,25,21],[25,0,25,3],[27,6,27,8],[25,12,25,15],[27,0,27,3],[27,12,29,15],[27,18,29,21],[29,0,29,3],[29,8,31,8],[19,20,20,20],[19,21,20,21],[20,2,20,3],[20,6,20,8],[20,14,20,15],[16,14,16,15],[16,20,16,21],[22,2,22,3],[22,12,23,13],[22,14,23,14],[22,15,23,15],[22,8,24,8],[21,2,21,3],[21,14,21,15],[21,18,21,21],[18,2,18,3],[18,12,18,15],[18,20,18,21],[19,2,19,3],[19,14,19,15],[19,18,20,19],[17,2,17,3],[17,14,17,15],[17,20,17,21],[13,2,13,3],[13,8,14,9],[13,12,13,15],[13,20,13,21],[14,2,14,3],[14,14,14,15],[14,20,14,21],[15,2,15,3],[15,8,15,9],[15,14,15,15],[15,20,15,21],[16,2,16,3],[16,8,16,9],[7,24,7,27],[11,2,11,3],[11,8,12,9],[11,14,11,15],[11,20,11,21],[12,2,12,3],[12,14,12,15],[12,20,12,21],[9,2,9,3],[9,8,10,9],[9,12,9,15],[9,20,9,21],[10,2,10,3],[10,14,10,15],[10,20,10,21],[8,2,8,3],[8,8,8,9],[8,14,8,15],[8,20,8,21],[7,0,7,3],[7,6,7,9],[7,12,7,15],[7,18,7,21]]}
["RIDERS SCORE WORK SHEET"]
[]
["Back Number:",{"$f":"'Entry Information'!B84","v":0},null,null,null,null,"Back Number:",{"$f":"'Entry Information'!B84","v":0},null,null,null,null,"Back Number:",{"$f":"'Entry Information'!B84","v":0},null,null,null,null,"Back Number:",{"$f":"'Entry Information'!B84","v":0},null,null,null,null,"Back Number:",{"$f":"'Entry Information'!B84","v":0}]
["Name:",{"$f":"'Entry Information'!I84","v":0},{"$f":"'Entry Information'!H84","v":0},null,null,null,"Name:",{"$f":"'Entry Information'!I84","v":0},{"$f":"'Entry Information'!H84","v":0},null,null,null,"Name:",{"$f":"'Entry Information'!I84","v":0},{"$f":"'Entry Information'!H84","v":0},null,null,null,"Name:",{"$f":"'Entry Information'!I84","v":0},{"$f":"'Entry Information'!H84","v":0},null,null,null,"Name:",{"$f":"'Entry Information'!H84","v":0},{"$f":"'Entry Information'!I84","v":0}]
["Horse Name",{"$f":"'Entry Information'!J84","v":0},null,null,null,null,"Horse Name",{"$f":"'Entry Information'!J84","v":0},null,null,null,null,"Horse Name",{"$f":"'Entry Information'!J84","v":0},null,null,null,null,"Horse Name",{"$f":"'Entry Information'!J84","v":0},null,null,null,null,"Horse Name",{"$f":"'Entry Information'!J84","v":0}]
[]
["Check box when entering Ranch Riding scores",null,null,null,null,null,"Check box when entering Working Ranch Horse scores",null,null,null,null,null,"Check box when entering Ranch Cutting scores",null,null,null,null,null,"Check box when entering Ranch Trail scores",null,null,null,null,null,"Check box when entering Conformation scores"]
["Ranch Riding",null,null,null,null,null,"Working Ranch Horse",null,null,null,null,null,"Ranch Cutting",null,null,null,null,null,"Ranch Trail",null,null,null,null,null,"Ranch Conformation"]
["Maneuver","Judge's Score +/-","Penalty Points",null,null,null,"Maneuver","Judge's Score +/-","Penalty Points",null,null,null,"Maneuver","Judge's Score +/-","Penalty Points",null,null,null,"Maneuver","Judge's Score +/-","Penalty Points",null,null,null,"Front Legs, Feet"]
[1,null,null,null,null,null,1,null,null,null,null,null,"Herd Work",null,null,null,null,null,1,null,null,null,null,null,"Chest, Pectoral V"]
[2,null,null,null,null,null,2,null,null,null,null,null,1,null,null,null,null,null,2,null,null,null,null,null,"Head"]
[3,null,null,null,null,null,3,null,null,null,null,null,2,null,null,null,null,null,3,null,null,null,null,null,"Neck & Throat Latch"]
[4,null,null,null,null,null,4,null,null,null,null,null,3,null,null,null,null,null,4,null,null,null,null,null,"Shoulders & Withers"]
[5,null,null,null,null,null,5,null,null,null,null,null,"Cutting",null,null,null,null,null,5,null,null,null,null,null,"Heart Girth & Barrel"]
[6,null,null,null,null,null,6,null,null,null,null,null,1,null,null,null,null,null,6,null,null,null,null,null,"Back & Loin"]
[7,null,null,null,null,null,7,null,null,null,null,null,2,null,null,null,null,null,7,null,null,null,null,null,"Hip & Croup"]
[8,null,null,null,null,null,8,null,null,null,null,null,3,null,null,null,null,null,8,null,null,null,null,null,"Stife & Gaskin"]
[9,null,null,null,null,null,null,null,"Total Penalty Pts",{"$f":"SUM(I10:J17)","v":0},null,null,4,null,null,null,null,null,9,null,null,null,null,null,"Hock, Hind Legs, Feet"]
[10,null,null,null,null,null,"56 +/- Judge Score",{"$f":"SUM(H10:H17)","v":0},"Divided by 2",{"$f":"SUM((56+H19)/2)","v":28},null,null,"Penning",null,null,null,null,null,10,null,null,null,null,null,"Overall Muscling"]
[11,null,null,null,null,null,"Maneuver Score",{"$f":"J19","v":28},"Less Penalty Pts",{"$f":"J18","v":0},null,null,1,null,null,null,null,null,null,null,"Major Penalties",null,null,null,"Tracking","Lame: enter an \"x\""]
[12,null,null,null,null,null,"REINING SCORE",null,null,{"$f":"SUM(H20+J20)","v":28},null,null,2,null,null,null,null,null,null,null,null,null,null,null,"Balance 1"]
[13,null,null,null,null,null,"Working Cow Horse",null,null,null,null,null,3,null,null,null,null,null,null,null,null,null,null,null,"Balance 2"]
[14,null,null,null,null,null,1,null,"Penalty Points",null,null,null,null,null,"Major Penalties",null,null,null,"Maneuver Total",{"$f":"SUM(T10:T19)","v":0},"Penalty Total",{"$f":"SUM(SUM(U10:V19)+V20)","v":0},null,null,"Balance 3"]
["Maneuver Total",{"$f":"SUM(B10:B23)","v":0},"Major Penalties",null,null,null,2,null,null,null,null,null,null,null,null,null,null,null,null,null,null,null,null,null,"Fitness & Condition"]
[null,null,"Penalty Total",{"$f":"SUM(C10:D24)","v":0},null,null,3,null,null,null,null,null,"Maneuver Total",{"$f":"SUM(N10:N22)","v":0},"Penalty Total",{"$f":"SUM(O11+O12+O13+O15+O16+O17+O18+O20+O21+O22+P23)","v":0},null,null,null,null,null,null,null,null,"Participant Showmanship"]
[null,null,null,null,null,null,"21 +/- Judge Score",{"$f":"SUM(H23:H25)","v":0},"Total Penalty Pts",{"$f":"SUM(J23:J25)","v":0},null,null,null,null,null,null,null,null,null,null,null,null,null,null,"Horse Showmanship"]
["100 +/-Maneuver",{"$f":"B24","v":0},"x .70 =",{"$f":"SUM((100+B27)*0.7)","v":70},null,null,"Maneuver Score",{"$f":"SUM(21+H26)","v":21},"Less Penalty Pts",{"$f":"J26","v":0},null,null,"70 +/-Maneuver",{"$f":"N25","v":0},"Less Penalty Total",{"$f":"P25","v":0},null,null,"70 +/-Maneuver",{"$f":"T23","v":0},"Less Penalty Total",{"$f":"V23","v":0},null,null,"Form & Showmanship Judges Score",null,"Total (1)",{"$f":"SUM(AB9:AB26)","v":0}]
[null,null,null,null,null,null,"CATTLE SCORE",null,null,{"$f":"SUM(H27+J27)","v":21},null,null,null,null,null,null,null,null,null,null,null,null,null,null,{"$f":"SUM(AB27*0.33+42)","v":42},{"$f":"IF(AA20=\"x\",-10,0)","v":0},"Judge Score (2)",{"$f":"SUM(Y28+Z28)","v":42}]
["Maneuver Score =",{"$f":"D27","v":70},"Less Penalty Total",{"$f":"D25","v":0},null,null,"Roping",null,null,null,null,null,null,null,null,null,null,null,null,null,null,null,null,null,"Ranch Cutting",{"$f":"IF(P31=\"\",0,P31)","v":0},"Ranch Rding",{"$f":"IF(D31=\"\",0,D31)","v":0}]
[null,null,null,null,null,null,1,null,"Penalty Points",null,null,null,null,null,null,null,null,null,null,null,null,null,null,null,"Working Ranch Horse",{"$f":"IF(J36=\"\",0,J36)","v":0},"Ranch Trail",{"$f":"IF(V31=\"\",0,V31)","v":0}]
["TOTAL SCORE",null,null,{"$f":"IF(D7=\"\",\"\",IF(B29+D29<0,0,B29+D29))","v":""},null,null,2,null,null,null,null,null,"TOTAL SCORE",null,null,{"$f":"IF(P7=\"\",\"\",IF(70+N27+P27<0,0,70+N27+P27))","v":""},null,null,"TOTAL SCORE",null,null,{"$f":"IF(V7=\"\",\"\",IF(70+T27+V27<0,0,70+T27+V27))","v":""},null,null,"Function Total (3)",{"$f":"SUM(Z29+AB29+Z30+AB30)","v":0},"Function Score (4)",{"$f":"Z31*0.1","v":0}]
[null,null,null,null,null,null,3,null,null,null,null,null,null,null,null,null,null,null,null,null,null,null,null,null,"Judge Score (2) + Function Score (4) = CONFORMATION SCORE",null,null,{"$f":"IF(AB7=\"\",\"\",IF(AB28+AB31<0,0,AB28+AB31))","v":""}]
[null,null,"Return to Entry Page",null,null,null,"21 +/- Judge Score",{"$f":"SUM(H30:H32)","v":0},"Total Penalty Pts",{"$f":"SUM(J30:J32)","v":0},null,null,null,null,"Return to Entry Page",null,null,null,null,null,"Return to Entry Page"]
[null,null,null,null,null,null,"Maneuver Score",{"$f":"SUM(21+H33)*1.1","v":23.1},"Less Penalty Pts",{"$f":"J33","v":0},null,null,null,null,null,null,null,null,null,null,null,null,null,null,null,null,"Return to Entry Page"]
[null,null,null,null,null,null,"ROPING SCORE",null,null,{"$f":"SUM(H34+J34)","v":23.1}]
[null,null,null,null,null,null,"TOTAL SCORE",null,null,{"$f":"IF(J7=\"\",\"\",IF(J21+J28+J35<0,0,J21+J28+J35))","v":""}]
[]
[null,null,null,null,null,null,null,null,"Return to Entry Page"]

{"sheet":"Advanced 15","index":84,"n_rows":38,"n_cols":28,"rows_kept":38,"cut":false,"hidden":false,"merged":[[34,6,34,8],[30,0,30,2],[35,6,35,8],[30,12,30,14],[30,18,30,20],[31,24,31,26],[23,0,24,0],[23,1,24,1],[23,18,25,21],[25,0,25,3],[27,6,27,8],[25,12,25,15],[27,0,27,3],[27,12,29,15],[27,18,29,21],[29,0,29,3],[29,8,31,8],[19,20,20,20],[19,21,20,21],[20,2,20,3],[20,6,20,8],[20,14,20,15],[16,14,16,15],[16,20,16,21],[22,2,22,3],[22,12,23,13],[22,14,23,14],[22,15,23,15],[22,8,24,8],[21,2,21,3],[21,14,21,15],[21,18,21,21],[18,2,18,3],[18,12,18,15],[18,20,18,21],[19,2,19,3],[19,14,19,15],[19,18,20,19],[17,2,17,3],[17,14,17,15],[17,20,17,21],[13,2,13,3],[13,8,14,9],[13,12,13,15],[13,20,13,21],[14,2,14,3],[14,14,14,15],[14,20,14,21],[15,2,15,3],[15,8,15,9],[15,14,15,15],[15,20,15,21],[16,2,16,3],[16,8,16,9],[7,24,7,27],[11,2,11,3],[11,8,12,9],[11,14,11,15],[11,20,11,21],[12,2,12,3],[12,14,12,15],[12,20,12,21],[9,2,9,3],[9,8,10,9],[9,12,9,15],[9,20,9,21],[10,2,10,3],[10,14,10,15],[10,20,10,21],[8,2,8,3],[8,8,8,9],[8,14,8,15],[8,20,8,21],[7,0,7,3],[7,6,7,9],[7,12,7,15],[7,18,7,21]]}
["RIDERS SCORE WORK SHEET"]
[]
["Back Number:",{"$f":"'Entry Information'!B85","v":0},null,null,null,null,"Back Number:",{"$f":"'Entry Information'!B85","v":0},null,null,null,null,"Back Number:",{"$f":"'Entry Information'!B85","v":0},null,null,null,null,"Back Number:",{"$f":"'Entry Information'!B85","v":0},null,null,null,null,"Back Number:",{"$f":"'Entry Information'!B85","v":0}]
["Name:",{"$f":"'Entry Information'!I85","v":0},{"$f":"'Entry Information'!H85","v":0},null,null,null,"Name:",{"$f":"'Entry Information'!I85","v":0},{"$f":"'Entry Information'!H85","v":0},null,null,null,"Name:",{"$f":"'Entry Information'!I85","v":0},{"$f":"'Entry Information'!H85","v":0},null,null,null,"Name:",{"$f":"'Entry Information'!I85","v":0},{"$f":"'Entry Information'!H85","v":0},null,null,null,"Name:",{"$f":"'Entry Information'!H85","v":0},{"$f":"'Entry Information'!I85","v":0}]
["Horse Name",{"$f":"'Entry Information'!J85","v":0},null,null,null,null,"Horse Name",{"$f":"'Entry Information'!J85","v":0},null,null,null,null,"Horse Name",{"$f":"'Entry Information'!J85","v":0},null,null,null,null,"Horse Name",{"$f":"'Entry Information'!J85","v":0},null,null,null,null,"Horse Name",{"$f":"'Entry Information'!J85","v":0}]
[]
["Check box when entering Ranch Riding scores",null,null,null,null,null,"Check box when entering Working Ranch Horse scores",null,null,null,null,null,"Check box when entering Ranch Cutting scores",null,null,null,null,null,"Check box when entering Ranch Trail scores",null,null,null,null,null,"Check box when entering Conformation scores"]
["Ranch Riding",null,null,null,null,null,"Working Ranch Horse",null,null,null,null,null,"Ranch Cutting",null,null,null,null,null,"Ranch Trail",null,null,null,null,null,"Ranch Conformation"]
["Maneuver","Judge's Score +/-","Penalty Points",null,null,null,"Maneuver","Judge's Score +/-","Penalty Points",null,null,null,"Maneuver","Judge's Score +/-","Penalty Points",null,null,null,"Maneuver","Judge's Score +/-","Penalty Points",null,null,null,"Front Legs, Feet"]
[1,null,null,null,null,null,1,null,null,null,null,null,"Herd Work",null,null,null,null,null,1,null,null,null,null,null,"Chest, Pectoral V"]
[2,null,null,null,null,null,2,null,null,null,null,null,1,null,null,null,null,null,2,null,null,null,null,null,"Head"]
[3,null,null,null,null,null,3,null,null,null,null,null,2,null,null,null,null,null,3,null,null,null,null,null,"Neck & Throat Latch"]
[4,null,null,null,null,null,4,null,null,null,null,null,3,null,null,null,null,null,4,null,null,null,null,null,"Shoulders & Withers"]
[5,null,null,null,null,null,5,null,null,null,null,null,"Cutting",null,null,null,null,null,5,null,null,null,null,null,"Heart Girth & Barrel"]
[6,null,null,null,null,null,6,null,null,null,null,null,1,null,null,null,null,null,6,null,null,null,null,null,"Back & Loin"]
[7,null,null,null,null,null,7,null,null,null,null,null,2,null,null,null,null,null,7,null,null,null,null,null,"Hip & Croup"]
[8,null,null,null,null,null,8,null,null,null,null,null,3,null,null,null,null,null,8,null,null,null,null,null,"Stife & Gaskin"]
[9,null,null,null,null,null,null,null,"Total Penalty Pts",{"$f":"SUM(I10:J17)","v":0},null,null,4,null,null,null,null,null,9,null,null,null,null,null,"Hock, Hind Legs, Feet"]
[10,null,null,null,null,null,"56 +/- Judge Score",{"$f":"SUM(H10:H17)","v":0},"Divided by 2",{"$f":"SUM((56+H19)/2)","v":28},null,null,"Penning",null,null,null,null,null,10,null,null,null,null,null,"Overall Muscling"]
[11,null,null,null,null,null,"Maneuver Score",{"$f":"J19","v":28},"Less Penalty Pts",{"$f":"J18","v":0},null,null,1,null,null,null,null,null,null,null,"Major Penalties",null,null,null,"Tracking","Lame: enter an \"x\""]
[12,null,null,null,null,null,"REINING SCORE",null,null,{"$f":"SUM(H20+J20)","v":28},null,null,2,null,null,null,null,null,null,null,null,null,null,null,"Balance 1"]
[13,null,null,null,null,null,"Working Cow Horse",null,null,null,null,null,3,null,null,null,null,null,null,null,null,null,null,null,"Balance 2"]
[14,null,null,null,null,null,1,null,"Penalty Points",null,null,null,null,null,"Major Penalties",null,null,null,"Maneuver Total",{"$f":"SUM(T10:T19)","v":0},"Penalty Total",{"$f":"SUM(SUM(U10:V19)+V20)","v":0},null,null,"Balance 3"]
["Maneuver Total",{"$f":"SUM(B10:B23)","v":0},"Major Penalties",null,null,null,2,null,null,null,null,null,null,null,null,null,null,null,null,null,null,null,null,null,"Fitness & Condition"]
[null,null,"Penalty Total",{"$f":"SUM(C10:D24)","v":0},null,null,3,null,null,null,null,null,"Maneuver Total",{"$f":"SUM(N10:N22)","v":0},"Penalty Total",{"$f":"SUM(O11+O12+O13+O15+O16+O17+O18+O20+O21+O22+P23)","v":0},null,null,null,null,null,null,null,null,"Participant Showmanship"]
[null,null,null,null,null,null,"21 +/- Judge Score",{"$f":"SUM(H23:H25)","v":0},"Total Penalty Pts",{"$f":"SUM(J23:J25)","v":0},null,null,null,null,null,null,null,null,null,null,null,null,null,null,"Horse Showmanship"]
["100 +/-Maneuver",{"$f":"B24","v":0},"x .70 =",{"$f":"SUM((100+B27)*0.7)","v":70},null,null,"Maneuver Score",{"$f":"SUM(21+H26)","v":21},"Less Penalty Pts",{"$f":"J26","v":0},null,null,"70 +/-Maneuver",{"$f":"N25","v":0},"Less Penalty Total",{"$f":"P25","v":0},null,null,"70 +/-Maneuver",{"$f":"T23","v":0},"Less Penalty Total",{"$f":"V23","v":0},null,null,"Form & Showmanship Judges Score",null,"Total (1)",{"$f":"SUM(AB9:AB26)","v":0}]
[null,null,null,null,null,null,"CATTLE SCORE",null,null,{"$f":"SUM(H27+J27)","v":21},null,null,null,null,null,null,null,null,null,null,null,null,null,null,{"$f":"SUM(AB27*0.33+42)","v":42},{"$f":"IF(AA20=\"x\",-10,0)","v":0},"Judge Score (2)",{"$f":"SUM(Y28+Z28)","v":42}]
["Maneuver Score =",{"$f":"D27","v":70},"Less Penalty Total",{"$f":"D25","v":0},null,null,"Roping",null,null,null,null,null,null,null,null,null,null,null,null,null,null,null,null,null,"Ranch Cutting",{"$f":"IF(P31=\"\",0,P31)","v":0},"Ranch Rding",{"$f":"IF(D31=\"\",0,D31)","v":0}]
[null,null,null,null,null,null,1,null,"Penalty Points",null,null,null,null,null,null,null,null,null,null,null,null,null,null,null,"Working Ranch Horse",{"$f":"IF(J36=\"\",0,J36)","v":0},"Ranch Trail",{"$f":"IF(V31=\"\",0,V31)","v":0}]
["TOTAL SCORE",null,null,{"$f":"IF(D7=\"\",\"\",IF(B29+D29<0,0,B29+D29))","v":""},null,null,2,null,null,null,null,null,"TOTAL SCORE",null,null,{"$f":"IF(P7=\"\",\"\",IF(70+N27+P27<0,0,70+N27+P27))","v":""},null,null,"TOTAL SCORE",null,null,{"$f":"IF(V7=\"\",\"\",IF(70+T27+V27<0,0,70+T27+V27))","v":""},null,null,"Function Total (3)",{"$f":"SUM(Z29+AB29+Z30+AB30)","v":0},"Function Score (4)",{"$f":"Z31*0.1","v":0}]
[null,null,null,null,null,null,3,null,null,null,null,null,null,null,null,null,null,null,null,null,null,null,null,null,"Judge Score (2) + Function Score (4) = CONFORMATION SCORE",null,null,{"$f":"IF(AB7=\"\",\"\",IF(AB28+AB31<0,0,AB28+AB31))","v":""}]
[null,null,"Return to Entry Page",null,null,null,"21 +/- Judge Score",{"$f":"SUM(H30:H32)","v":0},"Total Penalty Pts",{"$f":"SUM(J30:J32)","v":0},null,null,null,null,"Return to Entry Page",null,null,null,null,null,"Return to Entry Page"]
[null,null,null,null,null,null,"Maneuver Score",{"$f":"SUM(21+H33)*1.1","v":23.1},"Less Penalty Pts",{"$f":"J33","v":0},null,null,null,null,null,null,null,null,null,null,null,null,null,null,null,null,"Return to Entry Page"]
[null,null,null,null,null,null,"ROPING SCORE",null,null,{"$f":"SUM(H34+J34)","v":23.1}]
[null,null,null,null,null,null,"TOTAL SCORE",null,null,{"$f":"IF(J7=\"\",\"\",IF(J21+J28+J35<0,0,J21+J28+J35))","v":""}]
[]
[null,null,null,null,null,null,null,null,"Return to Entry Page"]

{"sheet":"Open 1","index":85,"n_rows":38,"n_cols":28,"rows_kept":38,"cut":false,"hidden":false,"merged":[[34,6,34,8],[30,0,30,2],[35,6,35,8],[30,12,30,14],[30,18,30,20],[31,24,31,26],[23,0,24,0],[23,1,24,1],[23,18,25,21],[25,0,25,3],[27,6,27,8],[25,12,25,15],[27,0,27,3],[27,12,29,15],[27,18,29,21],[29,0,29,3],[29,8,31,8],[19,20,20,20],[19,21,20,21],[20,2,20,3],[20,6,20,8],[20,14,20,15],[16,14,16,15],[16,20,16,21],[22,2,22,3],[22,12,23,13],[22,14,23,14],[22,15,23,15],[22,8,24,8],[21,2,21,3],[21,14,21,15],[21,18,21,21],[18,2,18,3],[18,12,18,15],[18,20,18,21],[19,2,19,3],[19,14,19,15],[19,18,20,19],[17,2,17,3],[17,14,17,15],[17,20,17,21],[13,2,13,3],[13,8,14,9],[13,12,13,15],[13,20,13,21],[14,2,14,3],[14,14,14,15],[14,20,14,21],[15,2,15,3],[15,8,15,9],[15,14,15,15],[15,20,15,21],[16,2,16,3],[16,8,16,9],[7,24,7,27],[11,2,11,3],[11,8,12,9],[11,14,11,15],[11,20,11,21],[12,2,12,3],[12,14,12,15],[12,20,12,21],[9,2,9,3],[9,8,10,9],[9,12,9,15],[9,20,9,21],[10,2,10,3],[10,14,10,15],[10,20,10,21],[8,2,8,3],[8,8,8,9],[8,14,8,15],[8,20,8,21],[7,0,7,3],[7,6,7,9],[7,12,7,15],[7,18,7,21]]}
["RIDERS SCORE WORK SHEET"]
[]
["Back Number:",{"$f":"'Entry Information'!B86","v":45},null,null,null,null,"Back Number:",{"$f":"'Entry Information'!B86","v":45},null,null,null,null,"Back Number:",{"$f":"'Entry Information'!B86","v":45},null,null,null,null,"Back Number:",{"$f":"'Entry Information'!B86","v":45},null,null,null,null,"Back Number:",{"$f":"'Entry Information'!B86","v":45}]
["Name:",{"$f":"'Entry Information'!I86","v":"Maureen"},{"$f":"'Entry Information'!H86","v":"Dunn"},null,null,null,"Name:",{"$f":"'Entry Information'!I86","v":"Maureen"},{"$f":"'Entry Information'!H86","v":"Dunn"},null,null,null,"Name:",{"$f":"'Entry Information'!I86","v":"Maureen"},{"$f":"'Entry Information'!H86","v":"Dunn"},null,null,null,"Name:",{"$f":"'Entry Information'!I86","v":"Maureen"},{"$f":"'Entry Information'!H86","v":"Dunn"},null,null,null,"Name:",{"$f":"'Entry Information'!H86","v":"Dunn"},{"$f":"'Entry Information'!I86","v":"Maureen"}]
["Horse Name",{"$f":"'Entry Information'!J86","v":"AR Sannabella Check"},null,null,null,null,"Horse Name",{"$f":"'Entry Information'!J86","v":"AR Sannabella Check"},null,null,null,null,"Horse Name",{"$f":"'Entry Information'!J86","v":"AR Sannabella Check"},null,null,null,null,"Horse Name",{"$f":"'Entry Information'!J86","v":"AR Sannabella Check"},null,null,null,null,"Horse Name",{"$f":"'Entry Information'!J86","v":"AR Sannabella Check"}]
[]
["Check box when entering Ranch Riding scores",null,null,"x",null,null,"Check box when entering Working Ranch Horse scores",null,null,"x",null,null,"Check box when entering Ranch Cutting scores",null,null,"x",null,null,"Check box when entering Ranch Trail scores",null,null,"x",null,null,"Check box when entering Conformation scores",null,null,"x"]
["Ranch Riding",null,null,null,null,null,"Working Ranch Horse",null,null,null,null,null,"Ranch Cutting",null,null,null,null,null,"Ranch Trail",null,null,null,null,null,"Ranch Conformation"]
["Maneuver","Judge's Score +/-","Penalty Points",null,null,null,"Maneuver","Judge's Score +/-","Penalty Points",null,null,null,"Maneuver","Judge's Score +/-","Penalty Points",null,null,null,"Maneuver","Judge's Score +/-","Penalty Points",null,null,null,"Front Legs, Feet",null,null,-1]
[1,1,null,null,null,null,1,-1,-2.5,null,null,null,"Herd Work",null,null,null,null,null,1,0,null,null,null,null,"Chest, Pectoral V",null,null,-1]
[2,2,null,null,null,null,2,0,null,null,null,null,1,-1,-2,null,null,null,2,2,null,null,null,null,"Head",null,null,2]
[3,0,null,null,null,null,3,-1,-8,null,null,null,2,-1,-3,null,null,null,3,-2,null,null,null,null,"Neck & Throat Latch",null,null,1]
[4,-2,-3,null,null,null,4,0,null,null,null,null,3,-3,-3,null,null,null,4,2,-1.5,null,null,null,"Shoulders & Withers",null,null,1]
[5,2,null,null,null,null,5,-1,null,null,null,null,"Cutting",null,null,null,null,null,5,1,null,null,null,null,"Heart Girth & Barrel",null,null,0]
[6,0,null,null,null,null,6,0,null,null,null,null,1,0,null,null,null,null,6,2,null,null,null,null,"Back & Loin",null,null,0]
[7,0,null,null,null,null,7,-1,-0.5,null,null,null,2,-3,-10,null,null,null,7,0,null,null,null,null,"Hip & Croup",null,null,0]
[8,-2,null,null,null,null,8,-1,null,null,null,null,3,-3,-5,null,null,null,8,-3,-5,null,null,null,"Stife & Gaskin",null,null,0]
[9,1,null,null,null,null,null,null,"Total Penalty Pts",{"$f":"SUM(I10:J17)","v":-11},null,null,4,-2,-5,null,null,null,9,-2,null,null,null,null,"Hock, Hind Legs, Feet",null,null,-1]
[10,0,null,null,null,null,"56 +/- Judge Score",{"$f":"SUM(H10:H17)","v":-5},"Divided by 2",{"$f":"SUM((56+H19)/2)","v":25.5},null,null,"Penning",null,null,null,null,null,10,0,-1,null,null,null,"Overall Muscling",null,null,0]
[11,1,null,null,null,null,"Maneuver Score",{"$f":"J19","v":25.5},"Less Penalty Pts",{"$f":"J18","v":-11},null,null,1,-3,null,null,null,null,null,null,"Major Penalties",-10,null,null,"Tracking","Lame: enter an \"x\"",null,0]
[12,-3,-9,null,null,null,"REINING SCORE",null,null,{"$f":"SUM(H20+J20)","v":14.5},null,null,2,-3,null,null,null,null,null,null,null,null,null,null,"Balance 1",null,null,0]
[13,-1,null,null,null,null,"Working Cow Horse",null,null,null,null,null,3,-3,null,null,null,null,null,null,null,null,null,null,"Balance 2",null,null,0]
[14,-1,null,null,null,null,1,-2,"Penalty Points",null,null,null,null,null,"Major Penalties",null,null,null,"Maneuver Total",{"$f":"SUM(T10:T19)","v":0},"Penalty Total",{"$f":"SUM(SUM(U10:V19)+V20)","v":-17.5},null,null,"Balance 3",null,null,0]
["Maneuver Total",{"$f":"SUM(B10:B23)","v":-2},"Major Penalties",null,null,null,2,-7,null,null,null,null,null,null,null,null,null,null,null,null,null,null,null,null,"Fitness & Condition",null,null,1]
[null,null,"Penalty Total",{"$f":"SUM(C10:D24)","v":-12},null,null,3,-7,null,null,null,null,"Maneuver Total",{"$f":"SUM(N10:N22)","v":-22},"Penalty Total",{"$f":"SUM(O11+O12+O13+O15+O16+O17+O18+O20+O21+O22+P23)","v":-28},null,null,null,null,null,null,null,null,"Participant Showmanship",null,null,-1]
[null,null,null,null,null,null,"21 +/- Judge Score",{"$f":"SUM(H23:H25)","v":-16},"Total Penalty Pts",{"$f":"SUM(J23:J25)","v":0},null,null,null,null,null,null,null,null,null,null,null,null,null,null,"Horse Showmanship",null,null,0]
["100 +/-Maneuver",{"$f":"B24","v":-2},"x .70 =",{"$f":"SUM((100+B27)*0.7)","v":68.599999999999994},null,null,"Maneuver Score",{"$f":"SUM(21+H26)","v":5},"Less Penalty Pts",{"$f":"J26","v":0},null,null,"70 +/-Maneuver",{"$f":"N25","v":-22},"Less Penalty Total",{"$f":"P25","v":-28},null,null,"70 +/-Maneuver",{"$f":"T23","v":0},"Less Penalty Total",{"$f":"V23","v":-17.5},null,null,"Form & Showmanship Judges Score",null,"Total (1)",{"$f":"SUM(AB9:AB26)","v":1}]
[null,null,null,null,null,null,"CATTLE SCORE",null,null,{"$f":"SUM(H27+J27)","v":5},null,null,null,null,null,null,null,null,null,null,null,null,null,null,{"$f":"SUM(AB27*0.33+42)","v":42.33},{"$f":"IF(AA20=\"x\",-10,0)","v":0},"Judge Score (2)",{"$f":"SUM(Y28+Z28)","v":42.33}]
["Maneuver Score =",{"$f":"D27","v":68.599999999999994},"Less Penalty Total",{"$f":"D25","v":-12},null,null,"Roping",null,null,null,null,null,null,null,null,null,null,null,null,null,null,null,null,null,"Ranch Cutting",{"$f":"IF(P31=\"\",0,P31)","v":20},"Ranch Rding",{"$f":"IF(D31=\"\",0,D31)","v":56.599999999999994}]
[null,null,null,null,null,null,1,-7,"Penalty Points",null,null,null,null,null,null,null,null,null,null,null,null,null,null,null,"Working Ranch Horse",{"$f":"IF(J36=\"\",0,J36)","v":19.5},"Ranch Trail",{"$f":"IF(V31=\"\",0,V31)","v":52.5}]
["TOTAL SCORE",null,null,{"$f":"IF(D7=\"\",\"\",IF(B29+D29<0,0,B29+D29))","v":56.599999999999994},null,null,2,-7,null,null,null,null,"TOTAL SCORE",null,null,{"$f":"IF(P7=\"\",\"\",IF(70+N27+P27<0,0,70+N27+P27))","v":20},null,null,"TOTAL SCORE",null,null,{"$f":"IF(V7=\"\",\"\",IF(70+T27+V27<0,0,70+T27+V27))","v":52.5},null,null,"Function Total (3)",{"$f":"SUM(Z29+AB29+Z30+AB30)","v":148.6},"Function Score (4)",{"$f":"Z31*0.1","v":14.86}]
[null,null,null,null,null,null,3,-7,null,null,null,null,null,null,null,null,null,null,null,null,null,null,null,null,"Judge Score (2) + Function Score (4) = CONFORMATION SCORE",null,null,{"$f":"IF(AB7=\"\",\"\",IF(AB28+AB31<0,0,AB28+AB31))","v":57.19}]
[null,null,"Return to Entry Page",null,null,null,"21 +/- Judge Score",{"$f":"SUM(H30:H32)","v":-21},"Total Penalty Pts",{"$f":"SUM(J30:J32)","v":0},null,null,null,null,"Return to Entry Page",null,null,null,null,null,"Return to Entry Page"]
[null,null,null,null,null,null,"Maneuver Score",{"$f":"SUM(21+H33)*1.1","v":0},"Less Penalty Pts",{"$f":"J33","v":0},null,null,null,null,null,null,null,null,null,null,null,null,null,null,null,null,"Return to Entry Page"]
[null,null,null,null,null,null,"ROPING SCORE",null,null,{"$f":"SUM(H34+J34)","v":0}]
[null,null,null,null,null,null,"TOTAL SCORE",null,null,{"$f":"IF(J7=\"\",\"\",IF(J21+J28+J35<0,0,J21+J28+J35))","v":19.5}]
[]
[null,null,null,null,null,null,null,null,"Return to Entry Page"]

{"sheet":"Open 2","index":86,"n_rows":38,"n_cols":28,"rows_kept":38,"cut":false,"hidden":false,"merged":[[34,6,34,8],[30,0,30,2],[35,6,35,8],[30,12,30,14],[30,18,30,20],[31,24,31,26],[23,0,24,0],[23,1,24,1],[23,18,25,21],[25,0,25,3],[27,6,27,8],[25,12,25,15],[27,0,27,3],[27,12,29,15],[27,18,29,21],[29,0,29,3],[29,8,31,8],[19,20,20,20],[19,21,20,21],[20,2,20,3],[20,6,20,8],[20,14,20,15],[16,14,16,15],[16,20,16,21],[22,2,22,3],[22,12,23,13],[22,14,23,14],[22,15,23,15],[22,8,24,8],[21,2,21,3],[21,14,21,15],[21,18,21,21],[18,2,18,3],[18,12,18,15],[18,20,18,21],[19,2,19,3],[19,14,19,15],[19,18,20,19],[17,2,17,3],[17,14,17,15],[17,20,17,21],[13,2,13,3],[13,8,14,9],[13,12,13,15],[13,20,13,21],[14,2,14,3],[14,14,14,15],[14,20,14,21],[15,2,15,3],[15,8,15,9],[15,14,15,15],[15,20,15,21],[16,2,16,3],[16,8,16,9],[7,24,7,27],[11,2,11,3],[11,8,12,9],[11,14,11,15],[11,20,11,21],[12,2,12,3],[12,14,12,15],[12,20,12,21],[9,2,9,3],[9,8,10,9],[9,12,9,15],[9,20,9,21],[10,2,10,3],[10,14,10,15],[10,20,10,21],[8,2,8,3],[8,8,8,9],[8,14,8,15],[8,20,8,21],[7,0,7,3],[7,6,7,9],[7,12,7,15],[7,18,7,21]]}
["RIDERS SCORE WORK SHEET"]
[]
["Back Number:",{"$f":"'Entry Information'!B87","v":50},null,null,null,null,"Back Number:",{"$f":"'Entry Information'!B87","v":50},null,null,null,null,"Back Number:",{"$f":"'Entry Information'!B87","v":50},null,null,null,null,"Back Number:",{"$f":"'Entry Information'!B87","v":50},null,null,null,null,"Back Number:",{"$f":"'Entry Information'!B87","v":50}]
["Name:",{"$f":"'Entry Information'!I87","v":"Rob"},{"$f":"'Entry Information'!H87","v":"Goodland"},null,null,null,"Name:",{"$f":"'Entry Information'!I87","v":"Rob"},{"$f":"'Entry Information'!H87","v":"Goodland"},null,null,null,"Name:",{"$f":"'Entry Information'!I87","v":"Rob"},{"$f":"'Entry Information'!H87","v":"Goodland"},null,null,null,"Name:",{"$f":"'Entry Information'!I87","v":"Rob"},{"$f":"'Entry Information'!H87","v":"Goodland"},null,null,null,"Name:",{"$f":"'Entry Information'!H87","v":"Goodland"},{"$f":"'Entry Information'!I87","v":"Rob"}]
["Horse Name",{"$f":"'Entry Information'!J87","v":"Royale Smooth Sailin"},null,null,null,null,"Horse Name",{"$f":"'Entry Information'!J87","v":"Royale Smooth Sailin"},null,null,null,null,"Horse Name",{"$f":"'Entry Information'!J87","v":"Royale Smooth Sailin"},null,null,null,null,"Horse Name",{"$f":"'Entry Information'!J87","v":"Royale Smooth Sailin"},null,null,null,null,"Horse Name",{"$f":"'Entry Information'!J87","v":"Royale Smooth Sailin"}]
[]
["Check box when entering Ranch Riding scores",null,null,"x",null,null,"Check box when entering Working Ranch Horse scores",null,null,"x",null,null,"Check box when entering Ranch Cutting scores",null,null,"x",null,null,"Check box when entering Ranch Trail scores",null,null,"x",null,null,"Check box when entering Conformation scores",null,null,"x"]
["Ranch Riding",null,null,null,null,null,"Working Ranch Horse",null,null,null,null,null,"Ranch Cutting",null,null,null,null,null,"Ranch Trail",null,null,null,null,null,"Ranch Conformation"]
["Maneuver","Judge's Score +/-","Penalty Points",null,null,null,"Maneuver","Judge's Score +/-","Penalty Points",null,null,null,"Maneuver","Judge's Score +/-","Penalty Points",null,null,null,"Maneuver","Judge's Score +/-","Penalty Points",null,null,null,"Front Legs, Feet",null,null,-1]
[1,0,null,null,null,null,1,-2,-6,null,null,null,"Herd Work",null,null,null,null,null,1,0,null,null,null,null,"Chest, Pectoral V",null,null,0]
[2,0,null,null,null,null,2,0,null,null,null,null,1,-2,-2,null,null,null,2,2,-1.5,null,null,null,"Head",null,null,-1]
[3,1,null,null,null,null,3,-1,null,null,null,null,2,-1,-3,null,null,null,3,0,null,null,null,null,"Neck & Throat Latch",null,null,0]
[4,0,null,null,null,null,4,0,null,null,null,null,3,1,null,null,null,null,4,2,null,null,null,null,"Shoulders & Withers",null,null,-1]
[5,0,null,null,null,null,5,0,-0.5,null,null,null,"Cutting",null,null,null,null,null,5,0,null,null,null,null,"Heart Girth & Barrel",null,null,0]
[6,0,null,null,null,null,6,-3,null,null,null,null,1,0,null,null,null,null,6,1,null,null,null,null,"Back & Loin",null,null,-2]
[7,0,null,null,null,null,7,-2,null,null,null,null,2,-1,-10,null,null,null,7,0,null,null,null,null,"Hip & Croup",null,null,-2]
[8,-3,null,null,null,null,8,-3,null,null,null,null,3,0,-5,null,null,null,8,-3,null,null,null,null,"Stife & Gaskin",null,null,-1]
[9,-2,-3,null,null,null,null,null,"Total Penalty Pts",{"$f":"SUM(I10:J17)","v":-6.5},null,null,4,-1,null,null,null,null,9,-1,null,null,null,null,"Hock, Hind Legs, Feet",null,null,-1]
[10,-1,null,null,null,null,"56 +/- Judge Score",{"$f":"SUM(H10:H17)","v":-11},"Divided by 2",{"$f":"SUM((56+H19)/2)","v":22.5},null,null,"Penning",null,null,null,null,null,10,-2,null,null,null,null,"Overall Muscling",null,null,-2]
[11,-3,null,null,null,null,"Maneuver Score",{"$f":"J19","v":22.5},"Less Penalty Pts",{"$f":"J18","v":-6.5},null,null,1,1,null,null,null,null,null,null,"Major Penalties",null,null,null,"Tracking","Lame: enter an \"x\"",null,-1]
[12,-3,null,null,null,null,"REINING SCORE",null,null,{"$f":"SUM(H20+J20)","v":16},null,null,2,-3,null,null,null,null,null,null,null,null,null,null,"Balance 1",null,null,-1]
[13,-2,-3,null,null,null,"Working Cow Horse",null,null,null,null,null,3,-3,-5,null,null,null,null,null,null,null,null,null,"Balance 2",null,null,-1]
[14,-2,null,null,null,null,1,-1,"Penalty Points",null,null,null,null,null,"Major Penalties",null,null,null,"Maneuver Total",{"$f":"SUM(T10:T19)","v":-1},"Penalty Total",{"$f":"SUM(SUM(U10:V19)+V20)","v":-1.5},null,null,"Balance 3",null,null,-1]
["Maneuver Total",{"$f":"SUM(B10:B23)","v":-15},"Major Penalties",null,null,null,2,-7,null,null,null,null,null,null,null,null,null,null,null,null,null,null,null,null,"Fitness & Condition",null,null,1]
[null,null,"Penalty Total",{"$f":"SUM(C10:D24)","v":-6},null,null,3,-7,null,null,null,null,"Maneuver Total",{"$f":"SUM(N10:N22)","v":-9},"Penalty Total",{"$f":"SUM(O11+O12+O13+O15+O16+O17+O18+O20+O21+O22+P23)","v":-25},null,null,null,null,null,null,null,null,"Participant Showmanship",null,null,-2]
[null,null,null,null,null,null,"21 +/- Judge Score",{"$f":"SUM(H23:H25)","v":-15},"Total Penalty Pts",{"$f":"SUM(J23:J25)","v":0},null,null,null,null,null,null,null,null,null,null,null,null,null,null,"Horse Showmanship",null,null,0]
["100 +/-Maneuver",{"$f":"B24","v":-15},"x .70 =",{"$f":"SUM((100+B27)*0.7)","v":59.499999999999993},null,null,"Maneuver Score",{"$f":"SUM(21+H26)","v":6},"Less Penalty Pts",{"$f":"J26","v":0},null,null,"70 +/-Maneuver",{"$f":"N25","v":-9},"Less Penalty Total",{"$f":"P25","v":-25},null,null,"70 +/-Maneuver",{"$f":"T23","v":-1},"Less Penalty Total",{"$f":"V23","v":-1.5},null,null,"Form & Showmanship Judges Score",null,"Total (1)",{"$f":"SUM(AB9:AB26)","v":-16}]
[null,null,null,null,null,null,"CATTLE SCORE",null,null,{"$f":"SUM(H27+J27)","v":6},null,null,null,null,null,null,null,null,null,null,null,null,null,null,{"$f":"SUM(AB27*0.33+42)","v":36.72},{"$f":"IF(AA20=\"x\",-10,0)","v":0},"Judge Score (2)",{"$f":"SUM(Y28+Z28)","v":36.72}]
["Maneuver Score =",{"$f":"D27","v":59.499999999999993},"Less Penalty Total",{"$f":"D25","v":-6},null,null,"Roping",null,null,null,null,null,null,null,null,null,null,null,null,null,null,null,null,null,"Ranch Cutting",{"$f":"IF(P31=\"\",0,P31)","v":36},"Ranch Rding",{"$f":"IF(D31=\"\",0,D31)","v":53.499999999999993}]
[null,null,null,null,null,null,1,-7,"Penalty Points",null,null,null,null,null,null,null,null,null,null,null,null,null,null,null,"Working Ranch Horse",{"$f":"IF(J36=\"\",0,J36)","v":22},"Ranch Trail",{"$f":"IF(V31=\"\",0,V31)","v":67.5}]
["TOTAL SCORE",null,null,{"$f":"IF(D7=\"\",\"\",IF(B29+D29<0,0,B29+D29))","v":53.499999999999993},null,null,2,-7,null,null,null,null,"TOTAL SCORE",null,null,{"$f":"IF(P7=\"\",\"\",IF(70+N27+P27<0,0,70+N27+P27))","v":36},null,null,"TOTAL SCORE",null,null,{"$f":"IF(V7=\"\",\"\",IF(70+T27+V27<0,0,70+T27+V27))","v":67.5},null,null,"Function Total (3)",{"$f":"SUM(Z29+AB29+Z30+AB30)","v":179},"Function Score (4)",{"$f":"Z31*0.1","v":17.900000000000002}]
[null,null,null,null,null,null,3,-7,null,null,null,null,null,null,null,null,null,null,null,null,null,null,null,null,"Judge Score (2) + Function Score (4) = CONFORMATION SCORE",null,null,{"$f":"IF(AB7=\"\",\"\",IF(AB28+AB31<0,0,AB28+AB31))","v":54.620000000000005}]
[null,null,"Return to Entry Page",null,null,null,"21 +/- Judge Score",{"$f":"SUM(H30:H32)","v":-21},"Total Penalty Pts",{"$f":"SUM(J30:J32)","v":0},null,null,null,null,"Return to Entry Page",null,null,null,null,null,"Return to Entry Page"]
[null,null,null,null,null,null,"Maneuver Score",{"$f":"SUM(21+H33)*1.1","v":0},"Less Penalty Pts",{"$f":"J33","v":0},null,null,null,null,null,null,null,null,null,null,null,null,null,null,null,null,"Return to Entry Page"]
[null,null,null,null,null,null,"ROPING SCORE",null,null,{"$f":"SUM(H34+J34)","v":0}]
[null,null,null,null,null,null,"TOTAL SCORE",null,null,{"$f":"IF(J7=\"\",\"\",IF(J21+J28+J35<0,0,J21+J28+J35))","v":22}]
[]
[null,null,null,null,null,null,null,null,"Return to Entry Page"]

{"sheet":"Open 3","index":87,"n_rows":38,"n_cols":28,"rows_kept":38,"cut":false,"hidden":false,"merged":[[34,6,34,8],[30,0,30,2],[35,6,35,8],[30,12,30,14],[30,18,30,20],[31,24,31,26],[23,0,24,0],[23,1,24,1],[23,18,25,21],[25,0,25,3],[27,6,27,8],[25,12,25,15],[27,0,27,3],[27,12,29,15],[27,18,29,21],[29,0,29,3],[29,8,31,8],[19,20,20,20],[19,21,20,21],[20,2,20,3],[20,6,20,8],[20,14,20,15],[16,14,16,15],[16,20,16,21],[22,2,22,3],[22,12,23,13],[22,14,23,14],[22,15,23,15],[22,8,24,8],[21,2,21,3],[21,14,21,15],[21,18,21,21],[18,2,18,3],[18,12,18,15],[18,20,18,21],[19,2,19,3],[19,14,19,15],[19,18,20,19],[17,2,17,3],[17,14,17,15],[17,20,17,21],[13,2,13,3],[13,8,14,9],[13,12,13,15],[13,20,13,21],[14,2,14,3],[14,14,14,15],[14,20,14,21],[15,2,15,3],[15,8,15,9],[15,14,15,15],[15,20,15,21],[16,2,16,3],[16,8,16,9],[7,24,7,27],[11,2,11,3],[11,8,12,9],[11,14,11,15],[11,20,11,21],[12,2,12,3],[12,14,12,15],[12,20,12,21],[9,2,9,3],[9,8,10,9],[9,12,9,15],[9,20,9,21],[10,2,10,3],[10,14,10,15],[10,20,10,21],[8,2,8,3],[8,8,8,9],[8,14,8,15],[8,20,8,21],[7,0,7,3],[7,6,7,9],[7,12,7,15],[7,18,7,21]]}
["RIDERS SCORE WORK SHEET"]
[]
["Back Number:",{"$f":"'Entry Information'!B88","v":43},null,null,null,null,"Back Number:",{"$f":"'Entry Information'!B88","v":43},null,null,null,null,"Back Number:",{"$f":"'Entry Information'!B88","v":43},null,null,null,null,"Back Number:",{"$f":"'Entry Information'!B88","v":43},null,null,null,null,"Back Number:",{"$f":"'Entry Information'!B88","v":43}]
["Name:",{"$f":"'Entry Information'!I88","v":"Carolyn"},{"$f":"'Entry Information'!H88","v":"Sween"},null,null,null,"Name:",{"$f":"'Entry Information'!I88","v":"Carolyn"},{"$f":"'Entry Information'!H88","v":"Sween"},null,null,null,"Name:",{"$f":"'Entry Information'!I88","v":"Carolyn"},{"$f":"'Entry Information'!H88","v":"Sween"},null,null,null,"Name:",{"$f":"'Entry Information'!I88","v":"Carolyn"},{"$f":"'Entry Information'!H88","v":"Sween"},null,null,null,"Name:",{"$f":"'Entry Information'!H88","v":"Sween"},{"$f":"'Entry Information'!I88","v":"Carolyn"}]
["Horse Name",{"$f":"'Entry Information'!J88","v":"AR Powderfully"},null,null,null,null,"Horse Name",{"$f":"'Entry Information'!J88","v":"AR Powderfully"},null,null,null,null,"Horse Name",{"$f":"'Entry Information'!J88","v":"AR Powderfully"},null,null,null,null,"Horse Name",{"$f":"'Entry Information'!J88","v":"AR Powderfully"},null,null,null,null,"Horse Name",{"$f":"'Entry Information'!J88","v":"AR Powderfully"}]
[]
["Check box when entering Ranch Riding scores",null,null,"x",null,null,"Check box when entering Working Ranch Horse scores",null,null,"x",null,null,"Check box when entering Ranch Cutting scores",null,null,"x",null,null,"Check box when entering Ranch Trail scores",null,null,"x",null,null,"Check box when entering Conformation scores",null,null,"x"]
["Ranch Riding",null,null,null,null,null,"Working Ranch Horse",null,null,null,null,null,"Ranch Cutting",null,null,null,null,null,"Ranch Trail",null,null,null,null,null,"Ranch Conformation"]
["Maneuver","Judge's Score +/-","Penalty Points",null,null,null,"Maneuver","Judge's Score +/-","Penalty Points",null,null,null,"Maneuver","Judge's Score +/-","Penalty Points",null,null,null,"Maneuver","Judge's Score +/-","Penalty Points",null,null,null,"Front Legs, Feet",null,null,-1]
[1,1,null,null,null,null,1,-1,-1,null,null,null,"Herd Work",null,null,null,null,null,1,1,null,null,null,null,"Chest, Pectoral V",null,null,1]
[2,1,null,null,null,null,2,0,null,null,null,null,1,1,null,null,null,null,2,2,null,null,null,null,"Head",null,null,0]
[3,1,null,null,null,null,3,-1,-8,null,null,null,2,1,null,null,null,null,3,2,null,null,null,null,"Neck & Throat Latch",null,null,1]
[4,2,null,null,null,null,4,-1,null,null,null,null,3,1,null,null,null,null,4,2,null,null,null,null,"Shoulders & Withers",null,null,0]
[5,2,null,null,null,null,5,-1,null,null,null,null,"Cutting",null,null,null,null,null,5,1,null,null,null,null,"Heart Girth & Barrel",null,null,0]
[6,-3,-3,null,null,null,6,-2,null,null,null,null,1,0,null,null,null,null,6,1,-1,null,null,null,"Back & Loin",null,null,-2]
[7,0,null,null,null,null,7,0,null,null,null,null,2,1,null,null,null,null,7,0,null,null,null,null,"Hip & Croup",null,null,1]
[8,1,null,null,null,null,8,-1,-1,null,null,null,3,2,null,null,null,null,8,-1,null,null,null,null,"Stife & Gaskin",null,null,0]
[9,-1,-1,null,null,null,null,null,"Total Penalty Pts",{"$f":"SUM(I10:J17)","v":-10},null,null,4,1,null,null,null,null,9,-2,null,null,null,null,"Hock, Hind Legs, Feet",null,null,0]
[10,2,null,null,null,null,"56 +/- Judge Score",{"$f":"SUM(H10:H17)","v":-7},"Divided by 2",{"$f":"SUM((56+H19)/2)","v":24.5},null,null,"Penning",null,null,null,null,null,10,0,null,null,null,null,"Overall Muscling",null,null,0]
[11,0,null,null,null,null,"Maneuver Score",{"$f":"J19","v":24.5},"Less Penalty Pts",{"$f":"J18","v":-10},null,null,1,3,null,null,null,null,null,null,"Major Penalties",-20,null,null,"Tracking","Lame: enter an \"x\"",null,-1]
[12,0,null,null,null,null,"REINING SCORE",null,null,{"$f":"SUM(H20+J20)","v":14.5},null,null,2,2,null,null,null,null,null,null,null,null,null,null,"Balance 1",null,null,0]
[13,0,null,null,null,null,"Working Cow Horse",null,null,null,null,null,3,2,null,null,null,null,null,null,null,null,null,null,"Balance 2",null,null,0]
[14,1,null,null,null,null,1,-1,"Penalty Points",-1,null,null,null,null,"Major Penalties",null,null,null,"Maneuver Total",{"$f":"SUM(T10:T19)","v":6},"Penalty Total",{"$f":"SUM(SUM(U10:V19)+V20)","v":-21},null,null,"Balance 3",null,null,0]
["Maneuver Total",{"$f":"SUM(B10:B23)","v":7},"Major Penalties",-10,null,null,2,-7,null,-10,null,null,null,null,null,null,null,null,null,null,null,null,null,null,"Fitness & Condition",null,null,1]
[null,null,"Penalty Total",{"$f":"SUM(C10:D24)","v":-14},null,null,3,-7,null,null,null,null,"Maneuver Total",{"$f":"SUM(N10:N22)","v":14},"Penalty Total",{"$f":"SUM(O11+O12+O13+O15+O16+O17+O18+O20+O21+O22+P23)","v":0},null,null,null,null,null,null,null,null,"Participant Showmanship",null,null,-2]
[null,null,null,null,null,null,"21 +/- Judge Score",{"$f":"SUM(H23:H25)","v":-15},"Total Penalty Pts",{"$f":"SUM(J23:J25)","v":-11},null,null,null,null,null,null,null,null,null,null,null,null,null,null,"Horse Showmanship",null,null,0]
["100 +/-Maneuver",{"$f":"B24","v":7},"x .70 =",{"$f":"SUM((100+B27)*0.7)","v":74.899999999999991},null,null,"Maneuver Score",{"$f":"SUM(21+H26)","v":6},"Less Penalty Pts",{"$f":"J26","v":-11},null,null,"70 +/-Maneuver",{"$f":"N25","v":14},"Less Penalty Total",{"$f":"P25","v":0},null,null,"70 +/-Maneuver",{"$f":"T23","v":6},"Less Penalty Total",{"$f":"V23","v":-21},null,null,"Form & Showmanship Judges Score",null,"Total (1)",{"$f":"SUM(AB9:AB26)","v":-2}]
[null,null,null,null,null,null,"CATTLE SCORE",null,null,{"$f":"SUM(H27+J27)","v":-5},null,null,null,null,null,null,null,null,null,null,null,null,null,null,{"$f":"SUM(AB27*0.33+42)","v":41.34},{"$f":"IF(AA20=\"x\",-10,0)","v":0},"Judge Score (2)",{"$f":"SUM(Y28+Z28)","v":41.34}]
["Maneuver Score =",{"$f":"D27","v":74.899999999999991},"Less Penalty Total",{"$f":"D25","v":-14},null,null,"Roping",null,null,null,null,null,null,null,null,null,null,null,null,null,null,null,null,null,"Ranch Cutting",{"$f":"IF(P31=\"\",0,P31)","v":84},"Ranch Rding",{"$f":"IF(D31=\"\",0,D31)","v":60.899999999999991}]
[null,null,null,null,null,null,1,-7,"Penalty Points",null,null,null,null,null,null,null,null,null,null,null,null,null,null,null,"Working Ranch Horse",{"$f":"IF(J36=\"\",0,J36)","v":9.5},"Ranch Trail",{"$f":"IF(V31=\"\",0,V31)","v":55}]
["TOTAL SCORE",null,null,{"$f":"IF(D7=\"\",\"\",IF(B29+D29<0,0,B29+D29))","v":60.899999999999991},null,null,2,-7,null,null,null,null,"TOTAL SCORE",null,null,{"$f":"IF(P7=\"\",\"\",IF(70+N27+P27<0,0,70+N27+P27))","v":84},null,null,"TOTAL SCORE",null,null,{"$f":"IF(V7=\"\",\"\",IF(70+T27+V27<0,0,70+T27+V27))","v":55},null,null,"Function Total (3)",{"$f":"SUM(Z29+AB29+Z30+AB30)","v":209.39999999999998},"Function Score (4)",{"$f":"Z31*0.1","v":20.939999999999998}]
[null,null,null,null,null,null,3,-7,null,null,null,null,null,null,null,null,null,null,null,null,null,null,null,null,"Judge Score (2) + Function Score (4) = CONFORMATION SCORE",null,null,{"$f":"IF(AB7=\"\",\"\",IF(AB28+AB31<0,0,AB28+AB31))","v":62.28}]
[null,null,"Return to Entry Page",null,null,null,"21 +/- Judge Score",{"$f":"SUM(H30:H32)","v":-21},"Total Penalty Pts",{"$f":"SUM(J30:J32)","v":0},null,null,null,null,"Return to Entry Page",null,null,null,null,null,"Return to Entry Page"]
[null,null,null,null,null,null,"Maneuver Score",{"$f":"SUM(21+H33)*1.1","v":0},"Less Penalty Pts",{"$f":"J33","v":0},null,null,null,null,null,null,null,null,null,null,null,null,null,null,null,null,"Return to Entry Page"]
[null,null,null,null,null,null,"ROPING SCORE",null,null,{"$f":"SUM(H34+J34)","v":0}]
[null,null,null,null,null,null,"TOTAL SCORE",null,null,{"$f":"IF(J7=\"\",\"\",IF(J21+J28+J35<0,0,J21+J28+J35))","v":9.5}]
[]
[null,null,null,null,null,null,null,null,"Return to Entry Page"]

{"sheet":"Open 4","index":88,"n_rows":38,"n_cols":28,"rows_kept":38,"cut":false,"hidden":false,"merged":[[34,6,34,8],[30,0,30,2],[35,6,35,8],[30,12,30,14],[30,18,30,20],[31,24,31,26],[23,0,24,0],[23,1,24,1],[23,18,25,21],[25,0,25,3],[27,6,27,8],[25,12,25,15],[27,0,27,3],[27,12,29,15],[27,18,29,21],[29,0,29,3],[29,8,31,8],[19,20,20,20],[19,21,20,21],[20,2,20,3],[20,6,20,8],[20,14,20,15],[16,14,16,15],[16,20,16,21],[22,2,22,3],[22,12,23,13],[22,14,23,14],[22,15,23,15],[22,8,24,8],[21,2,21,3],[21,14,21,15],[21,18,21,21],[18,2,18,3],[18,12,18,15],[18,20,18,21],[19,2,19,3],[19,14,19,15],[19,18,20,19],[17,2,17,3],[17,14,17,15],[17,20,17,21],[13,2,13,3],[13,8,14,9],[13,12,13,15],[13,20,13,21],[14,2,14,3],[14,14,14,15],[14,20,14,21],[15,2,15,3],[15,8,15,9],[15,14,15,15],[15,20,15,21],[16,2,16,3],[16,8,16,9],[7,24,7,27],[11,2,11,3],[11,8,12,9],[11,14,11,15],[11,20,11,21],[12,2,12,3],[12,14,12,15],[12,20,12,21],[9,2,9,3],[9,8,10,9],[9,12,9,15],[9,20,9,21],[10,2,10,3],[10,14,10,15],[10,20,10,21],[8,2,8,3],[8,8,8,9],[8,14,8,15],[8,20,8,21],[7,0,7,3],[7,6,7,9],[7,12,7,15],[7,18,7,21]]}
["RIDERS SCORE WORK SHEET"]
[]
["Back Number:",{"$f":"'Entry Information'!B89","v":0},null,null,null,null,"Back Number:",{"$f":"'Entry Information'!B89","v":0},null,null,null,null,"Back Number:",{"$f":"'Entry Information'!B89","v":0},null,null,null,null,"Back Number:",{"$f":"'Entry Information'!B89","v":0},null,null,null,null,"Back Number:",{"$f":"'Entry Information'!B89","v":0}]
["Name:",{"$f":"'Entry Information'!I89","v":0},{"$f":"'Entry Information'!H89","v":0},null,null,null,"Name:",{"$f":"'Entry Information'!I89","v":0},{"$f":"'Entry Information'!H89","v":0},null,null,null,"Name:",{"$f":"'Entry Information'!I89","v":0},{"$f":"'Entry Information'!H89","v":0},null,null,null,"Name:",{"$f":"'Entry Information'!I89","v":0},{"$f":"'Entry Information'!H89","v":0},null,null,null,"Name:",{"$f":"'Entry Information'!H89","v":0},{"$f":"'Entry Information'!I89","v":0}]
["Horse Name",{"$f":"'Entry Information'!J89","v":0},null,null,null,null,"Horse Name",{"$f":"'Entry Information'!J89","v":0},null,null,null,null,"Horse Name",{"$f":"'Entry Information'!J89","v":0},null,null,null,null,"Horse Name",{"$f":"'Entry Information'!J89","v":0},null,null,null,null,"Horse Name",{"$f":"'Entry Information'!J89","v":0}]
[]
["Check box when entering Ranch Riding scores",null,null,null,null,null,"Check box when entering Working Ranch Horse scores",null,null,null,null,null,"Check box when entering Ranch Cutting scores",null,null,null,null,null,"Check box when entering Ranch Trail scores",null,null,null,null,null,"Check box when entering Conformation scores"]
["Ranch Riding",null,null,null,null,null,"Working Ranch Horse",null,null,null,null,null,"Ranch Cutting",null,null,null,null,null,"Ranch Trail",null,null,null,null,null,"Ranch Conformation"]
["Maneuver","Judge's Score +/-","Penalty Points",null,null,null,"Maneuver","Judge's Score +/-","Penalty Points",null,null,null,"Maneuver","Judge's Score +/-","Penalty Points",null,null,null,"Maneuver","Judge's Score +/-","Penalty Points",null,null,null,"Front Legs, Feet"]
[1,null,null,null,null,null,1,null,null,null,null,null,"Herd Work",null,null,null,null,null,1,null,null,null,null,null,"Chest, Pectoral V"]
[2,null,null,null,null,null,2,null,null,null,null,null,1,null,null,null,null,null,2,null,null,null,null,null,"Head"]
[3,null,null,null,null,null,3,null,null,null,null,null,2,null,null,null,null,null,3,null,null,null,null,null,"Neck & Throat Latch"]
[4,null,null,null,null,null,4,null,null,null,null,null,3,null,null,null,null,null,4,null,null,null,null,null,"Shoulders & Withers"]
[5,null,null,null,null,null,5,null,null,null,null,null,"Cutting",null,null,null,null,null,5,null,null,null,null,null,"Heart Girth & Barrel"]
[6,null,null,null,null,null,6,null,null,null,null,null,1,null,null,null,null,null,6,null,null,null,null,null,"Back & Loin"]
[7,null,null,null,null,null,7,null,null,null,null,null,2,null,null,null,null,null,7,null,null,null,null,null,"Hip & Croup"]
[8,null,null,null,null,null,8,null,null,null,null,null,3,null,null,null,null,null,8,null,null,null,null,null,"Stife & Gaskin"]
[9,null,null,null,null,null,null,null,"Total Penalty Pts",{"$f":"SUM(I10:J17)","v":0},null,null,4,null,null,null,null,null,9,null,null,null,null,null,"Hock, Hind Legs, Feet"]
[10,null,null,null,null,null,"56 +/- Judge Score",{"$f":"SUM(H10:H17)","v":0},"Divided by 2",{"$f":"SUM((56+H19)/2)","v":28},null,null,"Penning",null,null,null,null,null,10,null,null,null,null,null,"Overall Muscling"]
[11,null,null,null,null,null,"Maneuver Score",{"$f":"J19","v":28},"Less Penalty Pts",{"$f":"J18","v":0},null,null,1,null,null,null,null,null,null,null,"Major Penalties",null,null,null,"Tracking","Lame: enter an \"x\""]
[12,null,null,null,null,null,"REINING SCORE",null,null,{"$f":"SUM(H20+J20)","v":28},null,null,2,null,null,null,null,null,null,null,null,null,null,null,"Balance 1"]
[13,null,null,null,null,null,"Working Cow Horse",null,null,null,null,null,3,null,null,null,null,null,null,null,null,null,null,null,"Balance 2"]
[14,null,null,null,null,null,1,null,"Penalty Points",null,null,null,null,null,"Major Penalties",null,null,null,"Maneuver Total",{"$f":"SUM(T10:T19)","v":0},"Penalty Total",{"$f":"SUM(SUM(U10:V19)+V20)","v":0},null,null,"Balance 3"]
["Maneuver Total",{"$f":"SUM(B10:B23)","v":0},"Major Penalties",null,null,null,2,null,null,null,null,null,null,null,null,null,null,null,null,null,null,null,null,null,"Fitness & Condition"]
[null,null,"Penalty Total",{"$f":"SUM(C10:D24)","v":0},null,null,3,null,null,null,null,null,"Maneuver Total",{"$f":"SUM(N10:N22)","v":0},"Penalty Total",{"$f":"SUM(O11+O12+O13+O15+O16+O17+O18+O20+O21+O22+P23)","v":0},null,null,null,null,null,null,null,null,"Participant Showmanship"]
[null,null,null,null,null,null,"21 +/- Judge Score",{"$f":"SUM(H23:H25)","v":0},"Total Penalty Pts",{"$f":"SUM(J23:J25)","v":0},null,null,null,null,null,null,null,null,null,null,null,null,null,null,"Horse Showmanship"]
["100 +/-Maneuver",{"$f":"B24","v":0},"x .70 =",{"$f":"SUM((100+B27)*0.7)","v":70},null,null,"Maneuver Score",{"$f":"SUM(21+H26)","v":21},"Less Penalty Pts",{"$f":"J26","v":0},null,null,"70 +/-Maneuver",{"$f":"N25","v":0},"Less Penalty Total",{"$f":"P25","v":0},null,null,"70 +/-Maneuver",{"$f":"T23","v":0},"Less Penalty Total",{"$f":"V23","v":0},null,null,"Form & Showmanship Judges Score",null,"Total (1)",{"$f":"SUM(AB9:AB26)","v":0}]
[null,null,null,null,null,null,"CATTLE SCORE",null,null,{"$f":"SUM(H27+J27)","v":21},null,null,null,null,null,null,null,null,null,null,null,null,null,null,{"$f":"SUM(AB27*0.33+42)","v":42},{"$f":"IF(AA20=\"x\",-10,0)","v":0},"Judge Score (2)",{"$f":"SUM(Y28+Z28)","v":42}]
["Maneuver Score =",{"$f":"D27","v":70},"Less Penalty Total",{"$f":"D25","v":0},null,null,"Roping",null,null,null,null,null,null,null,null,null,null,null,null,null,null,null,null,null,"Ranch Cutting",{"$f":"IF(P31=\"\",0,P31)","v":0},"Ranch Rding",{"$f":"IF(D31=\"\",0,D31)","v":0}]
[null,null,null,null,null,null,1,null,"Penalty Points",null,null,null,null,null,null,null,null,null,null,null,null,null,null,null,"Working Ranch Horse",{"$f":"IF(J36=\"\",0,J36)","v":0},"Ranch Trail",{"$f":"IF(V31=\"\",0,V31)","v":0}]
["TOTAL SCORE",null,null,{"$f":"IF(D7=\"\",\"\",IF(B29+D29<0,0,B29+D29))","v":""},null,null,2,null,null,null,null,null,"TOTAL SCORE",null,null,{"$f":"IF(P7=\"\",\"\",IF(70+N27+P27<0,0,70+N27+P27))","v":""},null,null,"TOTAL SCORE",null,null,{"$f":"IF(V7=\"\",\"\",IF(70+T27+V27<0,0,70+T27+V27))","v":""},null,null,"Function Total (3)",{"$f":"SUM(Z29+AB29+Z30+AB30)","v":0},"Function Score (4)",{"$f":"Z31*0.1","v":0}]
[null,null,null,null,null,null,3,null,null,null,null,null,null,null,null,null,null,null,null,null,null,null,null,null,"Judge Score (2) + Function Score (4) = CONFORMATION SCORE",null,null,{"$f":"IF(AB7=\"\",\"\",IF(AB28+AB31<0,0,AB28+AB31))","v":""}]
[null,null,"Return to Entry Page",null,null,null,"21 +/- Judge Score",{"$f":"SUM(H30:H32)","v":0},"Total Penalty Pts",{"$f":"SUM(J30:J32)","v":0},null,null,null,null,"Return to Entry Page",null,null,null,null,null,"Return to Entry Page"]
[null,null,null,null,null,null,"Maneuver Score",{"$f":"SUM(21+H33)*1.1","v":23.1},"Less Penalty Pts",{"$f":"J33","v":0},null,null,null,null,null,null,null,null,null,null,null,null,null,null,null,null,"Return to Entry Page"]
[null,null,null,null,null,null,"ROPING SCORE",null,null,{"$f":"SUM(H34+J34)","v":23.1}]
[null,null,null,null,null,null,"TOTAL SCORE",null,null,{"$f":"IF(J7=\"\",\"\",IF(J21+J28+J35<0,0,J21+J28+J35))","v":""}]
[]
[null,null,null,null,null,null,null,null,"Return to Entry Page"]

{"sheet":"Open 5","index":89,"n_rows":38,"n_cols":28,"rows_kept":38,"cut":false,"hidden":false,"merged":[[34,6,34,8],[30,0,30,2],[35,6,35,8],[30,12,30,14],[30,18,30,20],[31,24,31,26],[23,0,24,0],[23,1,24,1],[23,18,25,21],[25,0,25,3],[27,6,27,8],[25,12,25,15],[27,0,27,3],[27,12,29,15],[27,18,29,21],[29,0,29,3],[29,8,31,8],[19,20,20,20],[19,21,20,21],[20,2,20,3],[20,6,20,8],[20,14,20,15],[16,14,16,15],[16,20,16,21],[22,2,22,3],[22,12,23,13],[22,14,23,14],[22,15,23,15],[22,8,24,8],[21,2,21,3],[21,14,21,15],[21,18,21,21],[18,2,18,3],[18,12,18,15],[18,20,18,21],[19,2,19,3],[19,14,19,15],[19,18,20,19],[17,2,17,3],[17,14,17,15],[17,20,17,21],[13,2,13,3],[13,8,14,9],[13,12,13,15],[13,20,13,21],[14,2,14,3],[14,14,14,15],[14,20,14,21],[15,2,15,3],[15,8,15,9],[15,14,15,15],[15,20,15,21],[16,2,16,3],[16,8,16,9],[7,24,7,27],[11,2,11,3],[11,8,12,9],[11,14,11,15],[11,20,11,21],[12,2,12,3],[12,14,12,15],[12,20,12,21],[9,2,9,3],[9,8,10,9],[9,12,9,15],[9,20,9,21],[10,2,10,3],[10,14,10,15],[10,20,10,21],[8,2,8,3],[8,8,8,9],[8,14,8,15],[8,20,8,21],[7,0,7,3],[7,6,7,9],[7,12,7,15],[7,18,7,21]]}
["RIDERS SCORE WORK SHEET"]
[]
["Back Number:",{"$f":"'Entry Information'!B90","v":0},null,null,null,null,"Back Number:",{"$f":"'Entry Information'!B90","v":0},null,null,null,null,"Back Number:",{"$f":"'Entry Information'!B90","v":0},null,null,null,null,"Back Number:",{"$f":"'Entry Information'!B90","v":0},null,null,null,null,"Back Number:",{"$f":"'Entry Information'!B90","v":0}]
["Name:",{"$f":"'Entry Information'!I90","v":0},{"$f":"'Entry Information'!H90","v":0},null,null,null,"Name:",{"$f":"'Entry Information'!I90","v":0},{"$f":"'Entry Information'!H90","v":0},null,null,null,"Name:",{"$f":"'Entry Information'!I90","v":0},{"$f":"'Entry Information'!H90","v":0},null,null,null,"Name:",{"$f":"'Entry Information'!I90","v":0},{"$f":"'Entry Information'!H90","v":0},null,null,null,"Name:",{"$f":"'Entry Information'!H90","v":0},{"$f":"'Entry Information'!I90","v":0}]
["Horse Name",{"$f":"'Entry Information'!J90","v":0},null,null,null,null,"Horse Name",{"$f":"'Entry Information'!J90","v":0},null,null,null,null,"Horse Name",{"$f":"'Entry Information'!J90","v":0},null,null,null,null,"Horse Name",{"$f":"'Entry Information'!J90","v":0},null,null,null,null,"Horse Name",{"$f":"'Entry Information'!J90","v":0}]
[]
["Check box when entering Ranch Riding scores",null,null,null,null,null,"Check box when entering Working Ranch Horse scores",null,null,null,null,null,"Check box when entering Ranch Cutting scores",null,null,null,null,null,"Check box when entering Ranch Trail scores",null,null,null,null,null,"Check box when entering Conformation scores"]
["Ranch Riding",null,null,null,null,null,"Working Ranch Horse",null,null,null,null,null,"Ranch Cutting",null,null,null,null,null,"Ranch Trail",null,null,null,null,null,"Ranch Conformation"]
["Maneuver","Judge's Score +/-","Penalty Points",null,null,null,"Maneuver","Judge's Score +/-","Penalty Points",null,null,null,"Maneuver","Judge's Score +/-","Penalty Points",null,null,null,"Maneuver","Judge's Score +/-","Penalty Points",null,null,null,"Front Legs, Feet"]
[1,null,null,null,null,null,1,null,null,null,null,null,"Herd Work",null,null,null,null,null,1,null,null,null,null,null,"Chest, Pectoral V"]
[2,null,null,null,null,null,2,null,null,null,null,null,1,null,null,null,null,null,2,null,null,null,null,null,"Head"]
[3,null,null,null,null,null,3,null,null,null,null,null,2,null,null,null,null,null,3,null,null,null,null,null,"Neck & Throat Latch"]
[4,null,null,null,null,null,4,null,null,null,null,null,3,null,null,null,null,null,4,null,null,null,null,null,"Shoulders & Withers"]
[5,null,null,null,null,null,5,null,null,null,null,null,"Cutting",null,null,null,null,null,5,null,null,null,null,null,"Heart Girth & Barrel"]
[6,null,null,null,null,null,6,null,null,null,null,null,1,null,null,null,null,null,6,null,null,null,null,null,"Back & Loin"]
[7,null,null,null,null,null,7,null,null,null,null,null,2,null,null,null,null,null,7,null,null,null,null,null,"Hip & Croup"]
[8,null,null,null,null,null,8,null,null,null,null,null,3,null,null,null,null,null,8,null,null,null,null,null,"Stife & Gaskin"]
[9,null,null,null,null,null,null,null,"Total Penalty Pts",{"$f":"SUM(I10:J17)","v":0},null,null,4,null,null,null,null,null,9,null,null,null,null,null,"Hock, Hind Legs, Feet"]
[10,null,null,null,null,null,"56 +/- Judge Score",{"$f":"SUM(H10:H17)","v":0},"Divided by 2",{"$f":"SUM((56+H19)/2)","v":28},null,null,"Penning",null,null,null,null,null,10,null,null,null,null,null,"Overall Muscling"]
[11,null,null,null,null,null,"Maneuver Score",{"$f":"J19","v":28},"Less Penalty Pts",{"$f":"J18","v":0},null,null,1,null,null,null,null,null,null,null,"Major Penalties",null,null,null,"Tracking","Lame: enter an \"x\""]
[12,null,null,null,null,null,"REINING SCORE",null,null,{"$f":"SUM(H20+J20)","v":28},null,null,2,null,null,null,null,null,null,null,null,null,null,null,"Balance 1"]
[13,null,null,null,null,null,"Working Cow Horse",null,null,null,null,null,3,null,null,null,null,null,null,null,null,null,null,null,"Balance 2"]
[14,null,null,null,null,null,1,null,"Penalty Points",null,null,null,null,null,"Major Penalties",null,null,null,"Maneuver Total",{"$f":"SUM(T10:T19)","v":0},"Penalty Total",{"$f":"SUM(SUM(U10:V19)+V20)","v":0},null,null,"Balance 3"]
["Maneuver Total",{"$f":"SUM(B10:B23)","v":0},"Major Penalties",null,null,null,2,null,null,null,null,null,null,null,null,null,null,null,null,null,null,null,null,null,"Fitness & Condition"]
[null,null,"Penalty Total",{"$f":"SUM(C10:D24)","v":0},null,null,3,null,null,null,null,null,"Maneuver Total",{"$f":"SUM(N10:N22)","v":0},"Penalty Total",{"$f":"SUM(O11+O12+O13+O15+O16+O17+O18+O20+O21+O22+P23)","v":0},null,null,null,null,null,null,null,null,"Participant Showmanship"]
[null,null,null,null,null,null,"21 +/- Judge Score",{"$f":"SUM(H23:H25)","v":0},"Total Penalty Pts",{"$f":"SUM(J23:J25)","v":0},null,null,null,null,null,null,null,null,null,null,null,null,null,null,"Horse Showmanship"]
["100 +/-Maneuver",{"$f":"B24","v":0},"x .70 =",{"$f":"SUM((100+B27)*0.7)","v":70},null,null,"Maneuver Score",{"$f":"SUM(21+H26)","v":21},"Less Penalty Pts",{"$f":"J26","v":0},null,null,"70 +/-Maneuver",{"$f":"N25","v":0},"Less Penalty Total",{"$f":"P25","v":0},null,null,"70 +/-Maneuver",{"$f":"T23","v":0},"Less Penalty Total",{"$f":"V23","v":0},null,null,"Form & Showmanship Judges Score",null,"Total (1)",{"$f":"SUM(AB9:AB26)","v":0}]
[null,null,null,null,null,null,"CATTLE SCORE",null,null,{"$f":"SUM(H27+J27)","v":21},null,null,null,null,null,null,null,null,null,null,null,null,null,null,{"$f":"SUM(AB27*0.33+42)","v":42},{"$f":"IF(AA20=\"x\",-10,0)","v":0},"Judge Score (2)",{"$f":"SUM(Y28+Z28)","v":42}]
["Maneuver Score =",{"$f":"D27","v":70},"Less Penalty Total",{"$f":"D25","v":0},null,null,"Roping",null,null,null,null,null,null,null,null,null,null,null,null,null,null,null,null,null,"Ranch Cutting",{"$f":"IF(P31=\"\",0,P31)","v":0},"Ranch Rding",{"$f":"IF(D31=\"\",0,D31)","v":0}]
[null,null,null,null,null,null,1,null,"Penalty Points",null,null,null,null,null,null,null,null,null,null,null,null,null,null,null,"Working Ranch Horse",{"$f":"IF(J36=\"\",0,J36)","v":0},"Ranch Trail",{"$f":"IF(V31=\"\",0,V31)","v":0}]
["TOTAL SCORE",null,null,{"$f":"IF(D7=\"\",\"\",IF(B29+D29<0,0,B29+D29))","v":""},null,null,2,null,null,null,null,null,"TOTAL SCORE",null,null,{"$f":"IF(P7=\"\",\"\",IF(70+N27+P27<0,0,70+N27+P27))","v":""},null,null,"TOTAL SCORE",null,null,{"$f":"IF(V7=\"\",\"\",IF(70+T27+V27<0,0,70+T27+V27))","v":""},null,null,"Function Total (3)",{"$f":"SUM(Z29+AB29+Z30+AB30)","v":0},"Function Score (4)",{"$f":"Z31*0.1","v":0}]
[null,null,null,null,null,null,3,null,null,null,null,null,null,null,null,null,null,null,null,null,null,null,null,null,"Judge Score (2) + Function Score (4) = CONFORMATION SCORE",null,null,{"$f":"IF(AB7=\"\",\"\",IF(AB28+AB31<0,0,AB28+AB31))","v":""}]
[null,null,"Return to Entry Page",null,null,null,"21 +/- Judge Score",{"$f":"SUM(H30:H32)","v":0},"Total Penalty Pts",{"$f":"SUM(J30:J32)","v":0},null,null,null,null,"Return to Entry Page",null,null,null,null,null,"Return to Entry Page"]
[null,null,null,null,null,null,"Maneuver Score",{"$f":"SUM(21+H33)*1.1","v":23.1},"Less Penalty Pts",{"$f":"J33","v":0},null,null,null,null,null,null,null,null,null,null,null,null,null,null,null,null,"Return to Entry Page"]
[null,null,null,null,null,null,"ROPING SCORE",null,null,{"$f":"SUM(H34+J34)","v":23.1}]
[null,null,null,null,null,null,"TOTAL SCORE",null,null,{"$f":"IF(J7=\"\",\"\",IF(J21+J28+J35<0,0,J21+J28+J35))","v":""}]
[]
[null,null,null,null,null,null,null,null,"Return to Entry Page"]

{"sheet":"Open 6","index":90,"n_rows":38,"n_cols":28,"rows_kept":38,"cut":false,"hidden":false,"merged":[[34,6,34,8],[30,0,30,2],[35,6,35,8],[30,12,30,14],[30,18,30,20],[31,24,31,26],[23,0,24,0],[23,1,24,1],[23,18,25,21],[25,0,25,3],[27,6,27,8],[25,12,25,15],[27,0,27,3],[27,12,29,15],[27,18,29,21],[29,0,29,3],[29,8,31,8],[19,20,20,20],[19,21,20,21],[20,2,20,3],[20,6,20,8],[20,14,20,15],[16,14,16,15],[16,20,16,21],[22,2,22,3],[22,12,23,13],[22,14,23,14],[22,15,23,15],[22,8,24,8],[21,2,21,3],[21,14,21,15],[21,18,21,21],[18,2,18,3],[18,12,18,15],[18,20,18,21],[19,2,19,3],[19,14,19,15],[19,18,20,19],[17,2,17,3],[17,14,17,15],[17,20,17,21],[13,2,13,3],[13,8,14,9],[13,12,13,15],[13,20,13,21],[14,2,14,3],[14,14,14,15],[14,20,14,21],[15,2,15,3],[15,8,15,9],[15,14,15,15],[15,20,15,21],[16,2,16,3],[16,8,16,9],[7,24,7,27],[11,2,11,3],[11,8,12,9],[11,14,11,15],[11,20,11,21],[12,2,12,3],[12,14,12,15],[12,20,12,21],[9,2,9,3],[9,8,10,9],[9,12,9,15],[9,20,9,21],[10,2,10,3],[10,14,10,15],[10,20,10,21],[8,2,8,3],[8,8,8,9],[8,14,8,15],[8,20,8,21],[7,0,7,3],[7,6,7,9],[7,12,7,15],[7,18,7,21]]}
["RIDERS SCORE WORK SHEET"]
[]
["Back Number:",{"$f":"'Entry Information'!B91","v":0},null,null,null,null,"Back Number:",{"$f":"'Entry Information'!B91","v":0},null,null,null,null,"Back Number:",{"$f":"'Entry Information'!B91","v":0},null,null,null,null,"Back Number:",{"$f":"'Entry Information'!B91","v":0},null,null,null,null,"Back Number:",{"$f":"'Entry Information'!B91","v":0}]
["Name:",{"$f":"'Entry Information'!I91","v":0},{"$f":"'Entry Information'!H91","v":0},null,null,null,"Name:",{"$f":"'Entry Information'!I91","v":0},{"$f":"'Entry Information'!H91","v":0},null,null,null,"Name:",{"$f":"'Entry Information'!I91","v":0},{"$f":"'Entry Information'!H91","v":0},null,null,null,"Name:",{"$f":"'Entry Information'!I91","v":0},{"$f":"'Entry Information'!H91","v":0},null,null,null,"Name:",{"$f":"'Entry Information'!H91","v":0},{"$f":"'Entry Information'!I91","v":0}]
["Horse Name",{"$f":"'Entry Information'!J91","v":0},null,null,null,null,"Horse Name",{"$f":"'Entry Information'!J91","v":0},null,null,null,null,"Horse Name",{"$f":"'Entry Information'!J91","v":0},null,null,null,null,"Horse Name",{"$f":"'Entry Information'!J91","v":0},null,null,null,null,"Horse Name",{"$f":"'Entry Information'!J91","v":0}]
[]
["Check box when entering Ranch Riding scores",null,null,null,null,null,"Check box when entering Working Ranch Horse scores",null,null,null,null,null,"Check box when entering Ranch Cutting scores",null,null,null,null,null,"Check box when entering Ranch Trail scores",null,null,null,null,null,"Check box when entering Conformation scores"]
["Ranch Riding",null,null,null,null,null,"Working Ranch Horse",null,null,null,null,null,"Ranch Cutting",null,null,null,null,null,"Ranch Trail",null,null,null,null,null,"Ranch Conformation"]
["Maneuver","Judge's Score +/-","Penalty Points",null,null,null,"Maneuver","Judge's Score +/-","Penalty Points",null,null,null,"Maneuver","Judge's Score +/-","Penalty Points",null,null,null,"Maneuver","Judge's Score +/-","Penalty Points",null,null,null,"Front Legs, Feet"]
[1,null,null,null,null,null,1,null,null,null,null,null,"Herd Work",null,null,null,null,null,1,null,null,null,null,null,"Chest, Pectoral V"]
[2,null,null,null,null,null,2,null,null,null,null,null,1,null,null,null,null,null,2,null,null,null,null,null,"Head"]
[3,null,null,null,null,null,3,null,null,null,null,null,2,null,null,null,null,null,3,null,null,null,null,null,"Neck & Throat Latch"]
[4,null,null,null,null,null,4,null,null,null,null,null,3,null,null,null,null,null,4,null,null,null,null,null,"Shoulders & Withers"]
[5,null,null,null,null,null,5,null,null,null,null,null,"Cutting",null,null,null,null,null,5,null,null,null,null,null,"Heart Girth & Barrel"]
[6,null,null,null,null,null,6,null,null,null,null,null,1,null,null,null,null,null,6,null,null,null,null,null,"Back & Loin"]
[7,null,null,null,null,null,7,null,null,null,null,null,2,null,null,null,null,null,7,null,null,null,null,null,"Hip & Croup"]
[8,null,null,null,null,null,8,null,null,null,null,null,3,null,null,null,null,null,8,null,null,null,null,null,"Stife & Gaskin"]
[9,null,null,null,null,null,null,null,"Total Penalty Pts",{"$f":"SUM(I10:J17)","v":0},null,null,4,null,null,null,null,null,9,null,null,null,null,null,"Hock, Hind Legs, Feet"]
[10,null,null,null,null,null,"56 +/- Judge Score",{"$f":"SUM(H10:H17)","v":0},"Divided by 2",{"$f":"SUM((56+H19)/2)","v":28},null,null,"Penning",null,null,null,null,null,10,null,null,null,null,null,"Overall Muscling"]
[11,null,null,null,null,null,"Maneuver Score",{"$f":"J19","v":28},"Less Penalty Pts",{"$f":"J18","v":0},null,null,1,null,null,null,null,null,null,null,"Major Penalties",null,null,null,"Tracking","Lame: enter an \"x\""]
[12,null,null,null,null,null,"REINING SCORE",null,null,{"$f":"SUM(H20+J20)","v":28},null,null,2,null,null,null,null,null,null,null,null,null,null,null,"Balance 1"]
[13,null,null,null,null,null,"Working Cow Horse",null,null,null,null,null,3,null,null,null,null,null,null,null,null,null,null,null,"Balance 2"]
[14,null,null,null,null,null,1,null,"Penalty Points",null,null,null,null,null,"Major Penalties",null,null,null,"Maneuver Total",{"$f":"SUM(T10:T19)","v":0},"Penalty Total",{"$f":"SUM(SUM(U10:V19)+V20)","v":0},null,null,"Balance 3"]
["Maneuver Total",{"$f":"SUM(B10:B23)","v":0},"Major Penalties",null,null,null,2,null,null,null,null,null,null,null,null,null,null,null,null,null,null,null,null,null,"Fitness & Condition"]
[null,null,"Penalty Total",{"$f":"SUM(C10:D24)","v":0},null,null,3,null,null,null,null,null,"Maneuver Total",{"$f":"SUM(N10:N22)","v":0},"Penalty Total",{"$f":"SUM(O11+O12+O13+O15+O16+O17+O18+O20+O21+O22+P23)","v":0},null,null,null,null,null,null,null,null,"Participant Showmanship"]
[null,null,null,null,null,null,"21 +/- Judge Score",{"$f":"SUM(H23:H25)","v":0},"Total Penalty Pts",{"$f":"SUM(J23:J25)","v":0},null,null,null,null,null,null,null,null,null,null,null,null,null,null,"Horse Showmanship"]
["100 +/-Maneuver",{"$f":"B24","v":0},"x .70 =",{"$f":"SUM((100+B27)*0.7)","v":70},null,null,"Maneuver Score",{"$f":"SUM(21+H26)","v":21},"Less Penalty Pts",{"$f":"J26","v":0},null,null,"70 +/-Maneuver",{"$f":"N25","v":0},"Less Penalty Total",{"$f":"P25","v":0},null,null,"70 +/-Maneuver",{"$f":"T23","v":0},"Less Penalty Total",{"$f":"V23","v":0},null,null,"Form & Showmanship Judges Score",null,"Total (1)",{"$f":"SUM(AB9:AB26)","v":0}]
[null,null,null,null,null,null,"CATTLE SCORE",null,null,{"$f":"SUM(H27+J27)","v":21},null,null,null,null,null,null,null,null,null,null,null,null,null,null,{"$f":"SUM(AB27*0.33+42)","v":42},{"$f":"IF(AA20=\"x\",-10,0)","v":0},"Judge Score (2)",{"$f":"SUM(Y28+Z28)","v":42}]
["Maneuver Score =",{"$f":"D27","v":70},"Less Penalty Total",{"$f":"D25","v":0},null,null,"Roping",null,null,null,null,null,null,null,null,null,null,null,null,null,null,null,null,null,"Ranch Cutting",{"$f":"IF(P31=\"\",0,P31)","v":0},"Ranch Rding",{"$f":"IF(D31=\"\",0,D31)","v":0}]
[null,null,null,null,null,null,1,null,"Penalty Points",null,null,null,null,null,null,null,null,null,null,null,null,null,null,null,"Working Ranch Horse",{"$f":"IF(J36=\"\",0,J36)","v":0},"Ranch Trail",{"$f":"IF(V31=\"\",0,V31)","v":0}]
["TOTAL SCORE",null,null,{"$f":"IF(D7=\"\",\"\",IF(B29+D29<0,0,B29+D29))","v":""},null,null,2,null,null,null,null,null,"TOTAL SCORE",null,null,{"$f":"IF(P7=\"\",\"\",IF(70+N27+P27<0,0,70+N27+P27))","v":""},null,null,"TOTAL SCORE",null,null,{"$f":"IF(V7=\"\",\"\",IF(70+T27+V27<0,0,70+T27+V27))","v":""},null,null,"Function Total (3)",{"$f":"SUM(Z29+AB29+Z30+AB30)","v":0},"Function Score (4)",{"$f":"Z31*0.1","v":0}]
[null,null,null,null,null,null,3,null,null,null,null,null,null,null,null,null,null,null,null,null,null,null,null,null,"Judge Score (2) + Function Score (4) = CONFORMATION SCORE",null,null,{"$f":"IF(AB7=\"\",\"\",IF(AB28+AB31<0,0,AB28+AB31))","v":""}]
[null,null,"Return to Entry Page",null,null,null,"21 +/- Judge Score",{"$f":"SUM(H30:H32)","v":0},"Total Penalty Pts",{"$f":"SUM(J30:J32)","v":0},null,null,null,null,"Return to Entry Page",null,null,null,null,null,"Return to Entry Page"]
[null,null,null,null,null,null,"Maneuver Score",{"$f":"SUM(21+H33)*1.1","v":23.1},"Less Penalty Pts",{"$f":"J33","v":0},null,null,null,null,null,null,null,null,null,null,null,null,null,null,null,null,"Return to Entry Page"]
[null,null,null,null,null,null,"ROPING SCORE",null,null,{"$f":"SUM(H34+J34)","v":23.1}]
[null,null,null,null,null,null,"TOTAL SCORE",null,null,{"$f":"IF(J7=\"\",\"\",IF(J21+J28+J35<0,0,J21+J28+J35))","v":""}]
[]
[null,null,null,null,null,null,null,null,"Return to Entry Page"]

{"sheet":"Open 7","index":91,"n_rows":38,"n_cols":28,"rows_kept":38,"cut":false,"hidden":false,"merged":[[34,6,34,8],[30,0,30,2],[35,6,35,8],[30,12,30,14],[30,18,30,20],[31,24,31,26],[23,0,24,0],[23,1,24,1],[23,18,25,21],[25,0,25,3],[27,6,27,8],[25,12,25,15],[27,0,27,3],[27,12,29,15],[27,18,29,21],[29,0,29,3],[29,8,31,8],[19,20,20,20],[19,21,20,21],[20,2,20,3],[20,6,20,8],[20,14,20,15],[16,14,16,15],[16,20,16,21],[22,2,22,3],[22,12,23,13],[22,14,23,14],[22,15,23,15],[22,8,24,8],[21,2,21,3],[21,14,21,15],[21,18,21,21],[18,2,18,3],[18,12,18,15],[18,20,18,21],[19,2,19,3],[19,14,19,15],[19,18,20,19],[17,2,17,3],[17,14,17,15],[17,20,17,21],[13,2,13,3],[13,8,14,9],[13,12,13,15],[13,20,13,21],[14,2,14,3],[14,14,14,15],[14,20,14,21],[15,2,15,3],[15,8,15,9],[15,14,15,15],[15,20,15,21],[16,2,16,3],[16,8,16,9],[7,24,7,27],[11,2,11,3],[11,8,12,9],[11,14,11,15],[11,20,11,21],[12,2,12,3],[12,14,12,15],[12,20,12,21],[9,2,9,3],[9,8,10,9],[9,12,9,15],[9,20,9,21],[10,2,10,3],[10,14,10,15],[10,20,10,21],[8,2,8,3],[8,8,8,9],[8,14,8,15],[8,20,8,21],[7,0,7,3],[7,6,7,9],[7,12,7,15],[7,18,7,21]]}
["RIDERS SCORE WORK SHEET"]
[]
["Back Number:",{"$f":"'Entry Information'!B92","v":0},null,null,null,null,"Back Number:",{"$f":"'Entry Information'!B92","v":0},null,null,null,null,"Back Number:",{"$f":"'Entry Information'!B92","v":0},null,null,null,null,"Back Number:",{"$f":"'Entry Information'!B92","v":0},null,null,null,null,"Back Number:",{"$f":"'Entry Information'!B92","v":0}]
["Name:",{"$f":"'Entry Information'!I92","v":0},{"$f":"'Entry Information'!H92","v":0},null,null,null,"Name:",{"$f":"'Entry Information'!I92","v":0},{"$f":"'Entry Information'!H92","v":0},null,null,null,"Name:",{"$f":"'Entry Information'!I92","v":0},{"$f":"'Entry Information'!H92","v":0},null,null,null,"Name:",{"$f":"'Entry Information'!I92","v":0},{"$f":"'Entry Information'!H92","v":0},null,null,null,"Name:",{"$f":"'Entry Information'!H92","v":0},{"$f":"'Entry Information'!I92","v":0}]
["Horse Name",{"$f":"'Entry Information'!J92","v":0},null,null,null,null,"Horse Name",{"$f":"'Entry Information'!J92","v":0},null,null,null,null,"Horse Name",{"$f":"'Entry Information'!J92","v":0},null,null,null,null,"Horse Name",{"$f":"'Entry Information'!J92","v":0},null,null,null,null,"Horse Name",{"$f":"'Entry Information'!J92","v":0}]
[]
["Check box when entering Ranch Riding scores",null,null,null,null,null,"Check box when entering Working Ranch Horse scores",null,null,null,null,null,"Check box when entering Ranch Cutting scores",null,null,null,null,null,"Check box when entering Ranch Trail scores",null,null,null,null,null,"Check box when entering Conformation scores"]
["Ranch Riding",null,null,null,null,null,"Working Ranch Horse",null,null,null,null,null,"Ranch Cutting",null,null,null,null,null,"Ranch Trail",null,null,null,null,null,"Ranch Conformation"]
["Maneuver","Judge's Score +/-","Penalty Points",null,null,null,"Maneuver","Judge's Score +/-","Penalty Points",null,null,null,"Maneuver","Judge's Score +/-","Penalty Points",null,null,null,"Maneuver","Judge's Score +/-","Penalty Points",null,null,null,"Front Legs, Feet"]
[1,null,null,null,null,null,1,null,null,null,null,null,"Herd Work",null,null,null,null,null,1,null,null,null,null,null,"Chest, Pectoral V"]
[2,null,null,null,null,null,2,null,null,null,null,null,1,null,null,null,null,null,2,null,null,null,null,null,"Head"]
[3,null,null,null,null,null,3,null,null,null,null,null,2,null,null,null,null,null,3,null,null,null,null,null,"Neck & Throat Latch"]
[4,null,null,null,null,null,4,null,null,null,null,null,3,null,null,null,null,null,4,null,null,null,null,null,"Shoulders & Withers"]
[5,null,null,null,null,null,5,null,null,null,null,null,"Cutting",null,null,null,null,null,5,null,null,null,null,null,"Heart Girth & Barrel"]
[6,null,null,null,null,null,6,null,null,null,null,null,1,null,null,null,null,null,6,null,null,null,null,null,"Back & Loin"]
[7,null,null,null,null,null,7,null,null,null,null,null,2,null,null,null,null,null,7,null,null,null,null,null,"Hip & Croup"]
[8,null,null,null,null,null,8,null,null,null,null,null,3,null,null,null,null,null,8,null,null,null,null,null,"Stife & Gaskin"]
[9,null,null,null,null,null,null,null,"Total Penalty Pts",{"$f":"SUM(I10:J17)","v":0},null,null,4,null,null,null,null,null,9,null,null,null,null,null,"Hock, Hind Legs, Feet"]
[10,null,null,null,null,null,"56 +/- Judge Score",{"$f":"SUM(H10:H17)","v":0},"Divided by 2",{"$f":"SUM((56+H19)/2)","v":28},null,null,"Penning",null,null,null,null,null,10,null,null,null,null,null,"Overall Muscling"]
[11,null,null,null,null,null,"Maneuver Score",{"$f":"J19","v":28},"Less Penalty Pts",{"$f":"J18","v":0},null,null,1,null,null,null,null,null,null,null,"Major Penalties",null,null,null,"Tracking","Lame: enter an \"x\""]
[12,null,null,null,null,null,"REINING SCORE",null,null,{"$f":"SUM(H20+J20)","v":28},null,null,2,null,null,null,null,null,null,null,null,null,null,null,"Balance 1"]
[13,null,null,null,null,null,"Working Cow Horse",null,null,null,null,null,3,null,null,null,null,null,null,null,null,null,null,null,"Balance 2"]
[14,null,null,null,null,null,1,null,"Penalty Points",null,null,null,null,null,"Major Penalties",null,null,null,"Maneuver Total",{"$f":"SUM(T10:T19)","v":0},"Penalty Total",{"$f":"SUM(SUM(U10:V19)+V20)","v":0},null,null,"Balance 3"]
["Maneuver Total",{"$f":"SUM(B10:B23)","v":0},"Major Penalties",null,null,null,2,null,null,null,null,null,null,null,null,null,null,null,null,null,null,null,null,null,"Fitness & Condition"]
[null,null,"Penalty Total",{"$f":"SUM(C10:D24)","v":0},null,null,3,null,null,null,null,null,"Maneuver Total",{"$f":"SUM(N10:N22)","v":0},"Penalty Total",{"$f":"SUM(O11+O12+O13+O15+O16+O17+O18+O20+O21+O22+P23)","v":0},null,null,null,null,null,null,null,null,"Participant Showmanship"]
[null,null,null,null,null,null,"21 +/- Judge Score",{"$f":"SUM(H23:H25)","v":0},"Total Penalty Pts",{"$f":"SUM(J23:J25)","v":0},null,null,null,null,null,null,null,null,null,null,null,null,null,null,"Horse Showmanship"]
["100 +/-Maneuver",{"$f":"B24","v":0},"x .70 =",{"$f":"SUM((100+B27)*0.7)","v":70},null,null,"Maneuver Score",{"$f":"SUM(21+H26)","v":21},"Less Penalty Pts",{"$f":"J26","v":0},null,null,"70 +/-Maneuver",{"$f":"N25","v":0},"Less Penalty Total",{"$f":"P25","v":0},null,null,"70 +/-Maneuver",{"$f":"T23","v":0},"Less Penalty Total",{"$f":"V23","v":0},null,null,"Form & Showmanship Judges Score",null,"Total (1)",{"$f":"SUM(AB9:AB26)","v":0}]
[null,null,null,null,null,null,"CATTLE SCORE",null,null,{"$f":"SUM(H27+J27)","v":21},null,null,null,null,null,null,null,null,null,null,null,null,null,null,{"$f":"SUM(AB27*0.33+42)","v":42},{"$f":"IF(AA20=\"x\",-10,0)","v":0},"Judge Score (2)",{"$f":"SUM(Y28+Z28)","v":42}]
["Maneuver Score =",{"$f":"D27","v":70},"Less Penalty Total",{"$f":"D25","v":0},null,null,"Roping",null,null,null,null,null,null,null,null,null,null,null,null,null,null,null,null,null,"Ranch Cutting",{"$f":"IF(P31=\"\",0,P31)","v":0},"Ranch Rding",{"$f":"IF(D31=\"\",0,D31)","v":0}]
[null,null,null,null,null,null,1,null,"Penalty Points",null,null,null,null,null,null,null,null,null,null,null,null,null,null,null,"Working Ranch Horse",{"$f":"IF(J36=\"\",0,J36)","v":0},"Ranch Trail",{"$f":"IF(V31=\"\",0,V31)","v":0}]
["TOTAL SCORE",null,null,{"$f":"IF(D7=\"\",\"\",IF(B29+D29<0,0,B29+D29))","v":""},null,null,2,null,null,null,null,null,"TOTAL SCORE",null,null,{"$f":"IF(P7=\"\",\"\",IF(70+N27+P27<0,0,70+N27+P27))","v":""},null,null,"TOTAL SCORE",null,null,{"$f":"IF(V7=\"\",\"\",IF(70+T27+V27<0,0,70+T27+V27))","v":""},null,null,"Function Total (3)",{"$f":"SUM(Z29+AB29+Z30+AB30)","v":0},"Function Score (4)",{"$f":"Z31*0.1","v":0}]
[null,null,null,null,null,null,3,null,null,null,null,null,null,null,null,null,null,null,null,null,null,null,null,null,"Judge Score (2) + Function Score (4) = CONFORMATION SCORE",null,null,{"$f":"IF(AB7=\"\",\"\",IF(AB28+AB31<0,0,AB28+AB31))","v":""}]
[null,null,"Return to Entry Page",null,null,null,"21 +/- Judge Score",{"$f":"SUM(H30:H32)","v":0},"Total Penalty Pts",{"$f":"SUM(J30:J32)","v":0},null,null,null,null,"Return to Entry Page",null,null,null,null,null,"Return to Entry Page"]
[null,null,null,null,null,null,"Maneuver Score",{"$f":"SUM(21+H33)*1.1","v":23.1},"Less Penalty Pts",{"$f":"J33","v":0},null,null,null,null,null,null,null,null,null,null,null,null,null,null,null,null,"Return to Entry Page"]
[null,null,null,null,null,null,"ROPING SCORE",null,null,{"$f":"SUM(H34+J34)","v":23.1}]
[null,null,null,null,null,null,"TOTAL SCORE",null,null,{"$f":"IF(J7=\"\",\"\",IF(J21+J28+J35<0,0,J21+J28+J35))","v":""}]
[]
[null,null,null,null,null,null,null,null,"Return to Entry Page"]

{"sheet":"Open 8","index":92,"n_rows":38,"n_cols":28,"rows_kept":38,"cut":false,"hidden":false,"merged":[[34,6,34,8],[30,0,30,2],[35,6,35,8],[30,12,30,14],[30,18,30,20],[31,24,31,26],[23,0,24,0],[23,1,24,1],[23,18,25,21],[25,0,25,3],[27,6,27,8],[25,12,25,15],[27,0,27,3],[27,12,29,15],[27,18,29,21],[29,0,29,3],[29,8,31,8],[19,20,20,20],[19,21,20,21],[20,2,20,3],[20,6,20,8],[20,14,20,15],[16,14,16,15],[16,20,16,21],[22,2,22,3],[22,12,23,13],[22,14,23,14],[22,15,23,15],[22,8,24,8],[21,2,21,3],[21,14,21,15],[21,18,21,21],[18,2,18,3],[18,12,18,15],[18,20,18,21],[19,2,19,3],[19,14,19,15],[19,18,20,19],[17,2,17,3],[17,14,17,15],[17,20,17,21],[13,2,13,3],[13,8,14,9],[13,12,13,15],[13,20,13,21],[14,2,14,3],[14,14,14,15],[14,20,14,21],[15,2,15,3],[15,8,15,9],[15,14,15,15],[15,20,15,21],[16,2,16,3],[16,8,16,9],[7,24,7,27],[11,2,11,3],[11,8,12,9],[11,14,11,15],[11,20,11,21],[12,2,12,3],[12,14,12,15],[12,20,12,21],[9,2,9,3],[9,8,10,9],[9,12,9,15],[9,20,9,21],[10,2,10,3],[10,14,10,15],[10,20,10,21],[8,2,8,3],[8,8,8,9],[8,14,8,15],[8,20,8,21],[7,0,7,3],[7,6,7,9],[7,12,7,15],[7,18,7,21]]}
["RIDERS SCORE WORK SHEET"]
[]
["Back Number:",{"$f":"'Entry Information'!B93","v":0},null,null,null,null,"Back Number:",{"$f":"'Entry Information'!B93","v":0},null,null,null,null,"Back Number:",{"$f":"'Entry Information'!B93","v":0},null,null,null,null,"Back Number:",{"$f":"'Entry Information'!B93","v":0},null,null,null,null,"Back Number:",{"$f":"'Entry Information'!B93","v":0}]
["Name:",{"$f":"'Entry Information'!I93","v":0},{"$f":"'Entry Information'!H93","v":0},null,null,null,"Name:",{"$f":"'Entry Information'!I93","v":0},{"$f":"'Entry Information'!H93","v":0},null,null,null,"Name:",{"$f":"'Entry Information'!I93","v":0},{"$f":"'Entry Information'!H93","v":0},null,null,null,"Name:",{"$f":"'Entry Information'!I93","v":0},{"$f":"'Entry Information'!H93","v":0},null,null,null,"Name:",{"$f":"'Entry Information'!H93","v":0},{"$f":"'Entry Information'!I93","v":0}]
["Horse Name",{"$f":"'Entry Information'!J93","v":0},null,null,null,null,"Horse Name",{"$f":"'Entry Information'!J93","v":0},null,null,null,null,"Horse Name",{"$f":"'Entry Information'!J93","v":0},null,null,null,null,"Horse Name",{"$f":"'Entry Information'!J93","v":0},null,null,null,null,"Horse Name",{"$f":"'Entry Information'!J93","v":0}]
[]
["Check box when entering Ranch Riding scores",null,null,null,null,null,"Check box when entering Working Ranch Horse scores",null,null,null,null,null,"Check box when entering Ranch Cutting scores",null,null,null,null,null,"Check box when entering Ranch Trail scores",null,null,null,null,null,"Check box when entering Conformation scores"]
["Ranch Riding",null,null,null,null,null,"Working Ranch Horse",null,null,null,null,null,"Ranch Cutting",null,null,null,null,null,"Ranch Trail",null,null,null,null,null,"Ranch Conformation"]
["Maneuver","Judge's Score +/-","Penalty Points",null,null,null,"Maneuver","Judge's Score +/-","Penalty Points",null,null,null,"Maneuver","Judge's Score +/-","Penalty Points",null,null,null,"Maneuver","Judge's Score +/-","Penalty Points",null,null,null,"Front Legs, Feet"]
[1,null,null,null,null,null,1,null,null,null,null,null,"Herd Work",null,null,null,null,null,1,null,null,null,null,null,"Chest, Pectoral V"]
[2,null,null,null,null,null,2,null,null,null,null,null,1,null,null,null,null,null,2,null,null,null,null,null,"Head"]
[3,null,null,null,null,null,3,null,null,null,null,null,2,null,null,null,null,null,3,null,null,null,null,null,"Neck & Throat Latch"]
[4,null,null,null,null,null,4,null,null,null,null,null,3,null,null,null,null,null,4,null,null,null,null,null,"Shoulders & Withers"]
[5,null,null,null,null,null,5,null,null,null,null,null,"Cutting",null,null,null,null,null,5,null,null,null,null,null,"Heart Girth & Barrel"]
[6,null,null,null,null,null,6,null,null,null,null,null,1,null,null,null,null,null,6,null,null,null,null,null,"Back & Loin"]
[7,null,null,null,null,null,7,null,null,null,null,null,2,null,null,null,null,null,7,null,null,null,null,null,"Hip & Croup"]
[8,null,null,null,null,null,8,null,null,null,null,null,3,null,null,null,null,null,8,null,null,null,null,null,"Stife & Gaskin"]
[9,null,null,null,null,null,null,null,"Total Penalty Pts",{"$f":"SUM(I10:J17)","v":0},null,null,4,null,null,null,null,null,9,null,null,null,null,null,"Hock, Hind Legs, Feet"]
[10,null,null,null,null,null,"56 +/- Judge Score",{"$f":"SUM(H10:H17)","v":0},"Divided by 2",{"$f":"SUM((56+H19)/2)","v":28},null,null,"Penning",null,null,null,null,null,10,null,null,null,null,null,"Overall Muscling"]
[11,null,null,null,null,null,"Maneuver Score",{"$f":"J19","v":28},"Less Penalty Pts",{"$f":"J18","v":0},null,null,1,null,null,null,null,null,null,null,"Major Penalties",null,null,null,"Tracking","Lame: enter an \"x\""]
[12,null,null,null,null,null,"REINING SCORE",null,null,{"$f":"SUM(H20+J20)","v":28},null,null,2,null,null,null,null,null,null,null,null,null,null,null,"Balance 1"]
[13,null,null,null,null,null,"Working Cow Horse",null,null,null,null,null,3,null,null,null,null,null,null,null,null,null,null,null,"Balance 2"]
[14,null,null,null,null,null,1,null,"Penalty Points",null,null,null,null,null,"Major Penalties",null,null,null,"Maneuver Total",{"$f":"SUM(T10:T19)","v":0},"Penalty Total",{"$f":"SUM(SUM(U10:V19)+V20)","v":0},null,null,"Balance 3"]
["Maneuver Total",{"$f":"SUM(B10:B23)","v":0},"Major Penalties",null,null,null,2,null,null,null,null,null,null,null,null,null,null,null,null,null,null,null,null,null,"Fitness & Condition"]
[null,null,"Penalty Total",{"$f":"SUM(C10:D24)","v":0},null,null,3,null,null,null,null,null,"Maneuver Total",{"$f":"SUM(N10:N22)","v":0},"Penalty Total",{"$f":"SUM(O11+O12+O13+O15+O16+O17+O18+O20+O21+O22+P23)","v":0},null,null,null,null,null,null,null,null,"Participant Showmanship"]
[null,null,null,null,null,null,"21 +/- Judge Score",{"$f":"SUM(H23:H25)","v":0},"Total Penalty Pts",{"$f":"SUM(J23:J25)","v":0},null,null,null,null,null,null,null,null,null,null,null,null,null,null,"Horse Showmanship"]
["100 +/-Maneuver",{"$f":"B24","v":0},"x .70 =",{"$f":"SUM((100+B27)*0.7)","v":70},null,null,"Maneuver Score",{"$f":"SUM(21+H26)","v":21},"Less Penalty Pts",{"$f":"J26","v":0},null,null,"70 +/-Maneuver",{"$f":"N25","v":0},"Less Penalty Total",{"$f":"P25","v":0},null,null,"70 +/-Maneuver",{"$f":"T23","v":0},"Less Penalty Total",{"$f":"V23","v":0},null,null,"Form & Showmanship Judges Score",null,"Total (1)",{"$f":"SUM(AB9:AB26)","v":0}]
[null,null,null,null,null,null,"CATTLE SCORE",null,null,{"$f":"SUM(H27+J27)","v":21},null,null,null,null,null,null,null,null,null,null,null,null,null,null,{"$f":"SUM(AB27*0.33+42)","v":42},{"$f":"IF(AA20=\"x\",-10,0)","v":0},"Judge Score (2)",{"$f":"SUM(Y28+Z28)","v":42}]
["Maneuver Score =",{"$f":"D27","v":70},"Less Penalty Total",{"$f":"D25","v":0},null,null,"Roping",null,null,null,null,null,null,null,null,null,null,null,null,null,null,null,null,null,"Ranch Cutting",{"$f":"IF(P31=\"\",0,P31)","v":0},"Ranch Rding",{"$f":"IF(D31=\"\",0,D31)","v":0}]
[null,null,null,null,null,null,1,null,"Penalty Points",null,null,null,null,null,null,null,null,null,null,null,null,null,null,null,"Working Ranch Horse",{"$f":"IF(J36=\"\",0,J36)","v":0},"Ranch Trail",{"$f":"IF(V31=\"\",0,V31)","v":0}]
["TOTAL SCORE",null,null,{"$f":"IF(D7=\"\",\"\",IF(B29+D29<0,0,B29+D29))","v":""},null,null,2,null,null,null,null,null,"TOTAL SCORE",null,null,{"$f":"IF(P7=\"\",\"\",IF(70+N27+P27<0,0,70+N27+P27))","v":""},null,null,"TOTAL SCORE",null,null,{"$f":"IF(V7=\"\",\"\",IF(70+T27+V27<0,0,70+T27+V27))","v":""},null,null,"Function Total (3)",{"$f":"SUM(Z29+AB29+Z30+AB30)","v":0},"Function Score (4)",{"$f":"Z31*0.1","v":0}]
[null,null,null,null,null,null,3,null,null,null,null,null,null,null,null,null,null,null,null,null,null,null,null,null,"Judge Score (2) + Function Score (4) = CONFORMATION SCORE",null,null,{"$f":"IF(AB7=\"\",\"\",IF(AB28+AB31<0,0,AB28+AB31))","v":""}]
[null,null,"Return to Entry Page",null,null,null,"21 +/- Judge Score",{"$f":"SUM(H30:H32)","v":0},"Total Penalty Pts",{"$f":"SUM(J30:J32)","v":0},null,null,null,null,"Return to Entry Page",null,null,null,null,null,"Return to Entry Page"]
[null,null,null,null,null,null,"Maneuver Score",{"$f":"SUM(21+H33)*1.1","v":23.1},"Less Penalty Pts",{"$f":"J33","v":0},null,null,null,null,null,null,null,null,null,null,null,null,null,null,null,null,"Return to Entry Page"]
[null,null,null,null,null,null,"ROPING SCORE",null,null,{"$f":"SUM(H34+J34)","v":23.1}]
[null,null,null,null,null,null,"TOTAL SCORE",null,null,{"$f":"IF(J7=\"\",\"\",IF(J21+J28+J35<0,0,J21+J28+J35))","v":""}]
[]
[null,null,null,null,null,null,null,null,"Return to Entry Page"]

{"sheet":"Open 9","index":93,"n_rows":38,"n_cols":28,"rows_kept":38,"cut":false,"hidden":false,"merged":[[34,6,34,8],[30,0,30,2],[35,6,35,8],[30,12,30,14],[30,18,30,20],[31,24,31,26],[23,0,24,0],[23,1,24,1],[23,18,25,21],[25,0,25,3],[27,6,27,8],[25,12,25,15],[27,0,27,3],[27,12,29,15],[27,18,29,21],[29,0,29,3],[29,8,31,8],[19,20,20,20],[19,21,20,21],[20,2,20,3],[20,6,20,8],[20,14,20,15],[16,14,16,15],[16,20,16,21],[22,2,22,3],[22,12,23,13],[22,14,23,14],[22,15,23,15],[22,8,24,8],[21,2,21,3],[21,14,21,15],[21,18,21,21],[18,2,18,3],[18,12,18,15],[18,20,18,21],[19,2,19,3],[19,14,19,15],[19,18,20,19],[17,2,17,3],[17,14,17,15],[17,20,17,21],[13,2,13,3],[13,8,14,9],[13,12,13,15],[13,20,13,21],[14,2,14,3],[14,14,14,15],[14,20,14,21],[15,2,15,3],[15,8,15,9],[15,14,15,15],[15,20,15,21],[16,2,16,3],[16,8,16,9],[7,24,7,27],[11,2,11,3],[11,8,12,9],[11,14,11,15],[11,20,11,21],[12,2,12,3],[12,14,12,15],[12,20,12,21],[9,2,9,3],[9,8,10,9],[9,12,9,15],[9,20,9,21],[10,2,10,3],[10,14,10,15],[10,20,10,21],[8,2,8,3],[8,8,8,9],[8,14,8,15],[8,20,8,21],[7,0,7,3],[7,6,7,9],[7,12,7,15],[7,18,7,21]]}
["RIDERS SCORE WORK SHEET"]
[]
["Back Number:",{"$f":"'Entry Information'!B94","v":0},null,null,null,null,"Back Number:",{"$f":"'Entry Information'!B94","v":0},null,null,null,null,"Back Number:",{"$f":"'Entry Information'!B94","v":0},null,null,null,null,"Back Number:",{"$f":"'Entry Information'!B94","v":0},null,null,null,null,"Back Number:",{"$f":"'Entry Information'!B94","v":0}]
["Name:",{"$f":"'Entry Information'!I94","v":0},{"$f":"'Entry Information'!H94","v":0},null,null,null,"Name:",{"$f":"'Entry Information'!I94","v":0},{"$f":"'Entry Information'!H94","v":0},null,null,null,"Name:",{"$f":"'Entry Information'!I94","v":0},{"$f":"'Entry Information'!H94","v":0},null,null,null,"Name:",{"$f":"'Entry Information'!I94","v":0},{"$f":"'Entry Information'!H94","v":0},null,null,null,"Name:",{"$f":"'Entry Information'!H94","v":0},{"$f":"'Entry Information'!I94","v":0}]
["Horse Name",{"$f":"'Entry Information'!J94","v":0},null,null,null,null,"Horse Name",{"$f":"'Entry Information'!J94","v":0},null,null,null,null,"Horse Name",{"$f":"'Entry Information'!J94","v":0},null,null,null,null,"Horse Name",{"$f":"'Entry Information'!J94","v":0},null,null,null,null,"Horse Name",{"$f":"'Entry Information'!J94","v":0}]
[]
["Check box when entering Ranch Riding scores",null,null,null,null,null,"Check box when entering Working Ranch Horse scores",null,null,null,null,null,"Check box when entering Ranch Cutting scores",null,null,null,null,null,"Check box when entering Ranch Trail scores",null,null,null,null,null,"Check box when entering Conformation scores"]
["Ranch Riding",null,null,null,null,null,"Working Ranch Horse",null,null,null,null,null,"Ranch Cutting",null,null,null,null,null,"Ranch Trail",null,null,null,null,null,"Ranch Conformation"]
["Maneuver","Judge's Score +/-","Penalty Points",null,null,null,"Maneuver","Judge's Score +/-","Penalty Points",null,null,null,"Maneuver","Judge's Score +/-","Penalty Points",null,null,null,"Maneuver","Judge's Score +/-","Penalty Points",null,null,null,"Front Legs, Feet"]
[1,null,null,null,null,null,1,null,null,null,null,null,"Herd Work",null,null,null,null,null,1,null,null,null,null,null,"Chest, Pectoral V"]
[2,null,null,null,null,null,2,null,null,null,null,null,1,null,null,null,null,null,2,null,null,null,null,null,"Head"]
[3,null,null,null,null,null,3,null,null,null,null,null,2,null,null,null,null,null,3,null,null,null,null,null,"Neck & Throat Latch"]
[4,null,null,null,null,null,4,null,null,null,null,null,3,null,null,null,null,null,4,null,null,null,null,null,"Shoulders & Withers"]
[5,null,null,null,null,null,5,null,null,null,null,null,"Cutting",null,null,null,null,null,5,null,null,null,null,null,"Heart Girth & Barrel"]
[6,null,null,null,null,null,6,null,null,null,null,null,1,null,null,null,null,null,6,null,null,null,null,null,"Back & Loin"]
[7,null,null,null,null,null,7,null,null,null,null,null,2,null,null,null,null,null,7,null,null,null,null,null,"Hip & Croup"]
[8,null,null,null,null,null,8,null,null,null,null,null,3,null,null,null,null,null,8,null,null,null,null,null,"Stife & Gaskin"]
[9,null,null,null,null,null,null,null,"Total Penalty Pts",{"$f":"SUM(I10:J17)","v":0},null,null,4,null,null,null,null,null,9,null,null,null,null,null,"Hock, Hind Legs, Feet"]
[10,null,null,null,null,null,"56 +/- Judge Score",{"$f":"SUM(H10:H17)","v":0},"Divided by 2",{"$f":"SUM((56+H19)/2)","v":28},null,null,"Penning",null,null,null,null,null,10,null,null,null,null,null,"Overall Muscling"]
[11,null,null,null,null,null,"Maneuver Score",{"$f":"J19","v":28},"Less Penalty Pts",{"$f":"J18","v":0},null,null,1,null,null,null,null,null,null,null,"Major Penalties",null,null,null,"Tracking","Lame: enter an \"x\""]
[12,null,null,null,null,null,"REINING SCORE",null,null,{"$f":"SUM(H20+J20)","v":28},null,null,2,null,null,null,null,null,null,null,null,null,null,null,"Balance 1"]
[13,null,null,null,null,null,"Working Cow Horse",null,null,null,null,null,3,null,null,null,null,null,null,null,null,null,null,null,"Balance 2"]
[14,null,null,null,null,null,1,null,"Penalty Points",null,null,null,null,null,"Major Penalties",null,null,null,"Maneuver Total",{"$f":"SUM(T10:T19)","v":0},"Penalty Total",{"$f":"SUM(SUM(U10:V19)+V20)","v":0},null,null,"Balance 3"]
["Maneuver Total",{"$f":"SUM(B10:B23)","v":0},"Major Penalties",null,null,null,2,null,null,null,null,null,null,null,null,null,null,null,null,null,null,null,null,null,"Fitness & Condition"]
[null,null,"Penalty Total",{"$f":"SUM(C10:D24)","v":0},null,null,3,null,null,null,null,null,"Maneuver Total",{"$f":"SUM(N10:N22)","v":0},"Penalty Total",{"$f":"SUM(O11+O12+O13+O15+O16+O17+O18+O20+O21+O22+P23)","v":0},null,null,null,null,null,null,null,null,"Participant Showmanship"]
[null,null,null,null,null,null,"21 +/- Judge Score",{"$f":"SUM(H23:H25)","v":0},"Total Penalty Pts",{"$f":"SUM(J23:J25)","v":0},null,null,null,null,null,null,null,null,null,null,null,null,null,null,"Horse Showmanship"]
["100 +/-Maneuver",{"$f":"B24","v":0},"x .70 =",{"$f":"SUM((100+B27)*0.7)","v":70},null,null,"Maneuver Score",{"$f":"SUM(21+H26)","v":21},"Less Penalty Pts",{"$f":"J26","v":0},null,null,"70 +/-Maneuver",{"$f":"N25","v":0},"Less Penalty Total",{"$f":"P25","v":0},null,null,"70 +/-Maneuver",{"$f":"T23","v":0},"Less Penalty Total",{"$f":"V23","v":0},null,null,"Form & Showmanship Judges Score",null,"Total (1)",{"$f":"SUM(AB9:AB26)","v":0}]
[null,null,null,null,null,null,"CATTLE SCORE",null,null,{"$f":"SUM(H27+J27)","v":21},null,null,null,null,null,null,null,null,null,null,null,null,null,null,{"$f":"SUM(AB27*0.33+42)","v":42},{"$f":"IF(AA20=\"x\",-10,0)","v":0},"Judge Score (2)",{"$f":"SUM(Y28+Z28)","v":42}]
["Maneuver Score =",{"$f":"D27","v":70},"Less Penalty Total",{"$f":"D25","v":0},null,null,"Roping",null,null,null,null,null,null,null,null,null,null,null,null,null,null,null,null,null,"Ranch Cutting",{"$f":"IF(P31=\"\",0,P31)","v":0},"Ranch Rding",{"$f":"IF(D31=\"\",0,D31)","v":0}]
[null,null,null,null,null,null,1,null,"Penalty Points",null,null,null,null,null,null,null,null,null,null,null,null,null,null,null,"Working Ranch Horse",{"$f":"IF(J36=\"\",0,J36)","v":0},"Ranch Trail",{"$f":"IF(V31=\"\",0,V31)","v":0}]
["TOTAL SCORE",null,null,{"$f":"IF(D7=\"\",\"\",IF(B29+D29<0,0,B29+D29))","v":""},null,null,2,null,null,null,null,null,"TOTAL SCORE",null,null,{"$f":"IF(P7=\"\",\"\",IF(70+N27+P27<0,0,70+N27+P27))","v":""},null,null,"TOTAL SCORE",null,null,{"$f":"IF(V7=\"\",\"\",IF(70+T27+V27<0,0,70+T27+V27))","v":""},null,null,"Function Total (3)",{"$f":"SUM(Z29+AB29+Z30+AB30)","v":0},"Function Score (4)",{"$f":"Z31*0.1","v":0}]
[null,null,null,null,null,null,3,null,null,null,null,null,null,null,null,null,null,null,null,null,null,null,null,null,"Judge Score (2) + Function Score (4) = CONFORMATION SCORE",null,null,{"$f":"IF(AB7=\"\",\"\",IF(AB28+AB31<0,0,AB28+AB31))","v":""}]
[null,null,"Return to Entry Page",null,null,null,"21 +/- Judge Score",{"$f":"SUM(H30:H32)","v":0},"Total Penalty Pts",{"$f":"SUM(J30:J32)","v":0},null,null,null,null,"Return to Entry Page",null,null,null,null,null,"Return to Entry Page"]
[null,null,null,null,null,null,"Maneuver Score",{"$f":"SUM(21+H33)*1.1","v":23.1},"Less Penalty Pts",{"$f":"J33","v":0},null,null,null,null,null,null,null,null,null,null,null,null,null,null,null,null,"Return to Entry Page"]
[null,null,null,null,null,null,"ROPING SCORE",null,null,{"$f":"SUM(H34+J34)","v":23.1}]
[null,null,null,null,null,null,"TOTAL SCORE",null,null,{"$f":"IF(J7=\"\",\"\",IF(J21+J28+J35<0,0,J21+J28+J35))","v":""}]
[]
[null,null,null,null,null,null,null,null,"Return to Entry Page"]

{"sheet":"Open 10","index":94,"n_rows":38,"n_cols":28,"rows_kept":38,"cut":false,"hidden":false,"merged":[[34,6,34,8],[30,0,30,2],[35,6,35,8],[30,12,30,14],[30,18,30,20],[31,24,31,26],[23,0,24,0],[23,1,24,1],[23,18,25,21],[25,0,25,3],[27,6,27,8],[25,12,25,15],[27,0,27,3],[27,12,29,15],[27,18,29,21],[29,0,29,3],[29,8,31,8],[19,20,20,20],[19,21,20,21],[20,2,20,3],[20,6,20,8],[20,14,20,15],[16,14,16,15],[16,20,16,21],[22,2,22,3],[22,12,23,13],[22,14,23,14],[22,15,23,15],[22,8,24,8],[21,2,21,3],[21,14,21,15],[21,18,21,21],[18,2,18,3],[18,12,18,15],[18,20,18,21],[19,2,19,3],[19,14,19,15],[19,18,20,19],[17,2,17,3],[17,14,17,15],[17,20,17,21],[13,2,13,3],[13,8,14,9],[13,12,13,15],[13,20,13,21],[14,2,14,3],[14,14,14,15],[14,20,14,21],[15,2,15,3],[15,8,15,9],[15,14,15,15],[15,20,15,21],[16,2,16,3],[16,8,16,9],[7,24,7,27],[11,2,11,3],[11,8,12,9],[11,14,11,15],[11,20,11,21],[12,2,12,3],[12,14,12,15],[12,20,12,21],[9,2,9,3],[9,8,10,9],[9,12,9,15],[9,20,9,21],[10,2,10,3],[10,14,10,15],[10,20,10,21],[8,2,8,3],[8,8,8,9],[8,14,8,15],[8,20,8,21],[7,0,7,3],[7,6,7,9],[7,12,7,15],[7,18,7,21]]}
["RIDERS SCORE WORK SHEET"]
[]
["Back Number:",{"$f":"'Entry Information'!B95","v":0},null,null,null,null,"Back Number:",{"$f":"'Entry Information'!B95","v":0},null,null,null,null,"Back Number:",{"$f":"'Entry Information'!B95","v":0},null,null,null,null,"Back Number:",{"$f":"'Entry Information'!B95","v":0},null,null,null,null,"Back Number:",{"$f":"'Entry Information'!B95","v":0}]
["Name:",{"$f":"'Entry Information'!I95","v":0},{"$f":"'Entry Information'!H95","v":0},null,null,null,"Name:",{"$f":"'Entry Information'!I95","v":0},{"$f":"'Entry Information'!H95","v":0},null,null,null,"Name:",{"$f":"'Entry Information'!I95","v":0},{"$f":"'Entry Information'!H95","v":0},null,null,null,"Name:",{"$f":"'Entry Information'!I95","v":0},{"$f":"'Entry Information'!H95","v":0},null,null,null,"Name:",{"$f":"'Entry Information'!H95","v":0},{"$f":"'Entry Information'!I95","v":0}]
["Horse Name",{"$f":"'Entry Information'!J95","v":0},null,null,null,null,"Horse Name",{"$f":"'Entry Information'!J95","v":0},null,null,null,null,"Horse Name",{"$f":"'Entry Information'!J95","v":0},null,null,null,null,"Horse Name",{"$f":"'Entry Information'!J95","v":0},null,null,null,null,"Horse Name",{"$f":"'Entry Information'!J95","v":0}]
[]
["Check box when entering Ranch Riding scores",null,null,null,null,null,"Check box when entering Working Ranch Horse scores",null,null,null,null,null,"Check box when entering Ranch Cutting scores",null,null,null,null,null,"Check box when entering Ranch Trail scores",null,null,null,null,null,"Check box when entering Conformation scores"]
["Ranch Riding",null,null,null,null,null,"Working Ranch Horse",null,null,null,null,null,"Ranch Cutting",null,null,null,null,null,"Ranch Trail",null,null,null,null,null,"Ranch Conformation"]
["Maneuver","Judge's Score +/-","Penalty Points",null,null,null,"Maneuver","Judge's Score +/-","Penalty Points",null,null,null,"Maneuver","Judge's Score +/-","Penalty Points",null,null,null,"Maneuver","Judge's Score +/-","Penalty Points",null,null,null,"Front Legs, Feet"]
[1,null,null,null,null,null,1,null,null,null,null,null,"Herd Work",null,null,null,null,null,1,null,null,null,null,null,"Chest, Pectoral V"]
[2,null,null,null,null,null,2,null,null,null,null,null,1,null,null,null,null,null,2,null,null,null,null,null,"Head"]
[3,null,null,null,null,null,3,null,null,null,null,null,2,null,null,null,null,null,3,null,null,null,null,null,"Neck & Throat Latch"]
[4,null,null,null,null,null,4,null,null,null,null,null,3,null,null,null,null,null,4,null,null,null,null,null,"Shoulders & Withers"]
[5,null,null,null,null,null,5,null,null,null,null,null,"Cutting",null,null,null,null,null,5,null,null,null,null,null,"Heart Girth & Barrel"]
[6,null,null,null,null,null,6,null,null,null,null,null,1,null,null,null,null,null,6,null,null,null,null,null,"Back & Loin"]
[7,null,null,null,null,null,7,null,null,null,null,null,2,null,null,null,null,null,7,null,null,null,null,null,"Hip & Croup"]
[8,null,null,null,null,null,8,null,null,null,null,null,3,null,null,null,null,null,8,null,null,null,null,null,"Stife & Gaskin"]
[9,null,null,null,null,null,null,null,"Total Penalty Pts",{"$f":"SUM(I10:J17)","v":0},null,null,4,null,null,null,null,null,9,null,null,null,null,null,"Hock, Hind Legs, Feet"]
[10,null,null,null,null,null,"56 +/- Judge Score",{"$f":"SUM(H10:H17)","v":0},"Divided by 2",{"$f":"SUM((56+H19)/2)","v":28},null,null,"Penning",null,null,null,null,null,10,null,null,null,null,null,"Overall Muscling"]
[11,null,null,null,null,null,"Maneuver Score",{"$f":"J19","v":28},"Less Penalty Pts",{"$f":"J18","v":0},null,null,1,null,null,null,null,null,null,null,"Major Penalties",null,null,null,"Tracking","Lame: enter an \"x\""]
[12,null,null,null,null,null,"REINING SCORE",null,null,{"$f":"SUM(H20+J20)","v":28},null,null,2,null,null,null,null,null,null,null,null,null,null,null,"Balance 1"]
[13,null,null,null,null,null,"Working Cow Horse",null,null,null,null,null,3,null,null,null,null,null,null,null,null,null,null,null,"Balance 2"]
[14,null,null,null,null,null,1,null,"Penalty Points",null,null,null,null,null,"Major Penalties",null,null,null,"Maneuver Total",{"$f":"SUM(T10:T19)","v":0},"Penalty Total",{"$f":"SUM(SUM(U10:V19)+V20)","v":0},null,null,"Balance 3"]
["Maneuver Total",{"$f":"SUM(B10:B23)","v":0},"Major Penalties",null,null,null,2,null,null,null,null,null,null,null,null,null,null,null,null,null,null,null,null,null,"Fitness & Condition"]
[null,null,"Penalty Total",{"$f":"SUM(C10:D24)","v":0},null,null,3,null,null,null,null,null,"Maneuver Total",{"$f":"SUM(N10:N22)","v":0},"Penalty Total",{"$f":"SUM(O11+O12+O13+O15+O16+O17+O18+O20+O21+O22+P23)","v":0},null,null,null,null,null,null,null,null,"Participant Showmanship"]
[null,null,null,null,null,null,"21 +/- Judge Score",{"$f":"SUM(H23:H25)","v":0},"Total Penalty Pts",{"$f":"SUM(J23:J25)","v":0},null,null,null,null,null,null,null,null,null,null,null,null,null,null,"Horse Showmanship"]
["100 +/-Maneuver",{"$f":"B24","v":0},"x .70 =",{"$f":"SUM((100+B27)*0.7)","v":70},null,null,"Maneuver Score",{"$f":"SUM(21+H26)","v":21},"Less Penalty Pts",{"$f":"J26","v":0},null,null,"70 +/-Maneuver",{"$f":"N25","v":0},"Less Penalty Total",{"$f":"P25","v":0},null,null,"70 +/-Maneuver",{"$f":"T23","v":0},"Less Penalty Total",{"$f":"V23","v":0},null,null,"Form & Showmanship Judges Score",null,"Total (1)",{"$f":"SUM(AB9:AB26)","v":0}]
[null,null,null,null,null,null,"CATTLE SCORE",null,null,{"$f":"SUM(H27+J27)","v":21},null,null,null,null,null,null,null,null,null,null,null,null,null,null,{"$f":"SUM(AB27*0.33+42)","v":42},{"$f":"IF(AA20=\"x\",-10,0)","v":0},"Judge Score (2)",{"$f":"SUM(Y28+Z28)","v":42}]
["Maneuver Score =",{"$f":"D27","v":70},"Less Penalty Total",{"$f":"D25","v":0},null,null,"Roping",null,null,null,null,null,null,null,null,null,null,null,null,null,null,null,null,null,"Ranch Cutting",{"$f":"IF(P31=\"\",0,P31)","v":0},"Ranch Rding",{"$f":"IF(D31=\"\",0,D31)","v":0}]
[null,null,null,null,null,null,1,null,"Penalty Points",null,null,null,null,null,null,null,null,null,null,null,null,null,null,null,"Working Ranch Horse",{"$f":"IF(J36=\"\",0,J36)","v":0},"Ranch Trail",{"$f":"IF(V31=\"\",0,V31)","v":0}]
["TOTAL SCORE",null,null,{"$f":"IF(D7=\"\",\"\",IF(B29+D29<0,0,B29+D29))","v":""},null,null,2,null,null,null,null,null,"TOTAL SCORE",null,null,{"$f":"IF(P7=\"\",\"\",IF(70+N27+P27<0,0,70+N27+P27))","v":""},null,null,"TOTAL SCORE",null,null,{"$f":"IF(V7=\"\",\"\",IF(70+T27+V27<0,0,70+T27+V27))","v":""},null,null,"Function Total (3)",{"$f":"SUM(Z29+AB29+Z30+AB30)","v":0},"Function Score (4)",{"$f":"Z31*0.1","v":0}]
[null,null,null,null,null,null,3,null,null,null,null,null,null,null,null,null,null,null,null,null,null,null,null,null,"Judge Score (2) + Function Score (4) = CONFORMATION SCORE",null,null,{"$f":"IF(AB7=\"\",\"\",IF(AB28+AB31<0,0,AB28+AB31))","v":""}]
[null,null,"Return to Entry Page",null,null,null,"21 +/- Judge Score",{"$f":"SUM(H30:H32)","v":0},"Total Penalty Pts",{"$f":"SUM(J30:J32)","v":0},null,null,null,null,"Return to Entry Page",null,null,null,null,null,"Return to Entry Page"]
[null,null,null,null,null,null,"Maneuver Score",{"$f":"SUM(21+H33)*1.1","v":23.1},"Less Penalty Pts",{"$f":"J33","v":0},null,null,null,null,null,null,null,null,null,null,null,null,null,null,null,null,"Return to Entry Page"]
[null,null,null,null,null,null,"ROPING SCORE",null,null,{"$f":"SUM(H34+J34)","v":23.1}]
[null,null,null,null,null,null,"TOTAL SCORE",null,null,{"$f":"IF(J7=\"\",\"\",IF(J21+J28+J35<0,0,J21+J28+J35))","v":""}]
[]
[null,null,null,null,null,null,null,null,"Return to Entry Page"]

{"sheet":"Open 11","index":95,"n_rows":38,"n_cols":28,"rows_kept":38,"cut":false,"hidden":false,"merged":[[34,6,34,8],[30,0,30,2],[35,6,35,8],[30,12,30,14],[30,18,30,20],[31,24,31,26],[23,0,24,0],[23,1,24,1],[23,18,25,21],[25,0,25,3],[27,6,27,8],[25,12,25,15],[27,0,27,3],[27,12,29,15],[27,18,29,21],[29,0,29,3],[29,8,31,8],[19,20,20,20],[19,21,20,21],[20,2,20,3],[20,6,20,8],[20,14,20,15],[16,14,16,15],[16,20,16,21],[22,2,22,3],[22,12,23,13],[22,14,23,14],[22,15,23,15],[22,8,24,8],[21,2,21,3],[21,14,21,15],[21,18,21,21],[18,2,18,3],[18,12,18,15],[18,20,18,21],[19,2,19,3],[19,14,19,15],[19,18,20,19],[17,2,17,3],[17,14,17,15],[17,20,17,21],[13,2,13,3],[13,8,14,9],[13,12,13,15],[13,20,13,21],[14,2,14,3],[14,14,14,15],[14,20,14,21],[15,2,15,3],[15,8,15,9],[15,14,15,15],[15,20,15,21],[16,2,16,3],[16,8,16,9],[7,24,7,27],[11,2,11,3],[11,8,12,9],[11,14,11,15],[11,20,11,21],[12,2,12,3],[12,14,12,15],[12,20,12,21],[9,2,9,3],[9,8,10,9],[9,12,9,15],[9,20,9,21],[10,2,10,3],[10,14,10,15],[10,20,10,21],[8,2,8,3],[8,8,8,9],[8,14,8,15],[8,20,8,21],[7,0,7,3],[7,6,7,9],[7,12,7,15],[7,18,7,21]]}
["RIDERS SCORE WORK SHEET"]
[]
["Back Number:",{"$f":"'Entry Information'!B96","v":0},null,null,null,null,"Back Number:",{"$f":"'Entry Information'!B96","v":0},null,null,null,null,"Back Number:",{"$f":"'Entry Information'!B96","v":0},null,null,null,null,"Back Number:",{"$f":"'Entry Information'!B96","v":0},null,null,null,null,"Back Number:",{"$f":"'Entry Information'!B96","v":0}]
["Name:",{"$f":"'Entry Information'!I96","v":0},{"$f":"'Entry Information'!H96","v":0},null,null,null,"Name:",{"$f":"'Entry Information'!I96","v":0},{"$f":"'Entry Information'!H96","v":0},null,null,null,"Name:",{"$f":"'Entry Information'!I96","v":0},{"$f":"'Entry Information'!H96","v":0},null,null,null,"Name:",{"$f":"'Entry Information'!I96","v":0},{"$f":"'Entry Information'!H96","v":0},null,null,null,"Name:",{"$f":"'Entry Information'!H96","v":0},{"$f":"'Entry Information'!I96","v":0}]
["Horse Name",{"$f":"'Entry Information'!J96","v":0},null,null,null,null,"Horse Name",{"$f":"'Entry Information'!J96","v":0},null,null,null,null,"Horse Name",{"$f":"'Entry Information'!J96","v":0},null,null,null,null,"Horse Name",{"$f":"'Entry Information'!J96","v":0},null,null,null,null,"Horse Name",{"$f":"'Entry Information'!J96","v":0}]
[]
["Check box when entering Ranch Riding scores",null,null,null,null,null,"Check box when entering Working Ranch Horse scores",null,null,null,null,null,"Check box when entering Ranch Cutting scores",null,null,null,null,null,"Check box when entering Ranch Trail scores",null,null,null,null,null,"Check box when entering Conformation scores"]
["Ranch Riding",null,null,null,null,null,"Working Ranch Horse",null,null,null,null,null,"Ranch Cutting",null,null,null,null,null,"Ranch Trail",null,null,null,null,null,"Ranch Conformation"]
["Maneuver","Judge's Score +/-","Penalty Points",null,null,null,"Maneuver","Judge's Score +/-","Penalty Points",null,null,null,"Maneuver","Judge's Score +/-","Penalty Points",null,null,null,"Maneuver","Judge's Score +/-","Penalty Points",null,null,null,"Front Legs, Feet"]
[1,null,null,null,null,null,1,null,null,null,null,null,"Herd Work",null,null,null,null,null,1,null,null,null,null,null,"Chest, Pectoral V"]
[2,null,null,null,null,null,2,null,null,null,null,null,1,null,null,null,null,null,2,null,null,null,null,null,"Head"]
[3,null,null,null,null,null,3,null,null,null,null,null,2,null,null,null,null,null,3,null,null,null,null,null,"Neck & Throat Latch"]
[4,null,null,null,null,null,4,null,null,null,null,null,3,null,null,null,null,null,4,null,null,null,null,null,"Shoulders & Withers"]
[5,null,null,null,null,null,5,null,null,null,null,null,"Cutting",null,null,null,null,null,5,null,null,null,null,null,"Heart Girth & Barrel"]
[6,null,null,null,null,null,6,null,null,null,null,null,1,null,null,null,null,null,6,null,null,null,null,null,"Back & Loin"]
[7,null,null,null,null,null,7,null,null,null,null,null,2,null,null,null,null,null,7,null,null,null,null,null,"Hip & Croup"]
[8,null,null,null,null,null,8,null,null,null,null,null,3,null,null,null,null,null,8,null,null,null,null,null,"Stife & Gaskin"]
[9,null,null,null,null,null,null,null,"Total Penalty Pts",{"$f":"SUM(I10:J17)","v":0},null,null,4,null,null,null,null,null,9,null,null,null,null,null,"Hock, Hind Legs, Feet"]
[10,null,null,null,null,null,"56 +/- Judge Score",{"$f":"SUM(H10:H17)","v":0},"Divided by 2",{"$f":"SUM((56+H19)/2)","v":28},null,null,"Penning",null,null,null,null,null,10,null,null,null,null,null,"Overall Muscling"]
[11,null,null,null,null,null,"Maneuver Score",{"$f":"J19","v":28},"Less Penalty Pts",{"$f":"J18","v":0},null,null,1,null,null,null,null,null,null,null,"Major Penalties",null,null,null,"Tracking","Lame: enter an \"x\""]
[12,null,null,null,null,null,"REINING SCORE",null,null,{"$f":"SUM(H20+J20)","v":28},null,null,2,null,null,null,null,null,null,null,null,null,null,null,"Balance 1"]
[13,null,null,null,null,null,"Working Cow Horse",null,null,null,null,null,3,null,null,null,null,null,null,null,null,null,null,null,"Balance 2"]
[14,null,null,null,null,null,1,null,"Penalty Points",null,null,null,null,null,"Major Penalties",null,null,null,"Maneuver Total",{"$f":"SUM(T10:T19)","v":0},"Penalty Total",{"$f":"SUM(SUM(U10:V19)+V20)","v":0},null,null,"Balance 3"]
["Maneuver Total",{"$f":"SUM(B10:B23)","v":0},"Major Penalties",null,null,null,2,null,null,null,null,null,null,null,null,null,null,null,null,null,null,null,null,null,"Fitness & Condition"]
[null,null,"Penalty Total",{"$f":"SUM(C10:D24)","v":0},null,null,3,null,null,null,null,null,"Maneuver Total",{"$f":"SUM(N10:N22)","v":0},"Penalty Total",{"$f":"SUM(O11+O12+O13+O15+O16+O17+O18+O20+O21+O22+P23)","v":0},null,null,null,null,null,null,null,null,"Participant Showmanship"]
[null,null,null,null,null,null,"21 +/- Judge Score",{"$f":"SUM(H23:H25)","v":0},"Total Penalty Pts",{"$f":"SUM(J23:J25)","v":0},null,null,null,null,null,null,null,null,null,null,null,null,null,null,"Horse Showmanship"]
["100 +/-Maneuver",{"$f":"B24","v":0},"x .70 =",{"$f":"SUM((100+B27)*0.7)","v":70},null,null,"Maneuver Score",{"$f":"SUM(21+H26)","v":21},"Less Penalty Pts",{"$f":"J26","v":0},null,null,"70 +/-Maneuver",{"$f":"N25","v":0},"Less Penalty Total",{"$f":"P25","v":0},null,null,"70 +/-Maneuver",{"$f":"T23","v":0},"Less Penalty Total",{"$f":"V23","v":0},null,null,"Form & Showmanship Judges Score",null,"Total (1)",{"$f":"SUM(AB9:AB26)","v":0}]
[null,null,null,null,null,null,"CATTLE SCORE",null,null,{"$f":"SUM(H27+J27)","v":21},null,null,null,null,null,null,null,null,null,null,null,null,null,null,{"$f":"SUM(AB27*0.33+42)","v":42},{"$f":"IF(AA20=\"x\",-10,0)","v":0},"Judge Score (2)",{"$f":"SUM(Y28+Z28)","v":42}]
["Maneuver Score =",{"$f":"D27","v":70},"Less Penalty Total",{"$f":"D25","v":0},null,null,"Roping",null,null,null,null,null,null,null,null,null,null,null,null,null,null,null,null,null,"Ranch Cutting",{"$f":"IF(P31=\"\",0,P31)","v":0},"Ranch Rding",{"$f":"IF(D31=\"\",0,D31)","v":0}]
[null,null,null,null,null,null,1,null,"Penalty Points",null,null,null,null,null,null,null,null,null,null,null,null,null,null,null,"Working Ranch Horse",{"$f":"IF(J36=\"\",0,J36)","v":0},"Ranch Trail",{"$f":"IF(V31=\"\",0,V31)","v":0}]
["TOTAL SCORE",null,null,{"$f":"IF(D7=\"\",\"\",IF(B29+D29<0,0,B29+D29))","v":""},null,null,2,null,null,null,null,null,"TOTAL SCORE",null,null,{"$f":"IF(P7=\"\",\"\",IF(70+N27+P27<0,0,70+N27+P27))","v":""},null,null,"TOTAL SCORE",null,null,{"$f":"IF(V7=\"\",\"\",IF(70+T27+V27<0,0,70+T27+V27))","v":""},null,null,"Function Total (3)",{"$f":"SUM(Z29+AB29+Z30+AB30)","v":0},"Function Score (4)",{"$f":"Z31*0.1","v":0}]
[null,null,null,null,null,null,3,null,null,null,null,null,null,null,null,null,null,null,null,null,null,null,null,null,"Judge Score (2) + Function Score (4) = CONFORMATION SCORE",null,null,{"$f":"IF(AB7=\"\",\"\",IF(AB28+AB31<0,0,AB28+AB31))","v":""}]
[null,null,"Return to Entry Page",null,null,null,"21 +/- Judge Score",{"$f":"SUM(H30:H32)","v":0},"Total Penalty Pts",{"$f":"SUM(J30:J32)","v":0},null,null,null,null,"Return to Entry Page",null,null,null,null,null,"Return to Entry Page"]
[null,null,null,null,null,null,"Maneuver Score",{"$f":"SUM(21+H33)*1.1","v":23.1},"Less Penalty Pts",{"$f":"J33","v":0},null,null,null,null,null,null,null,null,null,null,null,null,null,null,null,null,"Return to Entry Page"]
[null,null,null,null,null,null,"ROPING SCORE",null,null,{"$f":"SUM(H34+J34)","v":23.1}]
[null,null,null,null,null,null,"TOTAL SCORE",null,null,{"$f":"IF(J7=\"\",\"\",IF(J21+J28+J35<0,0,J21+J28+J35))","v":""}]
[]
[null,null,null,null,null,null,null,null,"Return to Entry Page"]

{"sheet":"Open 12","index":96,"n_rows":38,"n_cols":28,"rows_kept":38,"cut":false,"hidden":false,"merged":[[34,6,34,8],[30,0,30,2],[35,6,35,8],[30,12,30,14],[30,18,30,20],[31,24,31,26],[23,0,24,0],[23,1,24,1],[23,18,25,21],[25,0,25,3],[27,6,27,8],[25,12,25,15],[27,0,27,3],[27,12,29,15],[27,18,29,21],[29,0,29,3],[29,8,31,8],[19,20,20,20],[19,21,20,21],[20,2,20,3],[20,6,20,8],[20,14,20,15],[16,14,16,15],[16,20,16,21],[22,2,22,3],[22,12,23,13],[22,14,23,14],[22,15,23,15],[22,8,24,8],[21,2,21,3],[21,14,21,15],[21,18,21,21],[18,2,18,3],[18,12,18,15],[18,20,18,21],[19,2,19,3],[19,14,19,15],[19,18,20,19],[17,2,17,3],[17,14,17,15],[17,20,17,21],[13,2,13,3],[13,8,14,9],[13,12,13,15],[13,20,13,21],[14,2,14,3],[14,14,14,15],[14,20,14,21],[15,2,15,3],[15,8,15,9],[15,14,15,15],[15,20,15,21],[16,2,16,3],[16,8,16,9],[7,24,7,27],[11,2,11,3],[11,8,12,9],[11,14,11,15],[11,20,11,21],[12,2,12,3],[12,14,12,15],[12,20,12,21],[9,2,9,3],[9,8,10,9],[9,12,9,15],[9,20,9,21],[10,2,10,3],[10,14,10,15],[10,20,10,21],[8,2,8,3],[8,8,8,9],[8,14,8,15],[8,20,8,21],[7,0,7,3],[7,6,7,9],[7,12,7,15],[7,18,7,21]]}
["RIDERS SCORE WORK SHEET"]
[]
["Back Number:",{"$f":"'Entry Information'!B97","v":0},null,null,null,null,"Back Number:",{"$f":"'Entry Information'!B97","v":0},null,null,null,null,"Back Number:",{"$f":"'Entry Information'!B97","v":0},null,null,null,null,"Back Number:",{"$f":"'Entry Information'!B97","v":0},null,null,null,null,"Back Number:",{"$f":"'Entry Information'!B97","v":0}]
["Name:",{"$f":"'Entry Information'!I97","v":0},{"$f":"'Entry Information'!H97","v":0},null,null,null,"Name:",{"$f":"'Entry Information'!I97","v":0},{"$f":"'Entry Information'!H97","v":0},null,null,null,"Name:",{"$f":"'Entry Information'!I97","v":0},{"$f":"'Entry Information'!H97","v":0},null,null,null,"Name:",{"$f":"'Entry Information'!I97","v":0},{"$f":"'Entry Information'!H97","v":0},null,null,null,"Name:",{"$f":"'Entry Information'!H97","v":0},{"$f":"'Entry Information'!I97","v":0}]
["Horse Name",{"$f":"'Entry Information'!J97","v":0},null,null,null,null,"Horse Name",{"$f":"'Entry Information'!J97","v":0},null,null,null,null,"Horse Name",{"$f":"'Entry Information'!J97","v":0},null,null,null,null,"Horse Name",{"$f":"'Entry Information'!J97","v":0},null,null,null,null,"Horse Name",{"$f":"'Entry Information'!J97","v":0}]
[]
["Check box when entering Ranch Riding scores",null,null,null,null,null,"Check box when entering Working Ranch Horse scores",null,null,null,null,null,"Check box when entering Ranch Cutting scores",null,null,null,null,null,"Check box when entering Ranch Trail scores",null,null,null,null,null,"Check box when entering Conformation scores"]
["Ranch Riding",null,null,null,null,null,"Working Ranch Horse",null,null,null,null,null,"Ranch Cutting",null,null,null,null,null,"Ranch Trail",null,null,null,null,null,"Ranch Conformation"]
["Maneuver","Judge's Score +/-","Penalty Points",null,null,null,"Maneuver","Judge's Score +/-","Penalty Points",null,null,null,"Maneuver","Judge's Score +/-","Penalty Points",null,null,null,"Maneuver","Judge's Score +/-","Penalty Points",null,null,null,"Front Legs, Feet"]
[1,null,null,null,null,null,1,null,null,null,null,null,"Herd Work",null,null,null,null,null,1,null,null,null,null,null,"Chest, Pectoral V"]
[2,null,null,null,null,null,2,null,null,null,null,null,1,null,null,null,null,null,2,null,null,null,null,null,"Head"]
[3,null,null,null,null,null,3,null,null,null,null,null,2,null,null,null,null,null,3,null,null,null,null,null,"Neck & Throat Latch"]
[4,null,null,null,null,null,4,null,null,null,null,null,3,null,null,null,null,null,4,null,null,null,null,null,"Shoulders & Withers"]
[5,null,null,null,null,null,5,null,null,null,null,null,"Cutting",null,null,null,null,null,5,null,null,null,null,null,"Heart Girth & Barrel"]
[6,null,null,null,null,null,6,null,null,null,null,null,1,null,null,null,null,null,6,null,null,null,null,null,"Back & Loin"]
[7,null,null,null,null,null,7,null,null,null,null,null,2,null,null,null,null,null,7,null,null,null,null,null,"Hip & Croup"]
[8,null,null,null,null,null,8,null,null,null,null,null,3,null,null,null,null,null,8,null,null,null,null,null,"Stife & Gaskin"]
[9,null,null,null,null,null,null,null,"Total Penalty Pts",{"$f":"SUM(I10:J17)","v":0},null,null,4,null,null,null,null,null,9,null,null,null,null,null,"Hock, Hind Legs, Feet"]
[10,null,null,null,null,null,"56 +/- Judge Score",{"$f":"SUM(H10:H17)","v":0},"Divided by 2",{"$f":"SUM((56+H19)/2)","v":28},null,null,"Penning",null,null,null,null,null,10,null,null,null,null,null,"Overall Muscling"]
[11,null,null,null,null,null,"Maneuver Score",{"$f":"J19","v":28},"Less Penalty Pts",{"$f":"J18","v":0},null,null,1,null,null,null,null,null,null,null,"Major Penalties",null,null,null,"Tracking","Lame: enter an \"x\""]
[12,null,null,null,null,null,"REINING SCORE",null,null,{"$f":"SUM(H20+J20)","v":28},null,null,2,null,null,null,null,null,null,null,null,null,null,null,"Balance 1"]
[13,null,null,null,null,null,"Working Cow Horse",null,null,null,null,null,3,null,null,null,null,null,null,null,null,null,null,null,"Balance 2"]
[14,null,null,null,null,null,1,null,"Penalty Points",null,null,null,null,null,"Major Penalties",null,null,null,"Maneuver Total",{"$f":"SUM(T10:T19)","v":0},"Penalty Total",{"$f":"SUM(SUM(U10:V19)+V20)","v":0},null,null,"Balance 3"]
["Maneuver Total",{"$f":"SUM(B10:B23)","v":0},"Major Penalties",null,null,null,2,null,null,null,null,null,null,null,null,null,null,null,null,null,null,null,null,null,"Fitness & Condition"]
[null,null,"Penalty Total",{"$f":"SUM(C10:D24)","v":0},null,null,3,null,null,null,null,null,"Maneuver Total",{"$f":"SUM(N10:N22)","v":0},"Penalty Total",{"$f":"SUM(O11+O12+O13+O15+O16+O17+O18+O20+O21+O22+P23)","v":0},null,null,null,null,null,null,null,null,"Participant Showmanship"]
[null,null,null,null,null,null,"21 +/- Judge Score",{"$f":"SUM(H23:H25)","v":0},"Total Penalty Pts",{"$f":"SUM(J23:J25)","v":0},null,null,null,null,null,null,null,null,null,null,null,null,null,null,"Horse Showmanship"]
["100 +/-Maneuver",{"$f":"B24","v":0},"x .70 =",{"$f":"SUM((100+B27)*0.7)","v":70},null,null,"Maneuver Score",{"$f":"SUM(21+H26)","v":21},"Less Penalty Pts",{"$f":"J26","v":0},null,null,"70 +/-Maneuver",{"$f":"N25","v":0},"Less Penalty Total",{"$f":"P25","v":0},null,null,"70 +/-Maneuver",{"$f":"T23","v":0},"Less Penalty Total",{"$f":"V23","v":0},null,null,"Form & Showmanship Judges Score",null,"Total (1)",{"$f":"SUM(AB9:AB26)","v":0}]
[null,null,null,null,null,null,"CATTLE SCORE",null,null,{"$f":"SUM(H27+J27)","v":21},null,null,null,null,null,null,null,null,null,null,null,null,null,null,{"$f":"SUM(AB27*0.33+42)","v":42},{"$f":"IF(AA20=\"x\",-10,0)","v":0},"Judge Score (2)",{"$f":"SUM(Y28+Z28)","v":42}]
["Maneuver Score =",{"$f":"D27","v":70},"Less Penalty Total",{"$f":"D25","v":0},null,null,"Roping",null,null,null,null,null,null,null,null,null,null,null,null,null,null,null,null,null,"Ranch Cutting",{"$f":"IF(P31=\"\",0,P31)","v":0},"Ranch Rding",{"$f":"IF(D31=\"\",0,D31)","v":0}]
[null,null,null,null,null,null,1,null,"Penalty Points",null,null,null,null,null,null,null,null,null,null,null,null,null,null,null,"Working Ranch Horse",{"$f":"IF(J36=\"\",0,J36)","v":0},"Ranch Trail",{"$f":"IF(V31=\"\",0,V31)","v":0}]
["TOTAL SCORE",null,null,{"$f":"IF(D7=\"\",\"\",IF(B29+D29<0,0,B29+D29))","v":""},null,null,2,null,null,null,null,null,"TOTAL SCORE",null,null,{"$f":"IF(P7=\"\",\"\",IF(70+N27+P27<0,0,70+N27+P27))","v":""},null,null,"TOTAL SCORE",null,null,{"$f":"IF(V7=\"\",\"\",IF(70+T27+V27<0,0,70+T27+V27))","v":""},null,null,"Function Total (3)",{"$f":"SUM(Z29+AB29+Z30+AB30)","v":0},"Function Score (4)",{"$f":"Z31*0.1","v":0}]
[null,null,null,null,null,null,3,null,null,null,null,null,null,null,null,null,null,null,null,null,null,null,null,null,"Judge Score (2) + Function Score (4) = CONFORMATION SCORE",null,null,{"$f":"IF(AB7=\"\",\"\",IF(AB28+AB31<0,0,AB28+AB31))","v":""}]
[null,null,"Return to Entry Page",null,null,null,"21 +/- Judge Score",{"$f":"SUM(H30:H32)","v":0},"Total Penalty Pts",{"$f":"SUM(J30:J32)","v":0},null,null,null,null,"Return to Entry Page",null,null,null,null,null,"Return to Entry Page"]
[null,null,null,null,null,null,"Maneuver Score",{"$f":"SUM(21+H33)*1.1","v":23.1},"Less Penalty Pts",{"$f":"J33","v":0},null,null,null,null,null,null,null,null,null,null,null,null,null,null,null,null,"Return to Entry Page"]
[null,null,null,null,null,null,"ROPING SCORE",null,null,{"$f":"SUM(H34+J34)","v":23.1}]
[null,null,null,null,null,null,"TOTAL SCORE",null,null,{"$f":"IF(J7=\"\",\"\",IF(J21+J28+J35<0,0,J21+J28+J35))","v":""}]
[]
[null,null,null,null,null,null,null,null,"Return to Entry Page"]

{"sheet":"Open 13","index":97,"n_rows":38,"n_cols":28,"rows_kept":38,"cut":false,"hidden":false,"merged":[[34,6,34,8],[30,0,30,2],[35,6,35,8],[30,12,30,14],[30,18,30,20],[31,24,31,26],[23,0,24,0],[23,1,24,1],[23,18,25,21],[25,0,25,3],[27,6,27,8],[25,12,25,15],[27,0,27,3],[27,12,29,15],[27,18,29,21],[29,0,29,3],[29,8,31,8],[19,20,20,20],[19,21,20,21],[20,2,20,3],[20,6,20,8],[20,14,20,15],[16,14,16,15],[16,20,16,21],[22,2,22,3],[22,12,23,13],[22,14,23,14],[22,15,23,15],[22,8,24,8],[21,2,21,3],[21,14,21,15],[21,18,21,21],[18,2,18,3],[18,12,18,15],[18,20,18,21],[19,2,19,3],[19,14,19,15],[19,18,20,19],[17,2,17,3],[17,14,17,15],[17,20,17,21],[13,2,13,3],[13,8,14,9],[13,12,13,15],[13,20,13,21],[14,2,14,3],[14,14,14,15],[14,20,14,21],[15,2,15,3],[15,8,15,9],[15,14,15,15],[15,20,15,21],[16,2,16,3],[16,8,16,9],[7,24,7,27],[11,2,11,3],[11,8,12,9],[11,14,11,15],[11,20,11,21],[12,2,12,3],[12,14,12,15],[12,20,12,21],[9,2,9,3],[9,8,10,9],[9,12,9,15],[9,20,9,21],[10,2,10,3],[10,14,10,15],[10,20,10,21],[8,2,8,3],[8,8,8,9],[8,14,8,15],[8,20,8,21],[7,0,7,3],[7,6,7,9],[7,12,7,15],[7,18,7,21]]}
["RIDERS SCORE WORK SHEET"]
[]
["Back Number:",{"$f":"'Entry Information'!B98","v":0},null,null,null,null,"Back Number:",{"$f":"'Entry Information'!B98","v":0},null,null,null,null,"Back Number:",{"$f":"'Entry Information'!B98","v":0},null,null,null,null,"Back Number:",{"$f":"'Entry Information'!B98","v":0},null,null,null,null,"Back Number:",{"$f":"'Entry Information'!B98","v":0}]
["Name:",{"$f":"'Entry Information'!I98","v":0},{"$f":"'Entry Information'!H98","v":0},null,null,null,"Name:",{"$f":"'Entry Information'!I98","v":0},{"$f":"'Entry Information'!H98","v":0},null,null,null,"Name:",{"$f":"'Entry Information'!I98","v":0},{"$f":"'Entry Information'!H98","v":0},null,null,null,"Name:",{"$f":"'Entry Information'!I98","v":0},{"$f":"'Entry Information'!H98","v":0},null,null,null,"Name:",{"$f":"'Entry Information'!H98","v":0},{"$f":"'Entry Information'!I98","v":0}]
["Horse Name",{"$f":"'Entry Information'!J98","v":0},null,null,null,null,"Horse Name",{"$f":"'Entry Information'!J98","v":0},null,null,null,null,"Horse Name",{"$f":"'Entry Information'!J98","v":0},null,null,null,null,"Horse Name",{"$f":"'Entry Information'!J98","v":0},null,null,null,null,"Horse Name",{"$f":"'Entry Information'!J98","v":0}]
[]
["Check box when entering Ranch Riding scores",null,null,null,null,null,"Check box when entering Working Ranch Horse scores",null,null,null,null,null,"Check box when entering Ranch Cutting scores",null,null,null,null,null,"Check box when entering Ranch Trail scores",null,null,null,null,null,"Check box when entering Conformation scores"]
["Ranch Riding",null,null,null,null,null,"Working Ranch Horse",null,null,null,null,null,"Ranch Cutting",null,null,null,null,null,"Ranch Trail",null,null,null,null,null,"Ranch Conformation"]
["Maneuver","Judge's Score +/-","Penalty Points",null,null,null,"Maneuver","Judge's Score +/-","Penalty Points",null,null,null,"Maneuver","Judge's Score +/-","Penalty Points",null,null,null,"Maneuver","Judge's Score +/-","Penalty Points",null,null,null,"Front Legs, Feet"]
[1,null,null,null,null,null,1,null,null,null,null,null,"Herd Work",null,null,null,null,null,1,null,null,null,null,null,"Chest, Pectoral V"]
[2,null,null,null,null,null,2,null,null,null,null,null,1,null,null,null,null,null,2,null,null,null,null,null,"Head"]
[3,null,null,null,null,null,3,null,null,null,null,null,2,null,null,null,null,null,3,null,null,null,null,null,"Neck & Throat Latch"]
[4,null,null,null,null,null,4,null,null,null,null,null,3,null,null,null,null,null,4,null,null,null,null,null,"Shoulders & Withers"]
[5,null,null,null,null,null,5,null,null,null,null,null,"Cutting",null,null,null,null,null,5,null,null,null,null,null,"Heart Girth & Barrel"]
[6,null,null,null,null,null,6,null,null,null,null,null,1,null,null,null,null,null,6,null,null,null,null,null,"Back & Loin"]
[7,null,null,null,null,null,7,null,null,null,null,null,2,null,null,null,null,null,7,null,null,null,null,null,"Hip & Croup"]
[8,null,null,null,null,null,8,null,null,null,null,null,3,null,null,null,null,null,8,null,null,null,null,null,"Stife & Gaskin"]
[9,null,null,null,null,null,null,null,"Total Penalty Pts",{"$f":"SUM(I10:J17)","v":0},null,null,4,null,null,null,null,null,9,null,null,null,null,null,"Hock, Hind Legs, Feet"]
[10,null,null,null,null,null,"56 +/- Judge Score",{"$f":"SUM(H10:H17)","v":0},"Divided by 2",{"$f":"SUM((56+H19)/2)","v":28},null,null,"Penning",null,null,null,null,null,10,null,null,null,null,null,"Overall Muscling"]
[11,null,null,null,null,null,"Maneuver Score",{"$f":"J19","v":28},"Less Penalty Pts",{"$f":"J18","v":0},null,null,1,null,null,null,null,null,null,null,"Major Penalties",null,null,null,"Tracking","Lame: enter an \"x\""]
[12,null,null,null,null,null,"REINING SCORE",null,null,{"$f":"SUM(H20+J20)","v":28},null,null,2,null,null,null,null,null,null,null,null,null,null,null,"Balance 1"]
[13,null,null,null,null,null,"Working Cow Horse",null,null,null,null,null,3,null,null,null,null,null,null,null,null,null,null,null,"Balance 2"]
[14,null,null,null,null,null,1,null,"Penalty Points",null,null,null,null,null,"Major Penalties",null,null,null,"Maneuver Total",{"$f":"SUM(T10:T19)","v":0},"Penalty Total",{"$f":"SUM(SUM(U10:V19)+V20)","v":0},null,null,"Balance 3"]
["Maneuver Total",{"$f":"SUM(B10:B23)","v":0},"Major Penalties",null,null,null,2,null,null,null,null,null,null,null,null,null,null,null,null,null,null,null,null,null,"Fitness & Condition"]
[null,null,"Penalty Total",{"$f":"SUM(C10:D24)","v":0},null,null,3,null,null,null,null,null,"Maneuver Total",{"$f":"SUM(N10:N22)","v":0},"Penalty Total",{"$f":"SUM(O11+O12+O13+O15+O16+O17+O18+O20+O21+O22+P23)","v":0},null,null,null,null,null,null,null,null,"Participant Showmanship"]
[null,null,null,null,null,null,"21 +/- Judge Score",{"$f":"SUM(H23:H25)","v":0},"Total Penalty Pts",{"$f":"SUM(J23:J25)","v":0},null,null,null,null,null,null,null,null,null,null,null,null,null,null,"Horse Showmanship"]
["100 +/-Maneuver",{"$f":"B24","v":0},"x .70 =",{"$f":"SUM((100+B27)*0.7)","v":70},null,null,"Maneuver Score",{"$f":"SUM(21+H26)","v":21},"Less Penalty Pts",{"$f":"J26","v":0},null,null,"70 +/-Maneuver",{"$f":"N25","v":0},"Less Penalty Total",{"$f":"P25","v":0},null,null,"70 +/-Maneuver",{"$f":"T23","v":0},"Less Penalty Total",{"$f":"V23","v":0},null,null,"Form & Showmanship Judges Score",null,"Total (1)",{"$f":"SUM(AB9:AB26)","v":0}]
[null,null,null,null,null,null,"CATTLE SCORE",null,null,{"$f":"SUM(H27+J27)","v":21},null,null,null,null,null,null,null,null,null,null,null,null,null,null,{"$f":"SUM(AB27*0.33+42)","v":42},{"$f":"IF(AA20=\"x\",-10,0)","v":0},"Judge Score (2)",{"$f":"SUM(Y28+Z28)","v":42}]
["Maneuver Score =",{"$f":"D27","v":70},"Less Penalty Total",{"$f":"D25","v":0},null,null,"Roping",null,null,null,null,null,null,null,null,null,null,null,null,null,null,null,null,null,"Ranch Cutting",{"$f":"IF(P31=\"\",0,P31)","v":0},"Ranch Rding",{"$f":"IF(D31=\"\",0,D31)","v":0}]
[null,null,null,null,null,null,1,null,"Penalty Points",null,null,null,null,null,null,null,null,null,null,null,null,null,null,null,"Working Ranch Horse",{"$f":"IF(J36=\"\",0,J36)","v":0},"Ranch Trail",{"$f":"IF(V31=\"\",0,V31)","v":0}]
["TOTAL SCORE",null,null,{"$f":"IF(D7=\"\",\"\",IF(B29+D29<0,0,B29+D29))","v":""},null,null,2,null,null,null,null,null,"TOTAL SCORE",null,null,{"$f":"IF(P7=\"\",\"\",IF(70+N27+P27<0,0,70+N27+P27))","v":""},null,null,"TOTAL SCORE",null,null,{"$f":"IF(V7=\"\",\"\",IF(70+T27+V27<0,0,70+T27+V27))","v":""},null,null,"Function Total (3)",{"$f":"SUM(Z29+AB29+Z30+AB30)","v":0},"Function Score (4)",{"$f":"Z31*0.1","v":0}]
[null,null,null,null,null,null,3,null,null,null,null,null,null,null,null,null,null,null,null,null,null,null,null,null,"Judge Score (2) + Function Score (4) = CONFORMATION SCORE",null,null,{"$f":"IF(AB7=\"\",\"\",IF(AB28+AB31<0,0,AB28+AB31))","v":""}]
[null,null,"Return to Entry Page",null,null,null,"21 +/- Judge Score",{"$f":"SUM(H30:H32)","v":0},"Total Penalty Pts",{"$f":"SUM(J30:J32)","v":0},null,null,null,null,"Return to Entry Page",null,null,null,null,null,"Return to Entry Page"]
[null,null,null,null,null,null,"Maneuver Score",{"$f":"SUM(21+H33)*1.1","v":23.1},"Less Penalty Pts",{"$f":"J33","v":0},null,null,null,null,null,null,null,null,null,null,null,null,null,null,null,null,"Return to Entry Page"]
[null,null,null,null,null,null,"ROPING SCORE",null,null,{"$f":"SUM(H34+J34)","v":23.1}]
[null,null,null,null,null,null,"TOTAL SCORE",null,null,{"$f":"IF(J7=\"\",\"\",IF(J21+J28+J35<0,0,J21+J28+J35))","v":""}]
[]
[null,null,null,null,null,null,null,null,"Return to Entry Page"]

{"sheet":"Open 14","index":98,"n_rows":38,"n_cols":28,"rows_kept":38,"cut":false,"hidden":false,"merged":[[34,6,34,8],[30,0,30,2],[35,6,35,8],[30,12,30,14],[30,18,30,20],[31,24,31,26],[23,0,24,0],[23,1,24,1],[23,18,25,21],[25,0,25,3],[27,6,27,8],[25,12,25,15],[27,0,27,3],[27,12,29,15],[27,18,29,21],[29,0,29,3],[29,8,31,8],[19,20,20,20],[19,21,20,21],[20,2,20,3],[20,6,20,8],[20,14,20,15],[16,14,16,15],[16,20,16,21],[22,2,22,3],[22,12,23,13],[22,14,23,14],[22,15,23,15],[22,8,24,8],[21,2,21,3],[21,14,21,15],[21,18,21,21],[18,2,18,3],[18,12,18,15],[18,20,18,21],[19,2,19,3],[19,14,19,15],[19,18,20,19],[17,2,17,3],[17,14,17,15],[17,20,17,21],[13,2,13,3],[13,8,14,9],[13,12,13,15],[13,20,13,21],[14,2,14,3],[14,14,14,15],[14,20,14,21],[15,2,15,3],[15,8,15,9],[15,14,15,15],[15,20,15,21],[16,2,16,3],[16,8,16,9],[7,24,7,27],[11,2,11,3],[11,8,12,9],[11,14,11,15],[11,20,11,21],[12,2,12,3],[12,14,12,15],[12,20,12,21],[9,2,9,3],[9,8,10,9],[9,12,9,15],[9,20,9,21],[10,2,10,3],[10,14,10,15],[10,20,10,21],[8,2,8,3],[8,8,8,9],[8,14,8,15],[8,20,8,21],[7,0,7,3],[7,6,7,9],[7,12,7,15],[7,18,7,21]]}
["RIDERS SCORE WORK SHEET"]
[]
["Back Number:",{"$f":"'Entry Information'!B99","v":0},null,null,null,null,"Back Number:",{"$f":"'Entry Information'!B99","v":0},null,null,null,null,"Back Number:",{"$f":"'Entry Information'!B99","v":0},null,null,null,null,"Back Number:",{"$f":"'Entry Information'!B99","v":0},null,null,null,null,"Back Number:",{"$f":"'Entry Information'!B99","v":0}]
["Name:",{"$f":"'Entry Information'!I99","v":0},{"$f":"'Entry Information'!H99","v":0},null,null,null,"Name:",{"$f":"'Entry Information'!I99","v":0},{"$f":"'Entry Information'!H99","v":0},null,null,null,"Name:",{"$f":"'Entry Information'!I99","v":0},{"$f":"'Entry Information'!H99","v":0},null,null,null,"Name:",{"$f":"'Entry Information'!I99","v":0},{"$f":"'Entry Information'!H99","v":0},null,null,null,"Name:",{"$f":"'Entry Information'!H99","v":0},{"$f":"'Entry Information'!I99","v":0}]
["Horse Name",{"$f":"'Entry Information'!J99","v":0},null,null,null,null,"Horse Name",{"$f":"'Entry Information'!J99","v":0},null,null,null,null,"Horse Name",{"$f":"'Entry Information'!J99","v":0},null,null,null,null,"Horse Name",{"$f":"'Entry Information'!J99","v":0},null,null,null,null,"Horse Name",{"$f":"'Entry Information'!J99","v":0}]
[]
["Check box when entering Ranch Riding scores",null,null,null,null,null,"Check box when entering Working Ranch Horse scores",null,null,null,null,null,"Check box when entering Ranch Cutting scores",null,null,null,null,null,"Check box when entering Ranch Trail scores",null,null,null,null,null,"Check box when entering Conformation scores"]
["Ranch Riding",null,null,null,null,null,"Working Ranch Horse",null,null,null,null,null,"Ranch Cutting",null,null,null,null,null,"Ranch Trail",null,null,null,null,null,"Ranch Conformation"]
["Maneuver","Judge's Score +/-","Penalty Points",null,null,null,"Maneuver","Judge's Score +/-","Penalty Points",null,null,null,"Maneuver","Judge's Score +/-","Penalty Points",null,null,null,"Maneuver","Judge's Score +/-","Penalty Points",null,null,null,"Front Legs, Feet"]
[1,null,null,null,null,null,1,null,null,null,null,null,"Herd Work",null,null,null,null,null,1,null,null,null,null,null,"Chest, Pectoral V"]
[2,null,null,null,null,null,2,null,null,null,null,null,1,null,null,null,null,null,2,null,null,null,null,null,"Head"]
[3,null,null,null,null,null,3,null,null,null,null,null,2,null,null,null,null,null,3,null,null,null,null,null,"Neck & Throat Latch"]
[4,null,null,null,null,null,4,null,null,null,null,null,3,null,null,null,null,null,4,null,null,null,null,null,"Shoulders & Withers"]
[5,null,null,null,null,null,5,null,null,null,null,null,"Cutting",null,null,null,null,null,5,null,null,null,null,null,"Heart Girth & Barrel"]
[6,null,null,null,null,null,6,null,null,null,null,null,1,null,null,null,null,null,6,null,null,null,null,null,"Back & Loin"]
[7,null,null,null,null,null,7,null,null,null,null,null,2,null,null,null,null,null,7,null,null,null,null,null,"Hip & Croup"]
[8,null,null,null,null,null,8,null,null,null,null,null,3,null,null,null,null,null,8,null,null,null,null,null,"Stife & Gaskin"]
[9,null,null,null,null,null,null,null,"Total Penalty Pts",{"$f":"SUM(I10:J17)","v":0},null,null,4,null,null,null,null,null,9,null,null,null,null,null,"Hock, Hind Legs, Feet"]
[10,null,null,null,null,null,"56 +/- Judge Score",{"$f":"SUM(H10:H17)","v":0},"Divided by 2",{"$f":"SUM((56+H19)/2)","v":28},null,null,"Penning",null,null,null,null,null,10,null,null,null,null,null,"Overall Muscling"]
[11,null,null,null,null,null,"Maneuver Score",{"$f":"J19","v":28},"Less Penalty Pts",{"$f":"J18","v":0},null,null,1,null,null,null,null,null,null,null,"Major Penalties",null,null,null,"Tracking","Lame: enter an \"x\""]
[12,null,null,null,null,null,"REINING SCORE",null,null,{"$f":"SUM(H20+J20)","v":28},null,null,2,null,null,null,null,null,null,null,null,null,null,null,"Balance 1"]
[13,null,null,null,null,null,"Working Cow Horse",null,null,null,null,null,3,null,null,null,null,null,null,null,null,null,null,null,"Balance 2"]
[14,null,null,null,null,null,1,null,"Penalty Points",null,null,null,null,null,"Major Penalties",null,null,null,"Maneuver Total",{"$f":"SUM(T10:T19)","v":0},"Penalty Total",{"$f":"SUM(SUM(U10:V19)+V20)","v":0},null,null,"Balance 3"]
["Maneuver Total",{"$f":"SUM(B10:B23)","v":0},"Major Penalties",null,null,null,2,null,null,null,null,null,null,null,null,null,null,null,null,null,null,null,null,null,"Fitness & Condition"]
[null,null,"Penalty Total",{"$f":"SUM(C10:D24)","v":0},null,null,3,null,null,null,null,null,"Maneuver Total",{"$f":"SUM(N10:N22)","v":0},"Penalty Total",{"$f":"SUM(O11+O12+O13+O15+O16+O17+O18+O20+O21+O22+P23)","v":0},null,null,null,null,null,null,null,null,"Participant Showmanship"]
[null,null,null,null,null,null,"21 +/- Judge Score",{"$f":"SUM(H23:H25)","v":0},"Total Penalty Pts",{"$f":"SUM(J23:J25)","v":0},null,null,null,null,null,null,null,null,null,null,null,null,null,null,"Horse Showmanship"]
["100 +/-Maneuver",{"$f":"B24","v":0},"x .70 =",{"$f":"SUM((100+B27)*0.7)","v":70},null,null,"Maneuver Score",{"$f":"SUM(21+H26)","v":21},"Less Penalty Pts",{"$f":"J26","v":0},null,null,"70 +/-Maneuver",{"$f":"N25","v":0},"Less Penalty Total",{"$f":"P25","v":0},null,null,"70 +/-Maneuver",{"$f":"T23","v":0},"Less Penalty Total",{"$f":"V23","v":0},null,null,"Form & Showmanship Judges Score",null,"Total (1)",{"$f":"SUM(AB9:AB26)","v":0}]
[null,null,null,null,null,null,"CATTLE SCORE",null,null,{"$f":"SUM(H27+J27)","v":21},null,null,null,null,null,null,null,null,null,null,null,null,null,null,{"$f":"SUM(AB27*0.33+42)","v":42},{"$f":"IF(AA20=\"x\",-10,0)","v":0},"Judge Score (2)",{"$f":"SUM(Y28+Z28)","v":42}]
["Maneuver Score =",{"$f":"D27","v":70},"Less Penalty Total",{"$f":"D25","v":0},null,null,"Roping",null,null,null,null,null,null,null,null,null,null,null,null,null,null,null,null,null,"Ranch Cutting",{"$f":"IF(P31=\"\",0,P31)","v":0},"Ranch Rding",{"$f":"IF(D31=\"\",0,D31)","v":0}]
[null,null,null,null,null,null,1,null,"Penalty Points",null,null,null,null,null,null,null,null,null,null,null,null,null,null,null,"Working Ranch Horse",{"$f":"IF(J36=\"\",0,J36)","v":0},"Ranch Trail",{"$f":"IF(V31=\"\",0,V31)","v":0}]
["TOTAL SCORE",null,null,{"$f":"IF(D7=\"\",\"\",IF(B29+D29<0,0,B29+D29))","v":""},null,null,2,null,null,null,null,null,"TOTAL SCORE",null,null,{"$f":"IF(P7=\"\",\"\",IF(70+N27+P27<0,0,70+N27+P27))","v":""},null,null,"TOTAL SCORE",null,null,{"$f":"IF(V7=\"\",\"\",IF(70+T27+V27<0,0,70+T27+V27))","v":""},null,null,"Function Total (3)",{"$f":"SUM(Z29+AB29+Z30+AB30)","v":0},"Function Score (4)",{"$f":"Z31*0.1","v":0}]
[null,null,null,null,null,null,3,null,null,null,null,null,null,null,null,null,null,null,null,null,null,null,null,null,"Judge Score (2) + Function Score (4) = CONFORMATION SCORE",null,null,{"$f":"IF(AB7=\"\",\"\",IF(AB28+AB31<0,0,AB28+AB31))","v":""}]
[null,null,"Return to Entry Page",null,null,null,"21 +/- Judge Score",{"$f":"SUM(H30:H32)","v":0},"Total Penalty Pts",{"$f":"SUM(J30:J32)","v":0},null,null,null,null,"Return to Entry Page",null,null,null,null,null,"Return to Entry Page"]
[null,null,null,null,null,null,"Maneuver Score",{"$f":"SUM(21+H33)*1.1","v":23.1},"Less Penalty Pts",{"$f":"J33","v":0},null,null,null,null,null,null,null,null,null,null,null,null,null,null,null,null,"Return to Entry Page"]
[null,null,null,null,null,null,"ROPING SCORE",null,null,{"$f":"SUM(H34+J34)","v":23.1}]
[null,null,null,null,null,null,"TOTAL SCORE",null,null,{"$f":"IF(J7=\"\",\"\",IF(J21+J28+J35<0,0,J21+J28+J35))","v":""}]
[]
[null,null,null,null,null,null,null,null,"Return to Entry Page"]

{"sheet":"Open 15","index":99,"n_rows":38,"n_cols":28,"rows_kept":38,"cut":false,"hidden":false,"merged":[[34,6,34,8],[30,0,30,2],[35,6,35,8],[30,12,30,14],[30,18,30,20],[31,24,31,26],[23,0,24,0],[23,1,24,1],[23,18,25,21],[25,0,25,3],[27,6,27,8],[25,12,25,15],[27,0,27,3],[27,12,29,15],[27,18,29,21],[29,0,29,3],[29,8,31,8],[19,20,20,20],[19,21,20,21],[20,2,20,3],[20,6,20,8],[20,14,20,15],[16,14,16,15],[16,20,16,21],[22,2,22,3],[22,12,23,13],[22,14,23,14],[22,15,23,15],[22,8,24,8],[21,2,21,3],[21,14,21,15],[21,18,21,21],[18,2,18,3],[18,12,18,15],[18,20,18,21],[19,2,19,3],[19,14,19,15],[19,18,20,19],[17,2,17,3],[17,14,17,15],[17,20,17,21],[13,2,13,3],[13,8,14,9],[13,12,13,15],[13,20,13,21],[14,2,14,3],[14,14,14,15],[14,20,14,21],[15,2,15,3],[15,8,15,9],[15,14,15,15],[15,20,15,21],[16,2,16,3],[16,8,16,9],[7,24,7,27],[11,2,11,3],[11,8,12,9],[11,14,11,15],[11,20,11,21],[12,2,12,3],[12,14,12,15],[12,20,12,21],[9,2,9,3],[9,8,10,9],[9,12,9,15],[9,20,9,21],[10,2,10,3],[10,14,10,15],[10,20,10,21],[8,2,8,3],[8,8,8,9],[8,14,8,15],[8,20,8,21],[7,0,7,3],[7,6,7,9],[7,12,7,15],[7,18,7,21]]}
["RIDERS SCORE WORK SHEET"]
[null,null,null,null,null,null,null,null,null,null,null,null,null,"Entry Information'!A98"]
["Back Number:",{"$f":"'Entry Information'!B100","v":0},null,null,null,null,"Back Number:",{"$f":"'Entry Information'!B100","v":0},null,null,null,null,"Back Number:",{"$f":"'Entry Information'!B100","v":0},null,null,null,null,"Back Number:",{"$f":"'Entry Information'!B100","v":0},null,null,null,null,"Back Number:",{"$f":"'Entry Information'!B100","v":0}]
["Name:",{"$f":"'Entry Information'!I100","v":0},{"$f":"'Entry Information'!H100","v":0},null,null,null,"Name:",{"$f":"'Entry Information'!I100","v":0},{"$f":"'Entry Information'!H100","v":0},null,null,null,"Name:",{"$f":"'Entry Information'!I100","v":0},{"$f":"'Entry Information'!H100","v":0},null,null,null,"Name:",{"$f":"'Entry Information'!I100","v":0},{"$f":"'Entry Information'!H100","v":0},null,null,null,"Name:",{"$f":"'Entry Information'!H100","v":0},{"$f":"'Entry Information'!I100","v":0}]
["Horse Name",{"$f":"'Entry Information'!J100","v":0},null,null,null,null,"Horse Name",{"$f":"'Entry Information'!J100","v":0},null,null,null,null,"Horse Name",{"$f":"'Entry Information'!J100","v":0},null,null,null,null,"Horse Name",{"$f":"'Entry Information'!J100","v":0},null,null,null,null,"Horse Name",{"$f":"'Entry Information'!J100","v":0}]
[]
["Check box when entering Ranch Riding scores",null,null,null,null,null,"Check box when entering Working Ranch Horse scores",null,null,null,null,null,"Check box when entering Ranch Cutting scores",null,null,null,null,null,"Check box when entering Ranch Trail scores",null,null,null,null,null,"Check box when entering Conformation scores"]
["Ranch Riding",null,null,null,null,null,"Working Ranch Horse",null,null,null,null,null,"Ranch Cutting",null,null,null,null,null,"Ranch Trail",null,null,null,null,null,"Ranch Conformation"]
["Maneuver","Judge's Score +/-","Penalty Points",null,null,null,"Maneuver","Judge's Score +/-","Penalty Points",null,null,null,"Maneuver","Judge's Score +/-","Penalty Points",null,null,null,"Maneuver","Judge's Score +/-","Penalty Points",null,null,null,"Front Legs, Feet"]
[1,null,null,null,null,null,1,null,null,null,null,null,"Herd Work",null,null,null,null,null,1,null,null,null,null,null,"Chest, Pectoral V"]
[2,null,null,null,null,null,2,null,null,null,null,null,1,null,null,null,null,null,2,null,null,null,null,null,"Head"]
[3,null,null,null,null,null,3,null,null,null,null,null,2,null,null,null,null,null,3,null,null,null,null,null,"Neck & Throat Latch"]
[4,null,null,null,null,null,4,null,null,null,null,null,3,null,null,null,null,null,4,null,null,null,null,null,"Shoulders & Withers"]
[5,null,null,null,null,null,5,null,null,null,null,null,"Cutting",null,null,null,null,null,5,null,null,null,null,null,"Heart Girth & Barrel"]
[6,null,null,null,null,null,6,null,null,null,null,null,1,null,null,null,null,null,6,null,null,null,null,null,"Back & Loin"]
[7,null,null,null,null,null,7,null,null,null,null,null,2,null,null,null,null,null,7,null,null,null,null,null,"Hip & Croup"]
[8,null,null,null,null,null,8,null,null,null,null,null,3,null,null,null,null,null,8,null,null,null,null,null,"Stife & Gaskin"]
[9,null,null,null,null,null,null,null,"Total Penalty Pts",{"$f":"SUM(I10:J17)","v":0},null,null,4,null,null,null,null,null,9,null,null,null,null,null,"Hock, Hind Legs, Feet"]
[10,null,null,null,null,null,"56 +/- Judge Score",{"$f":"SUM(H10:H17)","v":0},"Divided by 2",{"$f":"SUM((56+H19)/2)","v":28},null,null,"Penning",null,null,null,null,null,10,null,null,null,null,null,"Overall Muscling"]
[11,null,null,null,null,null,"Maneuver Score",{"$f":"J19","v":28},"Less Penalty Pts",{"$f":"J18","v":0},null,null,1,null,null,null,null,null,null,null,"Major Penalties",null,null,null,"Tracking","Lame: enter an \"x\""]
[12,null,null,null,null,null,"REINING SCORE",null,null,{"$f":"SUM(H20+J20)","v":28},null,null,2,null,null,null,null,null,null,null,null,null,null,null,"Balance 1"]
[13,null,null,null,null,null,"Working Cow Horse",null,null,null,null,null,3,null,null,null,null,null,null,null,null,null,null,null,"Balance 2"]
[14,null,null,null,null,null,1,null,"Penalty Points",null,null,null,null,null,"Major Penalties",null,null,null,"Maneuver Total",{"$f":"SUM(T10:T19)","v":0},"Penalty Total",{"$f":"SUM(SUM(U10:V19)+V20)","v":0},null,null,"Balance 3"]
["Maneuver Total",{"$f":"SUM(B10:B23)","v":0},"Major Penalties",null,null,null,2,null,null,null,null,null,null,null,null,null,null,null,null,null,null,null,null,null,"Fitness & Condition"]
[null,null,"Penalty Total",{"$f":"SUM(C10:D24)","v":0},null,null,3,null,null,null,null,null,"Maneuver Total",{"$f":"SUM(N10:N22)","v":0},"Penalty Total",{"$f":"SUM(O11+O12+O13+O15+O16+O17+O18+O20+O21+O22+P23)","v":0},null,null,null,null,null,null,null,null,"Participant Showmanship"]
[null,null,null,null,null,null,"21 +/- Judge Score",{"$f":"SUM(H23:H25)","v":0},"Total Penalty Pts",{"$f":"SUM(J23:J25)","v":0},null,null,null,null,null,null,null,null,null,null,null,null,null,null,"Horse Showmanship"]
["100 +/-Maneuver",{"$f":"B24","v":0},"x .70 =",{"$f":"SUM((100+B27)*0.7)","v":70},null,null,"Maneuver Score",{"$f":"SUM(21+H26)","v":21},"Less Penalty Pts",{"$f":"J26","v":0},null,null,"70 +/-Maneuver",{"$f":"N25","v":0},"Less Penalty Total",{"$f":"P25","v":0},null,null,"70 +/-Maneuver",{"$f":"T23","v":0},"Less Penalty Total",{"$f":"V23","v":0},null,null,"Form & Showmanship Judges Score",null,"Total (1)",{"$f":"SUM(AB9:AB26)","v":0}]
[null,null,null,null,null,null,"CATTLE SCORE",null,null,{"$f":"SUM(H27+J27)","v":21},null,null,null,null,null,null,null,null,null,null,null,null,null,null,{"$f":"SUM(AB27*0.33+42)","v":42},{"$f":"IF(AA20=\"x\",-10,0)","v":0},"Judge Score (2)",{"$f":"SUM(Y28+Z28)","v":42}]
["Maneuver Score =",{"$f":"D27","v":70},"Less Penalty Total",{"$f":"D25","v":0},null,null,"Roping",null,null,null,null,null,null,null,null,null,null,null,null,null,null,null,null,null,"Ranch Cutting",{"$f":"IF(P31=\"\",0,P31)","v":0},"Ranch Rding",{"$f":"IF(D31=\"\",0,D31)","v":0}]
[null,null,null,null,null,null,1,null,"Penalty Points",null,null,null,null,null,null,null,null,null,null,null,null,null,null,null,"Working Ranch Horse",{"$f":"IF(J36=\"\",0,J36)","v":0},"Ranch Trail",{"$f":"IF(V31=\"\",0,V31)","v":0}]
["TOTAL SCORE",null,null,{"$f":"IF(D7=\"\",\"\",IF(B29+D29<0,0,B29+D29))","v":""},null,null,2,null,null,null,null,null,"TOTAL SCORE",null,null,{"$f":"IF(P7=\"\",\"\",IF(70+N27+P27<0,0,70+N27+P27))","v":""},null,null,"TOTAL SCORE",null,null,{"$f":"IF(V7=\"\",\"\",IF(70+T27+V27<0,0,70+T27+V27))","v":""},null,null,"Function Total (3)",{"$f":"SUM(Z29+AB29+Z30+AB30)","v":0},"Function Score (4)",{"$f":"Z31*0.1","v":0}]
[null,null,null,null,null,null,3,null,null,null,null,null,null,null,null,null,null,null,null,null,null,null,null,null,"Judge Score (2) + Function Score (4) = CONFORMATION SCORE",null,null,{"$f":"IF(AB7=\"\",\"\",IF(AB28+AB31<0,0,AB28+AB31))","v":""}]
[null,null,"Return to Entry Page",null,null,null,"21 +/- Judge Score",{"$f":"SUM(H30:H32)","v":0},"Total Penalty Pts",{"$f":"SUM(J30:J32)","v":0},null,null,null,null,"Return to Entry Page",null,null,null,null,null,"Return to Entry Page"]
[null,null,null,null,null,null,"Maneuver Score",{"$f":"SUM(21+H33)*1.1","v":23.1},"Less Penalty Pts",{"$f":"J33","v":0},null,null,null,null,null,null,null,null,null,null,null,null,null,null,null,null,"Return to Entry Page"]
[null,null,null,null,null,null,"ROPING SCORE",null,null,{"$f":"SUM(H34+J34)","v":23.1}]
[null,null,null,null,null,null,"TOTAL SCORE",null,null,{"$f":"IF(J7=\"\",\"\",IF(J21+J28+J35<0,0,J21+J28+J35))","v":""}]
[]
[null,null,null,null,null,null,null,null,"Return to Entry Page"]

{"sheet":"Open 16","index":100,"n_rows":38,"n_cols":28,"rows_kept":38,"cut":false,"hidden":false,"merged":[[34,6,34,8],[35,6,35,8],[27,0,27,3],[27,6,27,8],[27,12,29,15],[31,24,31,26],[23,0,24,0],[23,1,24,1],[23,18,25,21],[25,0,25,3],[25,12,25,15],[27,18,29,21],[29,0,29,3],[29,8,31,8],[30,0,30,2],[30,12,30,14],[30,18,30,20],[21,18,21,21],[22,2,22,3],[22,8,24,8],[22,12,23,13],[22,14,23,14],[22,15,23,15],[21,2,21,3],[21,14,21,15],[19,2,19,3],[19,14,19,15],[19,18,20,19],[19,20,20,20],[19,21,20,21],[20,2,20,3],[20,6,20,8],[20,14,20,15],[18,2,18,3],[18,12,18,15],[18,20,18,21],[17,2,17,3],[17,14,17,15],[17,20,17,21],[13,2,13,3],[13,8,14,9],[13,12,13,15],[13,20,13,21],[14,2,14,3],[14,14,14,15],[14,20,14,21],[15,2,15,3],[15,8,15,9],[15,14,15,15],[15,20,15,21],[16,2,16,3],[16,8,16,9],[16,14,16,15],[16,20,16,21],[11,2,11,3],[11,8,12,9],[11,14,11,15],[11,20,11,21],[12,2,12,3],[12,14,12,15],[12,20,12,21],[7,24,7,27],[9,2,9,3],[9,8,10,9],[9,12,9,15],[9,20,9,21],[10,2,10,3],[10,14,10,15],[10,20,10,21],[8,2,8,3],[8,8,8,9],[8,14,8,15],[8,20,8,21],[7,0,7,3],[7,6,7,9],[7,12,7,15],[7,18,7,21]]}
["RIDERS SCORE WORK SHEET"]
[]
["Back Number:",{"$f":"'Entry Information'!B101","v":0},null,null,null,null,"Back Number:",{"$f":"'Entry Information'!B101","v":0},null,null,null,null,"Back Number:",{"$f":"'Entry Information'!B101","v":0},null,null,null,null,"Back Number:",{"$f":"'Entry Information'!B101","v":0},null,null,null,null,"Back Number:",{"$f":"'Entry Information'!B101","v":0}]
["Name:",{"$f":"'Entry Information'!I101","v":0},{"$f":"'Entry Information'!H101","v":0},null,null,null,"Name:",{"$f":"'Entry Information'!I101","v":0},{"$f":"'Entry Information'!H101","v":0},null,null,null,"Name:",{"$f":"'Entry Information'!I101","v":0},{"$f":"'Entry Information'!H101","v":0},null,null,null,"Name:",{"$f":"'Entry Information'!I101","v":0},{"$f":"'Entry Information'!H101","v":0},null,null,null,"Name:",{"$f":"'Entry Information'!H101","v":0},{"$f":"'Entry Information'!I101","v":0}]
["Horse Name",{"$f":"'Entry Information'!J101","v":0},null,null,null,null,"Horse Name",{"$f":"'Entry Information'!J101","v":0},null,null,null,null,"Horse Name",{"$f":"'Entry Information'!J101","v":0},null,null,null,null,"Horse Name",{"$f":"'Entry Information'!J101","v":0},null,null,null,null,"Horse Name",{"$f":"'Entry Information'!J101","v":0}]
[]
["Check box when entering Ranch Riding scores",null,null,null,null,null,"Check box when entering Working Ranch Horse scores",null,null,null,null,null,"Check box when entering Ranch Cutting scores",null,null,null,null,null,"Check box when entering Ranch Trail scores",null,null,null,null,null,"Check box when entering Conformation scores"]
["Ranch Riding",null,null,null,null,null,"Working Ranch Horse",null,null,null,null,null,"Ranch Cutting",null,null,null,null,null,"Ranch Trail",null,null,null,null,null,"Ranch Conformation"]
["Maneuver","Judge's Score +/-","Penalty Points",null,null,null,"Maneuver","Judge's Score +/-","Penalty Points",null,null,null,"Maneuver","Judge's Score +/-","Penalty Points",null,null,null,"Maneuver","Judge's Score +/-","Penalty Points",null,null,null,"Front Legs, Feet"]
[1,null,null,null,null,null,1,null,null,null,null,null,"Herd Work",null,null,null,null,null,1,null,null,null,null,null,"Chest, Pectoral V"]
[2,null,null,null,null,null,2,null,null,null,null,null,1,null,null,null,null,null,2,null,null,null,null,null,"Head"]
[3,null,null,null,null,null,3,null,null,null,null,null,2,null,null,null,null,null,3,null,null,null,null,null,"Neck & Throat Latch"]
[4,null,null,null,null,null,4,null,null,null,null,null,3,null,null,null,null,null,4,null,null,null,null,null,"Shoulders & Withers"]
[5,null,null,null,null,null,5,null,null,null,null,null,"Cutting",null,null,null,null,null,5,null,null,null,null,null,"Heart Girth & Barrel"]
[6,null,null,null,null,null,6,null,null,null,null,null,1,null,null,null,null,null,6,null,null,null,null,null,"Back & Loin"]
[7,null,null,null,null,null,7,null,null,null,null,null,2,null,null,null,null,null,7,null,null,null,null,null,"Hip & Croup"]
[8,null,null,null,null,null,8,null,null,null,null,null,3,null,null,null,null,null,8,null,null,null,null,null,"Stife & Gaskin"]
[9,null,null,null,null,null,null,null,"Total Penalty Pts",{"$f":"SUM(I10:J17)","v":0},null,null,4,null,null,null,null,null,9,null,null,null,null,null,"Hock, Hind Legs, Feet"]
[10,null,null,null,null,null,"56 +/- Judge Score",{"$f":"SUM(H10:H17)","v":0},"Divided by 2",{"$f":"SUM((56+H19)/2)","v":28},null,null,"Penning",null,null,null,null,null,10,null,null,null,null,null,"Overall Muscling"]
[11,null,null,null,null,null,"Maneuver Score",{"$f":"J19","v":28},"Less Penalty Pts",{"$f":"J18","v":0},null,null,1,null,null,null,null,null,null,null,"Major Penalties",null,null,null,"Tracking","Lame: enter an \"x\""]
[12,null,null,null,null,null,"REINING SCORE",null,null,{"$f":"SUM(H20+J20)","v":28},null,null,2,null,null,null,null,null,null,null,null,null,null,null,"Balance 1"]
[13,null,null,null,null,null,"Working Cow Horse",null,null,null,null,null,3,null,null,null,null,null,null,null,null,null,null,null,"Balance 2"]
[14,null,null,null,null,null,1,null,"Penalty Points",null,null,null,null,null,"Major Penalties",null,null,null,"Maneuver Total",{"$f":"SUM(T10:T19)","v":0},"Penalty Total",{"$f":"SUM(SUM(U10:V19)+V20)","v":0},null,null,"Balance 3"]
["Maneuver Total",{"$f":"SUM(B10:B23)","v":0},"Major Penalties",null,null,null,2,null,null,null,null,null,null,null,null,null,null,null,null,null,null,null,null,null,"Fitness & Condition"]
[null,null,"Penalty Total",{"$f":"SUM(C10:D24)","v":0},null,null,3,null,null,null,null,null,"Maneuver Total",{"$f":"SUM(N10:N22)","v":0},"Penalty Total",{"$f":"SUM(O11+O12+O13+O15+O16+O17+O18+O20+O21+O22+P23)","v":0},null,null,null,null,null,null,null,null,"Participant Showmanship"]
[null,null,null,null,null,null,"21 +/- Judge Score",{"$f":"SUM(H23:H25)","v":0},"Total Penalty Pts",{"$f":"SUM(J23:J25)","v":0},null,null,null,null,null,null,null,null,null,null,null,null,null,null,"Horse Showmanship"]
["100 +/-Maneuver",{"$f":"B24","v":0},"x .70 =",{"$f":"SUM((100+B27)*0.7)","v":70},null,null,"Maneuver Score",{"$f":"SUM(21+H26)","v":21},"Less Penalty Pts",{"$f":"J26","v":0},null,null,"70 +/-Maneuver",{"$f":"N25","v":0},"Less Penalty Total",{"$f":"P25","v":0},null,null,"70 +/-Maneuver",{"$f":"T23","v":0},"Less Penalty Total",{"$f":"V23","v":0},null,null,"Form & Showmanship Judges Score",null,"Total (1)",{"$f":"SUM(AB9:AB26)","v":0}]
[null,null,null,null,null,null,"CATTLE SCORE",null,null,{"$f":"SUM(H27+J27)","v":21},null,null,null,null,null,null,null,null,null,null,null,null,null,null,{"$f":"SUM(AB27*0.33+42)","v":42},{"$f":"IF(AA20=\"x\",-10,0)","v":0},"Judge Score (2)",{"$f":"SUM(Y28+Z28)","v":42}]
["Maneuver Score =",{"$f":"D27","v":70},"Less Penalty Total",{"$f":"D25","v":0},null,null,"Roping",null,null,null,null,null,null,null,null,null,null,null,null,null,null,null,null,null,"Ranch Cutting",{"$f":"IF(P31=\"\",0,P31)","v":0},"Ranch Rding",{"$f":"IF(D31=\"\",0,D31)","v":0}]
[null,null,null,null,null,null,1,null,"Penalty Points",null,null,null,null,null,null,null,null,null,null,null,null,null,null,null,"Working Ranch Horse",{"$f":"IF(J36=\"\",0,J36)","v":0},"Ranch Trail",{"$f":"IF(V31=\"\",0,V31)","v":0}]
["TOTAL SCORE",null,null,{"$f":"IF(D7=\"\",\"\",IF(B29+D29<0,0,B29+D29))","v":""},null,null,2,null,null,null,null,null,"TOTAL SCORE",null,null,{"$f":"IF(P7=\"\",\"\",IF(70+N27+P27<0,0,70+N27+P27))","v":""},null,null,"TOTAL SCORE",null,null,{"$f":"IF(V7=\"\",\"\",IF(70+T27+V27<0,0,70+T27+V27))","v":""},null,null,"Function Total (3)",{"$f":"SUM(Z29+AB29+Z30+AB30)","v":0},"Function Score (4)",{"$f":"Z31*0.1","v":0}]
[null,null,null,null,null,null,3,null,null,null,null,null,null,null,null,null,null,null,null,null,null,null,null,null,"Judge Score (2) + Function Score (4) = CONFORMATION SCORE",null,null,{"$f":"IF(AB7=\"\",\"\",IF(AB28+AB31<0,0,AB28+AB31))","v":""}]
[null,null,"Return to Entry Page",null,null,null,"21 +/- Judge Score",{"$f":"SUM(H30:H32)","v":0},"Total Penalty Pts",{"$f":"SUM(J30:J32)","v":0},null,null,null,null,"Return to Entry Page"]
[null,null,null,null,null,null,"Maneuver Score",{"$f":"SUM(21+H33)*1.1","v":23.1},"Less Penalty Pts",{"$f":"J33","v":0}]
[null,null,null,null,null,null,"ROPING SCORE",null,null,{"$f":"SUM(H34+J34)","v":23.1}]
[null,null,null,null,null,null,"TOTAL SCORE",null,null,{"$f":"IF(J7=\"\",\"\",IF(J21+J28+J35<0,0,J21+J28+J35))","v":""}]
[]
[null,null,null,null,null,null,null,null,"Return to Entry Page"]

{"sheet":"Open 17","index":101,"n_rows":38,"n_cols":28,"rows_kept":38,"cut":false,"hidden":false,"merged":[[34,6,34,8],[35,6,35,8],[27,0,27,3],[27,6,27,8],[27,12,29,15],[31,24,31,26],[23,0,24,0],[23,1,24,1],[23,18,25,21],[25,0,25,3],[25,12,25,15],[27,18,29,21],[29,0,29,3],[29,8,31,8],[30,0,30,2],[30,12,30,14],[30,18,30,20],[21,18,21,21],[22,2,22,3],[22,8,24,8],[22,12,23,13],[22,14,23,14],[22,15,23,15],[21,2,21,3],[21,14,21,15],[19,2,19,3],[19,14,19,15],[19,18,20,19],[19,20,20,20],[19,21,20,21],[20,2,20,3],[20,6,20,8],[20,14,20,15],[18,2,18,3],[18,12,18,15],[18,20,18,21],[17,2,17,3],[17,14,17,15],[17,20,17,21],[13,2,13,3],[13,8,14,9],[13,12,13,15],[13,20,13,21],[14,2,14,3],[14,14,14,15],[14,20,14,21],[15,2,15,3],[15,8,15,9],[15,14,15,15],[15,20,15,21],[16,2,16,3],[16,8,16,9],[16,14,16,15],[16,20,16,21],[11,2,11,3],[11,8,12,9],[11,14,11,15],[11,20,11,21],[12,2,12,3],[12,14,12,15],[12,20,12,21],[7,24,7,27],[9,2,9,3],[9,8,10,9],[9,12,9,15],[9,20,9,21],[10,2,10,3],[10,14,10,15],[10,20,10,21],[8,2,8,3],[8,8,8,9],[8,14,8,15],[8,20,8,21],[7,0,7,3],[7,6,7,9],[7,12,7,15],[7,18,7,21]]}
["RIDERS SCORE WORK SHEET"]
[]
["Back Number:",{"$f":"'Entry Information'!B102","v":0},null,null,null,null,"Back Number:",{"$f":"'Entry Information'!B102","v":0},null,null,null,null,"Back Number:",{"$f":"'Entry Information'!B102","v":0},null,null,null,null,"Back Number:",{"$f":"'Entry Information'!B102","v":0},null,null,null,null,"Back Number:",{"$f":"'Entry Information'!B102","v":0}]
["Name:",{"$f":"'Entry Information'!I102","v":0},{"$f":"'Entry Information'!H102","v":0},null,null,null,"Name:",{"$f":"'Entry Information'!I102","v":0},{"$f":"'Entry Information'!H102","v":0},null,null,null,"Name:",{"$f":"'Entry Information'!I102","v":0},{"$f":"'Entry Information'!H102","v":0},null,null,null,"Name:",{"$f":"'Entry Information'!I102","v":0},{"$f":"'Entry Information'!H102","v":0},null,null,null,"Name:",{"$f":"'Entry Information'!H102","v":0},{"$f":"'Entry Information'!I102","v":0}]
["Horse Name",{"$f":"'Entry Information'!J102","v":0},null,null,null,null,"Horse Name",{"$f":"'Entry Information'!J102","v":0},null,null,null,null,"Horse Name",{"$f":"'Entry Information'!J102","v":0},null,null,null,null,"Horse Name",{"$f":"'Entry Information'!J102","v":0},null,null,null,null,"Horse Name",{"$f":"'Entry Information'!J102","v":0}]
[]
["Check box when entering Ranch Riding scores",null,null,null,null,null,"Check box when entering Working Ranch Horse scores",null,null,null,null,null,"Check box when entering Ranch Cutting scores",null,null,null,null,null,"Check box when entering Ranch Trail scores",null,null,null,null,null,"Check box when entering Conformation scores"]
["Ranch Riding",null,null,null,null,null,"Working Ranch Horse",null,null,null,null,null,"Ranch Cutting",null,null,null,null,null,"Ranch Trail",null,null,null,null,null,"Ranch Conformation"]
["Maneuver","Judge's Score +/-","Penalty Points",null,null,null,"Maneuver","Judge's Score +/-","Penalty Points",null,null,null,"Maneuver","Judge's Score +/-","Penalty Points",null,null,null,"Maneuver","Judge's Score +/-","Penalty Points",null,null,null,"Front Legs, Feet"]
[1,null,null,null,null,null,1,null,null,null,null,null,"Herd Work",null,null,null,null,null,1,null,null,null,null,null,"Chest, Pectoral V"]
[2,null,null,null,null,null,2,null,null,null,null,null,1,null,null,null,null,null,2,null,null,null,null,null,"Head"]
[3,null,null,null,null,null,3,null,null,null,null,null,2,null,null,null,null,null,3,null,null,null,null,null,"Neck & Throat Latch"]
[4,null,null,null,null,null,4,null,null,null,null,null,3,null,null,null,null,null,4,null,null,null,null,null,"Shoulders & Withers"]
[5,null,null,null,null,null,5,null,null,null,null,null,"Cutting",null,null,null,null,null,5,null,null,null,null,null,"Heart Girth & Barrel"]
[6,null,null,null,null,null,6,null,null,null,null,null,1,null,null,null,null,null,6,null,null,null,null,null,"Back & Loin"]
[7,null,null,null,null,null,7,null,null,null,null,null,2,null,null,null,null,null,7,null,null,null,null,null,"Hip & Croup"]
[8,null,null,null,null,null,8,null,null,null,null,null,3,null,null,null,null,null,8,null,null,null,null,null,"Stife & Gaskin"]
[9,null,null,null,null,null,null,null,"Total Penalty Pts",{"$f":"SUM(I10:J17)","v":0},null,null,4,null,null,null,null,null,9,null,null,null,null,null,"Hock, Hind Legs, Feet"]
[10,null,null,null,null,null,"56 +/- Judge Score",{"$f":"SUM(H10:H17)","v":0},"Divided by 2",{"$f":"SUM((56+H19)/2)","v":28},null,null,"Penning",null,null,null,null,null,10,null,null,null,null,null,"Overall Muscling"]
[11,null,null,null,null,null,"Maneuver Score",{"$f":"J19","v":28},"Less Penalty Pts",{"$f":"J18","v":0},null,null,1,null,null,null,null,null,null,null,"Major Penalties",null,null,null,"Tracking","Lame: enter an \"x\""]
[12,null,null,null,null,null,"REINING SCORE",null,null,{"$f":"SUM(H20+J20)","v":28},null,null,2,null,null,null,null,null,null,null,null,null,null,null,"Balance 1"]
[13,null,null,null,null,null,"Working Cow Horse",null,null,null,null,null,3,null,null,null,null,null,null,null,null,null,null,null,"Balance 2"]
[14,null,null,null,null,null,1,null,"Penalty Points",null,null,null,null,null,"Major Penalties",null,null,null,"Maneuver Total",{"$f":"SUM(T10:T19)","v":0},"Penalty Total",{"$f":"SUM(SUM(U10:V19)+V20)","v":0},null,null,"Balance 3"]
["Maneuver Total",{"$f":"SUM(B10:B23)","v":0},"Major Penalties",null,null,null,2,null,null,null,null,null,null,null,null,null,null,null,null,null,null,null,null,null,"Fitness & Condition"]
[null,null,"Penalty Total",{"$f":"SUM(C10:D24)","v":0},null,null,3,null,null,null,null,null,"Maneuver Total",{"$f":"SUM(N10:N22)","v":0},"Penalty Total",{"$f":"SUM(O11+O12+O13+O15+O16+O17+O18+O20+O21+O22+P23)","v":0},null,null,null,null,null,null,null,null,"Participant Showmanship"]
[null,null,null,null,null,null,"21 +/- Judge Score",{"$f":"SUM(H23:H25)","v":0},"Total Penalty Pts",{"$f":"SUM(J23:J25)","v":0},null,null,null,null,null,null,null,null,null,null,null,null,null,null,"Horse Showmanship"]
["100 +/-Maneuver",{"$f":"B24","v":0},"x .70 =",{"$f":"SUM((100+B27)*0.7)","v":70},null,null,"Maneuver Score",{"$f":"SUM(21+H26)","v":21},"Less Penalty Pts",{"$f":"J26","v":0},null,null,"70 +/-Maneuver",{"$f":"N25","v":0},"Less Penalty Total",{"$f":"P25","v":0},null,null,"70 +/-Maneuver",{"$f":"T23","v":0},"Less Penalty Total",{"$f":"V23","v":0},null,null,"Form & Showmanship Judges Score",null,"Total (1)",{"$f":"SUM(AB9:AB26)","v":0}]
[null,null,null,null,null,null,"CATTLE SCORE",null,null,{"$f":"SUM(H27+J27)","v":21},null,null,null,null,null,null,null,null,null,null,null,null,null,null,{"$f":"SUM(AB27*0.33+42)","v":42},{"$f":"IF(AA20=\"x\",-10,0)","v":0},"Judge Score (2)",{"$f":"SUM(Y28+Z28)","v":42}]
["Maneuver Score =",{"$f":"D27","v":70},"Less Penalty Total",{"$f":"D25","v":0},null,null,"Roping",null,null,null,null,null,null,null,null,null,null,null,null,null,null,null,null,null,"Ranch Cutting",{"$f":"IF(P31=\"\",0,P31)","v":0},"Ranch Rding",{"$f":"IF(D31=\"\",0,D31)","v":0}]
[null,null,null,null,null,null,1,null,"Penalty Points",null,null,null,null,null,null,null,null,null,null,null,null,null,null,null,"Working Ranch Horse",{"$f":"IF(J36=\"\",0,J36)","v":0},"Ranch Trail",{"$f":"IF(V31=\"\",0,V31)","v":0}]
["TOTAL SCORE",null,null,{"$f":"IF(D7=\"\",\"\",IF(B29+D29<0,0,B29+D29))","v":""},null,null,2,null,null,null,null,null,"TOTAL SCORE",null,null,{"$f":"IF(P7=\"\",\"\",IF(70+N27+P27<0,0,70+N27+P27))","v":""},null,null,"TOTAL SCORE",null,null,{"$f":"IF(V7=\"\",\"\",IF(70+T27+V27<0,0,70+T27+V27))","v":""},null,null,"Function Total (3)",{"$f":"SUM(Z29+AB29+Z30+AB30)","v":0},"Function Score (4)",{"$f":"Z31*0.1","v":0}]
[null,null,null,null,null,null,3,null,null,null,null,null,null,null,null,null,null,null,null,null,null,null,null,null,"Judge Score (2) + Function Score (4) = CONFORMATION SCORE",null,null,{"$f":"IF(AB7=\"\",\"\",IF(AB28+AB31<0,0,AB28+AB31))","v":""}]
[null,null,"Return to Entry Page",null,null,null,"21 +/- Judge Score",{"$f":"SUM(H30:H32)","v":0},"Total Penalty Pts",{"$f":"SUM(J30:J32)","v":0},null,null,null,null,"Return to Entry Page",null,null,null,null,null,"Return to Entry Page"]
[null,null,null,null,null,null,"Maneuver Score",{"$f":"SUM(21+H33)*1.1","v":23.1},"Less Penalty Pts",{"$f":"J33","v":0},null,null,null,null,null,null,null,null,null,null,null,null,null,null,null,null,"Return to Entry Page"]
[null,null,null,null,null,null,"ROPING SCORE",null,null,{"$f":"SUM(H34+J34)","v":23.1}]
[null,null,null,null,null,null,"TOTAL SCORE",null,null,{"$f":"IF(J7=\"\",\"\",IF(J21+J28+J35<0,0,J21+J28+J35))","v":""}]
[]
[null,null,null,null,null,null,null,null,"Return to Entry Page"]

{"sheet":"Open 18","index":102,"n_rows":38,"n_cols":28,"rows_kept":38,"cut":false,"hidden":false,"merged":[[34,6,34,8],[35,6,35,8],[27,0,27,3],[27,6,27,8],[27,12,29,15],[31,24,31,26],[23,0,24,0],[23,1,24,1],[23,18,25,21],[25,0,25,3],[25,12,25,15],[27,18,29,21],[29,0,29,3],[29,8,31,8],[30,0,30,2],[30,12,30,14],[30,18,30,20],[21,18,21,21],[22,2,22,3],[22,8,24,8],[22,12,23,13],[22,14,23,14],[22,15,23,15],[21,2,21,3],[21,14,21,15],[19,2,19,3],[19,14,19,15],[19,18,20,19],[19,20,20,20],[19,21,20,21],[20,2,20,3],[20,6,20,8],[20,14,20,15],[18,2,18,3],[18,12,18,15],[18,20,18,21],[17,2,17,3],[17,14,17,15],[17,20,17,21],[13,2,13,3],[13,8,14,9],[13,12,13,15],[13,20,13,21],[14,2,14,3],[14,14,14,15],[14,20,14,21],[15,2,15,3],[15,8,15,9],[15,14,15,15],[15,20,15,21],[16,2,16,3],[16,8,16,9],[16,14,16,15],[16,20,16,21],[11,2,11,3],[11,8,12,9],[11,14,11,15],[11,20,11,21],[12,2,12,3],[12,14,12,15],[12,20,12,21],[7,24,7,27],[9,2,9,3],[9,8,10,9],[9,12,9,15],[9,20,9,21],[10,2,10,3],[10,14,10,15],[10,20,10,21],[8,2,8,3],[8,8,8,9],[8,14,8,15],[8,20,8,21],[7,0,7,3],[7,6,7,9],[7,12,7,15],[7,18,7,21]]}
["RIDERS SCORE WORK SHEET"]
[]
["Back Number:",{"$f":"'Entry Information'!B103","v":0},null,null,null,null,"Back Number:",{"$f":"'Entry Information'!B103","v":0},null,null,null,null,"Back Number:",{"$f":"'Entry Information'!B103","v":0},null,null,null,null,"Back Number:",{"$f":"'Entry Information'!B103","v":0},null,null,null,null,"Back Number:",{"$f":"'Entry Information'!B103","v":0}]
["Name:",{"$f":"'Entry Information'!I103","v":0},{"$f":"'Entry Information'!H103","v":0},null,null,null,"Name:",{"$f":"'Entry Information'!I103","v":0},{"$f":"'Entry Information'!H103","v":0},null,null,null,"Name:",{"$f":"'Entry Information'!I103","v":0},{"$f":"'Entry Information'!H103","v":0},null,null,null,"Name:",{"$f":"'Entry Information'!I103","v":0},{"$f":"'Entry Information'!H103","v":0},null,null,null,"Name:",{"$f":"'Entry Information'!H103","v":0},{"$f":"'Entry Information'!I103","v":0}]
["Horse Name",{"$f":"'Entry Information'!J103","v":0},null,null,null,null,"Horse Name",{"$f":"'Entry Information'!J103","v":0},null,null,null,null,"Horse Name",{"$f":"'Entry Information'!J103","v":0},null,null,null,null,"Horse Name",{"$f":"'Entry Information'!J103","v":0},null,null,null,null,"Horse Name",{"$f":"'Entry Information'!J103","v":0}]
[]
["Check box when entering Ranch Riding scores",null,null,null,null,null,"Check box when entering Working Ranch Horse scores",null,null,null,null,null,"Check box when entering Ranch Cutting scores",null,null,null,null,null,"Check box when entering Ranch Trail scores",null,null,null,null,null,"Check box when entering Conformation scores"]
["Ranch Riding",null,null,null,null,null,"Working Ranch Horse",null,null,null,null,null,"Ranch Cutting",null,null,null,null,null,"Ranch Trail",null,null,null,null,null,"Ranch Conformation"]
["Maneuver","Judge's Score +/-","Penalty Points",null,null,null,"Maneuver","Judge's Score +/-","Penalty Points",null,null,null,"Maneuver","Judge's Score +/-","Penalty Points",null,null,null,"Maneuver","Judge's Score +/-","Penalty Points",null,null,null,"Front Legs, Feet"]
[1,null,null,null,null,null,1,null,null,null,null,null,"Herd Work",null,null,null,null,null,1,null,null,null,null,null,"Chest, Pectoral V"]
[2,null,null,null,null,null,2,null,null,null,null,null,1,null,null,null,null,null,2,null,null,null,null,null,"Head"]
[3,null,null,null,null,null,3,null,null,null,null,null,2,null,null,null,null,null,3,null,null,null,null,null,"Neck & Throat Latch"]
[4,null,null,null,null,null,4,null,null,null,null,null,3,null,null,null,null,null,4,null,null,null,null,null,"Shoulders & Withers"]
[5,null,null,null,null,null,5,null,null,null,null,null,"Cutting",null,null,null,null,null,5,null,null,null,null,null,"Heart Girth & Barrel"]
[6,null,null,null,null,null,6,null,null,null,null,null,1,null,null,null,null,null,6,null,null,null,null,null,"Back & Loin"]
[7,null,null,null,null,null,7,null,null,null,null,null,2,null,null,null,null,null,7,null,null,null,null,null,"Hip & Croup"]
[8,null,null,null,null,null,8,null,null,null,null,null,3,null,null,null,null,null,8,null,null,null,null,null,"Stife & Gaskin"]
[9,null,null,null,null,null,null,null,"Total Penalty Pts",{"$f":"SUM(I10:J17)","v":0},null,null,4,null,null,null,null,null,9,null,null,null,null,null,"Hock, Hind Legs, Feet"]
[10,null,null,null,null,null,"56 +/- Judge Score",{"$f":"SUM(H10:H17)","v":0},"Divided by 2",{"$f":"SUM((56+H19)/2)","v":28},null,null,"Penning",null,null,null,null,null,10,null,null,null,null,null,"Overall Muscling"]
[11,null,null,null,null,null,"Maneuver Score",{"$f":"J19","v":28},"Less Penalty Pts",{"$f":"J18","v":0},null,null,1,null,null,null,null,null,null,null,"Major Penalties",null,null,null,"Tracking","Lame: enter an \"x\""]
[12,null,null,null,null,null,"REINING SCORE",null,null,{"$f":"SUM(H20+J20)","v":28},null,null,2,null,null,null,null,null,null,null,null,null,null,null,"Balance 1"]
[13,null,null,null,null,null,"Working Cow Horse",null,null,null,null,null,3,null,null,null,null,null,null,null,null,null,null,null,"Balance 2"]
[14,null,null,null,null,null,1,null,"Penalty Points",null,null,null,null,null,"Major Penalties",null,null,null,"Maneuver Total",{"$f":"SUM(T10:T19)","v":0},"Penalty Total",{"$f":"SUM(SUM(U10:V19)+V20)","v":0},null,null,"Balance 3"]
["Maneuver Total",{"$f":"SUM(B10:B23)","v":0},"Major Penalties",null,null,null,2,null,null,null,null,null,null,null,null,null,null,null,null,null,null,null,null,null,"Fitness & Condition"]
[null,null,"Penalty Total",{"$f":"SUM(C10:D24)","v":0},null,null,3,null,null,null,null,null,"Maneuver Total",{"$f":"SUM(N10:N22)","v":0},"Penalty Total",{"$f":"SUM(O11+O12+O13+O15+O16+O17+O18+O20+O21+O22+P23)","v":0},null,null,null,null,null,null,null,null,"Participant Showmanship"]
[null,null,null,null,null,null,"21 +/- Judge Score",{"$f":"SUM(H23:H25)","v":0},"Total Penalty Pts",{"$f":"SUM(J23:J25)","v":0},null,null,null,null,null,null,null,null,null,null,null,null,null,null,"Horse Showmanship"]
["100 +/-Maneuver",{"$f":"B24","v":0},"x .70 =",{"$f":"SUM((100+B27)*0.7)","v":70},null,null,"Maneuver Score",{"$f":"SUM(21+H26)","v":21},"Less Penalty Pts",{"$f":"J26","v":0},null,null,"70 +/-Maneuver",{"$f":"N25","v":0},"Less Penalty Total",{"$f":"P25","v":0},null,null,"70 +/-Maneuver",{"$f":"T23","v":0},"Less Penalty Total",{"$f":"V23","v":0},null,null,"Form & Showmanship Judges Score",null,"Total (1)",{"$f":"SUM(AB9:AB26)","v":0}]
[null,null,null,null,null,null,"CATTLE SCORE",null,null,{"$f":"SUM(H27+J27)","v":21},null,null,null,null,null,null,null,null,null,null,null,null,null,null,{"$f":"SUM(AB27*0.33+42)","v":42},{"$f":"IF(AA20=\"x\",-10,0)","v":0},"Judge Score (2)",{"$f":"SUM(Y28+Z28)","v":42}]
["Maneuver Score =",{"$f":"D27","v":70},"Less Penalty Total",{"$f":"D25","v":0},null,null,"Roping",null,null,null,null,null,null,null,null,null,null,null,null,null,null,null,null,null,"Ranch Cutting",{"$f":"IF(P31=\"\",0,P31)","v":0},"Ranch Rding",{"$f":"IF(D31=\"\",0,D31)","v":0}]
[null,null,null,null,null,null,1,null,"Penalty Points",null,null,null,null,null,null,null,null,null,null,null,null,null,null,null,"Working Ranch Horse",{"$f":"IF(J36=\"\",0,J36)","v":0},"Ranch Trail",{"$f":"IF(V31=\"\",0,V31)","v":0}]
["TOTAL SCORE",null,null,{"$f":"IF(D7=\"\",\"\",IF(B29+D29<0,0,B29+D29))","v":""},null,null,2,null,null,null,null,null,"TOTAL SCORE",null,null,{"$f":"IF(P7=\"\",\"\",IF(70+N27+P27<0,0,70+N27+P27))","v":""},null,null,"TOTAL SCORE",null,null,{"$f":"IF(V7=\"\",\"\",IF(70+T27+V27<0,0,70+T27+V27))","v":""},null,null,"Function Total (3)",{"$f":"SUM(Z29+AB29+Z30+AB30)","v":0},"Function Score (4)",{"$f":"Z31*0.1","v":0}]
[null,null,null,null,null,null,3,null,null,null,null,null,null,null,null,null,null,null,null,null,null,null,null,null,"Judge Score (2) + Function Score (4) = CONFORMATION SCORE",null,null,{"$f":"IF(AB7=\"\",\"\",IF(AB28+AB31<0,0,AB28+AB31))","v":""}]
[null,null,"Return to Entry Page",null,null,null,"21 +/- Judge Score",{"$f":"SUM(H30:H32)","v":0},"Total Penalty Pts",{"$f":"SUM(J30:J32)","v":0},null,null,null,null,"Return to Entry Page",null,null,null,null,null,"Return to Entry Page"]
[null,null,null,null,null,null,"Maneuver Score",{"$f":"SUM(21+H33)*1.1","v":23.1},"Less Penalty Pts",{"$f":"J33","v":0},null,null,null,null,null,null,null,null,null,null,null,null,null,null,null,null,"Return to Entry Page"]
[null,null,null,null,null,null,"ROPING SCORE",null,null,{"$f":"SUM(H34+J34)","v":23.1}]
[null,null,null,null,null,null,"TOTAL SCORE",null,null,{"$f":"IF(J7=\"\",\"\",IF(J21+J28+J35<0,0,J21+J28+J35))","v":""}]
[]
[null,null,null,null,null,null,null,null,"Return to Entry Page"]

{"sheet":"Open 19","index":103,"n_rows":38,"n_cols":28,"rows_kept":38,"cut":false,"hidden":false,"merged":[[34,6,34,8],[35,6,35,8],[27,0,27,3],[27,6,27,8],[27,12,29,15],[31,24,31,26],[23,0,24,0],[23,1,24,1],[23,18,25,21],[25,0,25,3],[25,12,25,15],[27,18,29,21],[29,0,29,3],[29,8,31,8],[30,0,30,2],[30,12,30,14],[30,18,30,20],[21,18,21,21],[22,2,22,3],[22,8,24,8],[22,12,23,13],[22,14,23,14],[22,15,23,15],[21,2,21,3],[21,14,21,15],[19,2,19,3],[19,14,19,15],[19,18,20,19],[19,20,20,20],[19,21,20,21],[20,2,20,3],[20,6,20,8],[20,14,20,15],[18,2,18,3],[18,12,18,15],[18,20,18,21],[17,2,17,3],[17,14,17,15],[17,20,17,21],[13,2,13,3],[13,8,14,9],[13,12,13,15],[13,20,13,21],[14,2,14,3],[14,14,14,15],[14,20,14,21],[15,2,15,3],[15,8,15,9],[15,14,15,15],[15,20,15,21],[16,2,16,3],[16,8,16,9],[16,14,16,15],[16,20,16,21],[11,2,11,3],[11,8,12,9],[11,14,11,15],[11,20,11,21],[12,2,12,3],[12,14,12,15],[12,20,12,21],[7,24,7,27],[9,2,9,3],[9,8,10,9],[9,12,9,15],[9,20,9,21],[10,2,10,3],[10,14,10,15],[10,20,10,21],[8,2,8,3],[8,8,8,9],[8,14,8,15],[8,20,8,21],[7,0,7,3],[7,6,7,9],[7,12,7,15],[7,18,7,21]]}
["RIDERS SCORE WORK SHEET"]
[]
["Back Number:",{"$f":"'Entry Information'!B104","v":0},null,null,null,null,"Back Number:",{"$f":"'Entry Information'!B104","v":0},null,null,null,null,"Back Number:",{"$f":"'Entry Information'!B104","v":0},null,null,null,null,"Back Number:",{"$f":"'Entry Information'!B104","v":0},null,null,null,null,"Back Number:",{"$f":"'Entry Information'!B104","v":0}]
["Name:",{"$f":"'Entry Information'!I104","v":0},{"$f":"'Entry Information'!H104","v":0},null,null,null,"Name:",{"$f":"'Entry Information'!I104","v":0},{"$f":"'Entry Information'!H104","v":0},null,null,null,"Name:",{"$f":"'Entry Information'!I104","v":0},{"$f":"'Entry Information'!H104","v":0},null,null,null,"Name:",{"$f":"'Entry Information'!I104","v":0},{"$f":"'Entry Information'!H104","v":0},null,null,null,"Name:",{"$f":"'Entry Information'!H104","v":0},{"$f":"'Entry Information'!I104","v":0}]
["Horse Name",{"$f":"'Entry Information'!J104","v":0},null,null,null,null,"Horse Name",{"$f":"'Entry Information'!J104","v":0},null,null,null,null,"Horse Name",{"$f":"'Entry Information'!J104","v":0},null,null,null,null,"Horse Name",{"$f":"'Entry Information'!J104","v":0},null,null,null,null,"Horse Name",{"$f":"'Entry Information'!J104","v":0}]
[]
["Check box when entering Ranch Riding scores",null,null,null,null,null,"Check box when entering Working Ranch Horse scores",null,null,null,null,null,"Check box when entering Ranch Cutting scores",null,null,null,null,null,"Check box when entering Ranch Trail scores",null,null,null,null,null,"Check box when entering Conformation scores"]
["Ranch Riding",null,null,null,null,null,"Working Ranch Horse",null,null,null,null,null,"Ranch Cutting",null,null,null,null,null,"Ranch Trail",null,null,null,null,null,"Ranch Conformation"]
["Maneuver","Judge's Score +/-","Penalty Points",null,null,null,"Maneuver","Judge's Score +/-","Penalty Points",null,null,null,"Maneuver","Judge's Score +/-","Penalty Points",null,null,null,"Maneuver","Judge's Score +/-","Penalty Points",null,null,null,"Front Legs, Feet"]
[1,null,null,null,null,null,1,null,null,null,null,null,"Herd Work",null,null,null,null,null,1,null,null,null,null,null,"Chest, Pectoral V"]
[2,null,null,null,null,null,2,null,null,null,null,null,1,null,null,null,null,null,2,null,null,null,null,null,"Head"]
[3,null,null,null,null,null,3,null,null,null,null,null,2,null,null,null,null,null,3,null,null,null,null,null,"Neck & Throat Latch"]
[4,null,null,null,null,null,4,null,null,null,null,null,3,null,null,null,null,null,4,null,null,null,null,null,"Shoulders & Withers"]
[5,null,null,null,null,null,5,null,null,null,null,null,"Cutting",null,null,null,null,null,5,null,null,null,null,null,"Heart Girth & Barrel"]
[6,null,null,null,null,null,6,null,null,null,null,null,1,null,null,null,null,null,6,null,null,null,null,null,"Back & Loin"]
[7,null,null,null,null,null,7,null,null,null,null,null,2,null,null,null,null,null,7,null,null,null,null,null,"Hip & Croup"]
[8,null,null,null,null,null,8,null,null,null,null,null,3,null,null,null,null,null,8,null,null,null,null,null,"Stife & Gaskin"]
[9,null,null,null,null,null,null,null,"Total Penalty Pts",{"$f":"SUM(I10:J17)","v":0},null,null,4,null,null,null,null,null,9,null,null,null,null,null,"Hock, Hind Legs, Feet"]
[10,null,null,null,null,null,"56 +/- Judge Score",{"$f":"SUM(H10:H17)","v":0},"Divided by 2",{"$f":"SUM((56+H19)/2)","v":28},null,null,"Penning",null,null,null,null,null,10,null,null,null,null,null,"Overall Muscling"]
[11,null,null,null,null,null,"Maneuver Score",{"$f":"J19","v":28},"Less Penalty Pts",{"$f":"J18","v":0},null,null,1,null,null,null,null,null,null,null,"Major Penalties",null,null,null,"Tracking","Lame: enter an \"x\""]
[12,null,null,null,null,null,"REINING SCORE",null,null,{"$f":"SUM(H20+J20)","v":28},null,null,2,null,null,null,null,null,null,null,null,null,null,null,"Balance 1"]
[13,null,null,null,null,null,"Working Cow Horse",null,null,null,null,null,3,null,null,null,null,null,null,null,null,null,null,null,"Balance 2"]
[14,null,null,null,null,null,1,null,"Penalty Points",null,null,null,null,null,"Major Penalties",null,null,null,"Maneuver Total",{"$f":"SUM(T10:T19)","v":0},"Penalty Total",{"$f":"SUM(SUM(U10:V19)+V20)","v":0},null,null,"Balance 3"]
["Maneuver Total",{"$f":"SUM(B10:B23)","v":0},"Major Penalties",null,null,null,2,null,null,null,null,null,null,null,null,null,null,null,null,null,null,null,null,null,"Fitness & Condition"]
[null,null,"Penalty Total",{"$f":"SUM(C10:D24)","v":0},null,null,3,null,null,null,null,null,"Maneuver Total",{"$f":"SUM(N10:N22)","v":0},"Penalty Total",{"$f":"SUM(O11+O12+O13+O15+O16+O17+O18+O20+O21+O22+P23)","v":0},null,null,null,null,null,null,null,null,"Participant Showmanship"]
[null,null,null,null,null,null,"21 +/- Judge Score",{"$f":"SUM(H23:H25)","v":0},"Total Penalty Pts",{"$f":"SUM(J23:J25)","v":0},null,null,null,null,null,null,null,null,null,null,null,null,null,null,"Horse Showmanship"]
["100 +/-Maneuver",{"$f":"B24","v":0},"x .70 =",{"$f":"SUM((100+B27)*0.7)","v":70},null,null,"Maneuver Score",{"$f":"SUM(21+H26)","v":21},"Less Penalty Pts",{"$f":"J26","v":0},null,null,"70 +/-Maneuver",{"$f":"N25","v":0},"Less Penalty Total",{"$f":"P25","v":0},null,null,"70 +/-Maneuver",{"$f":"T23","v":0},"Less Penalty Total",{"$f":"V23","v":0},null,null,"Form & Showmanship Judges Score",null,"Total (1)",{"$f":"SUM(AB9:AB26)","v":0}]
[null,null,null,null,null,null,"CATTLE SCORE",null,null,{"$f":"SUM(H27+J27)","v":21},null,null,null,null,null,null,null,null,null,null,null,null,null,null,{"$f":"SUM(AB27*0.33+42)","v":42},{"$f":"IF(AA20=\"x\",-10,0)","v":0},"Judge Score (2)",{"$f":"SUM(Y28+Z28)","v":42}]
["Maneuver Score =",{"$f":"D27","v":70},"Less Penalty Total",{"$f":"D25","v":0},null,null,"Roping",null,null,null,null,null,null,null,null,null,null,null,null,null,null,null,null,null,"Ranch Cutting",{"$f":"IF(P31=\"\",0,P31)","v":0},"Ranch Rding",{"$f":"IF(D31=\"\",0,D31)","v":0}]
[null,null,null,null,null,null,1,null,"Penalty Points",null,null,null,null,null,null,null,null,null,null,null,null,null,null,null,"Working Ranch Horse",{"$f":"IF(J36=\"\",0,J36)","v":0},"Ranch Trail",{"$f":"IF(V31=\"\",0,V31)","v":0}]
["TOTAL SCORE",null,null,{"$f":"IF(D7=\"\",\"\",IF(B29+D29<0,0,B29+D29))","v":""},null,null,2,null,null,null,null,null,"TOTAL SCORE",null,null,{"$f":"IF(P7=\"\",\"\",IF(70+N27+P27<0,0,70+N27+P27))","v":""},null,null,"TOTAL SCORE",null,null,{"$f":"IF(V7=\"\",\"\",IF(70+T27+V27<0,0,70+T27+V27))","v":""},null,null,"Function Total (3)",{"$f":"SUM(Z29+AB29+Z30+AB30)","v":0},"Function Score (4)",{"$f":"Z31*0.1","v":0}]
[null,null,null,null,null,null,3,null,null,null,null,null,null,null,null,null,null,null,null,null,null,null,null,null,"Judge Score (2) + Function Score (4) = CONFORMATION SCORE",null,null,{"$f":"IF(AB7=\"\",\"\",IF(AB28+AB31<0,0,AB28+AB31))","v":""}]
[null,null,"Return to Entry Page",null,null,null,"21 +/- Judge Score",{"$f":"SUM(H30:H32)","v":0},"Total Penalty Pts",{"$f":"SUM(J30:J32)","v":0},null,null,null,null,"Return to Entry Page",null,null,null,null,null,"Return to Entry Page"]
[null,null,null,null,null,null,"Maneuver Score",{"$f":"SUM(21+H33)*1.1","v":23.1},"Less Penalty Pts",{"$f":"J33","v":0},null,null,null,null,null,null,null,null,null,null,null,null,null,null,null,null,"Return to Entry Page"]
[null,null,null,null,null,null,"ROPING SCORE",null,null,{"$f":"SUM(H34+J34)","v":23.1}]
[null,null,null,null,null,null,"TOTAL SCORE",null,null,{"$f":"IF(J7=\"\",\"\",IF(J21+J28+J35<0,0,J21+J28+J35))","v":""}]
[]
[null,null,null,null,null,null,null,null,"Return to Entry Page"]

{"sheet":"Open 20","index":104,"n_rows":38,"n_cols":28,"rows_kept":38,"cut":false,"hidden":false,"merged":[[34,6,34,8],[35,6,35,8],[27,0,27,3],[27,6,27,8],[27,12,29,15],[31,24,31,26],[23,0,24,0],[23,1,24,1],[23,18,25,21],[25,0,25,3],[25,12,25,15],[27,18,29,21],[29,0,29,3],[29,8,31,8],[30,0,30,2],[30,12,30,14],[30,18,30,20],[21,18,21,21],[22,2,22,3],[22,8,24,8],[22,12,23,13],[22,14,23,14],[22,15,23,15],[21,2,21,3],[21,14,21,15],[19,2,19,3],[19,14,19,15],[19,18,20,19],[19,20,20,20],[19,21,20,21],[20,2,20,3],[20,6,20,8],[20,14,20,15],[18,2,18,3],[18,12,18,15],[18,20,18,21],[17,2,17,3],[17,14,17,15],[17,20,17,21],[13,2,13,3],[13,8,14,9],[13,12,13,15],[13,20,13,21],[14,2,14,3],[14,14,14,15],[14,20,14,21],[15,2,15,3],[15,8,15,9],[15,14,15,15],[15,20,15,21],[16,2,16,3],[16,8,16,9],[16,14,16,15],[16,20,16,21],[11,2,11,3],[11,8,12,9],[11,14,11,15],[11,20,11,21],[12,2,12,3],[12,14,12,15],[12,20,12,21],[7,24,7,27],[9,2,9,3],[9,8,10,9],[9,12,9,15],[9,20,9,21],[10,2,10,3],[10,14,10,15],[10,20,10,21],[8,2,8,3],[8,8,8,9],[8,14,8,15],[8,20,8,21],[7,0,7,3],[7,6,7,9],[7,12,7,15],[7,18,7,21]]}
["RIDERS SCORE WORK SHEET"]
[]
["Back Number:",{"$f":"'Entry Information'!B105","v":0},null,null,null,null,"Back Number:",{"$f":"'Entry Information'!B105","v":0},null,null,null,null,"Back Number:",{"$f":"'Entry Information'!B105","v":0},null,null,null,null,"Back Number:",{"$f":"'Entry Information'!B105","v":0},null,null,null,null,"Back Number:",{"$f":"'Entry Information'!B105","v":0}]
["Name:",{"$f":"'Entry Information'!I105","v":0},{"$f":"'Entry Information'!H105","v":0},null,null,null,"Name:",{"$f":"'Entry Information'!I105","v":0},{"$f":"'Entry Information'!H105","v":0},null,null,null,"Name:",{"$f":"'Entry Information'!I105","v":0},{"$f":"'Entry Information'!H105","v":0},null,null,null,"Name:",{"$f":"'Entry Information'!I105","v":0},{"$f":"'Entry Information'!H105","v":0},null,null,null,"Name:",{"$f":"'Entry Information'!H105","v":0},{"$f":"'Entry Information'!I105","v":0}]
["Horse Name",{"$f":"'Entry Information'!J105","v":0},null,null,null,null,"Horse Name",{"$f":"'Entry Information'!J105","v":0},null,null,null,null,"Horse Name",{"$f":"'Entry Information'!J105","v":0},null,null,null,null,"Horse Name",{"$f":"'Entry Information'!J105","v":0},null,null,null,null,"Horse Name",{"$f":"'Entry Information'!J105","v":0}]
[]
["Check box when entering Ranch Riding scores",null,null,null,null,null,"Check box when entering Working Ranch Horse scores",null,null,null,null,null,"Check box when entering Ranch Cutting scores",null,null,null,null,null,"Check box when entering Ranch Trail scores",null,null,null,null,null,"Check box when entering Conformation scores"]
["Ranch Riding",null,null,null,null,null,"Working Ranch Horse",null,null,null,null,null,"Ranch Cutting",null,null,null,null,null,"Ranch Trail",null,null,null,null,null,"Ranch Conformation"]
["Maneuver","Judge's Score +/-","Penalty Points",null,null,null,"Maneuver","Judge's Score +/-","Penalty Points",null,null,null,"Maneuver","Judge's Score +/-","Penalty Points",null,null,null,"Maneuver","Judge's Score +/-","Penalty Points",null,null,null,"Front Legs, Feet"]
[1,null,null,null,null,null,1,null,null,null,null,null,"Herd Work",null,null,null,null,null,1,null,null,null,null,null,"Chest, Pectoral V"]
[2,null,null,null,null,null,2,null,null,null,null,null,1,null,null,null,null,null,2,null,null,null,null,null,"Head"]
[3,null,null,null,null,null,3,null,null,null,null,null,2,null,null,null,null,null,3,null,null,null,null,null,"Neck & Throat Latch"]
[4,null,null,null,null,null,4,null,null,null,null,null,3,null,null,null,null,null,4,null,null,null,null,null,"Shoulders & Withers"]
[5,null,null,null,null,null,5,null,null,null,null,null,"Cutting",null,null,null,null,null,5,null,null,null,null,null,"Heart Girth & Barrel"]
[6,null,null,null,null,null,6,null,null,null,null,null,1,null,null,null,null,null,6,null,null,null,null,null,"Back & Loin"]
[7,null,null,null,null,null,7,null,null,null,null,null,2,null,null,null,null,null,7,null,null,null,null,null,"Hip & Croup"]
[8,null,null,null,null,null,8,null,null,null,null,null,3,null,null,null,null,null,8,null,null,null,null,null,"Stife & Gaskin"]
[9,null,null,null,null,null,null,null,"Total Penalty Pts",{"$f":"SUM(I10:J17)","v":0},null,null,4,null,null,null,null,null,9,null,null,null,null,null,"Hock, Hind Legs, Feet"]
[10,null,null,null,null,null,"56 +/- Judge Score",{"$f":"SUM(H10:H17)","v":0},"Divided by 2",{"$f":"SUM((56+H19)/2)","v":28},null,null,"Penning",null,null,null,null,null,10,null,null,null,null,null,"Overall Muscling"]
[11,null,null,null,null,null,"Maneuver Score",{"$f":"J19","v":28},"Less Penalty Pts",{"$f":"J18","v":0},null,null,1,null,null,null,null,null,null,null,"Major Penalties",null,null,null,"Tracking","Lame: enter an \"x\""]
[12,null,null,null,null,null,"REINING SCORE",null,null,{"$f":"SUM(H20+J20)","v":28},null,null,2,null,null,null,null,null,null,null,null,null,null,null,"Balance 1"]
[13,null,null,null,null,null,"Working Cow Horse",null,null,null,null,null,3,null,null,null,null,null,null,null,null,null,null,null,"Balance 2"]
[14,null,null,null,null,null,1,null,"Penalty Points",null,null,null,null,null,"Major Penalties",null,null,null,"Maneuver Total",{"$f":"SUM(T10:T19)","v":0},"Penalty Total",{"$f":"SUM(SUM(U10:V19)+V20)","v":0},null,null,"Balance 3"]
["Maneuver Total",{"$f":"SUM(B10:B23)","v":0},"Major Penalties",null,null,null,2,null,null,null,null,null,null,null,null,null,null,null,null,null,null,null,null,null,"Fitness & Condition"]
[null,null,"Penalty Total",{"$f":"SUM(C10:D24)","v":0},null,null,3,null,null,null,null,null,"Maneuver Total",{"$f":"SUM(N10:N22)","v":0},"Penalty Total",{"$f":"SUM(O11+O12+O13+O15+O16+O17+O18+O20+O21+O22+P23)","v":0},null,null,null,null,null,null,null,null,"Participant Showmanship"]
[null,null,null,null,null,null,"21 +/- Judge Score",{"$f":"SUM(H23:H25)","v":0},"Total Penalty Pts",{"$f":"SUM(J23:J25)","v":0},null,null,null,null,null,null,null,null,null,null,null,null,null,null,"Horse Showmanship"]
["100 +/-Maneuver",{"$f":"B24","v":0},"x .70 =",{"$f":"SUM((100+B27)*0.7)","v":70},null,null,"Maneuver Score",{"$f":"SUM(21+H26)","v":21},"Less Penalty Pts",{"$f":"J26","v":0},null,null,"70 +/-Maneuver",{"$f":"N25","v":0},"Less Penalty Total",{"$f":"P25","v":0},null,null,"70 +/-Maneuver",{"$f":"T23","v":0},"Less Penalty Total",{"$f":"V23","v":0},null,null,"Form & Showmanship Judges Score",null,"Total (1)",{"$f":"SUM(AB9:AB26)","v":0}]
[null,null,null,null,null,null,"CATTLE SCORE",null,null,{"$f":"SUM(H27+J27)","v":21},null,null,null,null,null,null,null,null,null,null,null,null,null,null,{"$f":"SUM(AB27*0.33+42)","v":42},{"$f":"IF(AA20=\"x\",-10,0)","v":0},"Judge Score (2)",{"$f":"SUM(Y28+Z28)","v":42}]
["Maneuver Score =",{"$f":"D27","v":70},"Less Penalty Total",{"$f":"D25","v":0},null,null,"Roping",null,null,null,null,null,null,null,null,null,null,null,null,null,null,null,null,null,"Ranch Cutting",{"$f":"IF(P31=\"\",0,P31)","v":0},"Ranch Rding",{"$f":"IF(D31=\"\",0,D31)","v":0}]
[null,null,null,null,null,null,1,null,"Penalty Points",null,null,null,null,null,null,null,null,null,null,null,null,null,null,null,"Working Ranch Horse",{"$f":"IF(J36=\"\",0,J36)","v":0},"Ranch Trail",{"$f":"IF(V31=\"\",0,V31)","v":0}]
["TOTAL SCORE",null,null,{"$f":"IF(D7=\"\",\"\",IF(B29+D29<0,0,B29+D29))","v":""},null,null,2,null,null,null,null,null,"TOTAL SCORE",null,null,{"$f":"IF(P7=\"\",\"\",IF(70+N27+P27<0,0,70+N27+P27))","v":""},null,null,"TOTAL SCORE",null,null,{"$f":"IF(V7=\"\",\"\",IF(70+T27+V27<0,0,70+T27+V27))","v":""},null,null,"Function Total (3)",{"$f":"SUM(Z29+AB29+Z30+AB30)","v":0},"Function Score (4)",{"$f":"Z31*0.1","v":0}]
[null,null,null,null,null,null,3,null,null,null,null,null,null,null,null,null,null,null,null,null,null,null,null,null,"Judge Score (2) + Function Score (4) = CONFORMATION SCORE",null,null,{"$f":"IF(AB7=\"\",\"\",IF(AB28+AB31<0,0,AB28+AB31))","v":""}]
[null,null,"Return to Entry Page",null,null,null,"21 +/- Judge Score",{"$f":"SUM(H30:H32)","v":0},"Total Penalty Pts",{"$f":"SUM(J30:J32)","v":0},null,null,null,null,"Return to Entry Page",null,null,null,null,null,"Return to Entry Page"]
[null,null,null,null,null,null,"Maneuver Score",{"$f":"SUM(21+H33)*1.1","v":23.1},"Less Penalty Pts",{"$f":"J33","v":0},null,null,null,null,null,null,null,null,null,null,null,null,null,null,null,null,"Return to Entry Page"]
[null,null,null,null,null,null,"ROPING SCORE",null,null,{"$f":"SUM(H34+J34)","v":23.1}]
[null,null,null,null,null,null,"TOTAL SCORE",null,null,{"$f":"IF(J7=\"\",\"\",IF(J21+J28+J35<0,0,J21+J28+J35))","v":""}]
[]
[null,null,null,null,null,null,null,null,"Return to Entry Page"]

{"sheet":"Open 21","index":105,"n_rows":38,"n_cols":28,"rows_kept":38,"cut":false,"hidden":false,"merged":[[34,6,34,8],[35,6,35,8],[27,0,27,3],[27,6,27,8],[27,12,29,15],[31,24,31,26],[23,0,24,0],[23,1,24,1],[23,18,25,21],[25,0,25,3],[25,12,25,15],[27,18,29,21],[29,0,29,3],[29,8,31,8],[30,0,30,2],[30,12,30,14],[30,18,30,20],[21,18,21,21],[22,2,22,3],[22,8,24,8],[22,12,23,13],[22,14,23,14],[22,15,23,15],[21,2,21,3],[21,14,21,15],[19,2,19,3],[19,14,19,15],[19,18,20,19],[19,20,20,20],[19,21,20,21],[20,2,20,3],[20,6,20,8],[20,14,20,15],[18,2,18,3],[18,12,18,15],[18,20,18,21],[17,2,17,3],[17,14,17,15],[17,20,17,21],[13,2,13,3],[13,8,14,9],[13,12,13,15],[13,20,13,21],[14,2,14,3],[14,14,14,15],[14,20,14,21],[15,2,15,3],[15,8,15,9],[15,14,15,15],[15,20,15,21],[16,2,16,3],[16,8,16,9],[16,14,16,15],[16,20,16,21],[11,2,11,3],[11,8,12,9],[11,14,11,15],[11,20,11,21],[12,2,12,3],[12,14,12,15],[12,20,12,21],[7,24,7,27],[9,2,9,3],[9,8,10,9],[9,12,9,15],[9,20,9,21],[10,2,10,3],[10,14,10,15],[10,20,10,21],[8,2,8,3],[8,8,8,9],[8,14,8,15],[8,20,8,21],[7,0,7,3],[7,6,7,9],[7,12,7,15],[7,18,7,21]]}
["RIDERS SCORE WORK SHEET"]
[]
["Back Number:",{"$f":"'Entry Information'!B106","v":0},null,null,null,null,"Back Number:",{"$f":"'Entry Information'!B106","v":0},null,null,null,null,"Back Number:",{"$f":"'Entry Information'!B106","v":0},null,null,null,null,"Back Number:",{"$f":"'Entry Information'!B106","v":0},null,null,null,null,"Back Number:",{"$f":"'Entry Information'!B106","v":0}]
["Name:",{"$f":"'Entry Information'!I106","v":0},{"$f":"'Entry Information'!H106","v":0},null,null,null,"Name:",{"$f":"'Entry Information'!I106","v":0},{"$f":"'Entry Information'!H106","v":0},null,null,null,"Name:",{"$f":"'Entry Information'!I106","v":0},{"$f":"'Entry Information'!H106","v":0},null,null,null,"Name:",{"$f":"'Entry Information'!I106","v":0},{"$f":"'Entry Information'!H106","v":0},null,null,null,"Name:",{"$f":"'Entry Information'!H106","v":0},{"$f":"'Entry Information'!I106","v":0}]
["Horse Name",{"$f":"'Entry Information'!J106","v":0},null,null,null,null,"Horse Name",{"$f":"'Entry Information'!J106","v":0},null,null,null,null,"Horse Name",{"$f":"'Entry Information'!J106","v":0},null,null,null,null,"Horse Name",{"$f":"'Entry Information'!J106","v":0},null,null,null,null,"Horse Name",{"$f":"'Entry Information'!J106","v":0}]
[]
["Check box when entering Ranch Riding scores",null,null,null,null,null,"Check box when entering Working Ranch Horse scores",null,null,null,null,null,"Check box when entering Ranch Cutting scores",null,null,null,null,null,"Check box when entering Ranch Trail scores",null,null,null,null,null,"Check box when entering Conformation scores"]
["Ranch Riding",null,null,null,null,null,"Working Ranch Horse",null,null,null,null,null,"Ranch Cutting",null,null,null,null,null,"Ranch Trail",null,null,null,null,null,"Ranch Conformation"]
["Maneuver","Judge's Score +/-","Penalty Points",null,null,null,"Maneuver","Judge's Score +/-","Penalty Points",null,null,null,"Maneuver","Judge's Score +/-","Penalty Points",null,null,null,"Maneuver","Judge's Score +/-","Penalty Points",null,null,null,"Front Legs, Feet"]
[1,null,null,null,null,null,1,null,null,null,null,null,"Herd Work",null,null,null,null,null,1,null,null,null,null,null,"Chest, Pectoral V"]
[2,null,null,null,null,null,2,null,null,null,null,null,1,null,null,null,null,null,2,null,null,null,null,null,"Head"]
[3,null,null,null,null,null,3,null,null,null,null,null,2,null,null,null,null,null,3,null,null,null,null,null,"Neck & Throat Latch"]
[4,null,null,null,null,null,4,null,null,null,null,null,3,null,null,null,null,null,4,null,null,null,null,null,"Shoulders & Withers"]
[5,null,null,null,null,null,5,null,null,null,null,null,"Cutting",null,null,null,null,null,5,null,null,null,null,null,"Heart Girth & Barrel"]
[6,null,null,null,null,null,6,null,null,null,null,null,1,null,null,null,null,null,6,null,null,null,null,null,"Back & Loin"]
[7,null,null,null,null,null,7,null,null,null,null,null,2,null,null,null,null,null,7,null,null,null,null,null,"Hip & Croup"]
[8,null,null,null,null,null,8,null,null,null,null,null,3,null,null,null,null,null,8,null,null,null,null,null,"Stife & Gaskin"]
[9,null,null,null,null,null,null,null,"Total Penalty Pts",{"$f":"SUM(I10:J17)","v":0},null,null,4,null,null,null,null,null,9,null,null,null,null,null,"Hock, Hind Legs, Feet"]
[10,null,null,null,null,null,"56 +/- Judge Score",{"$f":"SUM(H10:H17)","v":0},"Divided by 2",{"$f":"SUM((56+H19)/2)","v":28},null,null,"Penning",null,null,null,null,null,10,null,null,null,null,null,"Overall Muscling"]
[11,null,null,null,null,null,"Maneuver Score",{"$f":"J19","v":28},"Less Penalty Pts",{"$f":"J18","v":0},null,null,1,null,null,null,null,null,null,null,"Major Penalties",null,null,null,"Tracking","Lame: enter an \"x\""]
[12,null,null,null,null,null,"REINING SCORE",null,null,{"$f":"SUM(H20+J20)","v":28},null,null,2,null,null,null,null,null,null,null,null,null,null,null,"Balance 1"]
[13,null,null,null,null,null,"Working Cow Horse",null,null,null,null,null,3,null,null,null,null,null,null,null,null,null,null,null,"Balance 2"]
[14,null,null,null,null,null,1,null,"Penalty Points",null,null,null,null,null,"Major Penalties",null,null,null,"Maneuver Total",{"$f":"SUM(T10:T19)","v":0},"Penalty Total",{"$f":"SUM(SUM(U10:V19)+V20)","v":0},null,null,"Balance 3"]
["Maneuver Total",{"$f":"SUM(B10:B23)","v":0},"Major Penalties",null,null,null,2,null,null,null,null,null,null,null,null,null,null,null,null,null,null,null,null,null,"Fitness & Condition"]
[null,null,"Penalty Total",{"$f":"SUM(C10:D24)","v":0},null,null,3,null,null,null,null,null,"Maneuver Total",{"$f":"SUM(N10:N22)","v":0},"Penalty Total",{"$f":"SUM(O11+O12+O13+O15+O16+O17+O18+O20+O21+O22+P23)","v":0},null,null,null,null,null,null,null,null,"Participant Showmanship"]
[null,null,null,null,null,null,"21 +/- Judge Score",{"$f":"SUM(H23:H25)","v":0},"Total Penalty Pts",{"$f":"SUM(J23:J25)","v":0},null,null,null,null,null,null,null,null,null,null,null,null,null,null,"Horse Showmanship"]
["100 +/-Maneuver",{"$f":"B24","v":0},"x .70 =",{"$f":"SUM((100+B27)*0.7)","v":70},null,null,"Maneuver Score",{"$f":"SUM(21+H26)","v":21},"Less Penalty Pts",{"$f":"J26","v":0},null,null,"70 +/-Maneuver",{"$f":"N25","v":0},"Less Penalty Total",{"$f":"P25","v":0},null,null,"70 +/-Maneuver",{"$f":"T23","v":0},"Less Penalty Total",{"$f":"V23","v":0},null,null,"Form & Showmanship Judges Score",null,"Total (1)",{"$f":"SUM(AB9:AB26)","v":0}]
[null,null,null,null,null,null,"CATTLE SCORE",null,null,{"$f":"SUM(H27+J27)","v":21},null,null,null,null,null,null,null,null,null,null,null,null,null,null,{"$f":"SUM(AB27*0.33+42)","v":42},{"$f":"IF(AA20=\"x\",-10,0)","v":0},"Judge Score (2)",{"$f":"SUM(Y28+Z28)","v":42}]
["Maneuver Score =",{"$f":"D27","v":70},"Less Penalty Total",{"$f":"D25","v":0},null,null,"Roping",null,null,null,null,null,null,null,null,null,null,null,null,null,null,null,null,null,"Ranch Cutting",{"$f":"IF(P31=\"\",0,P31)","v":0},"Ranch Rding",{"$f":"IF(D31=\"\",0,D31)","v":0}]
[null,null,null,null,null,null,1,null,"Penalty Points",null,null,null,null,null,null,null,null,null,null,null,null,null,null,null,"Working Ranch Horse",{"$f":"IF(J36=\"\",0,J36)","v":0},"Ranch Trail",{"$f":"IF(V31=\"\",0,V31)","v":0}]
["TOTAL SCORE",null,null,{"$f":"IF(D7=\"\",\"\",IF(B29+D29<0,0,B29+D29))","v":""},null,null,2,null,null,null,null,null,"TOTAL SCORE",null,null,{"$f":"IF(P7=\"\",\"\",IF(70+N27+P27<0,0,70+N27+P27))","v":""},null,null,"TOTAL SCORE",null,null,{"$f":"IF(V7=\"\",\"\",IF(70+T27+V27<0,0,70+T27+V27))","v":""},null,null,"Function Total (3)",{"$f":"SUM(Z29+AB29+Z30+AB30)","v":0},"Function Score (4)",{"$f":"Z31*0.1","v":0}]
[null,null,null,null,null,null,3,null,null,null,null,null,null,null,null,null,null,null,null,null,null,null,null,null,"Judge Score (2) + Function Score (4) = CONFORMATION SCORE",null,null,{"$f":"IF(AB7=\"\",\"\",IF(AB28+AB31<0,0,AB28+AB31))","v":""}]
[null,null,"Return to Entry Page",null,null,null,"21 +/- Judge Score",{"$f":"SUM(H30:H32)","v":0},"Total Penalty Pts",{"$f":"SUM(J30:J32)","v":0},null,null,null,null,"Return to Entry Page",null,null,null,null,null,"Return to Entry Page"]
[null,null,null,null,null,null,"Maneuver Score",{"$f":"SUM(21+H33)*1.1","v":23.1},"Less Penalty Pts",{"$f":"J33","v":0},null,null,null,null,null,null,null,null,null,null,null,null,null,null,null,null,"Return to Entry Page"]
[null,null,null,null,null,null,"ROPING SCORE",null,null,{"$f":"SUM(H34+J34)","v":23.1}]
[null,null,null,null,null,null,"TOTAL SCORE",null,null,{"$f":"IF(J7=\"\",\"\",IF(J21+J28+J35<0,0,J21+J28+J35))","v":""}]
[]
[null,null,null,null,null,null,null,null,"Return to Entry Page"]

{"sheet":"Open 22","index":106,"n_rows":38,"n_cols":28,"rows_kept":38,"cut":false,"hidden":false,"merged":[[34,6,34,8],[35,6,35,8],[27,0,27,3],[27,6,27,8],[27,12,29,15],[31,24,31,26],[23,0,24,0],[23,1,24,1],[23,18,25,21],[25,0,25,3],[25,12,25,15],[27,18,29,21],[29,0,29,3],[29,8,31,8],[30,0,30,2],[30,12,30,14],[30,18,30,20],[21,18,21,21],[22,2,22,3],[22,8,24,8],[22,12,23,13],[22,14,23,14],[22,15,23,15],[21,2,21,3],[21,14,21,15],[19,2,19,3],[19,14,19,15],[19,18,20,19],[19,20,20,20],[19,21,20,21],[20,2,20,3],[20,6,20,8],[20,14,20,15],[18,2,18,3],[18,12,18,15],[18,20,18,21],[17,2,17,3],[17,14,17,15],[17,20,17,21],[13,2,13,3],[13,8,14,9],[13,12,13,15],[13,20,13,21],[14,2,14,3],[14,14,14,15],[14,20,14,21],[15,2,15,3],[15,8,15,9],[15,14,15,15],[15,20,15,21],[16,2,16,3],[16,8,16,9],[16,14,16,15],[16,20,16,21],[11,2,11,3],[11,8,12,9],[11,14,11,15],[11,20,11,21],[12,2,12,3],[12,14,12,15],[12,20,12,21],[7,24,7,27],[9,2,9,3],[9,8,10,9],[9,12,9,15],[9,20,9,21],[10,2,10,3],[10,14,10,15],[10,20,10,21],[8,2,8,3],[8,8,8,9],[8,14,8,15],[8,20,8,21],[7,0,7,3],[7,6,7,9],[7,12,7,15],[7,18,7,21]]}
["RIDERS SCORE WORK SHEET"]
[]
["Back Number:",{"$f":"'Entry Information'!B107","v":0},null,null,null,null,"Back Number:",{"$f":"'Entry Information'!B107","v":0},null,null,null,null,"Back Number:",{"$f":"'Entry Information'!B107","v":0},null,null,null,null,"Back Number:",{"$f":"'Entry Information'!B107","v":0},null,null,null,null,"Back Number:",{"$f":"'Entry Information'!B107","v":0}]
["Name:",{"$f":"'Entry Information'!I107","v":0},{"$f":"'Entry Information'!H107","v":0},null,null,null,"Name:",{"$f":"'Entry Information'!I107","v":0},{"$f":"'Entry Information'!H107","v":0},null,null,null,"Name:",{"$f":"'Entry Information'!I107","v":0},{"$f":"'Entry Information'!H107","v":0},null,null,null,"Name:",{"$f":"'Entry Information'!I107","v":0},{"$f":"'Entry Information'!H107","v":0},null,null,null,"Name:",{"$f":"'Entry Information'!H107","v":0},{"$f":"'Entry Information'!I107","v":0}]
["Horse Name",{"$f":"'Entry Information'!J107","v":0},null,null,null,null,"Horse Name",{"$f":"'Entry Information'!J107","v":0},null,null,null,null,"Horse Name",{"$f":"'Entry Information'!J107","v":0},null,null,null,null,"Horse Name",{"$f":"'Entry Information'!J107","v":0},null,null,null,null,"Horse Name",{"$f":"'Entry Information'!J107","v":0}]
[]
["Check box when entering Ranch Riding scores",null,null,null,null,null,"Check box when entering Working Ranch Horse scores",null,null,null,null,null,"Check box when entering Ranch Cutting scores",null,null,null,null,null,"Check box when entering Ranch Trail scores",null,null,null,null,null,"Check box when entering Conformation scores"]
["Ranch Riding",null,null,null,null,null,"Working Ranch Horse",null,null,null,null,null,"Ranch Cutting",null,null,null,null,null,"Ranch Trail",null,null,null,null,null,"Ranch Conformation"]
["Maneuver","Judge's Score +/-","Penalty Points",null,null,null,"Maneuver","Judge's Score +/-","Penalty Points",null,null,null,"Maneuver","Judge's Score +/-","Penalty Points",null,null,null,"Maneuver","Judge's Score +/-","Penalty Points",null,null,null,"Front Legs, Feet"]
[1,null,null,null,null,null,1,null,null,null,null,null,"Herd Work",null,null,null,null,null,1,null,null,null,null,null,"Chest, Pectoral V"]
[2,null,null,null,null,null,2,null,null,null,null,null,1,null,null,null,null,null,2,null,null,null,null,null,"Head"]
[3,null,null,null,null,null,3,null,null,null,null,null,2,null,null,null,null,null,3,null,null,null,null,null,"Neck & Throat Latch"]
[4,null,null,null,null,null,4,null,null,null,null,null,3,null,null,null,null,null,4,null,null,null,null,null,"Shoulders & Withers"]
[5,null,null,null,null,null,5,null,null,null,null,null,"Cutting",null,null,null,null,null,5,null,null,null,null,null,"Heart Girth & Barrel"]
[6,null,null,null,null,null,6,null,null,null,null,null,1,null,null,null,null,null,6,null,null,null,null,null,"Back & Loin"]
[7,null,null,null,null,null,7,null,null,null,null,null,2,null,null,null,null,null,7,null,null,null,null,null,"Hip & Croup"]
[8,null,null,null,null,null,8,null,null,null,null,null,3,null,null,null,null,null,8,null,null,null,null,null,"Stife & Gaskin"]
[9,null,null,null,null,null,null,null,"Total Penalty Pts",{"$f":"SUM(I10:J17)","v":0},null,null,4,null,null,null,null,null,9,null,null,null,null,null,"Hock, Hind Legs, Feet"]
[10,null,null,null,null,null,"56 +/- Judge Score",{"$f":"SUM(H10:H17)","v":0},"Divided by 2",{"$f":"SUM((56+H19)/2)","v":28},null,null,"Penning",null,null,null,null,null,10,null,null,null,null,null,"Overall Muscling"]
[11,null,null,null,null,null,"Maneuver Score",{"$f":"J19","v":28},"Less Penalty Pts",{"$f":"J18","v":0},null,null,1,null,null,null,null,null,null,null,"Major Penalties",null,null,null,"Tracking","Lame: enter an \"x\""]
[12,null,null,null,null,null,"REINING SCORE",null,null,{"$f":"SUM(H20+J20)","v":28},null,null,2,null,null,null,null,null,null,null,null,null,null,null,"Balance 1"]
[13,null,null,null,null,null,"Working Cow Horse",null,null,null,null,null,3,null,null,null,null,null,null,null,null,null,null,null,"Balance 2"]
[14,null,null,null,null,null,1,null,"Penalty Points",null,null,null,null,null,"Major Penalties",null,null,null,"Maneuver Total",{"$f":"SUM(T10:T19)","v":0},"Penalty Total",{"$f":"SUM(SUM(U10:V19)+V20)","v":0},null,null,"Balance 3"]
["Maneuver Total",{"$f":"SUM(B10:B23)","v":0},"Major Penalties",null,null,null,2,null,null,null,null,null,null,null,null,null,null,null,null,null,null,null,null,null,"Fitness & Condition"]
[null,null,"Penalty Total",{"$f":"SUM(C10:D24)","v":0},null,null,3,null,null,null,null,null,"Maneuver Total",{"$f":"SUM(N10:N22)","v":0},"Penalty Total",{"$f":"SUM(O11+O12+O13+O15+O16+O17+O18+O20+O21+O22+P23)","v":0},null,null,null,null,null,null,null,null,"Participant Showmanship"]
[null,null,null,null,null,null,"21 +/- Judge Score",{"$f":"SUM(H23:H25)","v":0},"Total Penalty Pts",{"$f":"SUM(J23:J25)","v":0},null,null,null,null,null,null,null,null,null,null,null,null,null,null,"Horse Showmanship"]
["100 +/-Maneuver",{"$f":"B24","v":0},"x .70 =",{"$f":"SUM((100+B27)*0.7)","v":70},null,null,"Maneuver Score",{"$f":"SUM(21+H26)","v":21},"Less Penalty Pts",{"$f":"J26","v":0},null,null,"70 +/-Maneuver",{"$f":"N25","v":0},"Less Penalty Total",{"$f":"P25","v":0},null,null,"70 +/-Maneuver",{"$f":"T23","v":0},"Less Penalty Total",{"$f":"V23","v":0},null,null,"Form & Showmanship Judges Score",null,"Total (1)",{"$f":"SUM(AB9:AB26)","v":0}]
[null,null,null,null,null,null,"CATTLE SCORE",null,null,{"$f":"SUM(H27+J27)","v":21},null,null,null,null,null,null,null,null,null,null,null,null,null,null,{"$f":"SUM(AB27*0.33+42)","v":42},{"$f":"IF(AA20=\"x\",-10,0)","v":0},"Judge Score (2)",{"$f":"SUM(Y28+Z28)","v":42}]
["Maneuver Score =",{"$f":"D27","v":70},"Less Penalty Total",{"$f":"D25","v":0},null,null,"Roping",null,null,null,null,null,null,null,null,null,null,null,null,null,null,null,null,null,"Ranch Cutting",{"$f":"IF(P31=\"\",0,P31)","v":0},"Ranch Rding",{"$f":"IF(D31=\"\",0,D31)","v":0}]
[null,null,null,null,null,null,1,null,"Penalty Points",null,null,null,null,null,null,null,null,null,null,null,null,null,null,null,"Working Ranch Horse",{"$f":"IF(J36=\"\",0,J36)","v":0},"Ranch Trail",{"$f":"IF(V31=\"\",0,V31)","v":0}]
["TOTAL SCORE",null,null,{"$f":"IF(D7=\"\",\"\",IF(B29+D29<0,0,B29+D29))","v":""},null,null,2,null,null,null,null,null,"TOTAL SCORE",null,null,{"$f":"IF(P7=\"\",\"\",IF(70+N27+P27<0,0,70+N27+P27))","v":""},null,null,"TOTAL SCORE",null,null,{"$f":"IF(V7=\"\",\"\",IF(70+T27+V27<0,0,70+T27+V27))","v":""},null,null,"Function Total (3)",{"$f":"SUM(Z29+AB29+Z30+AB30)","v":0},"Function Score (4)",{"$f":"Z31*0.1","v":0}]
[null,null,null,null,null,null,3,null,null,null,null,null,null,null,null,null,null,null,null,null,null,null,null,null,"Judge Score (2) + Function Score (4) = CONFORMATION SCORE",null,null,{"$f":"IF(AB7=\"\",\"\",IF(AB28+AB31<0,0,AB28+AB31))","v":""}]
[null,null,"Return to Entry Page",null,null,null,"21 +/- Judge Score",{"$f":"SUM(H30:H32)","v":0},"Total Penalty Pts",{"$f":"SUM(J30:J32)","v":0},null,null,null,null,"Return to Entry Page",null,null,null,null,null,"Return to Entry Page"]
[null,null,null,null,null,null,"Maneuver Score",{"$f":"SUM(21+H33)*1.1","v":23.1},"Less Penalty Pts",{"$f":"J33","v":0},null,null,null,null,null,null,null,null,null,null,null,null,null,null,null,null,"Return to Entry Page"]
[null,null,null,null,null,null,"ROPING SCORE",null,null,{"$f":"SUM(H34+J34)","v":23.1}]
[null,null,null,null,null,null,"TOTAL SCORE",null,null,{"$f":"IF(J7=\"\",\"\",IF(J21+J28+J35<0,0,J21+J28+J35))","v":""}]
[]
[null,null,null,null,null,null,null,null,"Return to Entry Page"]

{"sheet":"Open 23","index":107,"n_rows":38,"n_cols":28,"rows_kept":38,"cut":false,"hidden":false,"merged":[[34,6,34,8],[35,6,35,8],[27,0,27,3],[27,6,27,8],[27,12,29,15],[31,24,31,26],[23,0,24,0],[23,1,24,1],[23,18,25,21],[25,0,25,3],[25,12,25,15],[27,18,29,21],[29,0,29,3],[29,8,31,8],[30,0,30,2],[30,12,30,14],[30,18,30,20],[21,18,21,21],[22,2,22,3],[22,8,24,8],[22,12,23,13],[22,14,23,14],[22,15,23,15],[21,2,21,3],[21,14,21,15],[19,2,19,3],[19,14,19,15],[19,18,20,19],[19,20,20,20],[19,21,20,21],[20,2,20,3],[20,6,20,8],[20,14,20,15],[18,2,18,3],[18,12,18,15],[18,20,18,21],[17,2,17,3],[17,14,17,15],[17,20,17,21],[13,2,13,3],[13,8,14,9],[13,12,13,15],[13,20,13,21],[14,2,14,3],[14,14,14,15],[14,20,14,21],[15,2,15,3],[15,8,15,9],[15,14,15,15],[15,20,15,21],[16,2,16,3],[16,8,16,9],[16,14,16,15],[16,20,16,21],[11,2,11,3],[11,8,12,9],[11,14,11,15],[11,20,11,21],[12,2,12,3],[12,14,12,15],[12,20,12,21],[7,24,7,27],[9,2,9,3],[9,8,10,9],[9,12,9,15],[9,20,9,21],[10,2,10,3],[10,14,10,15],[10,20,10,21],[8,2,8,3],[8,8,8,9],[8,14,8,15],[8,20,8,21],[7,0,7,3],[7,6,7,9],[7,12,7,15],[7,18,7,21]]}
["RIDERS SCORE WORK SHEET"]
[]
["Back Number:",{"$f":"'Entry Information'!B108","v":0},null,null,null,null,"Back Number:",{"$f":"'Entry Information'!B108","v":0},null,null,null,null,"Back Number:",{"$f":"'Entry Information'!B108","v":0},null,null,null,null,"Back Number:",{"$f":"'Entry Information'!B108","v":0},null,null,null,null,"Back Number:",{"$f":"'Entry Information'!B108","v":0}]
["Name:",{"$f":"'Entry Information'!I108","v":0},{"$f":"'Entry Information'!H108","v":0},null,null,null,"Name:",{"$f":"'Entry Information'!I108","v":0},{"$f":"'Entry Information'!H108","v":0},null,null,null,"Name:",{"$f":"'Entry Information'!I108","v":0},{"$f":"'Entry Information'!H108","v":0},null,null,null,"Name:",{"$f":"'Entry Information'!I108","v":0},{"$f":"'Entry Information'!H108","v":0},null,null,null,"Name:",{"$f":"'Entry Information'!H108","v":0},{"$f":"'Entry Information'!I108","v":0}]
["Horse Name",{"$f":"'Entry Information'!J108","v":0},null,null,null,null,"Horse Name",{"$f":"'Entry Information'!J108","v":0},null,null,null,null,"Horse Name",{"$f":"'Entry Information'!J108","v":0},null,null,null,null,"Horse Name",{"$f":"'Entry Information'!J108","v":0},null,null,null,null,"Horse Name",{"$f":"'Entry Information'!J108","v":0}]
[]
["Check box when entering Ranch Riding scores",null,null,null,null,null,"Check box when entering Working Ranch Horse scores",null,null,null,null,null,"Check box when entering Ranch Cutting scores",null,null,null,null,null,"Check box when entering Ranch Trail scores",null,null,null,null,null,"Check box when entering Conformation scores"]
["Ranch Riding",null,null,null,null,null,"Working Ranch Horse",null,null,null,null,null,"Ranch Cutting",null,null,null,null,null,"Ranch Trail",null,null,null,null,null,"Ranch Conformation"]
["Maneuver","Judge's Score +/-","Penalty Points",null,null,null,"Maneuver","Judge's Score +/-","Penalty Points",null,null,null,"Maneuver","Judge's Score +/-","Penalty Points",null,null,null,"Maneuver","Judge's Score +/-","Penalty Points",null,null,null,"Front Legs, Feet"]
[1,null,null,null,null,null,1,null,null,null,null,null,"Herd Work",null,null,null,null,null,1,null,null,null,null,null,"Chest, Pectoral V"]
[2,null,null,null,null,null,2,null,null,null,null,null,1,null,null,null,null,null,2,null,null,null,null,null,"Head"]
[3,null,null,null,null,null,3,null,null,null,null,null,2,null,null,null,null,null,3,null,null,null,null,null,"Neck & Throat Latch"]
[4,null,null,null,null,null,4,null,null,null,null,null,3,null,null,null,null,null,4,null,null,null,null,null,"Shoulders & Withers"]
[5,null,null,null,null,null,5,null,null,null,null,null,"Cutting",null,null,null,null,null,5,null,null,null,null,null,"Heart Girth & Barrel"]
[6,null,null,null,null,null,6,null,null,null,null,null,1,null,null,null,null,null,6,null,null,null,null,null,"Back & Loin"]
[7,null,null,null,null,null,7,null,null,null,null,null,2,null,null,null,null,null,7,null,null,null,null,null,"Hip & Croup"]
[8,null,null,null,null,null,8,null,null,null,null,null,3,null,null,null,null,null,8,null,null,null,null,null,"Stife & Gaskin"]
[9,null,null,null,null,null,null,null,"Total Penalty Pts",{"$f":"SUM(I10:J17)","v":0},null,null,4,null,null,null,null,null,9,null,null,null,null,null,"Hock, Hind Legs, Feet"]
[10,null,null,null,null,null,"56 +/- Judge Score",{"$f":"SUM(H10:H17)","v":0},"Divided by 2",{"$f":"SUM((56+H19)/2)","v":28},null,null,"Penning",null,null,null,null,null,10,null,null,null,null,null,"Overall Muscling"]
[11,null,null,null,null,null,"Maneuver Score",{"$f":"J19","v":28},"Less Penalty Pts",{"$f":"J18","v":0},null,null,1,null,null,null,null,null,null,null,"Major Penalties",null,null,null,"Tracking","Lame: enter an \"x\""]
[12,null,null,null,null,null,"REINING SCORE",null,null,{"$f":"SUM(H20+J20)","v":28},null,null,2,null,null,null,null,null,null,null,null,null,null,null,"Balance 1"]
[13,null,null,null,null,null,"Working Cow Horse",null,null,null,null,null,3,null,null,null,null,null,null,null,null,null,null,null,"Balance 2"]
[14,null,null,null,null,null,1,null,"Penalty Points",null,null,null,null,null,"Major Penalties",null,null,null,"Maneuver Total",{"$f":"SUM(T10:T19)","v":0},"Penalty Total",{"$f":"SUM(SUM(U10:V19)+V20)","v":0},null,null,"Balance 3"]
["Maneuver Total",{"$f":"SUM(B10:B23)","v":0},"Major Penalties",null,null,null,2,null,null,null,null,null,null,null,null,null,null,null,null,null,null,null,null,null,"Fitness & Condition"]
[null,null,"Penalty Total",{"$f":"SUM(C10:D24)","v":0},null,null,3,null,null,null,null,null,"Maneuver Total",{"$f":"SUM(N10:N22)","v":0},"Penalty Total",{"$f":"SUM(O11+O12+O13+O15+O16+O17+O18+O20+O21+O22+P23)","v":0},null,null,null,null,null,null,null,null,"Participant Showmanship"]
[null,null,null,null,null,null,"21 +/- Judge Score",{"$f":"SUM(H23:H25)","v":0},"Total Penalty Pts",{"$f":"SUM(J23:J25)","v":0},null,null,null,null,null,null,null,null,null,null,null,null,null,null,"Horse Showmanship"]
["100 +/-Maneuver",{"$f":"B24","v":0},"x .70 =",{"$f":"SUM((100+B27)*0.7)","v":70},null,null,"Maneuver Score",{"$f":"SUM(21+H26)","v":21},"Less Penalty Pts",{"$f":"J26","v":0},null,null,"70 +/-Maneuver",{"$f":"N25","v":0},"Less Penalty Total",{"$f":"P25","v":0},null,null,"70 +/-Maneuver",{"$f":"T23","v":0},"Less Penalty Total",{"$f":"V23","v":0},null,null,"Form & Showmanship Judges Score",null,"Total (1)",{"$f":"SUM(AB9:AB26)","v":0}]
[null,null,null,null,null,null,"CATTLE SCORE",null,null,{"$f":"SUM(H27+J27)","v":21},null,null,null,null,null,null,null,null,null,null,null,null,null,null,{"$f":"SUM(AB27*0.33+42)","v":42},{"$f":"IF(AA20=\"x\",-10,0)","v":0},"Judge Score (2)",{"$f":"SUM(Y28+Z28)","v":42}]
["Maneuver Score =",{"$f":"D27","v":70},"Less Penalty Total",{"$f":"D25","v":0},null,null,"Roping",null,null,null,null,null,null,null,null,null,null,null,null,null,null,null,null,null,"Ranch Cutting",{"$f":"IF(P31=\"\",0,P31)","v":0},"Ranch Rding",{"$f":"IF(D31=\"\",0,D31)","v":0}]
[null,null,null,null,null,null,1,null,"Penalty Points",null,null,null,null,null,null,null,null,null,null,null,null,null,null,null,"Working Ranch Horse",{"$f":"IF(J36=\"\",0,J36)","v":0},"Ranch Trail",{"$f":"IF(V31=\"\",0,V31)","v":0}]
["TOTAL SCORE",null,null,{"$f":"IF(D7=\"\",\"\",IF(B29+D29<0,0,B29+D29))","v":""},null,null,2,null,null,null,null,null,"TOTAL SCORE",null,null,{"$f":"IF(P7=\"\",\"\",IF(70+N27+P27<0,0,70+N27+P27))","v":""},null,null,"TOTAL SCORE",null,null,{"$f":"IF(V7=\"\",\"\",IF(70+T27+V27<0,0,70+T27+V27))","v":""},null,null,"Function Total (3)",{"$f":"SUM(Z29+AB29+Z30+AB30)","v":0},"Function Score (4)",{"$f":"Z31*0.1","v":0}]
[null,null,null,null,null,null,3,null,null,null,null,null,null,null,null,null,null,null,null,null,null,null,null,null,"Judge Score (2) + Function Score (4) = CONFORMATION SCORE",null,null,{"$f":"IF(AB7=\"\",\"\",IF(AB28+AB31<0,0,AB28+AB31))","v":""}]
[null,null,"Return to Entry Page",null,null,null,"21 +/- Judge Score",{"$f":"SUM(H30:H32)","v":0},"Total Penalty Pts",{"$f":"SUM(J30:J32)","v":0},null,null,null,null,"Return to Entry Page",null,null,null,null,null,"Return to Entry Page"]
[null,null,null,null,null,null,"Maneuver Score",{"$f":"SUM(21+H33)*1.1","v":23.1},"Less Penalty Pts",{"$f":"J33","v":0},null,null,null,null,null,null,null,null,null,null,null,null,null,null,null,null,"Return to Entry Page"]
[null,null,null,null,null,null,"ROPING SCORE",null,null,{"$f":"SUM(H34+J34)","v":23.1}]
[null,null,null,null,null,null,"TOTAL SCORE",null,null,{"$f":"IF(J7=\"\",\"\",IF(J21+J28+J35<0,0,J21+J28+J35))","v":""}]
[]
[null,null,null,null,null,null,null,null,"Return to Entry Page"]

{"sheet":"Open 24","index":108,"n_rows":38,"n_cols":28,"rows_kept":38,"cut":false,"hidden":false,"merged":[[34,6,34,8],[35,6,35,8],[27,0,27,3],[27,6,27,8],[27,12,29,15],[31,24,31,26],[23,0,24,0],[23,1,24,1],[23,18,25,21],[25,0,25,3],[25,12,25,15],[27,18,29,21],[29,0,29,3],[29,8,31,8],[30,0,30,2],[30,12,30,14],[30,18,30,20],[21,18,21,21],[22,2,22,3],[22,8,24,8],[22,12,23,13],[22,14,23,14],[22,15,23,15],[21,2,21,3],[21,14,21,15],[19,2,19,3],[19,14,19,15],[19,18,20,19],[19,20,20,20],[19,21,20,21],[20,2,20,3],[20,6,20,8],[20,14,20,15],[18,2,18,3],[18,12,18,15],[18,20,18,21],[17,2,17,3],[17,14,17,15],[17,20,17,21],[13,2,13,3],[13,8,14,9],[13,12,13,15],[13,20,13,21],[14,2,14,3],[14,14,14,15],[14,20,14,21],[15,2,15,3],[15,8,15,9],[15,14,15,15],[15,20,15,21],[16,2,16,3],[16,8,16,9],[16,14,16,15],[16,20,16,21],[11,2,11,3],[11,8,12,9],[11,14,11,15],[11,20,11,21],[12,2,12,3],[12,14,12,15],[12,20,12,21],[7,24,7,27],[9,2,9,3],[9,8,10,9],[9,12,9,15],[9,20,9,21],[10,2,10,3],[10,14,10,15],[10,20,10,21],[8,2,8,3],[8,8,8,9],[8,14,8,15],[8,20,8,21],[7,0,7,3],[7,6,7,9],[7,12,7,15],[7,18,7,21]]}
["RIDERS SCORE WORK SHEET"]
[]
["Back Number:",{"$f":"'Entry Information'!B109","v":0},null,null,null,null,"Back Number:",{"$f":"'Entry Information'!B109","v":0},null,null,null,null,"Back Number:",{"$f":"'Entry Information'!B109","v":0},null,null,null,null,"Back Number:",{"$f":"'Entry Information'!B109","v":0},null,null,null,null,"Back Number:",{"$f":"'Entry Information'!B109","v":0}]
["Name:",{"$f":"'Entry Information'!I109","v":0},{"$f":"'Entry Information'!H109","v":0},null,null,null,"Name:",{"$f":"'Entry Information'!I109","v":0},{"$f":"'Entry Information'!H109","v":0},null,null,null,"Name:",{"$f":"'Entry Information'!I109","v":0},{"$f":"'Entry Information'!H109","v":0},null,null,null,"Name:",{"$f":"'Entry Information'!I109","v":0},{"$f":"'Entry Information'!H109","v":0},null,null,null,"Name:",{"$f":"'Entry Information'!H109","v":0},{"$f":"'Entry Information'!I109","v":0}]
["Horse Name",{"$f":"'Entry Information'!J109","v":0},null,null,null,null,"Horse Name",{"$f":"'Entry Information'!J109","v":0},null,null,null,null,"Horse Name",{"$f":"'Entry Information'!J109","v":0},null,null,null,null,"Horse Name",{"$f":"'Entry Information'!J109","v":0},null,null,null,null,"Horse Name",{"$f":"'Entry Information'!J109","v":0}]
[]
["Check box when entering Ranch Riding scores",null,null,null,null,null,"Check box when entering Working Ranch Horse scores",null,null,null,null,null,"Check box when entering Ranch Cutting scores",null,null,null,null,null,"Check box when entering Ranch Trail scores",null,null,null,null,null,"Check box when entering Conformation scores"]
["Ranch Riding",null,null,null,null,null,"Working Ranch Horse",null,null,null,null,null,"Ranch Cutting",null,null,null,null,null,"Ranch Trail",null,null,null,null,null,"Ranch Conformation"]
["Maneuver","Judge's Score +/-","Penalty Points",null,null,null,"Maneuver","Judge's Score +/-","Penalty Points",null,null,null,"Maneuver","Judge's Score +/-","Penalty Points",null,null,null,"Maneuver","Judge's Score +/-","Penalty Points",null,null,null,"Front Legs, Feet"]
[1,null,null,null,null,null,1,null,null,null,null,null,"Herd Work",null,null,null,null,null,1,null,null,null,null,null,"Chest, Pectoral V"]
[2,null,null,null,null,null,2,null,null,null,null,null,1,null,null,null,null,null,2,null,null,null,null,null,"Head"]
[3,null,null,null,null,null,3,null,null,null,null,null,2,null,null,null,null,null,3,null,null,null,null,null,"Neck & Throat Latch"]
[4,null,null,null,null,null,4,null,null,null,null,null,3,null,null,null,null,null,4,null,null,null,null,null,"Shoulders & Withers"]
[5,null,null,null,null,null,5,null,null,null,null,null,"Cutting",null,null,null,null,null,5,null,null,null,null,null,"Heart Girth & Barrel"]
[6,null,null,null,null,null,6,null,null,null,null,null,1,null,null,null,null,null,6,null,null,null,null,null,"Back & Loin"]
[7,null,null,null,null,null,7,null,null,null,null,null,2,null,null,null,null,null,7,null,null,null,null,null,"Hip & Croup"]
[8,null,null,null,null,null,8,null,null,null,null,null,3,null,null,null,null,null,8,null,null,null,null,null,"Stife & Gaskin"]
[9,null,null,null,null,null,null,null,"Total Penalty Pts",{"$f":"SUM(I10:J17)","v":0},null,null,4,null,null,null,null,null,9,null,null,null,null,null,"Hock, Hind Legs, Feet"]
[10,null,null,null,null,null,"56 +/- Judge Score",{"$f":"SUM(H10:H17)","v":0},"Divided by 2",{"$f":"SUM((56+H19)/2)","v":28},null,null,"Penning",null,null,null,null,null,10,null,null,null,null,null,"Overall Muscling"]
[11,null,null,null,null,null,"Maneuver Score",{"$f":"J19","v":28},"Less Penalty Pts",{"$f":"J18","v":0},null,null,1,null,null,null,null,null,null,null,"Major Penalties",null,null,null,"Tracking","Lame: enter an \"x\""]
[12,null,null,null,null,null,"REINING SCORE",null,null,{"$f":"SUM(H20+J20)","v":28},null,null,2,null,null,null,null,null,null,null,null,null,null,null,"Balance 1"]
[13,null,null,null,null,null,"Working Cow Horse",null,null,null,null,null,3,null,null,null,null,null,null,null,null,null,null,null,"Balance 2"]
[14,null,null,null,null,null,1,null,"Penalty Points",null,null,null,null,null,"Major Penalties",null,null,null,"Maneuver Total",{"$f":"SUM(T10:T19)","v":0},"Penalty Total",{"$f":"SUM(SUM(U10:V19)+V20)","v":0},null,null,"Balance 3"]
["Maneuver Total",{"$f":"SUM(B10:B23)","v":0},"Major Penalties",null,null,null,2,null,null,null,null,null,null,null,null,null,null,null,null,null,null,null,null,null,"Fitness & Condition"]
[null,null,"Penalty Total",{"$f":"SUM(C10:D24)","v":0},null,null,3,null,null,null,null,null,"Maneuver Total",{"$f":"SUM(N10:N22)","v":0},"Penalty Total",{"$f":"SUM(O11+O12+O13+O15+O16+O17+O18+O20+O21+O22+P23)","v":0},null,null,null,null,null,null,null,null,"Participant Showmanship"]
[null,null,null,null,null,null,"21 +/- Judge Score",{"$f":"SUM(H23:H25)","v":0},"Total Penalty Pts",{"$f":"SUM(J23:J25)","v":0},null,null,null,null,null,null,null,null,null,null,null,null,null,null,"Horse Showmanship"]
["100 +/-Maneuver",{"$f":"B24","v":0},"x .70 =",{"$f":"SUM((100+B27)*0.7)","v":70},null,null,"Maneuver Score",{"$f":"SUM(21+H26)","v":21},"Less Penalty Pts",{"$f":"J26","v":0},null,null,"70 +/-Maneuver",{"$f":"N25","v":0},"Less Penalty Total",{"$f":"P25","v":0},null,null,"70 +/-Maneuver",{"$f":"T23","v":0},"Less Penalty Total",{"$f":"V23","v":0},null,null,"Form & Showmanship Judges Score",null,"Total (1)",{"$f":"SUM(AB9:AB26)","v":0}]
[null,null,null,null,null,null,"CATTLE SCORE",null,null,{"$f":"SUM(H27+J27)","v":21},null,null,null,null,null,null,null,null,null,null,null,null,null,null,{"$f":"SUM(AB27*0.33+42)","v":42},{"$f":"IF(AA20=\"x\",-10,0)","v":0},"Judge Score (2)",{"$f":"SUM(Y28+Z28)","v":42}]
["Maneuver Score =",{"$f":"D27","v":70},"Less Penalty Total",{"$f":"D25","v":0},null,null,"Roping",null,null,null,null,null,null,null,null,null,null,null,null,null,null,null,null,null,"Ranch Cutting",{"$f":"IF(P31=\"\",0,P31)","v":0},"Ranch Rding",{"$f":"IF(D31=\"\",0,D31)","v":0}]
[null,null,null,null,null,null,1,null,"Penalty Points",null,null,null,null,null,null,null,null,null,null,null,null,null,null,null,"Working Ranch Horse",{"$f":"IF(J36=\"\",0,J36)","v":0},"Ranch Trail",{"$f":"IF(V31=\"\",0,V31)","v":0}]
["TOTAL SCORE",null,null,{"$f":"IF(D7=\"\",\"\",IF(B29+D29<0,0,B29+D29))","v":""},null,null,2,null,null,null,null,null,"TOTAL SCORE",null,null,{"$f":"IF(P7=\"\",\"\",IF(70+N27+P27<0,0,70+N27+P27))","v":""},null,null,"TOTAL SCORE",null,null,{"$f":"IF(V7=\"\",\"\",IF(70+T27+V27<0,0,70+T27+V27))","v":""},null,null,"Function Total (3)",{"$f":"SUM(Z29+AB29+Z30+AB30)","v":0},"Function Score (4)",{"$f":"Z31*0.1","v":0}]
[null,null,null,null,null,null,3,null,null,null,null,null,null,null,null,null,null,null,null,null,null,null,null,null,"Judge Score (2) + Function Score (4) = CONFORMATION SCORE",null,null,{"$f":"IF(AB7=\"\",\"\",IF(AB28+AB31<0,0,AB28+AB31))","v":""}]
[null,null,"Return to Entry Page",null,null,null,"21 +/- Judge Score",{"$f":"SUM(H30:H32)","v":0},"Total Penalty Pts",{"$f":"SUM(J30:J32)","v":0},null,null,null,null,"Return to Entry Page",null,null,null,null,null,"Return to Entry Page"]
[null,null,null,null,null,null,"Maneuver Score",{"$f":"SUM(21+H33)*1.1","v":23.1},"Less Penalty Pts",{"$f":"J33","v":0},null,null,null,null,null,null,null,null,null,null,null,null,null,null,null,null,"Return to Entry Page"]
[null,null,null,null,null,null,"ROPING SCORE",null,null,{"$f":"SUM(H34+J34)","v":23.1}]
[null,null,null,null,null,null,"TOTAL SCORE",null,null,{"$f":"IF(J7=\"\",\"\",IF(J21+J28+J35<0,0,J21+J28+J35))","v":""}]
[]
[null,null,null,null,null,null,null,null,"Return to Entry Page"]

{"sheet":"Youth 1","index":109,"n_rows":34,"n_cols":28,"rows_kept":34,"cut":false,"hidden":false,"merged":[[31,24,31,26],[8,2,8,3],[8,8,8,9],[8,14,8,15],[8,20,8,21],[9,2,9,3],[9,8,10,9],[9,12,9,15],[9,20,9,21],[10,2,10,3],[10,14,10,15],[10,20,10,21],[11,2,11,3],[11,8,12,9],[11,14,11,15],[11,20,11,21],[7,0,7,3],[7,6,7,9],[7,12,7,15],[7,18,7,21],[7,24,7,27],[12,2,12,3],[12,14,12,15],[12,20,12,21],[13,2,13,3],[13,8,14,9],[13,12,13,15],[13,20,13,21],[14,2,14,3],[14,14,14,15],[14,20,14,21],[15,2,15,3],[15,8,15,9],[15,14,15,15],[15,20,15,21],[18,2,18,3],[18,12,18,15],[18,20,18,21],[16,2,16,3],[16,8,16,9],[16,14,16,15],[16,20,16,21],[17,2,17,3],[17,14,17,15],[17,20,17,21],[19,2,19,3],[19,14,19,15],[19,18,20,19],[19,20,20,20],[19,21,20,21],[20,2,20,3],[20,6,20,8],[20,14,20,15],[21,2,21,3],[21,14,21,15],[21,18,21,21],[22,2,22,3],[22,12,23,13],[22,14,23,14],[22,15,23,15],[21,6,21,9],[23,0,24,0],[23,1,24,1],[23,18,25,21],[25,0,25,3],[25,12,25,15],[25,6,25,8],[27,12,29,15],[27,18,29,21],[29,0,29,3],[30,0,30,2],[30,12,30,14],[30,18,30,20],[26,6,26,9],[27,6,27,9],[29,6,29,9],[30,6,30,8],[27,0,27,3]]}
["RIDERS SCORE WORK SHEET"]
[]
["Back Number:",{"$f":"'Entry Information'!B110","v":0},null,null,null,null,"Back Number:",{"$f":"'Entry Information'!B110","v":0},null,null,null,null,"Back Number:",{"$f":"'Entry Information'!B110","v":0},null,null,null,null,"Back Number:",{"$f":"'Entry Information'!B110","v":0},null,null,null,null,"Back Number:",{"$f":"'Entry Information'!B110","v":0}]
["Name:",{"$f":"'Entry Information'!I110","v":0},{"$f":"'Entry Information'!H110","v":0},null,null,null,"Name:",{"$f":"'Entry Information'!I110","v":0},{"$f":"'Entry Information'!H110","v":0},null,null,null,"Name:",{"$f":"'Entry Information'!I110","v":0},{"$f":"'Entry Information'!H110","v":0},null,null,null,"Name:",{"$f":"'Entry Information'!I110","v":0},{"$f":"'Entry Information'!H110","v":0},null,null,null,"Name:",{"$f":"'Entry Information'!H110","v":0},{"$f":"'Entry Information'!I110","v":0}]
["Horse Name",{"$f":"'Entry Information'!J110","v":0},null,null,null,null,"Horse Name",{"$f":"'Entry Information'!J110","v":0},null,null,null,null,"Horse Name",{"$f":"'Entry Information'!J110","v":0},null,null,null,null,"Horse Name",{"$f":"'Entry Information'!J110","v":0},null,null,null,null,"Horse Name",{"$f":"'Entry Information'!J110","v":0}]
[]
["Check box when entering Ranch Riding scores",null,null,null,null,null,"Check box when entering Working Ranch Horse scores",null,null,null,null,null,"Check box when entering Ranch Cutting scores",null,null,null,null,null,"Check box when entering Ranch Trail scores",null,null,null,null,null,"Check box when entering Conformation scores"]
["Ranch Riding",null,null,null,null,null,"Working Ranch Horse",null,null,null,null,null,"Ranch Cutting",null,null,null,null,null,"Ranch Trail",null,null,null,null,null,"Ranch Conformation"]
["Maneuver","Judge's Score +/-","Penalty Points",null,null,null,"Maneuver","Judge's Score +/-","Penalty Points",null,null,null,"Maneuver","Judge's Score +/-","Penalty Points",null,null,null,"Maneuver","Judge's Score +/-","Penalty Points",null,null,null,"Front Legs, Feet"]
[1,null,null,null,null,null,1,null,null,null,null,null,"Herd Work",null,null,null,null,null,1,null,null,null,null,null,"Chest, Pectoral V"]
[2,null,null,null,null,null,2,null,null,null,null,null,1,null,null,null,null,null,2,null,null,null,null,null,"Head"]
[3,null,null,null,null,null,3,null,null,null,null,null,2,null,null,null,null,null,3,null,null,null,null,null,"Neck & Throat Latch"]
[4,null,null,null,null,null,4,null,null,null,null,null,3,null,null,null,null,null,4,null,null,null,null,null,"Shoulders & Withers"]
[5,null,null,null,null,null,5,null,null,null,null,null,"Cutting",null,null,null,null,null,5,null,null,null,null,null,"Heart Girth & Barrel"]
[6,null,null,null,null,null,6,null,null,null,null,null,1,null,null,null,null,null,6,null,null,null,null,null,"Back & Loin"]
[7,null,null,null,null,null,7,null,null,null,null,null,2,null,null,null,null,null,7,null,null,null,null,null,"Hip & Croup"]
[8,null,null,null,null,null,8,null,null,null,null,null,3,null,null,null,null,null,8,null,null,null,null,null,"Stife & Gaskin"]
[9,null,null,null,null,null,null,null,"Total Penalty Pts",{"$f":"SUM(I10:J17)","v":0},null,null,4,null,null,null,null,null,9,null,null,null,null,null,"Hock, Hind Legs, Feet"]
[10,null,null,null,null,null,"56 +/- Judge Score",{"$f":"SUM(H10:H17)","v":0},"Divided by 2",{"$f":"SUM((56+H19)/2)","v":28},null,null,"Penning",null,null,null,null,null,10,null,null,null,null,null,"Overall Muscling"]
[11,null,null,null,null,null,"Maneuver Score",{"$f":"J19","v":28},"Less Penalty Pts",{"$f":"J18","v":0},null,null,1,null,null,null,null,null,null,null,"Major Penalties",null,null,null,"Tracking","Lame: enter an \"x\""]
[12,null,null,null,null,null,"REINING SCORE",null,null,{"$f":"SUM(H20+J20)","v":28},null,null,2,null,null,null,null,null,null,null,null,null,null,null,"Balance 1"]
[13,null,null,null,null,null,"NOVICE BOXING",null,null,null,null,null,3,null,null,null,null,null,null,null,null,null,null,null,"Balance 2"]
[14,null,null,null,null,null,1,null,"Penalty Points",null,null,null,null,null,"Major Penalties",null,null,null,"Maneuver Total",{"$f":"SUM(T10:T19)","v":0},"Penalty Total",{"$f":"SUM(SUM(U10:V19)+V20)","v":0},null,null,"Balance 3"]
["Maneuver Total",{"$f":"SUM(B10:B23)","v":0},"Major Penalties",null,null,null,"7 +/- Judge Score",{"$f":"SUM(7+H23)","v":7},"Total Penalty Pts",{"$f":"J23","v":0},null,null,null,null,null,null,null,null,null,null,null,null,null,null,"Fitness & Condition"]
[null,null,"Penalty Total",{"$f":"SUM(C10:D24)","v":0},null,null,"Maneuver Score",{"$f":"H24","v":7},"Less Penalty Pts",{"$f":"J24","v":0},null,null,"Maneuver Total",{"$f":"SUM(N10:N22)","v":0},"Penalty Total",{"$f":"SUM(O11+O12+O13+O15+O16+O17+O18+O20+O21+O22+P23)","v":0},null,null,null,null,null,null,null,null,"Participant Showmanship"]
[null,null,null,null,null,null,"CATTLE SCORE",null,null,{"$f":"SUM(H25+J25)","v":7},null,null,null,null,null,null,null,null,null,null,null,null,null,null,"Horse Showmanship"]
["100 +/-Maneuver",{"$f":"B24","v":0},"x .70 =",{"$f":"SUM((100+B27)*0.7)","v":70},null,null,null,null,null,null,null,null,"70 +/-Maneuver",{"$f":"N25","v":0},"Less Penalty Total",{"$f":"P25","v":0},null,null,"70 +/-Maneuver",{"$f":"T23","v":0},"Less Penalty Total",{"$f":"V23","v":0},null,null,"Form & Showmanship Judges Score",null,"Total (1)",{"$f":"SUM(AB9:AB26)","v":0}]
[null,null,null,null,null,null,null,null,null,null,null,null,null,null,null,null,null,null,null,null,null,null,null,null,{"$f":"SUM(AB27*0.33+42)","v":42},{"$f":"IF(AA20=\"x\",-10,0)","v":0},"Judge Score (2)",{"$f":"SUM(Y28+Z28)","v":42}]
["Maneuver Score =",{"$f":"D27","v":70},"Less Penalty Total",{"$f":"D25","v":0},null,null,"Reining Score",{"$f":"J21","v":28},"Plus Cattle Score",{"$f":"J26","v":7},null,null,null,null,null,null,null,null,null,null,null,null,null,null,"Ranch Cutting",{"$f":"IF(P31=\"\",0,P31)","v":0},"Ranch Rding",{"$f":"IF(D31=\"\",0,D31)","v":0}]
[null,null,null,null,null,null,null,null,null,null,null,null,null,null,null,null,null,null,null,null,null,null,null,null,"Working Ranch Horse",{"$f":"IF(J31=\"\",0,J31)","v":0},"Ranch Trail",{"$f":"IF(V31=\"\",0,V31)","v":0}]
["TOTAL SCORE",null,null,{"$f":"IF(D7=\"\",\"\",IF(B29+D29<0,0,B29+D29))","v":""},null,null,"TOTAL SCORE",null,null,{"$f":"IF(J7=\"\",\"\",IF(H29+J29<0,0,H29+J29))","v":""},null,null,"TOTAL SCORE",null,null,{"$f":"IF(P7=\"\",\"\",IF(70+N27+P27<0,0,70+N27+P27))","v":""},null,null,"TOTAL SCORE",null,null,{"$f":"IF(V7=\"\",\"\",IF(70+T27+V27<0,0,70+T27+V27))","v":""},null,null,"Function Total (3)",{"$f":"SUM(Z29+AB29+Z30+AB30)","v":0},"Function Score (4)",{"$f":"Z31*0.1","v":0}]
[null,null,null,null,null,null,null,null,null,null,null,null,null,null,null,null,null,null,null,null,null,null,null,null,"Judge Score (2) + Function Score (4) = CONFORMATION SCORE",null,null,{"$f":"IF(AB7=\"\",\"\",IF(AB28+AB31<0,0,AB28+AB31))","v":""}]
[null,null,"Return to Entry Page",null,null,null,null,null,"Return to Entry Page",null,null,null,null,null,"Return to Entry Page",null,null,null,null,null,"Return to Entry Page"]
[null,null,null,null,null,null,null,null,null,null,null,null,null,null,null,null,null,null,null,null,null,null,null,null,null,null,"Return to Entry Page"]

{"sheet":"Youth 2","index":110,"n_rows":34,"n_cols":28,"rows_kept":34,"cut":false,"hidden":false,"merged":[[31,24,31,26],[8,2,8,3],[8,8,8,9],[8,14,8,15],[8,20,8,21],[9,2,9,3],[9,8,10,9],[9,12,9,15],[9,20,9,21],[10,2,10,3],[10,14,10,15],[10,20,10,21],[11,2,11,3],[11,8,12,9],[11,14,11,15],[11,20,11,21],[7,0,7,3],[7,6,7,9],[7,12,7,15],[7,18,7,21],[7,24,7,27],[12,2,12,3],[12,14,12,15],[12,20,12,21],[13,2,13,3],[13,8,14,9],[13,12,13,15],[13,20,13,21],[14,2,14,3],[14,14,14,15],[14,20,14,21],[15,2,15,3],[15,8,15,9],[15,14,15,15],[15,20,15,21],[18,2,18,3],[18,12,18,15],[18,20,18,21],[16,2,16,3],[16,8,16,9],[16,14,16,15],[16,20,16,21],[17,2,17,3],[17,14,17,15],[17,20,17,21],[19,2,19,3],[19,14,19,15],[19,18,20,19],[19,20,20,20],[19,21,20,21],[20,2,20,3],[20,6,20,8],[20,14,20,15],[21,2,21,3],[21,14,21,15],[21,18,21,21],[22,2,22,3],[22,12,23,13],[22,14,23,14],[22,15,23,15],[21,6,21,9],[23,0,24,0],[23,1,24,1],[23,18,25,21],[25,0,25,3],[25,12,25,15],[25,6,25,8],[27,12,29,15],[27,18,29,21],[29,0,29,3],[30,0,30,2],[30,12,30,14],[30,18,30,20],[26,6,26,9],[27,6,27,9],[29,6,29,9],[30,6,30,8],[27,0,27,3]]}
["RIDERS SCORE WORK SHEET"]
[]
["Back Number:",{"$f":"'Entry Information'!B111","v":0},null,null,null,null,"Back Number:",{"$f":"'Entry Information'!B111","v":0},null,null,null,null,"Back Number:",{"$f":"'Entry Information'!B111","v":0},null,null,null,null,"Back Number:",{"$f":"'Entry Information'!B111","v":0},null,null,null,null,"Back Number:",{"$f":"'Entry Information'!B111","v":0}]
["Name:",{"$f":"'Entry Information'!I111","v":0},{"$f":"'Entry Information'!H111","v":0},null,null,null,"Name:",{"$f":"'Entry Information'!I111","v":0},{"$f":"'Entry Information'!H111","v":0},null,null,null,"Name:",{"$f":"'Entry Information'!I111","v":0},{"$f":"'Entry Information'!H111","v":0},null,null,null,"Name:",{"$f":"'Entry Information'!I111","v":0},{"$f":"'Entry Information'!H111","v":0},null,null,null,"Name:",{"$f":"'Entry Information'!H111","v":0},{"$f":"'Entry Information'!I111","v":0}]
["Horse Name",{"$f":"'Entry Information'!J111","v":0},null,null,null,null,"Horse Name",{"$f":"'Entry Information'!J111","v":0},null,null,null,null,"Horse Name",{"$f":"'Entry Information'!J111","v":0},null,null,null,null,"Horse Name",{"$f":"'Entry Information'!J111","v":0},null,null,null,null,"Horse Name",{"$f":"'Entry Information'!J111","v":0}]
[]
["Check box when entering Ranch Riding scores",null,null,null,null,null,"Check box when entering Working Ranch Horse scores",null,null,null,null,null,"Check box when entering Ranch Cutting scores",null,null,null,null,null,"Check box when entering Ranch Trail scores",null,null,null,null,null,"Check box when entering Conformation scores"]
["Ranch Riding",null,null,null,null,null,"Working Ranch Horse",null,null,null,null,null,"Ranch Cutting",null,null,null,null,null,"Ranch Trail",null,null,null,null,null,"Ranch Conformation"]
["Maneuver","Judge's Score +/-","Penalty Points",null,null,null,"Maneuver","Judge's Score +/-","Penalty Points",null,null,null,"Maneuver","Judge's Score +/-","Penalty Points",null,null,null,"Maneuver","Judge's Score +/-","Penalty Points",null,null,null,"Front Legs, Feet"]
[1,null,null,null,null,null,1,null,null,null,null,null,"Herd Work",null,null,null,null,null,1,null,null,null,null,null,"Chest, Pectoral V"]
[2,null,null,null,null,null,2,null,null,null,null,null,1,null,null,null,null,null,2,null,null,null,null,null,"Head"]
[3,null,null,null,null,null,3,null,null,null,null,null,2,null,null,null,null,null,3,null,null,null,null,null,"Neck & Throat Latch"]
[4,null,null,null,null,null,4,null,null,null,null,null,3,null,null,null,null,null,4,null,null,null,null,null,"Shoulders & Withers"]
[5,null,null,null,null,null,5,null,null,null,null,null,"Cutting",null,null,null,null,null,5,null,null,null,null,null,"Heart Girth & Barrel"]
[6,null,null,null,null,null,6,null,null,null,null,null,1,null,null,null,null,null,6,null,null,null,null,null,"Back & Loin"]
[7,null,null,null,null,null,7,null,null,null,null,null,2,null,null,null,null,null,7,null,null,null,null,null,"Hip & Croup"]
[8,null,null,null,null,null,8,null,null,null,null,null,3,null,null,null,null,null,8,null,null,null,null,null,"Stife & Gaskin"]
[9,null,null,null,null,null,null,null,"Total Penalty Pts",{"$f":"SUM(I10:J17)","v":0},null,null,4,null,null,null,null,null,9,null,null,null,null,null,"Hock, Hind Legs, Feet"]
[10,null,null,null,null,null,"56 +/- Judge Score",{"$f":"SUM(H10:H17)","v":0},"Divided by 2",{"$f":"SUM((56+H19)/2)","v":28},null,null,"Penning",null,null,null,null,null,10,null,null,null,null,null,"Overall Muscling"]
[11,null,null,null,null,null,"Maneuver Score",{"$f":"J19","v":28},"Less Penalty Pts",{"$f":"J18","v":0},null,null,1,null,null,null,null,null,null,null,"Major Penalties",null,null,null,"Tracking","Lame: enter an \"x\""]
[12,null,null,null,null,null,"REINING SCORE",null,null,{"$f":"SUM(H20+J20)","v":28},null,null,2,null,null,null,null,null,null,null,null,null,null,null,"Balance 1"]
[13,null,null,null,null,null,"NOVICE BOXING",null,null,null,null,null,3,null,null,null,null,null,null,null,null,null,null,null,"Balance 2"]
[14,null,null,null,null,null,1,null,"Penalty Points",null,null,null,null,null,"Major Penalties",null,null,null,"Maneuver Total",{"$f":"SUM(T10:T19)","v":0},"Penalty Total",{"$f":"SUM(SUM(U10:V19)+V20)","v":0},null,null,"Balance 3"]
["Maneuver Total",{"$f":"SUM(B10:B23)","v":0},"Major Penalties",null,null,null,"7 +/- Judge Score",{"$f":"SUM(7+H23)","v":7},"Total Penalty Pts",{"$f":"J23","v":0},null,null,null,null,null,null,null,null,null,null,null,null,null,null,"Fitness & Condition"]
[null,null,"Penalty Total",{"$f":"SUM(C10:D24)","v":0},null,null,"Maneuver Score",{"$f":"H24","v":7},"Less Penalty Pts",{"$f":"J24","v":0},null,null,"Maneuver Total",{"$f":"SUM(N10:N22)","v":0},"Penalty Total",{"$f":"SUM(O11+O12+O13+O15+O16+O17+O18+O20+O21+O22+P23)","v":0},null,null,null,null,null,null,null,null,"Participant Showmanship"]
[null,null,null,null,null,null,"CATTLE SCORE",null,null,{"$f":"SUM(H25+J25)","v":7},null,null,null,null,null,null,null,null,null,null,null,null,null,null,"Horse Showmanship"]
["100 +/-Maneuver",{"$f":"B24","v":0},"x .70 =",{"$f":"SUM((100+B27)*0.7)","v":70},null,null,null,null,null,null,null,null,"70 +/-Maneuver",{"$f":"N25","v":0},"Less Penalty Total",{"$f":"P25","v":0},null,null,"70 +/-Maneuver",{"$f":"T23","v":0},"Less Penalty Total",{"$f":"V23","v":0},null,null,"Form & Showmanship Judges Score",null,"Total (1)",{"$f":"SUM(AB9:AB26)","v":0}]
[null,null,null,null,null,null,null,null,null,null,null,null,null,null,null,null,null,null,null,null,null,null,null,null,{"$f":"SUM(AB27*0.33+42)","v":42},{"$f":"IF(AA20=\"x\",-10,0)","v":0},"Judge Score (2)",{"$f":"SUM(Y28+Z28)","v":42}]
["Maneuver Score =",{"$f":"D27","v":70},"Less Penalty Total",{"$f":"D25","v":0},null,null,"Reining Score",{"$f":"J21","v":28},"Plus Cattle Score",{"$f":"J26","v":7},null,null,null,null,null,null,null,null,null,null,null,null,null,null,"Ranch Cutting",{"$f":"IF(P31=\"\",0,P31)","v":0},"Ranch Rding",{"$f":"IF(D31=\"\",0,D31)","v":0}]
[null,null,null,null,null,null,null,null,null,null,null,null,null,null,null,null,null,null,null,null,null,null,null,null,"Working Ranch Horse",{"$f":"IF(J31=\"\",0,J31)","v":0},"Ranch Trail",{"$f":"IF(V31=\"\",0,V31)","v":0}]
["TOTAL SCORE",null,null,{"$f":"IF(D7=\"\",\"\",IF(B29+D29<0,0,B29+D29))","v":""},null,null,"TOTAL SCORE",null,null,{"$f":"IF(J7=\"\",\"\",IF(H29+J29<0,0,H29+J29))","v":""},null,null,"TOTAL SCORE",null,null,{"$f":"IF(P7=\"\",\"\",IF(70+N27+P27<0,0,70+N27+P27))","v":""},null,null,"TOTAL SCORE",null,null,{"$f":"IF(V7=\"\",\"\",IF(70+T27+V27<0,0,70+T27+V27))","v":""},null,null,"Function Total (3)",{"$f":"SUM(Z29+AB29+Z30+AB30)","v":0},"Function Score (4)",{"$f":"Z31*0.1","v":0}]
[null,null,null,null,null,null,null,null,null,null,null,null,null,null,null,null,null,null,null,null,null,null,null,null,"Judge Score (2) + Function Score (4) = CONFORMATION SCORE",null,null,{"$f":"IF(AB7=\"\",\"\",IF(AB28+AB31<0,0,AB28+AB31))","v":""}]
[null,null,"Return to Entry Page",null,null,null,null,null,"Return to Entry Page",null,null,null,null,null,"Return to Entry Page",null,null,null,null,null,"Return to Entry Page"]
[null,null,null,null,null,null,null,null,null,null,null,null,null,null,null,null,null,null,null,null,null,null,null,null,null,null,"Return to Entry Page"]

{"sheet":"Youth 3","index":111,"n_rows":34,"n_cols":28,"rows_kept":34,"cut":false,"hidden":false,"merged":[[31,24,31,26],[8,2,8,3],[8,8,8,9],[8,14,8,15],[8,20,8,21],[9,2,9,3],[9,8,10,9],[9,12,9,15],[9,20,9,21],[10,2,10,3],[10,14,10,15],[10,20,10,21],[11,2,11,3],[11,8,12,9],[11,14,11,15],[11,20,11,21],[7,0,7,3],[7,6,7,9],[7,12,7,15],[7,18,7,21],[7,24,7,27],[12,2,12,3],[12,14,12,15],[12,20,12,21],[13,2,13,3],[13,8,14,9],[13,12,13,15],[13,20,13,21],[14,2,14,3],[14,14,14,15],[14,20,14,21],[15,2,15,3],[15,8,15,9],[15,14,15,15],[15,20,15,21],[18,2,18,3],[18,12,18,15],[18,20,18,21],[16,2,16,3],[16,8,16,9],[16,14,16,15],[16,20,16,21],[17,2,17,3],[17,14,17,15],[17,20,17,21],[19,2,19,3],[19,14,19,15],[19,18,20,19],[19,20,20,20],[19,21,20,21],[20,2,20,3],[20,6,20,8],[20,14,20,15],[21,2,21,3],[21,14,21,15],[21,18,21,21],[22,2,22,3],[22,12,23,13],[22,14,23,14],[22,15,23,15],[21,6,21,9],[23,0,24,0],[23,1,24,1],[23,18,25,21],[25,0,25,3],[25,12,25,15],[25,6,25,8],[27,12,29,15],[27,18,29,21],[29,0,29,3],[30,0,30,2],[30,12,30,14],[30,18,30,20],[26,6,26,9],[27,6,27,9],[29,6,29,9],[30,6,30,8],[27,0,27,3]]}
["RIDERS SCORE WORK SHEET"]
[]
["Back Number:",{"$f":"'Entry Information'!B112","v":0},null,null,null,null,"Back Number:",{"$f":"'Entry Information'!B112","v":0},null,null,null,null,"Back Number:",{"$f":"'Entry Information'!B112","v":0},null,null,null,null,"Back Number:",{"$f":"'Entry Information'!B112","v":0},null,null,null,null,"Back Number:",{"$f":"'Entry Information'!B112","v":0}]
["Name:",{"$f":"'Entry Information'!I112","v":0},{"$f":"'Entry Information'!H112","v":0},null,null,null,"Name:",{"$f":"'Entry Information'!I112","v":0},{"$f":"'Entry Information'!H112","v":0},null,null,null,"Name:",{"$f":"'Entry Information'!I112","v":0},{"$f":"'Entry Information'!H112","v":0},null,null,null,"Name:",{"$f":"'Entry Information'!I112","v":0},{"$f":"'Entry Information'!H112","v":0},null,null,null,"Name:",{"$f":"'Entry Information'!H112","v":0},{"$f":"'Entry Information'!I112","v":0}]
["Horse Name",{"$f":"'Entry Information'!J112","v":0},null,null,null,null,"Horse Name",{"$f":"'Entry Information'!J112","v":0},null,null,null,null,"Horse Name",{"$f":"'Entry Information'!J112","v":0},null,null,null,null,"Horse Name",{"$f":"'Entry Information'!J112","v":0},null,null,null,null,"Horse Name",{"$f":"'Entry Information'!J112","v":0}]
[]
["Check box when entering Ranch Riding scores",null,null,null,null,null,"Check box when entering Working Ranch Horse scores",null,null,null,null,null,"Check box when entering Ranch Cutting scores",null,null,null,null,null,"Check box when entering Ranch Trail scores",null,null,null,null,null,"Check box when entering Conformation scores"]
["Ranch Riding",null,null,null,null,null,"Working Ranch Horse",null,null,null,null,null,"Ranch Cutting",null,null,null,null,null,"Ranch Trail",null,null,null,null,null,"Ranch Conformation"]
["Maneuver","Judge's Score +/-","Penalty Points",null,null,null,"Maneuver","Judge's Score +/-","Penalty Points",null,null,null,"Maneuver","Judge's Score +/-","Penalty Points",null,null,null,"Maneuver","Judge's Score +/-","Penalty Points",null,null,null,"Front Legs, Feet"]
[1,null,null,null,null,null,1,null,null,null,null,null,"Herd Work",null,null,null,null,null,1,null,null,null,null,null,"Chest, Pectoral V"]
[2,null,null,null,null,null,2,null,null,null,null,null,1,null,null,null,null,null,2,null,null,null,null,null,"Head"]
[3,null,null,null,null,null,3,null,null,null,null,null,2,null,null,null,null,null,3,null,null,null,null,null,"Neck & Throat Latch"]
[4,null,null,null,null,null,4,null,null,null,null,null,3,null,null,null,null,null,4,null,null,null,null,null,"Shoulders & Withers"]
[5,null,null,null,null,null,5,null,null,null,null,null,"Cutting",null,null,null,null,null,5,null,null,null,null,null,"Heart Girth & Barrel"]
[6,null,null,null,null,null,6,null,null,null,null,null,1,null,null,null,null,null,6,null,null,null,null,null,"Back & Loin"]
[7,null,null,null,null,null,7,null,null,null,null,null,2,null,null,null,null,null,7,null,null,null,null,null,"Hip & Croup"]
[8,null,null,null,null,null,8,null,null,null,null,null,3,null,null,null,null,null,8,null,null,null,null,null,"Stife & Gaskin"]
[9,null,null,null,null,null,null,null,"Total Penalty Pts",{"$f":"SUM(I10:J17)","v":0},null,null,4,null,null,null,null,null,9,null,null,null,null,null,"Hock, Hind Legs, Feet"]
[10,null,null,null,null,null,"56 +/- Judge Score",{"$f":"SUM(H10:H17)","v":0},"Divided by 2",{"$f":"SUM((56+H19)/2)","v":28},null,null,"Penning",null,null,null,null,null,10,null,null,null,null,null,"Overall Muscling"]
[11,null,null,null,null,null,"Maneuver Score",{"$f":"J19","v":28},"Less Penalty Pts",{"$f":"J18","v":0},null,null,1,null,null,null,null,null,null,null,"Major Penalties",null,null,null,"Tracking","Lame: enter an \"x\""]
[12,null,null,null,null,null,"REINING SCORE",null,null,{"$f":"SUM(H20+J20)","v":28},null,null,2,null,null,null,null,null,null,null,null,null,null,null,"Balance 1"]
[13,null,null,null,null,null,"NOVICE BOXING",null,null,null,null,null,3,null,null,null,null,null,null,null,null,null,null,null,"Balance 2"]
[14,null,null,null,null,null,1,null,"Penalty Points",null,null,null,null,null,"Major Penalties",null,null,null,"Maneuver Total",{"$f":"SUM(T10:T19)","v":0},"Penalty Total",{"$f":"SUM(SUM(U10:V19)+V20)","v":0},null,null,"Balance 3"]
["Maneuver Total",{"$f":"SUM(B10:B23)","v":0},"Major Penalties",null,null,null,"7 +/- Judge Score",{"$f":"SUM(7+H23)","v":7},"Total Penalty Pts",{"$f":"J23","v":0},null,null,null,null,null,null,null,null,null,null,null,null,null,null,"Fitness & Condition"]
[null,null,"Penalty Total",{"$f":"SUM(C10:D24)","v":0},null,null,"Maneuver Score",{"$f":"H24","v":7},"Less Penalty Pts",{"$f":"J24","v":0},null,null,"Maneuver Total",{"$f":"SUM(N10:N22)","v":0},"Penalty Total",{"$f":"SUM(O11+O12+O13+O15+O16+O17+O18+O20+O21+O22+P23)","v":0},null,null,null,null,null,null,null,null,"Participant Showmanship"]
[null,null,null,null,null,null,"CATTLE SCORE",null,null,{"$f":"SUM(H25+J25)","v":7},null,null,null,null,null,null,null,null,null,null,null,null,null,null,"Horse Showmanship"]
["100 +/-Maneuver",{"$f":"B24","v":0},"x .70 =",{"$f":"SUM((100+B27)*0.7)","v":70},null,null,null,null,null,null,null,null,"70 +/-Maneuver",{"$f":"N25","v":0},"Less Penalty Total",{"$f":"P25","v":0},null,null,"70 +/-Maneuver",{"$f":"T23","v":0},"Less Penalty Total",{"$f":"V23","v":0},null,null,"Form & Showmanship Judges Score",null,"Total (1)",{"$f":"SUM(AB9:AB26)","v":0}]
[null,null,null,null,null,null,null,null,null,null,null,null,null,null,null,null,null,null,null,null,null,null,null,null,{"$f":"SUM(AB27*0.33+42)","v":42},{"$f":"IF(AA20=\"x\",-10,0)","v":0},"Judge Score (2)",{"$f":"SUM(Y28+Z28)","v":42}]
["Maneuver Score =",{"$f":"D27","v":70},"Less Penalty Total",{"$f":"D25","v":0},null,null,"Reining Score",{"$f":"J21","v":28},"Plus Cattle Score",{"$f":"J26","v":7},null,null,null,null,null,null,null,null,null,null,null,null,null,null,"Ranch Cutting",{"$f":"IF(P31=\"\",0,P31)","v":0},"Ranch Rding",{"$f":"IF(D31=\"\",0,D31)","v":0}]
[null,null,null,null,null,null,null,null,null,null,null,null,null,null,null,null,null,null,null,null,null,null,null,null,"Working Ranch Horse",{"$f":"IF(J31=\"\",0,J31)","v":0},"Ranch Trail",{"$f":"IF(V31=\"\",0,V31)","v":0}]
["TOTAL SCORE",null,null,{"$f":"IF(D7=\"\",\"\",IF(B29+D29<0,0,B29+D29))","v":""},null,null,"TOTAL SCORE",null,null,{"$f":"IF(J7=\"\",\"\",IF(H29+J29<0,0,H29+J29))","v":""},null,null,"TOTAL SCORE",null,null,{"$f":"IF(P7=\"\",\"\",IF(70+N27+P27<0,0,70+N27+P27))","v":""},null,null,"TOTAL SCORE",null,null,{"$f":"IF(V7=\"\",\"\",IF(70+T27+V27<0,0,70+T27+V27))","v":""},null,null,"Function Total (3)",{"$f":"SUM(Z29+AB29+Z30+AB30)","v":0},"Function Score (4)",{"$f":"Z31*0.1","v":0}]
[null,null,null,null,null,null,null,null,null,null,null,null,null,null,null,null,null,null,null,null,null,null,null,null,"Judge Score (2) + Function Score (4) = CONFORMATION SCORE",null,null,{"$f":"IF(AB7=\"\",\"\",IF(AB28+AB31<0,0,AB28+AB31))","v":""}]
[null,null,"Return to Entry Page",null,null,null,null,null,"Return to Entry Page",null,null,null,null,null,"Return to Entry Page",null,null,null,null,null,"Return to Entry Page"]
[null,null,null,null,null,null,null,null,null,null,null,null,null,null,null,null,null,null,null,null,null,null,null,null,null,null,"Return to Entry Page"]

{"sheet":"Youth 4","index":112,"n_rows":34,"n_cols":28,"rows_kept":34,"cut":false,"hidden":false,"merged":[[31,24,31,26],[8,2,8,3],[8,8,8,9],[8,14,8,15],[8,20,8,21],[9,2,9,3],[9,8,10,9],[9,12,9,15],[9,20,9,21],[10,2,10,3],[10,14,10,15],[10,20,10,21],[11,2,11,3],[11,8,12,9],[11,14,11,15],[11,20,11,21],[7,0,7,3],[7,6,7,9],[7,12,7,15],[7,18,7,21],[7,24,7,27],[12,2,12,3],[12,14,12,15],[12,20,12,21],[13,2,13,3],[13,8,14,9],[13,12,13,15],[13,20,13,21],[14,2,14,3],[14,14,14,15],[14,20,14,21],[15,2,15,3],[15,8,15,9],[15,14,15,15],[15,20,15,21],[18,2,18,3],[18,12,18,15],[18,20,18,21],[16,2,16,3],[16,8,16,9],[16,14,16,15],[16,20,16,21],[17,2,17,3],[17,14,17,15],[17,20,17,21],[19,2,19,3],[19,14,19,15],[19,18,20,19],[19,20,20,20],[19,21,20,21],[20,2,20,3],[20,6,20,8],[20,14,20,15],[21,2,21,3],[21,14,21,15],[21,18,21,21],[22,2,22,3],[22,12,23,13],[22,14,23,14],[22,15,23,15],[21,6,21,9],[23,0,24,0],[23,1,24,1],[23,18,25,21],[25,0,25,3],[25,12,25,15],[25,6,25,8],[27,12,29,15],[27,18,29,21],[29,0,29,3],[30,0,30,2],[30,12,30,14],[30,18,30,20],[26,6,26,9],[27,6,27,9],[29,6,29,9],[30,6,30,8],[27,0,27,3]]}
["RIDERS SCORE WORK SHEET"]
[]
["Back Number:",{"$f":"'Entry Information'!B113","v":0},null,null,null,null,"Back Number:",{"$f":"'Entry Information'!B113","v":0},null,null,null,null,"Back Number:",{"$f":"'Entry Information'!B113","v":0},null,null,null,null,"Back Number:",{"$f":"'Entry Information'!B113","v":0},null,null,null,null,"Back Number:",{"$f":"'Entry Information'!B113","v":0}]
["Name:",{"$f":"'Entry Information'!I113","v":0},{"$f":"'Entry Information'!H113","v":0},null,null,null,"Name:",{"$f":"'Entry Information'!I113","v":0},{"$f":"'Entry Information'!H113","v":0},null,null,null,"Name:",{"$f":"'Entry Information'!I113","v":0},{"$f":"'Entry Information'!H113","v":0},null,null,null,"Name:",{"$f":"'Entry Information'!I113","v":0},{"$f":"'Entry Information'!H113","v":0},null,null,null,"Name:",{"$f":"'Entry Information'!H113","v":0},{"$f":"'Entry Information'!I113","v":0}]
["Horse Name",{"$f":"'Entry Information'!J113","v":0},null,null,null,null,"Horse Name",{"$f":"'Entry Information'!J113","v":0},null,null,null,null,"Horse Name",{"$f":"'Entry Information'!J113","v":0},null,null,null,null,"Horse Name",{"$f":"'Entry Information'!J113","v":0},null,null,null,null,"Horse Name",{"$f":"'Entry Information'!J113","v":0}]
[]
["Check box when entering Ranch Riding scores",null,null,null,null,null,"Check box when entering Working Ranch Horse scores",null,null,null,null,null,"Check box when entering Ranch Cutting scores",null,null,null,null,null,"Check box when entering Ranch Trail scores",null,null,null,null,null,"Check box when entering Conformation scores"]
["Ranch Riding",null,null,null,null,null,"Working Ranch Horse",null,null,null,null,null,"Ranch Cutting",null,null,null,null,null,"Ranch Trail",null,null,null,null,null,"Ranch Conformation"]
["Maneuver","Judge's Score +/-","Penalty Points",null,null,null,"Maneuver","Judge's Score +/-","Penalty Points",null,null,null,"Maneuver","Judge's Score +/-","Penalty Points",null,null,null,"Maneuver","Judge's Score +/-","Penalty Points",null,null,null,"Front Legs, Feet"]
[1,null,null,null,null,null,1,null,null,null,null,null,"Herd Work",null,null,null,null,null,1,null,null,null,null,null,"Chest, Pectoral V"]
[2,null,null,null,null,null,2,null,null,null,null,null,1,null,null,null,null,null,2,null,null,null,null,null,"Head"]
[3,null,null,null,null,null,3,null,null,null,null,null,2,null,null,null,null,null,3,null,null,null,null,null,"Neck & Throat Latch"]
[4,null,null,null,null,null,4,null,null,null,null,null,3,null,null,null,null,null,4,null,null,null,null,null,"Shoulders & Withers"]
[5,null,null,null,null,null,5,null,null,null,null,null,"Cutting",null,null,null,null,null,5,null,null,null,null,null,"Heart Girth & Barrel"]
[6,null,null,null,null,null,6,null,null,null,null,null,1,null,null,null,null,null,6,null,null,null,null,null,"Back & Loin"]
[7,null,null,null,null,null,7,null,null,null,null,null,2,null,null,null,null,null,7,null,null,null,null,null,"Hip & Croup"]
[8,null,null,null,null,null,8,null,null,null,null,null,3,null,null,null,null,null,8,null,null,null,null,null,"Stife & Gaskin"]
[9,null,null,null,null,null,null,null,"Total Penalty Pts",{"$f":"SUM(I10:J17)","v":0},null,null,4,null,null,null,null,null,9,null,null,null,null,null,"Hock, Hind Legs, Feet"]
[10,null,null,null,null,null,"56 +/- Judge Score",{"$f":"SUM(H10:H17)","v":0},"Divided by 2",{"$f":"SUM((56+H19)/2)","v":28},null,null,"Penning",null,null,null,null,null,10,null,null,null,null,null,"Overall Muscling"]
[11,null,null,null,null,null,"Maneuver Score",{"$f":"J19","v":28},"Less Penalty Pts",{"$f":"J18","v":0},null,null,1,null,null,null,null,null,null,null,"Major Penalties",null,null,null,"Tracking","Lame: enter an \"x\""]
[12,null,null,null,null,null,"REINING SCORE",null,null,{"$f":"SUM(H20+J20)","v":28},null,null,2,null,null,null,null,null,null,null,null,null,null,null,"Balance 1"]
[13,null,null,null,null,null,"NOVICE BOXING",null,null,null,null,null,3,null,null,null,null,null,null,null,null,null,null,null,"Balance 2"]
[14,null,null,null,null,null,1,null,"Penalty Points",null,null,null,null,null,"Major Penalties",null,null,null,"Maneuver Total",{"$f":"SUM(T10:T19)","v":0},"Penalty Total",{"$f":"SUM(SUM(U10:V19)+V20)","v":0},null,null,"Balance 3"]
["Maneuver Total",{"$f":"SUM(B10:B23)","v":0},"Major Penalties",null,null,null,"7 +/- Judge Score",{"$f":"SUM(7+H23)","v":7},"Total Penalty Pts",{"$f":"J23","v":0},null,null,null,null,null,null,null,null,null,null,null,null,null,null,"Fitness & Condition"]
[null,null,"Penalty Total",{"$f":"SUM(C10:D24)","v":0},null,null,"Maneuver Score",{"$f":"H24","v":7},"Less Penalty Pts",{"$f":"J24","v":0},null,null,"Maneuver Total",{"$f":"SUM(N10:N22)","v":0},"Penalty Total",{"$f":"SUM(O11+O12+O13+O15+O16+O17+O18+O20+O21+O22+P23)","v":0},null,null,null,null,null,null,null,null,"Participant Showmanship"]
[null,null,null,null,null,null,"CATTLE SCORE",null,null,{"$f":"SUM(H25+J25)","v":7},null,null,null,null,null,null,null,null,null,null,null,null,null,null,"Horse Showmanship"]
["100 +/-Maneuver",{"$f":"B24","v":0},"x .70 =",{"$f":"SUM((100+B27)*0.7)","v":70},null,null,null,null,null,null,null,null,"70 +/-Maneuver",{"$f":"N25","v":0},"Less Penalty Total",{"$f":"P25","v":0},null,null,"70 +/-Maneuver",{"$f":"T23","v":0},"Less Penalty Total",{"$f":"V23","v":0},null,null,"Form & Showmanship Judges Score",null,"Total (1)",{"$f":"SUM(AB9:AB26)","v":0}]
[null,null,null,null,null,null,null,null,null,null,null,null,null,null,null,null,null,null,null,null,null,null,null,null,{"$f":"SUM(AB27*0.33+42)","v":42},{"$f":"IF(AA20=\"x\",-10,0)","v":0},"Judge Score (2)",{"$f":"SUM(Y28+Z28)","v":42}]
["Maneuver Score =",{"$f":"D27","v":70},"Less Penalty Total",{"$f":"D25","v":0},null,null,"Reining Score",{"$f":"J21","v":28},"Plus Cattle Score",{"$f":"J26","v":7},null,null,null,null,null,null,null,null,null,null,null,null,null,null,"Ranch Cutting",{"$f":"IF(P31=\"\",0,P31)","v":0},"Ranch Rding",{"$f":"IF(D31=\"\",0,D31)","v":0}]
[null,null,null,null,null,null,null,null,null,null,null,null,null,null,null,null,null,null,null,null,null,null,null,null,"Working Ranch Horse",{"$f":"IF(J31=\"\",0,J31)","v":0},"Ranch Trail",{"$f":"IF(V31=\"\",0,V31)","v":0}]
["TOTAL SCORE",null,null,{"$f":"IF(D7=\"\",\"\",IF(B29+D29<0,0,B29+D29))","v":""},null,null,"TOTAL SCORE",null,null,{"$f":"IF(J7=\"\",\"\",IF(H29+J29<0,0,H29+J29))","v":""},null,null,"TOTAL SCORE",null,null,{"$f":"IF(P7=\"\",\"\",IF(70+N27+P27<0,0,70+N27+P27))","v":""},null,null,"TOTAL SCORE",null,null,{"$f":"IF(V7=\"\",\"\",IF(70+T27+V27<0,0,70+T27+V27))","v":""},null,null,"Function Total (3)",{"$f":"SUM(Z29+AB29+Z30+AB30)","v":0},"Function Score (4)",{"$f":"Z31*0.1","v":0}]
[null,null,null,null,null,null,null,null,null,null,null,null,null,null,null,null,null,null,null,null,null,null,null,null,"Judge Score (2) + Function Score (4) = CONFORMATION SCORE",null,null,{"$f":"IF(AB7=\"\",\"\",IF(AB28+AB31<0,0,AB28+AB31))","v":""}]
[null,null,"Return to Entry Page",null,null,null,null,null,"Return to Entry Page",null,null,null,null,null,"Return to Entry Page",null,null,null,null,null,"Return to Entry Page"]
[null,null,null,null,null,null,null,null,null,null,null,null,null,null,null,null,null,null,null,null,null,null,null,null,null,null,"Return to Entry Page"]

{"sheet":"Youth 5","index":113,"n_rows":34,"n_cols":28,"rows_kept":34,"cut":false,"hidden":false,"merged":[[31,24,31,26],[8,2,8,3],[8,8,8,9],[8,14,8,15],[8,20,8,21],[9,2,9,3],[9,8,10,9],[9,12,9,15],[9,20,9,21],[10,2,10,3],[10,14,10,15],[10,20,10,21],[11,2,11,3],[11,8,12,9],[11,14,11,15],[11,20,11,21],[7,0,7,3],[7,6,7,9],[7,12,7,15],[7,18,7,21],[7,24,7,27],[12,2,12,3],[12,14,12,15],[12,20,12,21],[13,2,13,3],[13,8,14,9],[13,12,13,15],[13,20,13,21],[14,2,14,3],[14,14,14,15],[14,20,14,21],[15,2,15,3],[15,8,15,9],[15,14,15,15],[15,20,15,21],[18,2,18,3],[18,12,18,15],[18,20,18,21],[16,2,16,3],[16,8,16,9],[16,14,16,15],[16,20,16,21],[17,2,17,3],[17,14,17,15],[17,20,17,21],[19,2,19,3],[19,14,19,15],[19,18,20,19],[19,20,20,20],[19,21,20,21],[20,2,20,3],[20,6,20,8],[20,14,20,15],[21,2,21,3],[21,14,21,15],[21,18,21,21],[22,2,22,3],[22,12,23,13],[22,14,23,14],[22,15,23,15],[21,6,21,9],[23,0,24,0],[23,1,24,1],[23,18,25,21],[25,0,25,3],[25,12,25,15],[25,6,25,8],[27,12,29,15],[27,18,29,21],[29,0,29,3],[30,0,30,2],[30,12,30,14],[30,18,30,20],[26,6,26,9],[27,6,27,9],[29,6,29,9],[30,6,30,8],[27,0,27,3]]}
["RIDERS SCORE WORK SHEET"]
[]
["Back Number:",{"$f":"'Entry Information'!B114","v":0},null,null,null,null,"Back Number:",{"$f":"'Entry Information'!B114","v":0},null,null,null,null,"Back Number:",{"$f":"'Entry Information'!B114","v":0},null,null,null,null,"Back Number:",{"$f":"'Entry Information'!B114","v":0},null,null,null,null,"Back Number:",{"$f":"'Entry Information'!B114","v":0}]
["Name:",{"$f":"'Entry Information'!I114","v":0},{"$f":"'Entry Information'!H114","v":0},null,null,null,"Name:",{"$f":"'Entry Information'!I114","v":0},{"$f":"'Entry Information'!H114","v":0},null,null,null,"Name:",{"$f":"'Entry Information'!I114","v":0},{"$f":"'Entry Information'!H114","v":0},null,null,null,"Name:",{"$f":"'Entry Information'!I114","v":0},{"$f":"'Entry Information'!H114","v":0},null,null,null,"Name:",{"$f":"'Entry Information'!H114","v":0},{"$f":"'Entry Information'!I114","v":0}]
["Horse Name",{"$f":"'Entry Information'!J114","v":0},null,null,null,null,"Horse Name",{"$f":"'Entry Information'!J114","v":0},null,null,null,null,"Horse Name",{"$f":"'Entry Information'!J114","v":0},null,null,null,null,"Horse Name",{"$f":"'Entry Information'!J114","v":0},null,null,null,null,"Horse Name",{"$f":"'Entry Information'!J114","v":0}]
[]
["Check box when entering Ranch Riding scores",null,null,null,null,null,"Check box when entering Working Ranch Horse scores",null,null,null,null,null,"Check box when entering Ranch Cutting scores",null,null,null,null,null,"Check box when entering Ranch Trail scores",null,null,null,null,null,"Check box when entering Conformation scores"]
["Ranch Riding",null,null,null,null,null,"Working Ranch Horse",null,null,null,null,null,"Ranch Cutting",null,null,null,null,null,"Ranch Trail",null,null,null,null,null,"Ranch Conformation"]
["Maneuver","Judge's Score +/-","Penalty Points",null,null,null,"Maneuver","Judge's Score +/-","Penalty Points",null,null,null,"Maneuver","Judge's Score +/-","Penalty Points",null,null,null,"Maneuver","Judge's Score +/-","Penalty Points",null,null,null,"Front Legs, Feet"]
[1,null,null,null,null,null,1,null,null,null,null,null,"Herd Work",null,null,null,null,null,1,null,null,null,null,null,"Chest, Pectoral V"]
[2,null,null,null,null,null,2,null,null,null,null,null,1,null,null,null,null,null,2,null,null,null,null,null,"Head"]
[3,null,null,null,null,null,3,null,null,null,null,null,2,null,null,null,null,null,3,null,null,null,null,null,"Neck & Throat Latch"]
[4,null,null,null,null,null,4,null,null,null,null,null,3,null,null,null,null,null,4,null,null,null,null,null,"Shoulders & Withers"]
[5,null,null,null,null,null,5,null,null,null,null,null,"Cutting",null,null,null,null,null,5,null,null,null,null,null,"Heart Girth & Barrel"]
[6,null,null,null,null,null,6,null,null,null,null,null,1,null,null,null,null,null,6,null,null,null,null,null,"Back & Loin"]
[7,null,null,null,null,null,7,null,null,null,null,null,2,null,null,null,null,null,7,null,null,null,null,null,"Hip & Croup"]
[8,null,null,null,null,null,8,null,null,null,null,null,3,null,null,null,null,null,8,null,null,null,null,null,"Stife & Gaskin"]
[9,null,null,null,null,null,null,null,"Total Penalty Pts",{"$f":"SUM(I10:J17)","v":0},null,null,4,null,null,null,null,null,9,null,null,null,null,null,"Hock, Hind Legs, Feet"]
[10,null,null,null,null,null,"56 +/- Judge Score",{"$f":"SUM(H10:H17)","v":0},"Divided by 2",{"$f":"SUM((56+H19)/2)","v":28},null,null,"Penning",null,null,null,null,null,10,null,null,null,null,null,"Overall Muscling"]
[11,null,null,null,null,null,"Maneuver Score",{"$f":"J19","v":28},"Less Penalty Pts",{"$f":"J18","v":0},null,null,1,null,null,null,null,null,null,null,"Major Penalties",null,null,null,"Tracking","Lame: enter an \"x\""]
[12,null,null,null,null,null,"REINING SCORE",null,null,{"$f":"SUM(H20+J20)","v":28},null,null,2,null,null,null,null,null,null,null,null,null,null,null,"Balance 1"]
[13,null,null,null,null,null,"NOVICE BOXING",null,null,null,null,null,3,null,null,null,null,null,null,null,null,null,null,null,"Balance 2"]
[14,null,null,null,null,null,1,null,"Penalty Points",null,null,null,null,null,"Major Penalties",null,null,null,"Maneuver Total",{"$f":"SUM(T10:T19)","v":0},"Penalty Total",{"$f":"SUM(SUM(U10:V19)+V20)","v":0},null,null,"Balance 3"]
["Maneuver Total",{"$f":"SUM(B10:B23)","v":0},"Major Penalties",null,null,null,"7 +/- Judge Score",{"$f":"SUM(7+H23)","v":7},"Total Penalty Pts",{"$f":"J23","v":0},null,null,null,null,null,null,null,null,null,null,null,null,null,null,"Fitness & Condition"]
[null,null,"Penalty Total",{"$f":"SUM(C10:D24)","v":0},null,null,"Maneuver Score",{"$f":"H24","v":7},"Less Penalty Pts",{"$f":"J24","v":0},null,null,"Maneuver Total",{"$f":"SUM(N10:N22)","v":0},"Penalty Total",{"$f":"SUM(O11+O12+O13+O15+O16+O17+O18+O20+O21+O22+P23)","v":0},null,null,null,null,null,null,null,null,"Participant Showmanship"]
[null,null,null,null,null,null,"CATTLE SCORE",null,null,{"$f":"SUM(H25+J25)","v":7},null,null,null,null,null,null,null,null,null,null,null,null,null,null,"Horse Showmanship"]
["100 +/-Maneuver",{"$f":"B24","v":0},"x .70 =",{"$f":"SUM((100+B27)*0.7)","v":70},null,null,null,null,null,null,null,null,"70 +/-Maneuver",{"$f":"N25","v":0},"Less Penalty Total",{"$f":"P25","v":0},null,null,"70 +/-Maneuver",{"$f":"T23","v":0},"Less Penalty Total",{"$f":"V23","v":0},null,null,"Form & Showmanship Judges Score",null,"Total (1)",{"$f":"SUM(AB9:AB26)","v":0}]
[null,null,null,null,null,null,null,null,null,null,null,null,null,null,null,null,null,null,null,null,null,null,null,null,{"$f":"SUM(AB27*0.33+42)","v":42},{"$f":"IF(AA20=\"x\",-10,0)","v":0},"Judge Score (2)",{"$f":"SUM(Y28+Z28)","v":42}]
["Maneuver Score =",{"$f":"D27","v":70},"Return to Entry Page",{"$f":"D25","v":0},null,null,"Reining Score",{"$f":"J21","v":28},"Plus Cattle Score",{"$f":"J26","v":7},null,null,null,null,null,null,null,null,null,null,null,null,null,null,"Ranch Cutting",{"$f":"IF(P31=\"\",0,P31)","v":0},"Ranch Rding",{"$f":"IF(D31=\"\",0,D31)","v":0}]
[null,null,null,null,null,null,null,null,null,null,null,null,null,null,null,null,null,null,null,null,null,null,null,null,"Working Ranch Horse",{"$f":"IF(J31=\"\",0,J31)","v":0},"Ranch Trail",{"$f":"IF(V31=\"\",0,V31)","v":0}]
["TOTAL SCORE",null,null,{"$f":"IF(D7=\"\",\"\",IF(B29+D29<0,0,B29+D29))","v":""},null,null,"TOTAL SCORE",null,null,{"$f":"IF(J7=\"\",\"\",IF(H29+J29<0,0,H29+J29))","v":""},null,null,"TOTAL SCORE",null,null,{"$f":"IF(P7=\"\",\"\",IF(70+N27+P27<0,0,70+N27+P27))","v":""},null,null,"TOTAL SCORE",null,null,{"$f":"IF(V7=\"\",\"\",IF(70+T27+V27<0,0,70+T27+V27))","v":""},null,null,"Function Total (3)",{"$f":"SUM(Z29+AB29+Z30+AB30)","v":0},"Function Score (4)",{"$f":"Z31*0.1","v":0}]
[null,null,null,null,null,null,null,null,null,null,null,null,null,null,null,null,null,null,null,null,null,null,null,null,"Judge Score (2) + Function Score (4) = CONFORMATION SCORE",null,null,{"$f":"IF(AB7=\"\",\"\",IF(AB28+AB31<0,0,AB28+AB31))","v":""}]
[null,null,"Return to Entry Page",null,null,null,null,null,"Return to Entry Page",null,null,null,null,null,"Return to Entry Page",null,null,null,null,null,"Return to Entry Page"]
[null,null,null,null,null,null,null,null,null,null,null,null,null,null,null,null,null,null,null,null,null,null,null,null,null,null,"Return to Entry Page"]

{"sheet":"Youth 6","index":114,"n_rows":34,"n_cols":28,"rows_kept":34,"cut":false,"hidden":false,"merged":[[31,24,31,26],[8,2,8,3],[8,8,8,9],[8,14,8,15],[8,20,8,21],[9,2,9,3],[9,8,10,9],[9,12,9,15],[9,20,9,21],[10,2,10,3],[10,14,10,15],[10,20,10,21],[11,2,11,3],[11,8,12,9],[11,14,11,15],[11,20,11,21],[7,0,7,3],[7,6,7,9],[7,12,7,15],[7,18,7,21],[7,24,7,27],[12,2,12,3],[12,14,12,15],[12,20,12,21],[13,2,13,3],[13,8,14,9],[13,12,13,15],[13,20,13,21],[14,2,14,3],[14,14,14,15],[14,20,14,21],[15,2,15,3],[15,8,15,9],[15,14,15,15],[15,20,15,21],[18,2,18,3],[18,12,18,15],[18,20,18,21],[16,2,16,3],[16,8,16,9],[16,14,16,15],[16,20,16,21],[17,2,17,3],[17,14,17,15],[17,20,17,21],[19,2,19,3],[19,14,19,15],[19,18,20,19],[19,20,20,20],[19,21,20,21],[20,2,20,3],[20,6,20,8],[20,14,20,15],[21,2,21,3],[21,14,21,15],[21,18,21,21],[22,2,22,3],[22,12,23,13],[22,14,23,14],[22,15,23,15],[21,6,21,9],[23,0,24,0],[23,1,24,1],[23,18,25,21],[25,0,25,3],[25,12,25,15],[25,6,25,8],[27,12,29,15],[27,18,29,21],[29,0,29,3],[30,0,30,2],[30,12,30,14],[30,18,30,20],[26,6,26,9],[27,6,27,9],[29,6,29,9],[30,6,30,8],[27,0,27,3]]}
["RIDERS SCORE WORK SHEET"]
[]
["Back Number:",{"$f":"'Entry Information'!B115","v":0},null,null,null,null,"Back Number:",{"$f":"'Entry Information'!B115","v":0},null,null,null,null,"Back Number:",{"$f":"'Entry Information'!B115","v":0},null,null,null,null,"Back Number:",{"$f":"'Entry Information'!B115","v":0},null,null,null,null,"Back Number:",{"$f":"'Entry Information'!B115","v":0}]
["Name:",{"$f":"'Entry Information'!I115","v":0},{"$f":"'Entry Information'!H115","v":0},null,null,null,"Name:",{"$f":"'Entry Information'!I115","v":0},{"$f":"'Entry Information'!H115","v":0},null,null,null,"Name:",{"$f":"'Entry Information'!I115","v":0},{"$f":"'Entry Information'!H115","v":0},null,null,null,"Name:",{"$f":"'Entry Information'!I115","v":0},{"$f":"'Entry Information'!H115","v":0},null,null,null,"Name:",{"$f":"'Entry Information'!H115","v":0},{"$f":"'Entry Information'!I115","v":0}]
["Horse Name",{"$f":"'Entry Information'!J115","v":0},null,null,null,null,"Horse Name",{"$f":"'Entry Information'!J115","v":0},null,null,null,null,"Horse Name",{"$f":"'Entry Information'!J115","v":0},null,null,null,null,"Horse Name",{"$f":"'Entry Information'!J115","v":0},null,null,null,null,"Horse Name",{"$f":"'Entry Information'!J115","v":0}]
[]
["Check box when entering Ranch Riding scores",null,null,null,null,null,"Check box when entering Working Ranch Horse scores",null,null,null,null,null,"Check box when entering Ranch Cutting scores",null,null,null,null,null,"Check box when entering Ranch Trail scores",null,null,null,null,null,"Check box when entering Conformation scores"]
["Ranch Riding",null,null,null,null,null,"Working Ranch Horse",null,null,null,null,null,"Ranch Cutting",null,null,null,null,null,"Ranch Trail",null,null,null,null,null,"Ranch Conformation"]
["Maneuver","Judge's Score +/-","Penalty Points",null,null,null,"Maneuver","Judge's Score +/-","Penalty Points",null,null,null,"Maneuver","Judge's Score +/-","Penalty Points",null,null,null,"Maneuver","Judge's Score +/-","Penalty Points",null,null,null,"Front Legs, Feet"]
[1,null,null,null,null,null,1,null,null,null,null,null,"Herd Work",null,null,null,null,null,1,null,null,null,null,null,"Chest, Pectoral V"]
[2,null,null,null,null,null,2,null,null,null,null,null,1,null,null,null,null,null,2,null,null,null,null,null,"Head"]
[3,null,null,null,null,null,3,null,null,null,null,null,2,null,null,null,null,null,3,null,null,null,null,null,"Neck & Throat Latch"]
[4,null,null,null,null,null,4,null,null,null,null,null,3,null,null,null,null,null,4,null,null,null,null,null,"Shoulders & Withers"]
[5,null,null,null,null,null,5,null,null,null,null,null,"Cutting",null,null,null,null,null,5,null,null,null,null,null,"Heart Girth & Barrel"]
[6,null,null,null,null,null,6,null,null,null,null,null,1,null,null,null,null,null,6,null,null,null,null,null,"Back & Loin"]
[7,null,null,null,null,null,7,null,null,null,null,null,2,null,null,null,null,null,7,null,null,null,null,null,"Hip & Croup"]
[8,null,null,null,null,null,8,null,null,null,null,null,3,null,null,null,null,null,8,null,null,null,null,null,"Stife & Gaskin"]
[9,null,null,null,null,null,null,null,"Total Penalty Pts",{"$f":"SUM(I10:J17)","v":0},null,null,4,null,null,null,null,null,9,null,null,null,null,null,"Hock, Hind Legs, Feet"]
[10,null,null,null,null,null,"56 +/- Judge Score",{"$f":"SUM(H10:H17)","v":0},"Divided by 2",{"$f":"SUM((56+H19)/2)","v":28},null,null,"Penning",null,null,null,null,null,10,null,null,null,null,null,"Overall Muscling"]
[11,null,null,null,null,null,"Maneuver Score",{"$f":"J19","v":28},"Less Penalty Pts",{"$f":"J18","v":0},null,null,1,null,null,null,null,null,null,null,"Major Penalties",null,null,null,"Tracking","Lame: enter an \"x\""]
[12,null,null,null,null,null,"REINING SCORE",null,null,{"$f":"SUM(H20+J20)","v":28},null,null,2,null,null,null,null,null,null,null,null,null,null,null,"Balance 1"]
[13,null,null,null,null,null,"NOVICE BOXING",null,null,null,null,null,3,null,null,null,null,null,null,null,null,null,null,null,"Balance 2"]
[14,null,null,null,null,null,1,null,"Penalty Points",null,null,null,null,null,"Major Penalties",null,null,null,"Maneuver Total",{"$f":"SUM(T10:T19)","v":0},"Penalty Total",{"$f":"SUM(SUM(U10:V19)+V20)","v":0},null,null,"Balance 3"]
["Maneuver Total",{"$f":"SUM(B10:B23)","v":0},"Major Penalties",null,null,null,"7 +/- Judge Score",{"$f":"SUM(7+H23)","v":7},"Total Penalty Pts",{"$f":"J23","v":0},null,null,null,null,null,null,null,null,null,null,null,null,null,null,"Fitness & Condition"]
[null,null,"Penalty Total",{"$f":"SUM(C10:D24)","v":0},null,null,"Maneuver Score",{"$f":"H24","v":7},"Less Penalty Pts",{"$f":"J24","v":0},null,null,"Maneuver Total",{"$f":"SUM(N10:N22)","v":0},"Penalty Total",{"$f":"SUM(O11+O12+O13+O15+O16+O17+O18+O20+O21+O22+P23)","v":0},null,null,null,null,null,null,null,null,"Participant Showmanship"]
[null,null,null,null,null,null,"CATTLE SCORE",null,null,{"$f":"SUM(H25+J25)","v":7},null,null,null,null,null,null,null,null,null,null,null,null,null,null,"Horse Showmanship"]
["100 +/-Maneuver",{"$f":"B24","v":0},"x .70 =",{"$f":"SUM((100+B27)*0.7)","v":70},null,null,null,null,null,null,null,null,"70 +/-Maneuver",{"$f":"N25","v":0},"Less Penalty Total",{"$f":"P25","v":0},null,null,"70 +/-Maneuver",{"$f":"T23","v":0},"Less Penalty Total",{"$f":"V23","v":0},null,null,"Form & Showmanship Judges Score",null,"Total (1)",{"$f":"SUM(AB9:AB26)","v":0}]
[null,null,null,null,null,null,null,null,null,null,null,null,null,null,null,null,null,null,null,null,null,null,null,null,{"$f":"SUM(AB27*0.33+42)","v":42},{"$f":"IF(AA20=\"x\",-10,0)","v":0},"Judge Score (2)",{"$f":"SUM(Y28+Z28)","v":42}]
["Maneuver Score =",{"$f":"D27","v":70},"Less Penalty Total",{"$f":"D25","v":0},null,null,"Reining Score",{"$f":"J21","v":28},"Plus Cattle Score",{"$f":"J26","v":7},null,null,null,null,null,null,null,null,null,null,null,null,null,null,"Ranch Cutting",{"$f":"IF(P31=\"\",0,P31)","v":0},"Ranch Rding",{"$f":"IF(D31=\"\",0,D31)","v":0}]
[null,null,null,null,null,null,null,null,null,null,null,null,null,null,null,null,null,null,null,null,null,null,null,null,"Working Ranch Horse",{"$f":"IF(J31=\"\",0,J31)","v":0},"Ranch Trail",{"$f":"IF(V31=\"\",0,V31)","v":0}]
["TOTAL SCORE",null,null,{"$f":"IF(D7=\"\",\"\",IF(B29+D29<0,0,B29+D29))","v":""},null,null,"TOTAL SCORE",null,null,{"$f":"IF(J7=\"\",\"\",IF(H29+J29<0,0,H29+J29))","v":""},null,null,"TOTAL SCORE",null,null,{"$f":"IF(P7=\"\",\"\",IF(70+N27+P27<0,0,70+N27+P27))","v":""},null,null,"TOTAL SCORE",null,null,{"$f":"IF(V7=\"\",\"\",IF(70+T27+V27<0,0,70+T27+V27))","v":""},null,null,"Function Total (3)",{"$f":"SUM(Z29+AB29+Z30+AB30)","v":0},"Function Score (4)",{"$f":"Z31*0.1","v":0}]
[null,null,null,null,null,null,null,null,null,null,null,null,null,null,null,null,null,null,null,null,null,null,null,null,"Judge Score (2) + Function Score (4) = CONFORMATION SCORE",null,null,{"$f":"IF(AB7=\"\",\"\",IF(AB28+AB31<0,0,AB28+AB31))","v":""}]
[null,null,"Return to Entry Page",null,null,null,null,null,"Return to Entry Page",null,null,null,null,null,"Return to Entry Page",null,null,null,null,null,"Return to Entry Page"]
[null,null,null,null,null,null,null,null,null,null,null,null,null,null,null,null,null,null,null,null,null,null,null,null,null,null,"Return to Entry Page"]

{"sheet":"Youth 7","index":115,"n_rows":34,"n_cols":28,"rows_kept":34,"cut":false,"hidden":false,"merged":[[31,24,31,26],[8,2,8,3],[8,8,8,9],[8,14,8,15],[8,20,8,21],[9,2,9,3],[9,8,10,9],[9,12,9,15],[9,20,9,21],[10,2,10,3],[10,14,10,15],[10,20,10,21],[11,2,11,3],[11,8,12,9],[11,14,11,15],[11,20,11,21],[7,0,7,3],[7,6,7,9],[7,12,7,15],[7,18,7,21],[7,24,7,27],[12,2,12,3],[12,14,12,15],[12,20,12,21],[13,2,13,3],[13,8,14,9],[13,12,13,15],[13,20,13,21],[14,2,14,3],[14,14,14,15],[14,20,14,21],[15,2,15,3],[15,8,15,9],[15,14,15,15],[15,20,15,21],[18,2,18,3],[18,12,18,15],[18,20,18,21],[16,2,16,3],[16,8,16,9],[16,14,16,15],[16,20,16,21],[17,2,17,3],[17,14,17,15],[17,20,17,21],[19,2,19,3],[19,14,19,15],[19,18,20,19],[19,20,20,20],[19,21,20,21],[20,2,20,3],[20,6,20,8],[20,14,20,15],[21,2,21,3],[21,14,21,15],[21,18,21,21],[22,2,22,3],[22,12,23,13],[22,14,23,14],[22,15,23,15],[21,6,21,9],[23,0,24,0],[23,1,24,1],[23,18,25,21],[25,0,25,3],[25,12,25,15],[25,6,25,8],[27,12,29,15],[27,18,29,21],[29,0,29,3],[30,0,30,2],[30,12,30,14],[30,18,30,20],[26,6,26,9],[27,6,27,9],[29,6,29,9],[30,6,30,8],[27,0,27,3]]}
["RIDERS SCORE WORK SHEET"]
[null,null,null,null,null,null,null,null,null,null,null,null,null,null,null,null,null,null,null,"Entry Information'!A114"]
["Back Number:",{"$f":"'Entry Information'!B116","v":0},null,null,null,null,"Back Number:",{"$f":"'Entry Information'!B116","v":0},null,null,null,null,"Back Number:",{"$f":"'Entry Information'!B116","v":0},null,null,null,null,"Back Number:",{"$f":"'Entry Information'!B116","v":0},null,null,null,null,"Back Number:",{"$f":"'Entry Information'!B116","v":0}]
["Name:",{"$f":"'Entry Information'!I116","v":0},{"$f":"'Entry Information'!H116","v":0},null,null,null,"Name:",{"$f":"'Entry Information'!I116","v":0},{"$f":"'Entry Information'!H116","v":0},null,null,null,"Name:",{"$f":"'Entry Information'!I116","v":0},{"$f":"'Entry Information'!H116","v":0},null,null,null,"Name:",{"$f":"'Entry Information'!I116","v":0},{"$f":"'Entry Information'!H116","v":0},null,null,null,"Name:",{"$f":"'Entry Information'!H116","v":0},{"$f":"'Entry Information'!I116","v":0}]
["Horse Name",{"$f":"'Entry Information'!J116","v":0},null,null,null,null,"Horse Name",{"$f":"'Entry Information'!J116","v":0},null,null,null,null,"Horse Name",{"$f":"'Entry Information'!J116","v":0},null,null,null,null,"Horse Name",{"$f":"'Entry Information'!J116","v":0},null,null,null,null,"Horse Name",{"$f":"'Entry Information'!J116","v":0}]
[]
["Check box when entering Ranch Riding scores",null,null,null,null,null,"Check box when entering Working Ranch Horse scores",null,null,null,null,null,"Check box when entering Ranch Cutting scores",null,null,null,null,null,"Check box when entering Ranch Trail scores",null,null,null,null,null,"Check box when entering Conformation scores"]
["Ranch Riding",null,null,null,null,null,"Working Ranch Horse",null,null,null,null,null,"Ranch Cutting",null,null,null,null,null,"Ranch Trail",null,null,null,null,null,"Ranch Conformation"]
["Maneuver","Judge's Score +/-","Penalty Points",null,null,null,"Maneuver","Judge's Score +/-","Penalty Points",null,null,null,"Maneuver","Judge's Score +/-","Penalty Points",null,null,null,"Maneuver","Judge's Score +/-","Penalty Points",null,null,null,"Front Legs, Feet"]
[1,null,null,null,null,null,1,null,null,null,null,null,"Herd Work",null,null,null,null,null,1,null,null,null,null,null,"Chest, Pectoral V"]
[2,null,null,null,null,null,2,null,null,null,null,null,1,null,null,null,null,null,2,null,null,null,null,null,"Head"]
[3,null,null,null,null,null,3,null,null,null,null,null,2,null,null,null,null,null,3,null,null,null,null,null,"Neck & Throat Latch"]
[4,null,null,null,null,null,4,null,null,null,null,null,3,null,null,null,null,null,4,null,null,null,null,null,"Shoulders & Withers"]
[5,null,null,null,null,null,5,null,null,null,null,null,"Cutting",null,null,null,null,null,5,null,null,null,null,null,"Heart Girth & Barrel"]
[6,null,null,null,null,null,6,null,null,null,null,null,1,null,null,null,null,null,6,null,null,null,null,null,"Back & Loin"]
[7,null,null,null,null,null,7,null,null,null,null,null,2,null,null,null,null,null,7,null,null,null,null,null,"Hip & Croup"]
[8,null,null,null,null,null,8,null,null,null,null,null,3,null,null,null,null,null,8,null,null,null,null,null,"Stife & Gaskin"]
[9,null,null,null,null,null,null,null,"Total Penalty Pts",{"$f":"SUM(I10:J17)","v":0},null,null,4,null,null,null,null,null,9,null,null,null,null,null,"Hock, Hind Legs, Feet"]
[10,null,null,null,null,null,"56 +/- Judge Score",{"$f":"SUM(H10:H17)","v":0},"Divided by 2",{"$f":"SUM((56+H19)/2)","v":28},null,null,"Penning",null,null,null,null,null,10,null,null,null,null,null,"Overall Muscling"]
[11,null,null,null,null,null,"Maneuver Score",{"$f":"J19","v":28},"Less Penalty Pts",{"$f":"J18","v":0},null,null,1,null,null,null,null,null,null,null,"Major Penalties",null,null,null,"Tracking","Lame: enter an \"x\""]
[12,null,null,null,null,null,"REINING SCORE",null,null,{"$f":"SUM(H20+J20)","v":28},null,null,2,null,null,null,null,null,null,null,null,null,null,null,"Balance 1"]
[13,null,null,null,null,null,"NOVICE BOXING",null,null,null,null,null,3,null,null,null,null,null,null,null,null,null,null,null,"Balance 2"]
[14,null,null,null,null,null,1,null,"Penalty Points",null,null,null,null,null,"Major Penalties",null,null,null,"Maneuver Total",{"$f":"SUM(T10:T19)","v":0},"Penalty Total",{"$f":"SUM(SUM(U10:V19)+V20)","v":0},null,null,"Balance 3"]
["Maneuver Total",{"$f":"SUM(B10:B23)","v":0},"Major Penalties",null,null,null,"7 +/- Judge Score",{"$f":"SUM(7+H23)","v":7},"Total Penalty Pts",{"$f":"J23","v":0},null,null,null,null,null,null,null,null,null,null,null,null,null,null,"Fitness & Condition"]
[null,null,"Penalty Total",{"$f":"SUM(C10:D24)","v":0},null,null,"Maneuver Score",{"$f":"H24","v":7},"Less Penalty Pts",{"$f":"J24","v":0},null,null,"Maneuver Total",{"$f":"SUM(N10:N22)","v":0},"Penalty Total",{"$f":"SUM(O11+O12+O13+O15+O16+O17+O18+O20+O21+O22+P23)","v":0},null,null,null,null,null,null,null,null,"Participant Showmanship"]
[null,null,null,null,null,null,"CATTLE SCORE",null,null,{"$f":"SUM(H25+J25)","v":7},null,null,null,null,null,null,null,null,null,null,null,null,null,null,"Horse Showmanship"]
["100 +/-Maneuver",{"$f":"B24","v":0},"x .70 =",{"$f":"SUM((100+B27)*0.7)","v":70},null,null,null,null,null,null,null,null,"70 +/-Maneuver",{"$f":"N25","v":0},"Less Penalty Total",{"$f":"P25","v":0},null,null,"70 +/-Maneuver",{"$f":"T23","v":0},"Less Penalty Total",{"$f":"V23","v":0},null,null,"Form & Showmanship Judges Score",null,"Total (1)",{"$f":"SUM(AB9:AB26)","v":0}]
[null,null,null,null,null,null,null,null,null,null,null,null,null,null,null,null,null,null,null,null,null,null,null,null,{"$f":"SUM(AB27*0.33+42)","v":42},{"$f":"IF(AA20=\"x\",-10,0)","v":0},"Judge Score (2)",{"$f":"SUM(Y28+Z28)","v":42}]
["Maneuver Score =",{"$f":"D27","v":70},"Less Penalty Total",{"$f":"D25","v":0},null,null,"Reining Score",{"$f":"J21","v":28},"Plus Cattle Score",{"$f":"J26","v":7},null,null,null,null,null,null,null,null,null,null,null,null,null,null,"Ranch Cutting",{"$f":"IF(P31=\"\",0,P31)","v":0},"Ranch Rding",{"$f":"IF(D31=\"\",0,D31)","v":0}]
[null,null,null,null,null,null,null,null,null,null,null,null,null,null,null,null,null,null,null,null,null,null,null,null,"Working Ranch Horse",{"$f":"IF(J31=\"\",0,J31)","v":0},"Ranch Trail",{"$f":"IF(V31=\"\",0,V31)","v":0}]
["TOTAL SCORE",null,null,{"$f":"IF(D7=\"\",\"\",IF(B29+D29<0,0,B29+D29))","v":""},null,null,"TOTAL SCORE",null,null,{"$f":"IF(J7=\"\",\"\",IF(H29+J29<0,0,H29+J29))","v":""},null,null,"TOTAL SCORE",null,null,{"$f":"IF(P7=\"\",\"\",IF(70+N27+P27<0,0,70+N27+P27))","v":""},null,null,"TOTAL SCORE",null,null,{"$f":"IF(V7=\"\",\"\",IF(70+T27+V27<0,0,70+T27+V27))","v":""},null,null,"Function Total (3)",{"$f":"SUM(Z29+AB29+Z30+AB30)","v":0},"Function Score (4)",{"$f":"Z31*0.1","v":0}]
[null,null,null,null,null,null,null,null,null,null,null,null,null,null,null,null,null,null,null,null,null,null,null,null,"Judge Score (2) + Function Score (4) = CONFORMATION SCORE",null,null,{"$f":"IF(AB7=\"\",\"\",IF(AB28+AB31<0,0,AB28+AB31))","v":""}]
[null,null,"Return to Entry Page",null,null,null,null,null,"Return to Entry Page",null,null,null,null,null,"Return to Entry Page",null,null,null,null,null,"Return to Entry Page"]
[null,null,null,null,null,null,null,null,null,null,null,null,null,null,null,null,null,null,null,null,null,null,null,null,null,null,"Return to Entry Page"]

{"sheet":"Youth 8","index":116,"n_rows":34,"n_cols":28,"rows_kept":34,"cut":false,"hidden":false,"merged":[[31,24,31,26],[8,2,8,3],[8,8,8,9],[8,14,8,15],[8,20,8,21],[9,2,9,3],[9,8,10,9],[9,12,9,15],[9,20,9,21],[10,2,10,3],[10,14,10,15],[10,20,10,21],[11,2,11,3],[11,8,12,9],[11,14,11,15],[11,20,11,21],[7,0,7,3],[7,6,7,9],[7,12,7,15],[7,18,7,21],[7,24,7,27],[12,2,12,3],[12,14,12,15],[12,20,12,21],[13,2,13,3],[13,8,14,9],[13,12,13,15],[13,20,13,21],[14,2,14,3],[14,14,14,15],[14,20,14,21],[15,2,15,3],[15,8,15,9],[15,14,15,15],[15,20,15,21],[18,2,18,3],[18,12,18,15],[18,20,18,21],[16,2,16,3],[16,8,16,9],[16,14,16,15],[16,20,16,21],[17,2,17,3],[17,14,17,15],[17,20,17,21],[19,2,19,3],[19,14,19,15],[19,18,20,19],[19,20,20,20],[19,21,20,21],[20,2,20,3],[20,6,20,8],[20,14,20,15],[21,2,21,3],[21,14,21,15],[21,18,21,21],[22,2,22,3],[22,12,23,13],[22,14,23,14],[22,15,23,15],[21,6,21,9],[23,0,24,0],[23,1,24,1],[23,18,25,21],[25,0,25,3],[25,12,25,15],[25,6,25,8],[27,12,29,15],[27,18,29,21],[29,0,29,3],[30,0,30,2],[30,12,30,14],[30,18,30,20],[26,6,26,9],[27,6,27,9],[29,6,29,9],[30,6,30,8],[27,0,27,3]]}
["RIDERS SCORE WORK SHEET"]
[]
["Back Number:",{"$f":"'Entry Information'!B117","v":0},null,null,null,null,"Back Number:",{"$f":"'Entry Information'!B117","v":0},null,null,null,null,"Back Number:",{"$f":"'Entry Information'!B117","v":0},null,null,null,null,"Back Number:",{"$f":"'Entry Information'!B117","v":0},null,null,null,null,"Back Number:",{"$f":"'Entry Information'!B117","v":0}]
["Name:",{"$f":"'Entry Information'!I117","v":0},{"$f":"'Entry Information'!H117","v":0},null,null,null,"Name:",{"$f":"'Entry Information'!I117","v":0},{"$f":"'Entry Information'!H117","v":0},null,null,null,"Name:",{"$f":"'Entry Information'!I117","v":0},{"$f":"'Entry Information'!H117","v":0},null,null,null,"Name:",{"$f":"'Entry Information'!I117","v":0},{"$f":"'Entry Information'!H117","v":0},null,null,null,"Name:",{"$f":"'Entry Information'!H117","v":0},{"$f":"'Entry Information'!I117","v":0}]
["Horse Name",{"$f":"'Entry Information'!J117","v":0},null,null,null,null,"Horse Name",{"$f":"'Entry Information'!J117","v":0},null,null,null,null,"Horse Name",{"$f":"'Entry Information'!J117","v":0},null,null,null,null,"Horse Name",{"$f":"'Entry Information'!J117","v":0},null,null,null,null,"Horse Name",{"$f":"'Entry Information'!J117","v":0}]
[]
["Check box when entering Ranch Riding scores",null,null,null,null,null,"Check box when entering Working Ranch Horse scores",null,null,null,null,null,"Check box when entering Ranch Cutting scores",null,null,null,null,null,"Check box when entering Ranch Trail scores",null,null,null,null,null,"Check box when entering Conformation scores"]
["Ranch Riding",null,null,null,null,null,"Working Ranch Horse",null,null,null,null,null,"Ranch Cutting",null,null,null,null,null,"Ranch Trail",null,null,null,null,null,"Ranch Conformation"]
["Maneuver","Judge's Score +/-","Penalty Points",null,null,null,"Maneuver","Judge's Score +/-","Penalty Points",null,null,null,"Maneuver","Judge's Score +/-","Penalty Points",null,null,null,"Maneuver","Judge's Score +/-","Penalty Points",null,null,null,"Front Legs, Feet"]
[1,null,null,null,null,null,1,null,null,null,null,null,"Herd Work",null,null,null,null,null,1,null,null,null,null,null,"Chest, Pectoral V"]
[2,null,null,null,null,null,2,null,null,null,null,null,1,null,null,null,null,null,2,null,null,null,null,null,"Head"]
[3,null,null,null,null,null,3,null,null,null,null,null,2,null,null,null,null,null,3,null,null,null,null,null,"Neck & Throat Latch"]
[4,null,null,null,null,null,4,null,null,null,null,null,3,null,null,null,null,null,4,null,null,null,null,null,"Shoulders & Withers"]
[5,null,null,null,null,null,5,null,null,null,null,null,"Cutting",null,null,null,null,null,5,null,null,null,null,null,"Heart Girth & Barrel"]
[6,null,null,null,null,null,6,null,null,null,null,null,1,null,null,null,null,null,6,null,null,null,null,null,"Back & Loin"]
[7,null,null,null,null,null,7,null,null,null,null,null,2,null,null,null,null,null,7,null,null,null,null,null,"Hip & Croup"]
[8,null,null,null,null,null,8,null,null,null,null,null,3,null,null,null,null,null,8,null,null,null,null,null,"Stife & Gaskin"]
[9,null,null,null,null,null,null,null,"Total Penalty Pts",{"$f":"SUM(I10:J17)","v":0},null,null,4,null,null,null,null,null,9,null,null,null,null,null,"Hock, Hind Legs, Feet"]
[10,null,null,null,null,null,"56 +/- Judge Score",{"$f":"SUM(H10:H17)","v":0},"Divided by 2",{"$f":"SUM((56+H19)/2)","v":28},null,null,"Penning",null,null,null,null,null,10,null,null,null,null,null,"Overall Muscling"]
[11,null,null,null,null,null,"Maneuver Score",{"$f":"J19","v":28},"Less Penalty Pts",{"$f":"J18","v":0},null,null,1,null,null,null,null,null,null,null,"Major Penalties",null,null,null,"Tracking","Lame: enter an \"x\""]
[12,null,null,null,null,null,"REINING SCORE",null,null,{"$f":"SUM(H20+J20)","v":28},null,null,2,null,null,null,null,null,null,null,null,null,null,null,"Balance 1"]
[13,null,null,null,null,null,"NOVICE BOXING",null,null,null,null,null,3,null,null,null,null,null,null,null,null,null,null,null,"Balance 2"]
[14,null,null,null,null,null,1,null,"Penalty Points",null,null,null,null,null,"Major Penalties",null,null,null,"Maneuver Total",{"$f":"SUM(T10:T19)","v":0},"Penalty Total",{"$f":"SUM(SUM(U10:V19)+V20)","v":0},null,null,"Balance 3"]
["Maneuver Total",{"$f":"SUM(B10:B23)","v":0},"Major Penalties",null,null,null,"7 +/- Judge Score",{"$f":"SUM(7+H23)","v":7},"Total Penalty Pts",{"$f":"J23","v":0},null,null,null,null,null,null,null,null,null,null,null,null,null,null,"Fitness & Condition"]
[null,null,"Penalty Total",{"$f":"SUM(C10:D24)","v":0},null,null,"Maneuver Score",{"$f":"H24","v":7},"Less Penalty Pts",{"$f":"J24","v":0},null,null,"Maneuver Total",{"$f":"SUM(N10:N22)","v":0},"Penalty Total",{"$f":"SUM(O11+O12+O13+O15+O16+O17+O18+O20+O21+O22+P23)","v":0},null,null,null,null,null,null,null,null,"Participant Showmanship"]
[null,null,null,null,null,null,"CATTLE SCORE",null,null,{"$f":"SUM(H25+J25)","v":7},null,null,null,null,null,null,null,null,null,null,null,null,null,null,"Horse Showmanship"]
["100 +/-Maneuver",{"$f":"B24","v":0},"x .70 =",{"$f":"SUM((100+B27)*0.7)","v":70},null,null,null,null,null,null,null,null,"70 +/-Maneuver",{"$f":"N25","v":0},"Less Penalty Total",{"$f":"P25","v":0},null,null,"70 +/-Maneuver",{"$f":"T23","v":0},"Less Penalty Total",{"$f":"V23","v":0},null,null,"Form & Showmanship Judges Score",null,"Total (1)",{"$f":"SUM(AB9:AB26)","v":0}]
[null,null,null,null,null,null,null,null,null,null,null,null,null,null,null,null,null,null,null,null,null,null,null,null,{"$f":"SUM(AB27*0.33+42)","v":42},{"$f":"IF(AA20=\"x\",-10,0)","v":0},"Judge Score (2)",{"$f":"SUM(Y28+Z28)","v":42}]
["Maneuver Score =",{"$f":"D27","v":70},"Less Penalty Total",{"$f":"D25","v":0},null,null,"Reining Score",{"$f":"J21","v":28},"Plus Cattle Score",{"$f":"J26","v":7},null,null,null,null,null,null,null,null,null,null,null,null,null,null,"Ranch Cutting",{"$f":"IF(P31=\"\",0,P31)","v":0},"Ranch Rding",{"$f":"IF(D31=\"\",0,D31)","v":0}]
[null,null,null,null,null,null,null,null,null,null,null,null,null,null,null,null,null,null,null,null,null,null,null,null,"Working Ranch Horse",{"$f":"IF(J31=\"\",0,J31)","v":0},"Ranch Trail",{"$f":"IF(V31=\"\",0,V31)","v":0}]
["TOTAL SCORE",null,null,{"$f":"IF(D7=\"\",\"\",IF(B29+D29<0,0,B29+D29))","v":""},null,null,"TOTAL SCORE",null,null,{"$f":"IF(J7=\"\",\"\",IF(H29+J29<0,0,H29+J29))","v":""},null,null,"TOTAL SCORE",null,null,{"$f":"IF(P7=\"\",\"\",IF(70+N27+P27<0,0,70+N27+P27))","v":""},null,null,"TOTAL SCORE",null,null,{"$f":"IF(V7=\"\",\"\",IF(70+T27+V27<0,0,70+T27+V27))","v":""},null,null,"Function Total (3)",{"$f":"SUM(Z29+AB29+Z30+AB30)","v":0},"Function Score (4)",{"$f":"Z31*0.1","v":0}]
[null,null,null,null,null,null,null,null,null,null,null,null,null,null,null,null,null,null,null,null,null,null,null,null,"Judge Score (2) + Function Score (4) = CONFORMATION SCORE",null,null,{"$f":"IF(AB7=\"\",\"\",IF(AB28+AB31<0,0,AB28+AB31))","v":""}]
[null,null,"Return to Entry Page",null,null,null,null,null,"Return to Entry Page",null,null,null,null,null,"Return to Entry Page",null,null,null,null,null,"Return to Entry Page"]
[null,null,null,null,null,null,null,null,null,null,null,null,null,null,null,null,null,null,null,null,null,null,null,null,null,null,"Return to Entry Page"]

{"sheet":"Youth 9","index":117,"n_rows":34,"n_cols":28,"rows_kept":34,"cut":false,"hidden":false,"merged":[[31,24,31,26],[8,2,8,3],[8,8,8,9],[8,14,8,15],[8,20,8,21],[9,2,9,3],[9,8,10,9],[9,12,9,15],[9,20,9,21],[10,2,10,3],[10,14,10,15],[10,20,10,21],[11,2,11,3],[11,8,12,9],[11,14,11,15],[11,20,11,21],[7,0,7,3],[7,6,7,9],[7,12,7,15],[7,18,7,21],[7,24,7,27],[12,2,12,3],[12,14,12,15],[12,20,12,21],[13,2,13,3],[13,8,14,9],[13,12,13,15],[13,20,13,21],[14,2,14,3],[14,14,14,15],[14,20,14,21],[15,2,15,3],[15,8,15,9],[15,14,15,15],[15,20,15,21],[18,2,18,3],[18,12,18,15],[18,20,18,21],[16,2,16,3],[16,8,16,9],[16,14,16,15],[16,20,16,21],[17,2,17,3],[17,14,17,15],[17,20,17,21],[19,2,19,3],[19,14,19,15],[19,18,20,19],[19,20,20,20],[19,21,20,21],[20,2,20,3],[20,6,20,8],[20,14,20,15],[21,2,21,3],[21,14,21,15],[21,18,21,21],[22,2,22,3],[22,12,23,13],[22,14,23,14],[22,15,23,15],[21,6,21,9],[23,0,24,0],[23,1,24,1],[23,18,25,21],[25,0,25,3],[25,12,25,15],[25,6,25,8],[27,12,29,15],[27,18,29,21],[29,0,29,3],[30,0,30,2],[30,12,30,14],[30,18,30,20],[26,6,26,9],[27,6,27,9],[29,6,29,9],[30,6,30,8],[27,0,27,3]]}
["RIDERS SCORE WORK SHEET"]
[]
["Back Number:",{"$f":"'Entry Information'!B118","v":0},null,null,null,null,"Back Number:",{"$f":"'Entry Information'!B118","v":0},null,null,null,null,"Back Number:",{"$f":"'Entry Information'!B118","v":0},null,null,null,null,"Back Number:",{"$f":"'Entry Information'!B118","v":0},null,null,null,null,"Back Number:",{"$f":"'Entry Information'!B118","v":0}]
["Name:",{"$f":"'Entry Information'!I118","v":0},{"$f":"'Entry Information'!H118","v":0},null,null,null,"Name:",{"$f":"'Entry Information'!I118","v":0},{"$f":"'Entry Information'!H118","v":0},null,null,null,"Name:",{"$f":"'Entry Information'!I118","v":0},{"$f":"'Entry Information'!H118","v":0},null,null,null,"Name:",{"$f":"'Entry Information'!I118","v":0},{"$f":"'Entry Information'!H118","v":0},null,null,null,"Name:",{"$f":"'Entry Information'!H118","v":0},{"$f":"'Entry Information'!I118","v":0}]
["Horse Name",{"$f":"'Entry Information'!J118","v":0},null,null,null,null,"Horse Name",{"$f":"'Entry Information'!J118","v":0},null,null,null,null,"Horse Name",{"$f":"'Entry Information'!J118","v":0},null,null,null,null,"Horse Name",{"$f":"'Entry Information'!J118","v":0},null,null,null,null,"Horse Name",{"$f":"'Entry Information'!J118","v":0}]
[]
["Check box when entering Ranch Riding scores",null,null,null,null,null,"Check box when entering Working Ranch Horse scores",null,null,null,null,null,"Check box when entering Ranch Cutting scores",null,null,null,null,null,"Check box when entering Ranch Trail scores",null,null,null,null,null,"Check box when entering Conformation scores"]
["Ranch Riding",null,null,null,null,null,"Working Ranch Horse",null,null,null,null,null,"Ranch Cutting",null,null,null,null,null,"Ranch Trail",null,null,null,null,null,"Ranch Conformation"]
["Maneuver","Judge's Score +/-","Penalty Points",null,null,null,"Maneuver","Judge's Score +/-","Penalty Points",null,null,null,"Maneuver","Judge's Score +/-","Penalty Points",null,null,null,"Maneuver","Judge's Score +/-","Penalty Points",null,null,null,"Front Legs, Feet"]
[1,null,null,null,null,null,1,null,null,null,null,null,"Herd Work",null,null,null,null,null,1,null,null,null,null,null,"Chest, Pectoral V"]
[2,null,null,null,null,null,2,null,null,null,null,null,1,null,null,null,null,null,2,null,null,null,null,null,"Head"]
[3,null,null,null,null,null,3,null,null,null,null,null,2,null,null,null,null,null,3,null,null,null,null,null,"Neck & Throat Latch"]
[4,null,null,null,null,null,4,null,null,null,null,null,3,null,null,null,null,null,4,null,null,null,null,null,"Shoulders & Withers"]
[5,null,null,null,null,null,5,null,null,null,null,null,"Cutting",null,null,null,null,null,5,null,null,null,null,null,"Heart Girth & Barrel"]
[6,null,null,null,null,null,6,null,null,null,null,null,1,null,null,null,null,null,6,null,null,null,null,null,"Back & Loin"]
[7,null,null,null,null,null,7,null,null,null,null,null,2,null,null,null,null,null,7,null,null,null,null,null,"Hip & Croup"]
[8,null,null,null,null,null,8,null,null,null,null,null,3,null,null,null,null,null,8,null,null,null,null,null,"Stife & Gaskin"]
[9,null,null,null,null,null,null,null,"Total Penalty Pts",{"$f":"SUM(I10:J17)","v":0},null,null,4,null,null,null,null,null,9,null,null,null,null,null,"Hock, Hind Legs, Feet"]
[10,null,null,null,null,null,"56 +/- Judge Score",{"$f":"SUM(H10:H17)","v":0},"Divided by 2",{"$f":"SUM((56+H19)/2)","v":28},null,null,"Penning",null,null,null,null,null,10,null,null,null,null,null,"Overall Muscling"]
[11,null,null,null,null,null,"Maneuver Score",{"$f":"J19","v":28},"Less Penalty Pts",{"$f":"J18","v":0},null,null,1,null,null,null,null,null,null,null,"Major Penalties",null,null,null,"Tracking","Lame: enter an \"x\""]
[12,null,null,null,null,null,"REINING SCORE",null,null,{"$f":"SUM(H20+J20)","v":28},null,null,2,null,null,null,null,null,null,null,null,null,null,null,"Balance 1"]
[13,null,null,null,null,null,"NOVICE BOXING",null,null,null,null,null,3,null,null,null,null,null,null,null,null,null,null,null,"Balance 2"]
[14,null,null,null,null,null,1,null,"Penalty Points",null,null,null,null,null,"Major Penalties",null,null,null,"Maneuver Total",{"$f":"SUM(T10:T19)","v":0},"Penalty Total",{"$f":"SUM(SUM(U10:V19)+V20)","v":0},null,null,"Balance 3"]
["Maneuver Total",{"$f":"SUM(B10:B23)","v":0},"Major Penalties",null,null,null,"7 +/- Judge Score",{"$f":"SUM(7+H23)","v":7},"Total Penalty Pts",{"$f":"J23","v":0},null,null,null,null,null,null,null,null,null,null,null,null,null,null,"Fitness & Condition"]
[null,null,"Penalty Total",{"$f":"SUM(C10:D24)","v":0},null,null,"Maneuver Score",{"$f":"H24","v":7},"Less Penalty Pts",{"$f":"J24","v":0},null,null,"Maneuver Total",{"$f":"SUM(N10:N22)","v":0},"Penalty Total",{"$f":"SUM(O11+O12+O13+O15+O16+O17+O18+O20+O21+O22+P23)","v":0},null,null,null,null,null,null,null,null,"Participant Showmanship"]
[null,null,null,null,null,null,"CATTLE SCORE",null,null,{"$f":"SUM(H25+J25)","v":7},null,null,null,null,null,null,null,null,null,null,null,null,null,null,"Horse Showmanship"]
["100 +/-Maneuver",{"$f":"B24","v":0},"x .70 =",{"$f":"SUM((100+B27)*0.7)","v":70},null,null,null,null,null,null,null,null,"70 +/-Maneuver",{"$f":"N25","v":0},"Less Penalty Total",{"$f":"P25","v":0},null,null,"70 +/-Maneuver",{"$f":"T23","v":0},"Less Penalty Total",{"$f":"V23","v":0},null,null,"Form & Showmanship Judges Score",null,"Total (1)",{"$f":"SUM(AB9:AB26)","v":0}]
[null,null,null,null,null,null,null,null,null,null,null,null,null,null,null,null,null,null,null,null,null,null,null,null,{"$f":"SUM(AB27*0.33+42)","v":42},{"$f":"IF(AA20=\"x\",-10,0)","v":0},"Judge Score (2)",{"$f":"SUM(Y28+Z28)","v":42}]
["Maneuver Score =",{"$f":"D27","v":70},"Less Penalty Total",{"$f":"D25","v":0},null,null,"Reining Score",{"$f":"J21","v":28},"Plus Cattle Score",{"$f":"J26","v":7},null,null,null,null,null,null,null,null,null,null,null,null,null,null,"Ranch Cutting",{"$f":"IF(P31=\"\",0,P31)","v":0},"Ranch Rding",{"$f":"IF(D31=\"\",0,D31)","v":0}]
[null,null,null,null,null,null,null,null,null,null,null,null,null,null,null,null,null,null,null,null,null,null,null,null,"Working Ranch Horse",{"$f":"IF(J31=\"\",0,J31)","v":0},"Ranch Trail",{"$f":"IF(V31=\"\",0,V31)","v":0}]
["TOTAL SCORE",null,null,{"$f":"IF(D7=\"\",\"\",IF(B29+D29<0,0,B29+D29))","v":""},null,null,"TOTAL SCORE",null,null,{"$f":"IF(J7=\"\",\"\",IF(H29+J29<0,0,H29+J29))","v":""},null,null,"TOTAL SCORE",null,null,{"$f":"IF(P7=\"\",\"\",IF(70+N27+P27<0,0,70+N27+P27))","v":""},null,null,"TOTAL SCORE",null,null,{"$f":"IF(V7=\"\",\"\",IF(70+T27+V27<0,0,70+T27+V27))","v":""},null,null,"Function Total (3)",{"$f":"SUM(Z29+AB29+Z30+AB30)","v":0},"Function Score (4)",{"$f":"Z31*0.1","v":0}]
[null,null,null,null,null,null,null,null,null,null,null,null,null,null,null,null,null,null,null,null,null,null,null,null,"Judge Score (2) + Function Score (4) = CONFORMATION SCORE",null,null,{"$f":"IF(AB7=\"\",\"\",IF(AB28+AB31<0,0,AB28+AB31))","v":""}]
[null,null,"Return to Entry Page",null,null,null,null,null,"Return to Entry Page",null,null,null,null,null,"Return to Entry Page",null,null,null,null,null,"Return to Entry Page"]
[null,null,null,null,null,null,null,null,null,null,null,null,null,null,null,null,null,null,null,null,null,null,null,null,null,null,"Return to Entry Page"]

{"sheet":"Youth 10","index":118,"n_rows":34,"n_cols":28,"rows_kept":34,"cut":false,"hidden":false,"merged":[[31,24,31,26],[8,2,8,3],[8,8,8,9],[8,14,8,15],[8,20,8,21],[9,2,9,3],[9,8,10,9],[9,12,9,15],[9,20,9,21],[10,2,10,3],[10,14,10,15],[10,20,10,21],[11,2,11,3],[11,8,12,9],[11,14,11,15],[11,20,11,21],[7,0,7,3],[7,6,7,9],[7,12,7,15],[7,18,7,21],[7,24,7,27],[12,2,12,3],[12,14,12,15],[12,20,12,21],[13,2,13,3],[13,8,14,9],[13,12,13,15],[13,20,13,21],[14,2,14,3],[14,14,14,15],[14,20,14,21],[15,2,15,3],[15,8,15,9],[15,14,15,15],[15,20,15,21],[18,2,18,3],[18,12,18,15],[18,20,18,21],[16,2,16,3],[16,8,16,9],[16,14,16,15],[16,20,16,21],[17,2,17,3],[17,14,17,15],[17,20,17,21],[19,2,19,3],[19,14,19,15],[19,18,20,19],[19,20,20,20],[19,21,20,21],[20,2,20,3],[20,6,20,8],[20,14,20,15],[21,2,21,3],[21,14,21,15],[21,18,21,21],[22,2,22,3],[22,12,23,13],[22,14,23,14],[22,15,23,15],[21,6,21,9],[23,0,24,0],[23,1,24,1],[23,18,25,21],[25,0,25,3],[25,12,25,15],[25,6,25,8],[27,12,29,15],[27,18,29,21],[29,0,29,3],[30,0,30,2],[30,12,30,14],[30,18,30,20],[26,6,26,9],[27,6,27,9],[29,6,29,9],[30,6,30,8],[27,0,27,3]]}
["RIDERS SCORE WORK SHEET"]
[]
["Back Number:",{"$f":"'Entry Information'!B119","v":0},null,null,null,null,"Back Number:",{"$f":"'Entry Information'!B119","v":0},null,null,null,null,"Back Number:",{"$f":"'Entry Information'!B119","v":0},null,null,null,null,"Back Number:",{"$f":"'Entry Information'!B119","v":0},null,null,null,null,"Back Number:",{"$f":"'Entry Information'!B119","v":0}]
["Name:",{"$f":"'Entry Information'!I119","v":0},{"$f":"'Entry Information'!H119","v":0},null,null,null,"Name:",{"$f":"'Entry Information'!I119","v":0},{"$f":"'Entry Information'!H119","v":0},null,null,null,"Name:",{"$f":"'Entry Information'!I119","v":0},{"$f":"'Entry Information'!H119","v":0},null,null,null,"Name:",{"$f":"'Entry Information'!I119","v":0},{"$f":"'Entry Information'!H119","v":0},null,null,null,"Name:",{"$f":"'Entry Information'!H119","v":0},{"$f":"'Entry Information'!I119","v":0}]
["Horse Name",{"$f":"'Entry Information'!J119","v":0},null,null,null,null,"Horse Name",{"$f":"'Entry Information'!J119","v":0},null,null,null,null,"Horse Name",{"$f":"'Entry Information'!J119","v":0},null,null,null,null,"Horse Name",{"$f":"'Entry Information'!J119","v":0},null,null,null,null,"Horse Name",{"$f":"'Entry Information'!J119","v":0}]
[]
["Check box when entering Ranch Riding scores",null,null,null,null,null,"Check box when entering Working Ranch Horse scores",null,null,null,null,null,"Check box when entering Ranch Cutting scores",null,null,null,null,null,"Check box when entering Ranch Trail scores",null,null,null,null,null,"Check box when entering Conformation scores"]
["Ranch Riding",null,null,null,null,null,"Working Ranch Horse",null,null,null,null,null,"Ranch Cutting",null,null,null,null,null,"Ranch Trail",null,null,null,null,null,"Ranch Conformation"]
["Maneuver","Judge's Score +/-","Penalty Points",null,null,null,"Maneuver","Judge's Score +/-","Penalty Points",null,null,null,"Maneuver","Judge's Score +/-","Penalty Points",null,null,null,"Maneuver","Judge's Score +/-","Penalty Points",null,null,null,"Front Legs, Feet"]
[1,null,null,null,null,null,1,null,null,null,null,null,"Herd Work",null,null,null,null,null,1,null,null,null,null,null,"Chest, Pectoral V"]
[2,null,null,null,null,null,2,null,null,null,null,null,1,null,null,null,null,null,2,null,null,null,null,null,"Head"]
[3,null,null,null,null,null,3,null,null,null,null,null,2,null,null,null,null,null,3,null,null,null,null,null,"Neck & Throat Latch"]
[4,null,null,null,null,null,4,null,null,null,null,null,3,null,null,null,null,null,4,null,null,null,null,null,"Shoulders & Withers"]
[5,null,null,null,null,null,5,null,null,null,null,null,"Cutting",null,null,null,null,null,5,null,null,null,null,null,"Heart Girth & Barrel"]
[6,null,null,null,null,null,6,null,null,null,null,null,1,null,null,null,null,null,6,null,null,null,null,null,"Back & Loin"]
[7,null,null,null,null,null,7,null,null,null,null,null,2,null,null,null,null,null,7,null,null,null,null,null,"Hip & Croup"]
[8,null,null,null,null,null,8,null,null,null,null,null,3,null,null,null,null,null,8,null,null,null,null,null,"Stife & Gaskin"]
[9,null,null,null,null,null,null,null,"Total Penalty Pts",{"$f":"SUM(I10:J17)","v":0},null,null,4,null,null,null,null,null,9,null,null,null,null,null,"Hock, Hind Legs, Feet"]
[10,null,null,null,null,null,"56 +/- Judge Score",{"$f":"SUM(H10:H17)","v":0},"Divided by 2",{"$f":"SUM((56+H19)/2)","v":28},null,null,"Penning",null,null,null,null,null,10,null,null,null,null,null,"Overall Muscling"]
[11,null,null,null,null,null,"Maneuver Score",{"$f":"J19","v":28},"Less Penalty Pts",{"$f":"J18","v":0},null,null,1,null,null,null,null,null,null,null,"Major Penalties",null,null,null,"Tracking","Lame: enter an \"x\""]
[12,null,null,null,null,null,"REINING SCORE",null,null,{"$f":"SUM(H20+J20)","v":28},null,null,2,null,null,null,null,null,null,null,null,null,null,null,"Balance 1"]
[13,null,null,null,null,null,"NOVICE BOXING",null,null,null,null,null,3,null,null,null,null,null,null,null,null,null,null,null,"Balance 2"]
[14,null,null,null,null,null,1,null,"Penalty Points",null,null,null,null,null,"Major Penalties",null,null,null,"Maneuver Total",{"$f":"SUM(T10:T19)","v":0},"Penalty Total",{"$f":"SUM(SUM(U10:V19)+V20)","v":0},null,null,"Balance 3"]
["Maneuver Total",{"$f":"SUM(B10:B23)","v":0},"Major Penalties",null,null,null,"7 +/- Judge Score",{"$f":"SUM(7+H23)","v":7},"Total Penalty Pts",{"$f":"J23","v":0},null,null,null,null,null,null,null,null,null,null,null,null,null,null,"Fitness & Condition"]
[null,null,"Penalty Total",{"$f":"SUM(C10:D24)","v":0},null,null,"Maneuver Score",{"$f":"H24","v":7},"Less Penalty Pts",{"$f":"J24","v":0},null,null,"Maneuver Total",{"$f":"SUM(N10:N22)","v":0},"Penalty Total",{"$f":"SUM(O11+O12+O13+O15+O16+O17+O18+O20+O21+O22+P23)","v":0},null,null,null,null,null,null,null,null,"Participant Showmanship"]
[null,null,null,null,null,null,"CATTLE SCORE",null,null,{"$f":"SUM(H25+J25)","v":7},null,null,null,null,null,null,null,null,null,null,null,null,null,null,"Horse Showmanship"]
["100 +/-Maneuver",{"$f":"B24","v":0},"x .70 =",{"$f":"SUM((100+B27)*0.7)","v":70},null,null,null,null,null,null,null,null,"70 +/-Maneuver",{"$f":"N25","v":0},"Less Penalty Total",{"$f":"P25","v":0},null,null,"70 +/-Maneuver",{"$f":"T23","v":0},"Less Penalty Total",{"$f":"V23","v":0},null,null,"Form & Showmanship Judges Score",null,"Total (1)",{"$f":"SUM(AB9:AB26)","v":0}]
[null,null,null,null,null,null,null,null,null,null,null,null,null,null,null,null,null,null,null,null,null,null,null,null,{"$f":"SUM(AB27*0.33+42)","v":42},{"$f":"IF(AA20=\"x\",-10,0)","v":0},"Judge Score (2)",{"$f":"SUM(Y28+Z28)","v":42}]
["Maneuver Score =",{"$f":"D27","v":70},"Less Penalty Total",{"$f":"D25","v":0},null,null,"Reining Score",{"$f":"J21","v":28},"Plus Cattle Score",{"$f":"J26","v":7},null,null,null,null,null,null,null,null,null,null,null,null,null,null,"Ranch Cutting",{"$f":"IF(P31=\"\",0,P31)","v":0},"Ranch Rding",{"$f":"IF(D31=\"\",0,D31)","v":0}]
[null,null,null,null,null,null,null,null,null,null,null,null,null,null,null,null,null,null,null,null,null,null,null,null,"Working Ranch Horse",{"$f":"IF(J31=\"\",0,J31)","v":0},"Ranch Trail",{"$f":"IF(V31=\"\",0,V31)","v":0}]
["TOTAL SCORE",null,null,{"$f":"IF(D7=\"\",\"\",IF(B29+D29<0,0,B29+D29))","v":""},null,null,"TOTAL SCORE",null,null,{"$f":"IF(J7=\"\",\"\",IF(H29+J29<0,0,H29+J29))","v":""},null,null,"TOTAL SCORE",null,null,{"$f":"IF(P7=\"\",\"\",IF(70+N27+P27<0,0,70+N27+P27))","v":""},null,null,"TOTAL SCORE",null,null,{"$f":"IF(V7=\"\",\"\",IF(70+T27+V27<0,0,70+T27+V27))","v":""},null,null,"Function Total (3)",{"$f":"SUM(Z29+AB29+Z30+AB30)","v":0},"Function Score (4)",{"$f":"Z31*0.1","v":0}]
[null,null,null,null,null,null,null,null,null,null,null,null,null,null,null,null,null,null,null,null,null,null,null,null,"Judge Score (2) + Function Score (4) = CONFORMATION SCORE",null,null,{"$f":"IF(AB7=\"\",\"\",IF(AB28+AB31<0,0,AB28+AB31))","v":""}]
[null,null,"Return to Entry Page",null,null,null,null,null,"Return to Entry Page",null,null,null,null,null,"Return to Entry Page",null,null,null,null,null,"Return to Entry Page"]
[null,null,null,null,null,null,null,null,null,null,null,null,null,null,null,null,null,null,null,null,null,null,null,null,null,null,"Return to Entry Page"]

{"sheet":"Youth 11","index":119,"n_rows":34,"n_cols":28,"rows_kept":34,"cut":false,"hidden":false,"merged":[[31,24,31,26],[8,2,8,3],[8,8,8,9],[8,14,8,15],[8,20,8,21],[9,2,9,3],[9,8,10,9],[9,12,9,15],[9,20,9,21],[10,2,10,3],[10,14,10,15],[10,20,10,21],[11,2,11,3],[11,8,12,9],[11,14,11,15],[11,20,11,21],[7,0,7,3],[7,6,7,9],[7,12,7,15],[7,18,7,21],[7,24,7,27],[12,2,12,3],[12,14,12,15],[12,20,12,21],[13,2,13,3],[13,8,14,9],[13,12,13,15],[13,20,13,21],[14,2,14,3],[14,14,14,15],[14,20,14,21],[15,2,15,3],[15,8,15,9],[15,14,15,15],[15,20,15,21],[18,2,18,3],[18,12,18,15],[18,20,18,21],[16,2,16,3],[16,8,16,9],[16,14,16,15],[16,20,16,21],[17,2,17,3],[17,14,17,15],[17,20,17,21],[19,2,19,3],[19,14,19,15],[19,18,20,19],[19,20,20,20],[19,21,20,21],[20,2,20,3],[20,6,20,8],[20,14,20,15],[21,2,21,3],[21,14,21,15],[21,18,21,21],[22,2,22,3],[22,12,23,13],[22,14,23,14],[22,15,23,15],[21,6,21,9],[23,0,24,0],[23,1,24,1],[23,18,25,21],[25,0,25,3],[25,12,25,15],[25,6,25,8],[27,12,29,15],[27,18,29,21],[29,0,29,3],[30,0,30,2],[30,12,30,14],[30,18,30,20],[26,6,26,9],[27,6,27,9],[29,6,29,9],[30,6,30,8],[27,0,27,3]]}
["RIDERS SCORE WORK SHEET"]
[]
["Back Number:",{"$f":"'Entry Information'!B120","v":0},null,null,null,null,"Back Number:",{"$f":"'Entry Information'!B120","v":0},null,null,null,null,"Back Number:",{"$f":"'Entry Information'!B120","v":0},null,null,null,null,"Back Number:",{"$f":"'Entry Information'!B120","v":0},null,null,null,null,"Back Number:",{"$f":"'Entry Information'!B120","v":0}]
["Name:",{"$f":"'Entry Information'!I120","v":0},{"$f":"'Entry Information'!H120","v":0},null,null,null,"Name:",{"$f":"'Entry Information'!I120","v":0},{"$f":"'Entry Information'!H120","v":0},null,null,null,"Name:",{"$f":"'Entry Information'!I120","v":0},{"$f":"'Entry Information'!H120","v":0},null,null,null,"Name:",{"$f":"'Entry Information'!I120","v":0},{"$f":"'Entry Information'!H120","v":0},null,null,null,"Name:",{"$f":"'Entry Information'!H120","v":0},{"$f":"'Entry Information'!I120","v":0}]
["Horse Name",{"$f":"'Entry Information'!J120","v":0},null,null,null,null,"Horse Name",{"$f":"'Entry Information'!J120","v":0},null,null,null,null,"Horse Name",{"$f":"'Entry Information'!J120","v":0},null,null,null,null,"Horse Name",{"$f":"'Entry Information'!J120","v":0},null,null,null,null,"Horse Name",{"$f":"'Entry Information'!J120","v":0}]
[]
["Check box when entering Ranch Riding scores",null,null,null,null,null,"Check box when entering Working Ranch Horse scores",null,null,null,null,null,"Check box when entering Ranch Cutting scores",null,null,null,null,null,"Check box when entering Ranch Trail scores",null,null,null,null,null,"Check box when entering Conformation scores"]
["Ranch Riding",null,null,null,null,null,"Working Ranch Horse",null,null,null,null,null,"Ranch Cutting",null,null,null,null,null,"Ranch Trail",null,null,null,null,null,"Ranch Conformation"]
["Maneuver","Judge's Score +/-","Penalty Points",null,null,null,"Maneuver","Judge's Score +/-","Penalty Points",null,null,null,"Maneuver","Judge's Score +/-","Penalty Points",null,null,null,"Maneuver","Judge's Score +/-","Penalty Points",null,null,null,"Front Legs, Feet"]
[1,null,null,null,null,null,1,null,null,null,null,null,"Herd Work",null,null,null,null,null,1,null,null,null,null,null,"Chest, Pectoral V"]
[2,null,null,null,null,null,2,null,null,null,null,null,1,null,null,null,null,null,2,null,null,null,null,null,"Head"]
[3,null,null,null,null,null,3,null,null,null,null,null,2,null,null,null,null,null,3,null,null,null,null,null,"Neck & Throat Latch"]
[4,null,null,null,null,null,4,null,null,null,null,null,3,null,null,null,null,null,4,null,null,null,null,null,"Shoulders & Withers"]
[5,null,null,null,null,null,5,null,null,null,null,null,"Cutting",null,null,null,null,null,5,null,null,null,null,null,"Heart Girth & Barrel"]
[6,null,null,null,null,null,6,null,null,null,null,null,1,null,null,null,null,null,6,null,null,null,null,null,"Back & Loin"]
[7,null,null,null,null,null,7,null,null,null,null,null,2,null,null,null,null,null,7,null,null,null,null,null,"Hip & Croup"]
[8,null,null,null,null,null,8,null,null,null,null,null,3,null,null,null,null,null,8,null,null,null,null,null,"Stife & Gaskin"]
[9,null,null,null,null,null,null,null,"Total Penalty Pts",{"$f":"SUM(I10:J17)","v":0},null,null,4,null,null,null,null,null,9,null,null,null,null,null,"Hock, Hind Legs, Feet"]
[10,null,null,null,null,null,"56 +/- Judge Score",{"$f":"SUM(H10:H17)","v":0},"Divided by 2",{"$f":"SUM((56+H19)/2)","v":28},null,null,"Penning",null,null,null,null,null,10,null,null,null,null,null,"Overall Muscling"]
[11,null,null,null,null,null,"Maneuver Score",{"$f":"J19","v":28},"Less Penalty Pts",{"$f":"J18","v":0},null,null,1,null,null,null,null,null,null,null,"Major Penalties",null,null,null,"Tracking","Lame: enter an \"x\""]
[12,null,null,null,null,null,"REINING SCORE",null,null,{"$f":"SUM(H20+J20)","v":28},null,null,2,null,null,null,null,null,null,null,null,null,null,null,"Balance 1"]
[13,null,null,null,null,null,"NOVICE BOXING",null,null,null,null,null,3,null,null,null,null,null,null,null,null,null,null,null,"Balance 2"]
[14,null,null,null,null,null,1,null,"Penalty Points",null,null,null,null,null,"Major Penalties",null,null,null,"Maneuver Total",{"$f":"SUM(T10:T19)","v":0},"Penalty Total",{"$f":"SUM(SUM(U10:V19)+V20)","v":0},null,null,"Balance 3"]
["Maneuver Total",{"$f":"SUM(B10:B23)","v":0},"Major Penalties",null,null,null,"7 +/- Judge Score",{"$f":"SUM(7+H23)","v":7},"Total Penalty Pts",{"$f":"J23","v":0},null,null,null,null,null,null,null,null,null,null,null,null,null,null,"Fitness & Condition"]
[null,null,"Penalty Total",{"$f":"SUM(C10:D24)","v":0},null,null,"Maneuver Score",{"$f":"H24","v":7},"Less Penalty Pts",{"$f":"J24","v":0},null,null,"Maneuver Total",{"$f":"SUM(N10:N22)","v":0},"Penalty Total",{"$f":"SUM(O11+O12+O13+O15+O16+O17+O18+O20+O21+O22+P23)","v":0},null,null,null,null,null,null,null,null,"Participant Showmanship"]
[null,null,null,null,null,null,"CATTLE SCORE",null,null,{"$f":"SUM(H25+J25)","v":7},null,null,null,null,null,null,null,null,null,null,null,null,null,null,"Horse Showmanship"]
["100 +/-Maneuver",{"$f":"B24","v":0},"x .70 =",{"$f":"SUM((100+B27)*0.7)","v":70},null,null,null,null,null,null,null,null,"70 +/-Maneuver",{"$f":"N25","v":0},"Less Penalty Total",{"$f":"P25","v":0},null,null,"70 +/-Maneuver",{"$f":"T23","v":0},"Less Penalty Total",{"$f":"V23","v":0},null,null,"Form & Showmanship Judges Score",null,"Total (1)",{"$f":"SUM(AB9:AB26)","v":0}]
[null,null,null,null,null,null,null,null,null,null,null,null,null,null,null,null,null,null,null,null,null,null,null,null,{"$f":"SUM(AB27*0.33+42)","v":42},{"$f":"IF(AA20=\"x\",-10,0)","v":0},"Judge Score (2)",{"$f":"SUM(Y28+Z28)","v":42}]
["Maneuver Score =",{"$f":"D27","v":70},"Less Penalty Total",{"$f":"D25","v":0},null,null,"Reining Score",{"$f":"J21","v":28},"Plus Cattle Score",{"$f":"J26","v":7},null,null,null,null,null,null,null,null,null,null,null,null,null,null,"Ranch Cutting",{"$f":"IF(P31=\"\",0,P31)","v":0},"Ranch Rding",{"$f":"IF(D31=\"\",0,D31)","v":0}]
[null,null,null,null,null,null,null,null,null,null,null,null,null,null,null,null,null,null,null,null,null,null,null,null,"Working Ranch Horse",{"$f":"IF(J31=\"\",0,J31)","v":0},"Ranch Trail",{"$f":"IF(V31=\"\",0,V31)","v":0}]
["TOTAL SCORE",null,null,{"$f":"IF(D7=\"\",\"\",IF(B29+D29<0,0,B29+D29))","v":""},null,null,"TOTAL SCORE",null,null,{"$f":"IF(J7=\"\",\"\",IF(H29+J29<0,0,H29+J29))","v":""},null,null,"TOTAL SCORE",null,null,{"$f":"IF(P7=\"\",\"\",IF(70+N27+P27<0,0,70+N27+P27))","v":""},null,null,"TOTAL SCORE",null,null,{"$f":"IF(V7=\"\",\"\",IF(70+T27+V27<0,0,70+T27+V27))","v":""},null,null,"Function Total (3)",{"$f":"SUM(Z29+AB29+Z30+AB30)","v":0},"Function Score (4)",{"$f":"Z31*0.1","v":0}]
[null,null,null,null,null,null,null,null,null,null,null,null,null,null,null,null,null,null,null,null,null,null,null,null,"Judge Score (2) + Function Score (4) = CONFORMATION SCORE",null,null,{"$f":"IF(AB7=\"\",\"\",IF(AB28+AB31<0,0,AB28+AB31))","v":""}]
[null,null,"Return to Entry Page",null,null,null,null,null,"Return to Entry Page",null,null,null,null,null,"Return to Entry Page",null,null,null,null,null,"Return to Entry Page"]
[null,null,null,null,null,null,null,null,null,null,null,null,null,null,null,null,null,null,null,null,null,null,null,null,null,null,"Return to Entry Page"]

{"sheet":"Youth 12","index":120,"n_rows":34,"n_cols":28,"rows_kept":34,"cut":false,"hidden":false,"merged":[[31,24,31,26],[8,2,8,3],[8,8,8,9],[8,14,8,15],[8,20,8,21],[9,2,9,3],[9,8,10,9],[9,12,9,15],[9,20,9,21],[10,2,10,3],[10,14,10,15],[10,20,10,21],[11,2,11,3],[11,8,12,9],[11,14,11,15],[11,20,11,21],[7,0,7,3],[7,6,7,9],[7,12,7,15],[7,18,7,21],[7,24,7,27],[12,2,12,3],[12,14,12,15],[12,20,12,21],[13,2,13,3],[13,8,14,9],[13,12,13,15],[13,20,13,21],[14,2,14,3],[14,14,14,15],[14,20,14,21],[15,2,15,3],[15,8,15,9],[15,14,15,15],[15,20,15,21],[18,2,18,3],[18,12,18,15],[18,20,18,21],[16,2,16,3],[16,8,16,9],[16,14,16,15],[16,20,16,21],[17,2,17,3],[17,14,17,15],[17,20,17,21],[19,2,19,3],[19,14,19,15],[19,18,20,19],[19,20,20,20],[19,21,20,21],[20,2,20,3],[20,6,20,8],[20,14,20,15],[21,2,21,3],[21,14,21,15],[21,18,21,21],[22,2,22,3],[22,12,23,13],[22,14,23,14],[22,15,23,15],[21,6,21,9],[23,0,24,0],[23,1,24,1],[23,18,25,21],[25,0,25,3],[25,12,25,15],[25,6,25,8],[27,12,29,15],[27,18,29,21],[29,0,29,3],[30,0,30,2],[30,12,30,14],[30,18,30,20],[26,6,26,9],[27,6,27,9],[29,6,29,9],[30,6,30,8],[27,0,27,3]]}
["RIDERS SCORE WORK SHEET"]
[]
["Back Number:",{"$f":"'Entry Information'!B121","v":0},null,null,null,null,"Back Number:",{"$f":"'Entry Information'!B121","v":0},null,null,null,null,"Back Number:",{"$f":"'Entry Information'!B121","v":0},null,null,null,null,"Back Number:",{"$f":"'Entry Information'!B121","v":0},null,null,null,null,"Back Number:",{"$f":"'Entry Information'!B121","v":0}]
["Name:",{"$f":"'Entry Information'!I121","v":0},{"$f":"'Entry Information'!H121","v":0},null,null,null,"Name:",{"$f":"'Entry Information'!I121","v":0},{"$f":"'Entry Information'!H121","v":0},null,null,null,"Name:",{"$f":"'Entry Information'!I121","v":0},{"$f":"'Entry Information'!H121","v":0},null,null,null,"Name:",{"$f":"'Entry Information'!I121","v":0},{"$f":"'Entry Information'!H121","v":0},null,null,null,"Name:",{"$f":"'Entry Information'!H121","v":0},{"$f":"'Entry Information'!I121","v":0}]
["Horse Name",{"$f":"'Entry Information'!J121","v":0},null,null,null,null,"Horse Name",{"$f":"'Entry Information'!J121","v":0},null,null,null,null,"Horse Name",{"$f":"'Entry Information'!J121","v":0},null,null,null,null,"Horse Name",{"$f":"'Entry Information'!J121","v":0},null,null,null,null,"Horse Name",{"$f":"'Entry Information'!J121","v":0}]
[]
["Check box when entering Ranch Riding scores",null,null,null,null,null,"Check box when entering Working Ranch Horse scores",null,null,null,null,null,"Check box when entering Ranch Cutting scores",null,null,null,null,null,"Check box when entering Ranch Trail scores",null,null,null,null,null,"Check box when entering Conformation scores"]
["Ranch Riding",null,null,null,null,null,"Working Ranch Horse",null,null,null,null,null,"Ranch Cutting",null,null,null,null,null,"Ranch Trail",null,null,null,null,null,"Ranch Conformation"]
["Maneuver","Judge's Score +/-","Penalty Points",null,null,null,"Maneuver","Judge's Score +/-","Penalty Points",null,null,null,"Maneuver","Judge's Score +/-","Penalty Points",null,null,null,"Maneuver","Judge's Score +/-","Penalty Points",null,null,null,"Front Legs, Feet"]
[1,null,null,null,null,null,1,null,null,null,null,null,"Herd Work",null,null,null,null,null,1,null,null,null,null,null,"Chest, Pectoral V"]
[2,null,null,null,null,null,2,null,null,null,null,null,1,null,null,null,null,null,2,null,null,null,null,null,"Head"]
[3,null,null,null,null,null,3,null,null,null,null,null,2,null,null,null,null,null,3,null,null,null,null,null,"Neck & Throat Latch"]
[4,null,null,null,null,null,4,null,null,null,null,null,3,null,null,null,null,null,4,null,null,null,null,null,"Shoulders & Withers"]
[5,null,null,null,null,null,5,null,null,null,null,null,"Cutting",null,null,null,null,null,5,null,null,null,null,null,"Heart Girth & Barrel"]
[6,null,null,null,null,null,6,null,null,null,null,null,1,null,null,null,null,null,6,null,null,null,null,null,"Back & Loin"]
[7,null,null,null,null,null,7,null,null,null,null,null,2,null,null,null,null,null,7,null,null,null,null,null,"Hip & Croup"]
[8,null,null,null,null,null,8,null,null,null,null,null,3,null,null,null,null,null,8,null,null,null,null,null,"Stife & Gaskin"]
[9,null,null,null,null,null,null,null,"Total Penalty Pts",{"$f":"SUM(I10:J17)","v":0},null,null,4,null,null,null,null,null,9,null,null,null,null,null,"Hock, Hind Legs, Feet"]
[10,null,null,null,null,null,"56 +/- Judge Score",{"$f":"SUM(H10:H17)","v":0},"Divided by 2",{"$f":"SUM((56+H19)/2)","v":28},null,null,"Penning",null,null,null,null,null,10,null,null,null,null,null,"Overall Muscling"]
[11,null,null,null,null,null,"Maneuver Score",{"$f":"J19","v":28},"Less Penalty Pts",{"$f":"J18","v":0},null,null,1,null,null,null,null,null,null,null,"Major Penalties",null,null,null,"Tracking","Lame: enter an \"x\""]
[12,null,null,null,null,null,"REINING SCORE",null,null,{"$f":"SUM(H20+J20)","v":28},null,null,2,null,null,null,null,null,null,null,null,null,null,null,"Balance 1"]
[13,null,null,null,null,null,"NOVICE BOXING",null,null,null,null,null,3,null,null,null,null,null,null,null,null,null,null,null,"Balance 2"]
[14,null,null,null,null,null,1,null,"Penalty Points",null,null,null,null,null,"Major Penalties",null,null,null,"Maneuver Total",{"$f":"SUM(T10:T19)","v":0},"Penalty Total",{"$f":"SUM(SUM(U10:V19)+V20)","v":0},null,null,"Balance 3"]
["Maneuver Total",{"$f":"SUM(B10:B23)","v":0},"Major Penalties",null,null,null,"7 +/- Judge Score",{"$f":"SUM(7+H23)","v":7},"Total Penalty Pts",{"$f":"J23","v":0},null,null,null,null,null,null,null,null,null,null,null,null,null,null,"Fitness & Condition"]
[null,null,"Penalty Total",{"$f":"SUM(C10:D24)","v":0},null,null,"Maneuver Score",{"$f":"H24","v":7},"Less Penalty Pts",{"$f":"J24","v":0},null,null,"Maneuver Total",{"$f":"SUM(N10:N22)","v":0},"Penalty Total",{"$f":"SUM(O11+O12+O13+O15+O16+O17+O18+O20+O21+O22+P23)","v":0},null,null,null,null,null,null,null,null,"Participant Showmanship"]
[null,null,null,null,null,null,"CATTLE SCORE",null,null,{"$f":"SUM(H25+J25)","v":7},null,null,null,null,null,null,null,null,null,null,null,null,null,null,"Horse Showmanship"]
["100 +/-Maneuver",{"$f":"B24","v":0},"x .70 =",{"$f":"SUM((100+B27)*0.7)","v":70},null,null,null,null,null,null,null,null,"70 +/-Maneuver",{"$f":"N25","v":0},"Less Penalty Total",{"$f":"P25","v":0},null,null,"70 +/-Maneuver",{"$f":"T23","v":0},"Less Penalty Total",{"$f":"V23","v":0},null,null,"Form & Showmanship Judges Score",null,"Total (1)",{"$f":"SUM(AB9:AB26)","v":0}]
[null,null,null,null,null,null,null,null,null,null,null,null,null,null,null,null,null,null,null,null,null,null,null,null,{"$f":"SUM(AB27*0.33+42)","v":42},{"$f":"IF(AA20=\"x\",-10,0)","v":0},"Judge Score (2)",{"$f":"SUM(Y28+Z28)","v":42}]
["Maneuver Score =",{"$f":"D27","v":70},"Less Penalty Total",{"$f":"D25","v":0},null,null,"Reining Score",{"$f":"J21","v":28},"Plus Cattle Score",{"$f":"J26","v":7},null,null,null,null,null,null,null,null,null,null,null,null,null,null,"Ranch Cutting",{"$f":"IF(P31=\"\",0,P31)","v":0},"Ranch Rding",{"$f":"IF(D31=\"\",0,D31)","v":0}]
[null,null,null,null,null,null,null,null,null,null,null,null,null,null,null,null,null,null,null,null,null,null,null,null,"Working Ranch Horse",{"$f":"IF(J31=\"\",0,J31)","v":0},"Ranch Trail",{"$f":"IF(V31=\"\",0,V31)","v":0}]
["TOTAL SCORE",null,null,{"$f":"IF(D7=\"\",\"\",IF(B29+D29<0,0,B29+D29))","v":""},null,null,"TOTAL SCORE",null,null,{"$f":"IF(J7=\"\",\"\",IF(H29+J29<0,0,H29+J29))","v":""},null,null,"TOTAL SCORE",null,null,{"$f":"IF(P7=\"\",\"\",IF(70+N27+P27<0,0,70+N27+P27))","v":""},null,null,"TOTAL SCORE",null,null,{"$f":"IF(V7=\"\",\"\",IF(70+T27+V27<0,0,70+T27+V27))","v":""},null,null,"Function Total (3)",{"$f":"SUM(Z29+AB29+Z30+AB30)","v":0},"Function Score (4)",{"$f":"Z31*0.1","v":0}]
[null,null,null,null,null,null,null,null,null,null,null,null,null,null,null,null,null,null,null,null,null,null,null,null,"Judge Score (2) + Function Score (4) = CONFORMATION SCORE",null,null,{"$f":"IF(AB7=\"\",\"\",IF(AB28+AB31<0,0,AB28+AB31))","v":""}]
[null,null,"Return to Entry Page",null,null,null,null,null,"Return to Entry Page",null,null,null,null,null,"Return to Entry Page",null,null,null,null,null,"Return to Entry Page"]
[null,null,null,null,null,null,null,null,null,null,null,null,null,null,null,null,null,null,null,null,null,null,null,null,null,null,"Return to Entry Page"]

{"sheet":"Youth 13","index":121,"n_rows":34,"n_cols":28,"rows_kept":34,"cut":false,"hidden":false,"merged":[[31,24,31,26],[8,2,8,3],[8,8,8,9],[8,14,8,15],[8,20,8,21],[9,2,9,3],[9,8,10,9],[9,12,9,15],[9,20,9,21],[10,2,10,3],[10,14,10,15],[10,20,10,21],[11,2,11,3],[11,8,12,9],[11,14,11,15],[11,20,11,21],[7,0,7,3],[7,6,7,9],[7,12,7,15],[7,18,7,21],[7,24,7,27],[12,2,12,3],[12,14,12,15],[12,20,12,21],[13,2,13,3],[13,8,14,9],[13,12,13,15],[13,20,13,21],[14,2,14,3],[14,14,14,15],[14,20,14,21],[15,2,15,3],[15,8,15,9],[15,14,15,15],[15,20,15,21],[18,2,18,3],[18,12,18,15],[18,20,18,21],[16,2,16,3],[16,8,16,9],[16,14,16,15],[16,20,16,21],[17,2,17,3],[17,14,17,15],[17,20,17,21],[19,2,19,3],[19,14,19,15],[19,18,20,19],[19,20,20,20],[19,21,20,21],[20,2,20,3],[20,6,20,8],[20,14,20,15],[21,2,21,3],[21,14,21,15],[21,18,21,21],[22,2,22,3],[22,12,23,13],[22,14,23,14],[22,15,23,15],[21,6,21,9],[23,0,24,0],[23,1,24,1],[23,18,25,21],[25,0,25,3],[25,12,25,15],[25,6,25,8],[27,12,29,15],[27,18,29,21],[29,0,29,3],[30,0,30,2],[30,12,30,14],[30,18,30,20],[26,6,26,9],[27,6,27,9],[29,6,29,9],[30,6,30,8],[27,0,27,3]]}
["RIDERS SCORE WORK SHEET"]
[]
["Back Number:",{"$f":"'Entry Information'!B122","v":0},null,null,null,null,"Back Number:",{"$f":"'Entry Information'!B122","v":0},null,null,null,null,"Back Number:",{"$f":"'Entry Information'!B122","v":0},null,null,null,null,"Back Number:",{"$f":"'Entry Information'!B122","v":0},null,null,null,null,"Back Number:",{"$f":"'Entry Information'!B122","v":0}]
["Name:",{"$f":"'Entry Information'!I122","v":0},{"$f":"'Entry Information'!H122","v":0},null,null,null,"Name:",{"$f":"'Entry Information'!I122","v":0},{"$f":"'Entry Information'!H122","v":0},null,null,null,"Name:",{"$f":"'Entry Information'!I122","v":0},{"$f":"'Entry Information'!H122","v":0},null,null,null,"Name:",{"$f":"'Entry Information'!I122","v":0},{"$f":"'Entry Information'!H122","v":0},null,null,null,"Name:",{"$f":"'Entry Information'!H122","v":0},{"$f":"'Entry Information'!I122","v":0}]
["Horse Name",{"$f":"'Entry Information'!J122","v":0},null,null,null,null,"Horse Name",{"$f":"'Entry Information'!J122","v":0},null,null,null,null,"Horse Name",{"$f":"'Entry Information'!J122","v":0},null,null,null,null,"Horse Name",{"$f":"'Entry Information'!J122","v":0},null,null,null,null,"Horse Name",{"$f":"'Entry Information'!J122","v":0}]
[]
["Check box when entering Ranch Riding scores",null,null,null,null,null,"Check box when entering Working Ranch Horse scores",null,null,null,null,null,"Check box when entering Ranch Cutting scores",null,null,null,null,null,"Check box when entering Ranch Trail scores",null,null,null,null,null,"Check box when entering Conformation scores"]
["Ranch Riding",null,null,null,null,null,"Working Ranch Horse",null,null,null,null,null,"Ranch Cutting",null,null,null,null,null,"Ranch Trail",null,null,null,null,null,"Ranch Conformation"]
["Maneuver","Judge's Score +/-","Penalty Points",null,null,null,"Maneuver","Judge's Score +/-","Penalty Points",null,null,null,"Maneuver","Judge's Score +/-","Penalty Points",null,null,null,"Maneuver","Judge's Score +/-","Penalty Points",null,null,null,"Front Legs, Feet"]
[1,null,null,null,null,null,1,null,null,null,null,null,"Herd Work",null,null,null,null,null,1,null,null,null,null,null,"Chest, Pectoral V"]
[2,null,null,null,null,null,2,null,null,null,null,null,1,null,null,null,null,null,2,null,null,null,null,null,"Head"]
[3,null,null,null,null,null,3,null,null,null,null,null,2,null,null,null,null,null,3,null,null,null,null,null,"Neck & Throat Latch"]
[4,null,null,null,null,null,4,null,null,null,null,null,3,null,null,null,null,null,4,null,null,null,null,null,"Shoulders & Withers"]
[5,null,null,null,null,null,5,null,null,null,null,null,"Cutting",null,null,null,null,null,5,null,null,null,null,null,"Heart Girth & Barrel"]
[6,null,null,null,null,null,6,null,null,null,null,null,1,null,null,null,null,null,6,null,null,null,null,null,"Back & Loin"]
[7,null,null,null,null,null,7,null,null,null,null,null,2,null,null,null,null,null,7,null,null,null,null,null,"Hip & Croup"]
[8,null,null,null,null,null,8,null,null,null,null,null,3,null,null,null,null,null,8,null,null,null,null,null,"Stife & Gaskin"]
[9,null,null,null,null,null,null,null,"Total Penalty Pts",{"$f":"SUM(I10:J17)","v":0},null,null,4,null,null,null,null,null,9,null,null,null,null,null,"Hock, Hind Legs, Feet"]
[10,null,null,null,null,null,"56 +/- Judge Score",{"$f":"SUM(H10:H17)","v":0},"Divided by 2",{"$f":"SUM((56+H19)/2)","v":28},null,null,"Penning",null,null,null,null,null,10,null,null,null,null,null,"Overall Muscling"]
[11,null,null,null,null,null,"Maneuver Score",{"$f":"J19","v":28},"Less Penalty Pts",{"$f":"J18","v":0},null,null,1,null,null,null,null,null,null,null,"Major Penalties",null,null,null,"Tracking","Lame: enter an \"x\""]
[12,null,null,null,null,null,"REINING SCORE",null,null,{"$f":"SUM(H20+J20)","v":28},null,null,2,null,null,null,null,null,null,null,null,null,null,null,"Balance 1"]
[13,null,null,null,null,null,"NOVICE BOXING",null,null,null,null,null,3,null,null,null,null,null,null,null,null,null,null,null,"Balance 2"]
[14,null,null,null,null,null,1,null,"Penalty Points",null,null,null,null,null,"Major Penalties",null,null,null,"Maneuver Total",{"$f":"SUM(T10:T19)","v":0},"Penalty Total",{"$f":"SUM(SUM(U10:V19)+V20)","v":0},null,null,"Balance 3"]
["Maneuver Total",{"$f":"SUM(B10:B23)","v":0},"Major Penalties",null,null,null,"7 +/- Judge Score",{"$f":"SUM(7+H23)","v":7},"Total Penalty Pts",{"$f":"J23","v":0},null,null,null,null,null,null,null,null,null,null,null,null,null,null,"Fitness & Condition"]
[null,null,"Penalty Total",{"$f":"SUM(C10:D24)","v":0},null,null,"Maneuver Score",{"$f":"H24","v":7},"Less Penalty Pts",{"$f":"J24","v":0},null,null,"Maneuver Total",{"$f":"SUM(N10:N22)","v":0},"Penalty Total",{"$f":"SUM(O11+O12+O13+O15+O16+O17+O18+O20+O21+O22+P23)","v":0},null,null,null,null,null,null,null,null,"Participant Showmanship"]
[null,null,null,null,null,null,"CATTLE SCORE",null,null,{"$f":"SUM(H25+J25)","v":7},null,null,null,null,null,null,null,null,null,null,null,null,null,null,"Horse Showmanship"]
["100 +/-Maneuver",{"$f":"B24","v":0},"x .70 =",{"$f":"SUM((100+B27)*0.7)","v":70},null,null,null,null,null,null,null,null,"70 +/-Maneuver",{"$f":"N25","v":0},"Less Penalty Total",{"$f":"P25","v":0},null,null,"70 +/-Maneuver",{"$f":"T23","v":0},"Less Penalty Total",{"$f":"V23","v":0},null,null,"Form & Showmanship Judges Score",null,"Total (1)",{"$f":"SUM(AB9:AB26)","v":0}]
[null,null,null,null,null,null,null,null,null,null,null,null,null,null,null,null,null,null,null,null,null,null,null,null,{"$f":"SUM(AB27*0.33+42)","v":42},{"$f":"IF(AA20=\"x\",-10,0)","v":0},"Judge Score (2)",{"$f":"SUM(Y28+Z28)","v":42}]
["Maneuver Score =",{"$f":"D27","v":70},"Less Penalty Total",{"$f":"D25","v":0},null,null,"Reining Score",{"$f":"J21","v":28},"Plus Cattle Score",{"$f":"J26","v":7},null,null,null,null,null,null,null,null,null,null,null,null,null,null,"Ranch Cutting",{"$f":"IF(P31=\"\",0,P31)","v":0},"Ranch Rding",{"$f":"IF(D31=\"\",0,D31)","v":0}]
[null,null,null,null,null,null,null,null,null,null,null,null,null,null,null,null,null,null,null,null,null,null,null,null,"Working Ranch Horse",{"$f":"IF(J31=\"\",0,J31)","v":0},"Ranch Trail",{"$f":"IF(V31=\"\",0,V31)","v":0}]
["TOTAL SCORE",null,null,{"$f":"IF(D7=\"\",\"\",IF(B29+D29<0,0,B29+D29))","v":""},null,null,"TOTAL SCORE",null,null,{"$f":"IF(J7=\"\",\"\",IF(H29+J29<0,0,H29+J29))","v":""},null,null,"TOTAL SCORE",null,null,{"$f":"IF(P7=\"\",\"\",IF(70+N27+P27<0,0,70+N27+P27))","v":""},null,null,"TOTAL SCORE",null,null,{"$f":"IF(V7=\"\",\"\",IF(70+T27+V27<0,0,70+T27+V27))","v":""},null,null,"Function Total (3)",{"$f":"SUM(Z29+AB29+Z30+AB30)","v":0},"Function Score (4)",{"$f":"Z31*0.1","v":0}]
[null,null,null,null,null,null,null,null,null,null,null,null,null,null,null,null,null,null,null,null,null,null,null,null,"Judge Score (2) + Function Score (4) = CONFORMATION SCORE",null,null,{"$f":"IF(AB7=\"\",\"\",IF(AB28+AB31<0,0,AB28+AB31))","v":""}]
[null,null,"Return to Entry Page",null,null,null,null,null,"Return to Entry Page",null,null,null,null,null,"Return to Entry Page",null,null,null,null,null,"Return to Entry Page"]
[null,null,null,null,null,null,null,null,null,null,null,null,null,null,null,null,null,null,null,null,null,null,null,null,null,null,"Return to Entry Page"]

{"sheet":"Youth 14","index":122,"n_rows":34,"n_cols":28,"rows_kept":34,"cut":false,"hidden":false,"merged":[[31,24,31,26],[8,2,8,3],[8,8,8,9],[8,14,8,15],[8,20,8,21],[9,2,9,3],[9,8,10,9],[9,12,9,15],[9,20,9,21],[10,2,10,3],[10,14,10,15],[10,20,10,21],[11,2,11,3],[11,8,12,9],[11,14,11,15],[11,20,11,21],[7,0,7,3],[7,6,7,9],[7,12,7,15],[7,18,7,21],[7,24,7,27],[12,2,12,3],[12,14,12,15],[12,20,12,21],[13,2,13,3],[13,8,14,9],[13,12,13,15],[13,20,13,21],[14,2,14,3],[14,14,14,15],[14,20,14,21],[15,2,15,3],[15,8,15,9],[15,14,15,15],[15,20,15,21],[18,2,18,3],[18,12,18,15],[18,20,18,21],[16,2,16,3],[16,8,16,9],[16,14,16,15],[16,20,16,21],[17,2,17,3],[17,14,17,15],[17,20,17,21],[19,2,19,3],[19,14,19,15],[19,18,20,19],[19,20,20,20],[19,21,20,21],[20,2,20,3],[20,6,20,8],[20,14,20,15],[21,2,21,3],[21,14,21,15],[21,18,21,21],[22,2,22,3],[22,12,23,13],[22,14,23,14],[22,15,23,15],[21,6,21,9],[23,0,24,0],[23,1,24,1],[23,18,25,21],[25,0,25,3],[25,12,25,15],[25,6,25,8],[27,12,29,15],[27,18,29,21],[29,0,29,3],[30,0,30,2],[30,12,30,14],[30,18,30,20],[26,6,26,9],[27,6,27,9],[29,6,29,9],[30,6,30,8],[27,0,27,3]]}
["RIDERS SCORE WORK SHEET"]
[]
["Back Number:",{"$f":"'Entry Information'!B123","v":0},null,null,null,null,"Back Number:",{"$f":"'Entry Information'!B123","v":0},null,null,null,null,"Back Number:",{"$f":"'Entry Information'!B123","v":0},null,null,null,null,"Back Number:",{"$f":"'Entry Information'!B123","v":0},null,null,null,null,"Back Number:",{"$f":"'Entry Information'!B123","v":0}]
["Name:",{"$f":"'Entry Information'!I123","v":0},{"$f":"'Entry Information'!H123","v":0},null,null,null,"Name:",{"$f":"'Entry Information'!I123","v":0},{"$f":"'Entry Information'!H123","v":0},null,null,null,"Name:",{"$f":"'Entry Information'!I123","v":0},{"$f":"'Entry Information'!H123","v":0},null,null,null,"Name:",{"$f":"'Entry Information'!I123","v":0},{"$f":"'Entry Information'!H123","v":0},null,null,null,"Name:",{"$f":"'Entry Information'!H123","v":0},{"$f":"'Entry Information'!I123","v":0}]
["Horse Name",{"$f":"'Entry Information'!J123","v":0},null,null,null,null,"Horse Name",{"$f":"'Entry Information'!J123","v":0},null,null,null,null,"Horse Name",{"$f":"'Entry Information'!J123","v":0},null,null,null,null,"Horse Name",{"$f":"'Entry Information'!J123","v":0},null,null,null,null,"Horse Name",{"$f":"'Entry Information'!J123","v":0}]
[]
["Check box when entering Ranch Riding scores",null,null,null,null,null,"Check box when entering Working Ranch Horse scores",null,null,null,null,null,"Check box when entering Ranch Cutting scores",null,null,null,null,null,"Check box when entering Ranch Trail scores",null,null,null,null,null,"Check box when entering Conformation scores"]
["Ranch Riding",null,null,null,null,null,"Working Ranch Horse",null,null,null,null,null,"Ranch Cutting",null,null,null,null,null,"Ranch Trail",null,null,null,null,null,"Ranch Conformation"]
["Maneuver","Judge's Score +/-","Penalty Points",null,null,null,"Maneuver","Judge's Score +/-","Penalty Points",null,null,null,"Maneuver","Judge's Score +/-","Penalty Points",null,null,null,"Maneuver","Judge's Score +/-","Penalty Points",null,null,null,"Front Legs, Feet"]
[1,null,null,null,null,null,1,null,null,null,null,null,"Herd Work",null,null,null,null,null,1,null,null,null,null,null,"Chest, Pectoral V"]
[2,null,null,null,null,null,2,null,null,null,null,null,1,null,null,null,null,null,2,null,null,null,null,null,"Head"]
[3,null,null,null,null,null,3,null,null,null,null,null,2,null,null,null,null,null,3,null,null,null,null,null,"Neck & Throat Latch"]
[4,null,null,null,null,null,4,null,null,null,null,null,3,null,null,null,null,null,4,null,null,null,null,null,"Shoulders & Withers"]
[5,null,null,null,null,null,5,null,null,null,null,null,"Cutting",null,null,null,null,null,5,null,null,null,null,null,"Heart Girth & Barrel"]
[6,null,null,null,null,null,6,null,null,null,null,null,1,null,null,null,null,null,6,null,null,null,null,null,"Back & Loin"]
[7,null,null,null,null,null,7,null,null,null,null,null,2,null,null,null,null,null,7,null,null,null,null,null,"Hip & Croup"]
[8,null,null,null,null,null,8,null,null,null,null,null,3,null,null,null,null,null,8,null,null,null,null,null,"Stife & Gaskin"]
[9,null,null,null,null,null,null,null,"Total Penalty Pts",{"$f":"SUM(I10:J17)","v":0},null,null,4,null,null,null,null,null,9,null,null,null,null,null,"Hock, Hind Legs, Feet"]
[10,null,null,null,null,null,"56 +/- Judge Score",{"$f":"SUM(H10:H17)","v":0},"Divided by 2",{"$f":"SUM((56+H19)/2)","v":28},null,null,"Penning",null,null,null,null,null,10,null,null,null,null,null,"Overall Muscling"]
[11,null,null,null,null,null,"Maneuver Score",{"$f":"J19","v":28},"Less Penalty Pts",{"$f":"J18","v":0},null,null,1,null,null,null,null,null,null,null,"Major Penalties",null,null,null,"Tracking","Lame: enter an \"x\""]
[12,null,null,null,null,null,"REINING SCORE",null,null,{"$f":"SUM(H20+J20)","v":28},null,null,2,null,null,null,null,null,null,null,null,null,null,null,"Balance 1"]
[13,null,null,null,null,null,"NOVICE BOXING",null,null,null,null,null,3,null,null,null,null,null,null,null,null,null,null,null,"Balance 2"]
[14,null,null,null,null,null,1,null,"Penalty Points",null,null,null,null,null,"Major Penalties",null,null,null,"Maneuver Total",{"$f":"SUM(T10:T19)","v":0},"Penalty Total",{"$f":"SUM(SUM(U10:V19)+V20)","v":0},null,null,"Balance 3"]
["Maneuver Total",{"$f":"SUM(B10:B23)","v":0},"Major Penalties",null,null,null,"7 +/- Judge Score",{"$f":"SUM(7+H23)","v":7},"Total Penalty Pts",{"$f":"J23","v":0},null,null,null,null,null,null,null,null,null,null,null,null,null,null,"Fitness & Condition"]
[null,null,"Penalty Total",{"$f":"SUM(C10:D24)","v":0},null,null,"Maneuver Score",{"$f":"H24","v":7},"Less Penalty Pts",{"$f":"J24","v":0},null,null,"Maneuver Total",{"$f":"SUM(N10:N22)","v":0},"Penalty Total",{"$f":"SUM(O11+O12+O13+O15+O16+O17+O18+O20+O21+O22+P23)","v":0},null,null,null,null,null,null,null,null,"Participant Showmanship"]
[null,null,null,null,null,null,"CATTLE SCORE",null,null,{"$f":"SUM(H25+J25)","v":7},null,null,null,null,null,null,null,null,null,null,null,null,null,null,"Horse Showmanship"]
["100 +/-Maneuver",{"$f":"B24","v":0},"x .70 =",{"$f":"SUM((100+B27)*0.7)","v":70},null,null,null,null,null,null,null,null,"70 +/-Maneuver",{"$f":"N25","v":0},"Less Penalty Total",{"$f":"P25","v":0},null,null,"70 +/-Maneuver",{"$f":"T23","v":0},"Less Penalty Total",{"$f":"V23","v":0},null,null,"Form & Showmanship Judges Score",null,"Total (1)",{"$f":"SUM(AB9:AB26)","v":0}]
[null,null,null,null,null,null,null,null,null,null,null,null,null,null,null,null,null,null,null,null,null,null,null,null,{"$f":"SUM(AB27*0.33+42)","v":42},{"$f":"IF(AA20=\"x\",-10,0)","v":0},"Judge Score (2)",{"$f":"SUM(Y28+Z28)","v":42}]
["Maneuver Score =",{"$f":"D27","v":70},"Less Penalty Total",{"$f":"D25","v":0},null,null,"Reining Score",{"$f":"J21","v":28},"Plus Cattle Score",{"$f":"J26","v":7},null,null,null,null,null,null,null,null,null,null,null,null,null,null,"Ranch Cutting",{"$f":"IF(P31=\"\",0,P31)","v":0},"Ranch Rding",{"$f":"IF(D31=\"\",0,D31)","v":0}]
[null,null,null,null,null,null,null,null,null,null,null,null,null,null,null,null,null,null,null,null,null,null,null,null,"Working Ranch Horse",{"$f":"IF(J31=\"\",0,J31)","v":0},"Ranch Trail",{"$f":"IF(V31=\"\",0,V31)","v":0}]
["TOTAL SCORE",null,null,{"$f":"IF(D7=\"\",\"\",IF(B29+D29<0,0,B29+D29))","v":""},null,null,"TOTAL SCORE",null,null,{"$f":"IF(J7=\"\",\"\",IF(H29+J29<0,0,H29+J29))","v":""},null,null,"TOTAL SCORE",null,null,{"$f":"IF(P7=\"\",\"\",IF(70+N27+P27<0,0,70+N27+P27))","v":""},null,null,"TOTAL SCORE",null,null,{"$f":"IF(V7=\"\",\"\",IF(70+T27+V27<0,0,70+T27+V27))","v":""},null,null,"Function Total (3)",{"$f":"SUM(Z29+AB29+Z30+AB30)","v":0},"Function Score (4)",{"$f":"Z31*0.1","v":0}]
[null,null,null,null,null,null,null,null,null,null,null,null,null,null,null,null,null,null,null,null,null,null,null,null,"Judge Score (2) + Function Score (4) = CONFORMATION SCORE",null,null,{"$f":"IF(AB7=\"\",\"\",IF(AB28+AB31<0,0,AB28+AB31))","v":""}]
[null,null,"Return to Entry Page",null,null,null,null,null,"Return to Entry Page",null,null,null,null,null,"Return to Entry Page",null,null,null,null,null,"Return to Entry Page"]
[null,null,null,null,null,null,null,null,null,null,null,null,null,null,null,null,null,null,null,null,null,null,null,null,null,null,"Return to Entry Page"]

{"sheet":"Youth 15","index":123,"n_rows":34,"n_cols":28,"rows_kept":34,"cut":false,"hidden":false,"merged":[[31,24,31,26],[8,2,8,3],[8,8,8,9],[8,14,8,15],[8,20,8,21],[9,2,9,3],[9,8,10,9],[9,12,9,15],[9,20,9,21],[10,2,10,3],[10,14,10,15],[10,20,10,21],[11,2,11,3],[11,8,12,9],[11,14,11,15],[11,20,11,21],[7,0,7,3],[7,6,7,9],[7,12,7,15],[7,18,7,21],[7,24,7,27],[12,2,12,3],[12,14,12,15],[12,20,12,21],[13,2,13,3],[13,8,14,9],[13,12,13,15],[13,20,13,21],[14,2,14,3],[14,14,14,15],[14,20,14,21],[15,2,15,3],[15,8,15,9],[15,14,15,15],[15,20,15,21],[18,2,18,3],[18,12,18,15],[18,20,18,21],[16,2,16,3],[16,8,16,9],[16,14,16,15],[16,20,16,21],[17,2,17,3],[17,14,17,15],[17,20,17,21],[19,2,19,3],[19,14,19,15],[19,18,20,19],[19,20,20,20],[19,21,20,21],[20,2,20,3],[20,6,20,8],[20,14,20,15],[21,2,21,3],[21,14,21,15],[21,18,21,21],[22,2,22,3],[22,12,23,13],[22,14,23,14],[22,15,23,15],[21,6,21,9],[23,0,24,0],[23,1,24,1],[23,18,25,21],[25,0,25,3],[25,12,25,15],[25,6,25,8],[27,12,29,15],[27,18,29,21],[29,0,29,3],[30,0,30,2],[30,12,30,14],[30,18,30,20],[26,6,26,9],[27,6,27,9],[29,6,29,9],[30,6,30,8],[27,0,27,3]]}
["RIDERS SCORE WORK SHEET"]
[]
["Back Number:",{"$f":"'Entry Information'!B124","v":0},null,null,null,null,"Back Number:",{"$f":"'Entry Information'!B124","v":0},null,null,null,null,"Back Number:",{"$f":"'Entry Information'!B124","v":0},null,null,null,null,"Back Number:",{"$f":"'Entry Information'!B124","v":0},null,null,null,null,"Back Number:",{"$f":"'Entry Information'!B124","v":0}]
["Name:",{"$f":"'Entry Information'!I124","v":0},{"$f":"'Entry Information'!H124","v":0},null,null,null,"Name:",{"$f":"'Entry Information'!I124","v":0},{"$f":"'Entry Information'!H124","v":0},null,null,null,"Name:",{"$f":"'Entry Information'!I124","v":0},{"$f":"'Entry Information'!H124","v":0},null,null,null,"Name:",{"$f":"'Entry Information'!I124","v":0},{"$f":"'Entry Information'!H124","v":0},null,null,null,"Name:",{"$f":"'Entry Information'!H124","v":0},{"$f":"'Entry Information'!I124","v":0}]
["Horse Name",{"$f":"'Entry Information'!J124","v":0},null,null,null,null,"Horse Name",{"$f":"'Entry Information'!J124","v":0},null,null,null,null,"Horse Name",{"$f":"'Entry Information'!J124","v":0},null,null,null,null,"Horse Name",{"$f":"'Entry Information'!J124","v":0},null,null,null,null,"Horse Name",{"$f":"'Entry Information'!J124","v":0}]
[]
["Check box when entering Ranch Riding scores",null,null,null,null,null,"Check box when entering Working Ranch Horse scores",null,null,null,null,null,"Check box when entering Ranch Cutting scores",null,null,null,null,null,"Check box when entering Ranch Trail scores",null,null,null,null,null,"Check box when entering Conformation scores"]
["Ranch Riding",null,null,null,null,null,"Working Ranch Horse",null,null,null,null,null,"Ranch Cutting",null,null,null,null,null,"Ranch Trail",null,null,null,null,null,"Ranch Conformation"]
["Maneuver","Judge's Score +/-","Penalty Points",null,null,null,"Maneuver","Judge's Score +/-","Penalty Points",null,null,null,"Maneuver","Judge's Score +/-","Penalty Points",null,null,null,"Maneuver","Judge's Score +/-","Penalty Points",null,null,null,"Front Legs, Feet"]
[1,null,null,null,null,null,1,null,null,null,null,null,"Herd Work",null,null,null,null,null,1,null,null,null,null,null,"Chest, Pectoral V"]
[2,null,null,null,null,null,2,null,null,null,null,null,1,null,null,null,null,null,2,null,null,null,null,null,"Head"]
[3,null,null,null,null,null,3,null,null,null,null,null,2,null,null,null,null,null,3,null,null,null,null,null,"Neck & Throat Latch"]
[4,null,null,null,null,null,4,null,null,null,null,null,3,null,null,null,null,null,4,null,null,null,null,null,"Shoulders & Withers"]
[5,null,null,null,null,null,5,null,null,null,null,null,"Cutting",null,null,null,null,null,5,null,null,null,null,null,"Heart Girth & Barrel"]
[6,null,null,null,null,null,6,null,null,null,null,null,1,null,null,null,null,null,6,null,null,null,null,null,"Back & Loin"]
[7,null,null,null,null,null,7,null,null,null,null,null,2,null,null,null,null,null,7,null,null,null,null,null,"Hip & Croup"]
[8,null,null,null,null,null,8,null,null,null,null,null,3,null,null,null,null,null,8,null,null,null,null,null,"Stife & Gaskin"]
[9,null,null,null,null,null,null,null,"Total Penalty Pts",{"$f":"SUM(I10:J17)","v":0},null,null,4,null,null,null,null,null,9,null,null,null,null,null,"Hock, Hind Legs, Feet"]
[10,null,null,null,null,null,"56 +/- Judge Score",{"$f":"SUM(H10:H17)","v":0},"Divided by 2",{"$f":"SUM((56+H19)/2)","v":28},null,null,"Penning",null,null,null,null,null,10,null,null,null,null,null,"Overall Muscling"]
[11,null,null,null,null,null,"Maneuver Score",{"$f":"J19","v":28},"Less Penalty Pts",{"$f":"J18","v":0},null,null,1,null,null,null,null,null,null,null,"Major Penalties",null,null,null,"Tracking","Lame: enter an \"x\""]
[12,null,null,null,null,null,"REINING SCORE",null,null,{"$f":"SUM(H20+J20)","v":28},null,null,2,null,null,null,null,null,null,null,null,null,null,null,"Balance 1"]
[13,null,null,null,null,null,"NOVICE BOXING",null,null,null,null,null,3,null,null,null,null,null,null,null,null,null,null,null,"Balance 2"]
[14,null,null,null,null,null,1,null,"Penalty Points",null,null,null,null,null,"Major Penalties",null,null,null,"Maneuver Total",{"$f":"SUM(T10:T19)","v":0},"Penalty Total",{"$f":"SUM(SUM(U10:V19)+V20)","v":0},null,null,"Balance 3"]
["Maneuver Total",{"$f":"SUM(B10:B23)","v":0},"Major Penalties",null,null,null,"7 +/- Judge Score",{"$f":"SUM(7+H23)","v":7},"Total Penalty Pts",{"$f":"J23","v":0},null,null,null,null,null,null,null,null,null,null,null,null,null,null,"Fitness & Condition"]
[null,null,"Penalty Total",{"$f":"SUM(C10:D24)","v":0},null,null,"Maneuver Score",{"$f":"H24","v":7},"Less Penalty Pts",{"$f":"J24","v":0},null,null,"Maneuver Total",{"$f":"SUM(N10:N22)","v":0},"Penalty Total",{"$f":"SUM(O11+O12+O13+O15+O16+O17+O18+O20+O21+O22+P23)","v":0},null,null,null,null,null,null,null,null,"Participant Showmanship"]
[null,null,null,null,null,null,"CATTLE SCORE",null,null,{"$f":"SUM(H25+J25)","v":7},null,null,null,null,null,null,null,null,null,null,null,null,null,null,"Horse Showmanship"]
["100 +/-Maneuver",{"$f":"B24","v":0},"x .70 =",{"$f":"SUM((100+B27)*0.7)","v":70},null,null,null,null,null,null,null,null,"70 +/-Maneuver",{"$f":"N25","v":0},"Less Penalty Total",{"$f":"P25","v":0},null,null,"70 +/-Maneuver",{"$f":"T23","v":0},"Less Penalty Total",{"$f":"V23","v":0},null,null,"Form & Showmanship Judges Score",null,"Total (1)",{"$f":"SUM(AB9:AB26)","v":0}]
[null,null,null,null,null,null,null,null,null,null,null,null,null,null,null,null,null,null,null,null,null,null,null,null,{"$f":"SUM(AB27*0.33+42)","v":42},{"$f":"IF(AA20=\"x\",-10,0)","v":0},"Judge Score (2)",{"$f":"SUM(Y28+Z28)","v":42}]
["Maneuver Score =",{"$f":"D27","v":70},"Less Penalty Total",{"$f":"D25","v":0},null,null,"Reining Score",{"$f":"J21","v":28},"Plus Cattle Score",{"$f":"J26","v":7},null,null,null,null,null,null,null,null,null,null,null,null,null,null,"Ranch Cutting",{"$f":"IF(P31=\"\",0,P31)","v":0},"Ranch Rding",{"$f":"IF(D31=\"\",0,D31)","v":0}]
[null,null,null,null,null,null,null,null,null,null,null,null,null,null,null,null,null,null,null,null,null,null,null,null,"Working Ranch Horse",{"$f":"IF(J31=\"\",0,J31)","v":0},"Ranch Trail",{"$f":"IF(V31=\"\",0,V31)","v":0}]
["TOTAL SCORE",null,null,{"$f":"IF(D7=\"\",\"\",IF(B29+D29<0,0,B29+D29))","v":""},null,null,"TOTAL SCORE",null,null,{"$f":"IF(J7=\"\",\"\",IF(H29+J29<0,0,H29+J29))","v":""},null,null,"TOTAL SCORE",null,null,{"$f":"IF(P7=\"\",\"\",IF(70+N27+P27<0,0,70+N27+P27))","v":""},null,null,"TOTAL SCORE",null,null,{"$f":"IF(V7=\"\",\"\",IF(70+T27+V27<0,0,70+T27+V27))","v":""},null,null,"Function Total (3)",{"$f":"SUM(Z29+AB29+Z30+AB30)","v":0},"Function Score (4)",{"$f":"Z31*0.1","v":0}]
[null,null,null,null,null,null,null,null,null,null,null,null,null,null,null,null,null,null,null,null,null,null,null,null,"Judge Score (2) + Function Score (4) = CONFORMATION SCORE",null,null,{"$f":"IF(AB7=\"\",\"\",IF(AB28+AB31<0,0,AB28+AB31))","v":""}]
[null,null,"Return to Entry Page",null,null,null,null,null,"Return to Entry Page",null,null,null,null,null,"Return to Entry Page",null,null,null,null,null,"Return to Entry Page"]
[null,null,null,null,null,null,null,null,null,null,null,null,null,null,null,null,null,null,null,null,null,null,null,null,null,null,"Return to Entry Page"]

{"sheet":"Worksheet","index":124,"n_rows":41,"n_cols":22,"rows_kept":41,"cut":false,"hidden":false,"merged":[[9,0,9,15]]}
["Conformation"]
["Class Size / Number Horses"]
["1, 2, 3, 4, 5, 6, 7, 8, 9","Placing",null,null,null,null,null,null,null,1,2,3,4,5,6]
["10, 11, 12, 13, 14, 15, 16, 17, 18, 19","Placing",null,null,null,null,1,2,3,4,5,6,7,8,9,10,11,12]
["20, 21, 22, 23, 24, 25, 26, 27, 28, 29, 30, 31, 32, 33, 34, 35, 36, 37, 38, 39","Placing",null,null,1,2,3,4,5,6,7,8,9,10,11,12,13,14,15,16]
["40, 41, 42, 43, 44, 45, 46, 47, 48, 49,50, 51, 52, 53, 54, 55, 56, 57, 58, 59, 60, 61, 62, 63, 64, 65, 66, 67, 68, 69, 70, 71, 72, 73, 74, 75, 76, 77, 78, 79, 80","Placing",1,2,3,4,5,6,7,8,9,10,11,12,13,14,15,16,17,18,19,20]
[null,"Points",40,38,36,34,32,30,28,26,24,22,20,18,16,14,12,10,8,6,4,2]
[]
["Placement Points"]
["Placement Points based on number of horses in class"]
["Number of Horses","1st Place","2nd Place","3rd Place","4th Place","5th Place","6th Place","7th Place","8th Place","9th Place","10th Place","11th Place","12 Place","13th Place","14th Place","15th Place"]
[1,1]
[2,1]
[3,2,1]
[4,2,1]
[5,3,2,1]
[6,3,2,1]
[7,4,3,2,1]
[8,4,3,2,1]
[9,5,4,3,2,1]
[10,5,4,3,2,1]
[11,6,5,4,3,2,1]
[12,6,5,4,3,2,1]
[13,7,6,5,4,3,2,1]
[14,7,6,5,4,3,2,1]
[15,8,7,6,5,4,3,2,1]
[16,8,7,6,5,4,3,2,1]
[17,9,8,7,6,5,4,3,2,1]
[18,9,8,7,6,5,4,3,2,1]
[19,10,9,8,7,6,5,4,3,2,1]
[20,10,9,8,7,6,5,4,3,2,1]
[21,11,10,9,8,7,6,5,4,3,2,1]
[22,11,10,9,8,7,6,5,4,3,2,1]
[23,12,11,10,9,8,7,6,5,4,3,2,1]
[24,12,11,10,9,8,7,6,5,4,3,2,1]
[25,13,12,11,10,9,8,7,6,5,4,3,2,1]
[26,13,12,11,10,9,8,7,6,5,4,3,2,1]
[27,14,13,12,11,10,9,8,7,6,5,4,3,2,1]
[28,14,13,12,11,10,9,8,7,6,5,4,3,2,1]
[29,15,14,13,12,11,10,9,8,7,6,5,4,3,2,1]
[30,15,14,13,12,11,10,9,8,7,6,5,4,3,2,1]